{"text_format":"2","workbook":"xlsx","n_sheets":11,"sheets":["Instructions","Test Data Set Description","Summary","Details","Reference","ReferenceLookups","Candidate","CandidateLookups","CBECCLookups","Constants","EAA"],"not_rendered":{"charts":0,"images":0,"macros":0,"external_links":0,"defined_names":114,"comments":0,"pivot_tables":0},"unopened":[],"bounds":{"document_bytes":16777216,"sheet_cells":100000,"run_cost":"one","rows_first":2000,"rows_last":500,"rows_between":2000,"halvings":0,"cell_chars":16384,"cell_head_chars":4096},"cells_cut":0,"cells_raw":0,"read":"whole","date_system":"1900"}

{"sheet":"Instructions","index":0,"n_rows":37,"n_cols":3,"rows_kept":37,"cut":false,"hidden":false,"merged":[]}
{"$rows_empty":29}
["Release Log"]
[]
["TDSv28","2016-08-31","Update for 2016.2.1. Added summary information. Spreadsheet now different from 2013 version due to EDR information."]
["TDSv27","2016-06-03","Second release of 2016 version. Updated to better handle Candidate programs that don't need to pass certain standard design runs "]
[null,null,"existing+addition+alteration runs if only being certified for new construction. See inputs at top of Summary tab."]
["TDSv25","2015-11-11","First release of 2016 TDS based. Files were updated to use 2016 requirements. Tolerance changed to 0.04. Spreadsheet standards equals lookup revised."]
[null,null,"Some U07 files modified to look at above/below deck insulation. U12 and U13 existing attic status changed to existing."]
[null,null,"U10 files modified to match new MF central calcs."]

{"sheet":"Test Data Set Description","index":1,"n_rows":139,"n_cols":5,"rows_kept":139,"cut":false,"hidden":false,"merged":[]}
{"$rows_empty":28}
["Test #","Run #","Number of Runs","Description","Prototype"]
[null,null,null,"Standard Design Tests"]
[null,null,null,"Following tests all 16 climate zones"]
[null,null,null,"Following tests standard design = proposed design"]
["U01","R01-R16",16,"Standard Design Test","S2100 "]
["U02","R01-R16",16,"Standard Design Test","S2700 "]
["U03","R01-R16",16,"Standard Design Test","S6960 "]
[]
[null,null,null,"Proposed Design Tests"]
[null,null,null,"Following tests should have standard = standard from tests T01, T02 and T03"]
["U04","R01-R16",16,"Proposed Design Test","P2100 "]
["U05","R01-R16",16,"Proposed Design Test","P2700 "]
["U06","R01-R16",16,"Proposed Design Test","P6960 "]
[]
["U07",null,null,{"$f":"VLOOKUP(A43,TestArray,2)","v":"Common Measures"}]
[null,null,null,"Following tests for Climate Zone 12 only"]
[null,null,null,"Following tests should have the same standard design as T01R12"]
["U07","R01",1,{"$f":"VLOOKUP(A46,TestArray,4+RIGHT(B46,2))","v":"Package"}]
["U07","R02",1,"Fenestration U 0.40/S 0.40","T04R12"]
["U07","R03",1,"Wall R13/Roof Deck Above R6","T04R12"]
["U07","R04",1,"Ceiling R49 /Roof Deck Below R0/Radiant Barrier","T04R12"]
["U07","R05",1,"Furnace AFUE 92","T04R12"]
["U07","R06",1,"Air Conditioner SEER 16/EER 14","T04R12"]
["U07","R07",1,"No Cool Vent","T04R12"]
["U07","R08",1,"Ducts 2% Leakage","T04R12"]
["U07","R09",1,"Insulation Construction Quality Improved","T04R12"]
["U07","R10",1,"Air Leakage ACH50 2.0","T04R12"]
[]
["U08",null,null,{"$f":"VLOOKUP(A57,TestArray,2)","v":"Water Heating"}]
[null,null,null,"Following tests for Climate Zone 12 only"]
[null,null,null,"Some standard designs are different than T01R12"]
["U08","R01",1,{"$f":"VLOOKUP(A60,TestArray,4+RIGHT(B60,2))","v":"Package"},"T04R12"]
["U08","R02",1,"Parallel Piping","T04R12"]
["U08","R03",1,"Small Tankless EF 0.80/Input 195000/0 gal","T04R12"]
["U08","R04",1,"Large Tankless RE 0.76/Input 300000/0 gal","T04R12"]
["U08","R05",1,"Large Storage RE 0.77/Input 100000/75gal/Stby 0.01","T04R12"]
["U08","R06",1,"Large Storage RE 0.77/Input 100000/75gal/Stby 0.03","T04R12"]
["U08","R07",1,"Electric Resistance EF 0.92/Input 4500","T04R12"]
["U08","R08",1,"Heat Pump EF 2.4/Input 4500","T04R12"]
["U08","R09",1,"2 Water Heaters using Multiplier","T04R12"]
["U08","R10",1,"2 Water Heaters Using 2 entries","T04R12"]
[]
["U09",null,null,{"$f":"VLOOKUP(A71,TestArray,2)","v":"Multiple Orientation"}]
[null,null,null,"Following tests for Climate Zone 12 only"]
[]
["U09","R01",1,{"$f":"VLOOKUP(A74,TestArray,4+RIGHT(B74,2))","v":"Single Standard Front 45"},"T01R12"]
["U09","R02",1,"East Standard","T01R12"]
["U09","R03",1,"South Standard","T01R12"]
["U09","R04",1,"West Standard","T01R12"]
["U09","R05",1,"North Standard","T01R12"]
["U09","R06",1,"Single Proposed front 45","T04R12"]
["U09","R07",1,"East Proposed","T04R12"]
["U09","R08",1,"South Proposed","T04R12"]
["U09","R09",1,"West Proposed","T04R12"]
["U09","R10",1,"North Proposed","T04R12"]
[]
["U10",null,null,{"$f":"VLOOKUP(A85,TestArray,2)","v":"Multi Family Water Heating"}]
[null,null,null,"Following tests for Climate Zone 12 only"]
[null,null,null,"Some standard designs are different than T03R12"]
["U10","R01",1,{"$f":"VLOOKUP(A88,TestArray,4+RIGHT(B88,2))","v":"8 Storage"},"T06R12"]
["U10","R02",1,"8 Storage 2 Systems","T06R12"]
["U10","R03",1,"8 LgStor ","T06R12"]
["U10","R04",1,"2 LgStor Central Solar","T06R12"]
["U10","R05",1,"2 LgStor Central Solar Recirc","T06R12"]
["U10","R06",1,"2 LgStor Central Recirc","T06R12"]
["U10","R07",1,"2 SmInstantant Central Solar","T06R12"]
["U10","R08",1,"2 SmInstantant Central Solar Recirc","T06R12"]
["U10","R09",1,"1 Indirect Central Solar","T06R12"]
["U10","R10",1,"1 Indirect Central Solar Recirc","T06R12"]
[]
["U11",null,null,{"$f":"VLOOKUP(A99,TestArray,2)","v":"Source Energy"}]
[null,null,null,"Following tests for Climate Zone 12 only"]
[null,null,null,"Some standard designs are different than T01R12"]
["U11","R01",1,{"$f":"VLOOKUP(A102,TestArray,4+RIGHT(B102,2))","v":"Package"},"T04R12"]
["U11","R02",1,"Package No Natural Gas","T04R12"]
["U11","R03",1,"Electric DHW","T04R12"]
["U11","R04",1,"Electric DHW no Natural Gas","T04R12"]
["U11","R05",1,"Heatpump DHW","T04R12"]
["U11","R06",1,"Heatpump DHW no Natural Gas","T04R12"]
["U11","R07",1,"Heatpump HVAC","T04R12"]
["U11","R08",1,"Heatpump HVAC no Natural Gas","T04R12"]
["U11","R09",1,"Heatpump HVAC & DHW ","T04R12"]
["U11","R10",1,"Heatpump HVAC & DHW no Natural Gas","T04R12"]
[]
["U12",null,null,{"$f":"VLOOKUP(A113,TestArray,2)","v":"E+A+A Base & Windows"}]
[null,null,null,"Following tests for Climate Zone 12 only"]
[null,null,null,"Standard Design Varies with features and verification"]
["U12","R01",1,{"$f":"VLOOKUP(A116,TestArray,4+RIGHT(B116,2))","v":"E 1440ft2 as New Construction"},"P1665"]
["U12","R02",1,"E 1440ft2 as Addition/Alteration","P1665"]
["U12","R03",1,"EA 1665ft2","P1665"]
["U12","R04",1,"EAA Ceiling R38 Verified","P1665"]
["U12","R05",1,"EAA Ceiling R38 Verified Wind U0.41/S0.36","P1665"]
["U12","R06",1,"EAA Ceiling R38 Verified Wind U0.41/S0.36 Verified","P1665"]
["U12","R07",1,"EAA Ceiling R38 Verified Wind U0.40/S0.35","P1665"]
["U12","R08",1,"EAA Ceiling R38 Verified Wind U0.40/S0.35 Verified","P1665"]
["U12","R09",1,"EAA Ceiling R38 Verified Wind U0.39/S0.34","P1665"]
["U12","R10",1,"EAA Ceiling R38 Verified Wind U0.39/S0.34 Verified","P1665"]
[]
["U13",null,null,{"$f":"VLOOKUP(A127,TestArray,2)","v":"E+A+A Walls & HVAC"}]
[null,null,null,"Following tests for Climate Zone 12 only"]
[null,null,null,"Standard Design Varies with features and verification"]
["U13","R01",1,{"$f":"VLOOKUP(A130,TestArray,4+RIGHT(B130,2))","v":"EAA Ceiling R38 Verified Wall R11"},"P1665"]
["U13","R02",1,"EAA Ceiling R38 Verified Wall R11 Verified","P1665"]
["U13","R03",1,"EAA Ceiling R38 Verified Wall R13","P1665"]
["U13","R04",1,"EAA Ceiling R38 Verified Wall R13 Verified","P1665"]
["U13","R05",1,"EAA Ceiling R38 Verified HVAC Worse","P1665"]
["U13","R06",1,"EAA Ceiling R38 Verified HVAC Worse Verified","P1665"]
["U13","R07",1,"EAA Ceiling R38 Verified HVAC Equal ","P1665"]
["U13","R08",1,"EAA Ceiling R38 Verified HVAC Equal Verified","P1665"]
["U13","R09",1,"EAA Ceiling R38 Verified HVAC Better","P1665"]
["U13","R10",1,"EAA Ceiling R38 Verified HVAC Better Verified","P1665"]

{"sheet":"Summary","index":2,"n_rows":35,"n_cols":13,"rows_kept":35,"cut":false,"hidden":false,"merged":[[6,2,6,6],[7,2,7,6]]}
[{"$f":"\"Summary of Residential ACM Tests (\"&Units&\")\"","v":"Summary of Residential ACM Tests (kTDV/ft2)"}]
[]
[null,"Comparison Date:","2016-09-01",{"$nulls":9},"Blue fields should be updated to match current results"]
[null,"Comparison Author:","Ken Nittler"]
[null,"Candidate Software:","CBECC-Res 2016 670",{"$nulls":9},"Cell C5 should be updated to the candidate software"]
[null,"Reference Software:","CBECC-Res 2016 667"]
[null,"Type of Software:","Reference",{"$nulls":9},"Cell C7 should be changed for the type of program being approved. Candidate programs do not have to do standard design tests"]
[null,"Type of Construction:","Both",{"$nulls":9},"Cell C8 should be changed for the type of construction being approved. New gets to skip tests T12 and T13."]
[null,"Units for Summary:","kTDV/ft2"]
[null,"Tolerance:",{"$f":"Tolerance","v":0.04}]
[]
[null,null,"Average","Average"]
[null,"Pass/","Proposed","Standard"]
["Test","Fail",{"$f":"Units","v":"kTDV/ft2"},{"$f":"Units","v":"kTDV/ft2"},null,"Description"]
["U01",{"$f":"ResultT01","v":"Pass"},{"$f":"T01Proposed","v":41.2425},{"$f":"T01Standard","v":41.2425},null,{"$f":"VLOOKUP(A15,TestArray,2)&\" in \"&VLOOKUP(A15,TestArray,3)&\" for Prototype \"&VLOOKUP(A15,TestArray,4)","v":"Standard Design in All Zones for Prototype S2100ft2"}]
["U02",{"$f":"ResultT02","v":"Pass"},{"$f":"T02Proposed","v":39.043124999999996},{"$f":"T02Standard","v":39.043124999999996},null,"Standard Design in All Zones for Prototype S2700ft2"]
["U03",{"$f":"ResultT03","v":"Pass"},{"$f":"T03Proposed","v":48.672500000000007},{"$f":"T03Standard","v":48.673750000000005},null,"Standard Design in All Zones for Prototype S6960ft2"]
["U04",{"$f":"ResultT04","v":"Pass"},{"$f":"T04Proposed","v":37.817500000000003},{"$f":"T04Standard","v":41.2425},null,"Proposed Design in All Zones for Prototype P2100ft2"]
["U05",{"$f":"ResultT05","v":"Pass"},{"$f":"T05Proposed","v":35.301249999999996},{"$f":"T05Standard","v":39.043124999999996},null,"Proposed Design in All Zones for Prototype P2700ft2"]
["U06",{"$f":"ResultT06","v":"Pass"},{"$f":"T06Proposed","v":44.801250000000003},{"$f":"T06Standard","v":48.673750000000005},null,"Proposed Design in All Zones for Prototype P6960ft2"]
["U07",{"$f":"ResultT07","v":"Pass"},{"$f":"T07Proposed","v":37.696000000000005},{"$f":"T07Standard","v":41.44},null,"Common Measures in Zone 12 for Prototype P2100ft2"]
["U08",{"$f":"ResultT08","v":"Pass"},{"$f":"T08Proposed","v":40.991999999999997},{"$f":"T08Standard","v":41.44},null,"Water Heating in Zone 12 for Prototype P2100ft2"]
["U09",{"$f":"ResultT09","v":"Pass"},{"$f":"T09Proposed","v":41.350999999999999},{"$f":"T09Standard","v":41.44},null,"Multiple Orientation in Zone 12 for Prototype S2100ft2/P2100ft2"]
["U10",{"$f":"ResultT10","v":"Pass"},{"$f":"T10Proposed","v":60.875999999999998},{"$f":"T10Standard","v":62.347000000000001},null,"Multi Family Water Heating in Zone 12 for Prototype P6960ft2"]
["U11",{"$f":"ResultT11","v":"Pass"},{"$f":"T11Proposed","v":47.849000000000004},{"$f":"T11Standard","v":50.432999999999993},null,"Source Energy in Zone 12 for Prototype P2100ft2"]
["U12",{"$f":"ResultT12","v":"Pass"},{"$f":"T12Proposed","v":177.34899999999999},{"$f":"T12Standard","v":181.19399999999999},null,"E+A+A Base & Windows in Zone 12 for Prototype P1665ft2"]
["U13",{"$f":"ResultT13","v":"Pass"},{"$f":"T13Proposed","v":131.81599999999997},{"$f":"T13Standard","v":165.70800000000003},null,"E+A+A Walls & HVAC in Zone 12 for Prototype P1665ft2"]
[]
["Page 1 of 7"]
[]
["Note:"]
["1. If type of software (Cell C7) is set to \"Candidate\", then the tests based"]
["   standard design are not necessary (Tests 1-3 and part of 9)"]
["2. If type of construction (Cell C8) is set to \"New\" then the tests"]
["   for additions and alterations are not necessary (Tests 12 and 13)"]

{"sheet":"Details","index":3,"n_rows":212,"n_cols":53,"rows_kept":212,"cut":false,"hidden":false,"merged":[]}
[{"$f":"\"Comparison between Reference & Candidate Software (\"&Units&\")\"","v":"Comparison between Reference & Candidate Software (kTDV/ft2)"},{"$nulls":14},{"$f":"INDIRECT(P4)","v":"'Reference'!$A$1:$IA$1000"},"'Reference'!$A$1:$IA$1000","'Reference'!$A$1:$IA$1000","'Reference'!$A$1:$IA$1000","'Reference'!$A$1:$IA$1000","'Reference'!$A$1:$IA$1000","'Reference'!$A$1:$IA$1000","'Reference'!$A$1:$IA$1000","'Reference'!$A$1:$IA$1000",{"$f":"INDIRECT(Y4)","v":"'Candidate'!$A$1:$IA$1000"},"'Candidate'!$A$1:$IA$1000","'Candidate'!$A$1:$IA$1000","'Candidate'!$A$1:$IA$1000","'Candidate'!$A$1:$IA$1000","'Candidate'!$A$1:$IA$1000","'Candidate'!$A$1:$IA$1000","'Candidate'!$A$1:$IA$1000",{"$f":"INDIRECT(AG4)","v":"'Candidate'!$A$1:$IA$1000"},{"$f":"INDIRECT(AH4)","v":"'Reference'!$A$1:$IA$1000"},"'Reference'!$A$1:$IA$1000","'Reference'!$A$1:$IA$1000","'Reference'!$A$1:$IA$1000","'Reference'!$A$1:$IA$1000","'Reference'!$A$1:$IA$1000","'Reference'!$A$1:$IA$1000","'Reference'!$A$1:$IA$1000","'Reference'!$A$1:$IA$1000",{"$f":"INDIRECT(AQ4)","v":"'Candidate'!$A$1:$IA$1000"},"'Candidate'!$A$1:$IA$1000","'Candidate'!$A$1:$IA$1000","'Candidate'!$A$1:$IA$1000","'Candidate'!$A$1:$IA$1000","'Candidate'!$A$1:$IA$1000","'Candidate'!$A$1:$IA$1000","'Candidate'!$A$1:$IA$1000","'Candidate'!$A$1:$IA$1000"]
[null,{"$f":"Summary!B3","v":"Comparison Date:"},{"$f":"Comparison_Date","v":"2016-09-01"},{"$nulls":12},{"$f":"INDIRECT(P4&\"FileName\")","v":"'ReferenceLookups'!$N$1:$N$1000"},{"$nulls":8},{"$f":"INDIRECT(Y4&\"FileName\")","v":"'CandidateLookups'!$N$1:$N$1000"},{"$nulls":8},{"$f":"INDIRECT(AH4&\"FileName\")","v":"'ReferenceLookups'!$N$1:$N$1000"},{"$nulls":8},{"$f":"INDIRECT(AQ4&\"FileName\")","v":"'CandidateLookups'!$N$1:$N$1000"}]
[null,{"$f":"Summary!B4","v":"Comparison Author:"},{"$f":"Comparison_Author","v":"Ken Nittler"},{"$nulls":13},{"$f":"INDIRECT(Q$4&Q$5&Q$6)","v":38},39,40,41,42,43,49,7,null,{"$f":"INDIRECT(Z$4&Z$5&Z$6)","v":38},39,40,41,42,43,49,7,null,{"$f":"INDIRECT(AI$4&AI$5&AI$6)","v":80},81,82,83,84,0,90,235,null,{"$f":"INDIRECT(AR$4&AR$5&AR$6)","v":80},81,82,83,84,0,90,235]
[null,{"$f":"Summary!B5","v":"Candidate Software:"},{"$f":"Candidate_Software","v":"CBECC-Res 2016 670"},{"$nulls":10},"Standard",null,"Reference","Reference",{"$f":"Q4","v":"Reference"},"Reference","Reference","Reference","Reference","Reference","Reference","Candidate",{"$f":"Y4","v":"Candidate"},"Candidate","Candidate","Candidate","Candidate","Candidate","Candidate","Candidate","Reference",{"$f":"AH4","v":"Reference"},"Reference","Reference","Reference","Reference","Reference","Reference","Reference","Candidate",{"$f":"AQ4","v":"Candidate"},"Candidate","Candidate","Candidate","Candidate","Candidate","Candidate","Candidate",null,"Standard"]
[{"$nulls":4},"Reference","Candidate","Percent","Within","Standard","Reference","Candidate","Percent","Within","Equals",null,"Proposed",{"$f":"P5","v":"Proposed"},"Proposed","Proposed","Proposed","Proposed","Proposed","Proposed","Proposed","Proposed","Proposed","Proposed","Proposed","Proposed","Proposed","Proposed","Proposed","Proposed","Standard","Standard","Standard","Standard","Standard","Standard","Standard","Standard","Standard","Standard","Standard","Standard","Standard","Standard","Standard","Standard","Standard","Standard",null,"Design"]
["Test","Run","Description","Pass/Fail","Proposed","Proposed","Difference","Tolerance","Equals","Standard","Standard","Difference","Tolerance","Lookup","Margin","Row","SpcHeat","SpcCool","IAQVent","OtherHVAC","WtrHeat","Solar","Total","EDR","Row",{"$f":"Q6","v":"SpcHeat"},"SpcCool","IAQVent","OtherHVAC","WtrHeat","Solar","Total","EDR","Row","SpcHeat","SpcCool","IAQVent","OtherHVAC","WtrHeat","Solar","Total",{"$f":"AG6","v":"EDR"},"Row",{"$f":"AI6","v":"SpcHeat"},"SpcCool","IAQVent","OtherHVAC","WtrHeat","Solar","Total","EDR","Run","Row"]
[{"$nulls":40},"AO","AP"]
["U01",{"$f":"VLOOKUP(A8,TestArray,2)&\" in \"&VLOOKUP(A8,TestArray,3)&\" for Prototype \"&VLOOKUP(A8,TestArray,4)","v":"Standard Design in All Zones for Prototype S2100ft2"},{"$nulls":6},{"$f":"VLOOKUP(A8,TestArray,21)","v":"Standard = Proposed for this test"}]
[{"$f":"A8","v":"U01"},"R01",{"$f":"VLOOKUP(A9,TestArray,4+RIGHT(B9,2))","v":"Zone 01"},{"$f":"IF(SoftwareType=\"Candidate\",\"n/a\",IF(AND(H9=Yes,M9=Yes,ABS(E9-I9)<=Tolerance/2),Pass,Fail))","v":"Pass"},{"$f":"IF(Units=\"EDR\",X9,W9)","v":45.44},{"$f":"IF(Units=\"EDR\",AG9,AF9)","v":45.44},{"$f":"IF(E9=0,0,(F9-E9)/E9)","v":0},{"$f":"IF(AND((E9-Tolerance<=F9),(E9+Tolerance>=F9)),Yes,No)","v":"Yes"},{"$f":"IF(Units=\"EDR\",J9,INDIRECT(RefCol&INDEX(StandardArray,MATCH($N9,StandardList,0),2)))","v":45.44},{"$f":"IF(Units=\"EDR\",AP9,AO9)","v":45.44},{"$f":"IF(Units=\"EDR\",AY9,AX9)","v":45.44},{"$f":"IF(I9=0,0,(K9-I9)/I9)","v":0},{"$f":"IF(AND((I9-Tolerance<=K9),(I9+Tolerance>=K9),(J9-Tolerance<=K9),(J9+Tolerance>=K9)),Yes,No)","v":"Yes"},{"$f":"A9&B9","v":"U01R01"},{"$f":"K9-F9","v":0},{"$f":"MATCH($A9&$B9,INDIRECT(P$2),0)","v":4},{"$f":"IF(Q$3=0,\"\",INDEX(INDIRECT(Q$1),$P9,Q$3))","v":34},0,1.17,0,10.27,0,{"$f":"IF(TotalSum=\"No\",INDEX(INDIRECT(W$1),$P9,W$3),SUM(Q9:V9))","v":45.44},57.255699999999997,{"$f":"MATCH($A9&$B9,INDIRECT(Y$2),0)","v":4},{"$f":"IF(Z$3=0,\"\",INDEX(INDIRECT(Z$1),$Y9,Z$3))","v":34},0,1.17,0,10.27,0,{"$f":"IF(TotalSum=\"No\",INDEX(INDIRECT(AF$1),$Y9,AF$3),SUM(Z9:AE9))","v":45.44},{"$f":"IF(AG$3=0,\"\",INDEX(INDIRECT(AG$1),$P9,AG$3))","v":57.255699999999997},{"$f":"MATCH($A9&$B9,INDIRECT(AH$2),0)","v":4},{"$f":"IF(AI$3=0,\"\",INDEX(INDIRECT(AI$1),$AH9,AI$3))","v":34},0,1.17,0,10.27,"",{"$f":"IF(TotalSum=\"No\",INDEX(INDIRECT(AO$1),$AH9,AO$3),SUM(AI9:AN9))","v":45.44},{"$f":"IF(AP$3=0,\"\",INDEX(INDIRECT(AP$1),$P9,AP$3))","v":57.255699999999997},{"$f":"MATCH($A9&$B9,INDIRECT(AQ$2),0)","v":4},{"$f":"IF(AR$3=0,\"\",INDEX(INDIRECT(AR$1),$AQ9,AR$3))","v":34},0,1.17,0,10.27,"",{"$f":"IF(TotalSum=\"No\",INDEX(INDIRECT(AX$1),$AQ9,AX$3),SUM(AR9:AW9))","v":45.44},{"$f":"IF(AY$3=0,\"\",INDEX(INDIRECT(AY$1),$P9,AY$3))","v":57.255699999999997},{"$f":"A9&B9","v":"U01R01"},{"$f":"ROW(AZ9)","v":9}]
[{"$f":"A9","v":"U01"},"R02","Zone 02","Pass",34.520000000000003,34.520000000000003,{"$f":"IF(E10=0,0,(F10-E10)/E10)","v":0},"Yes",34.520000000000003,34.520000000000003,34.520000000000003,{"$f":"IF(I10=0,0,(K10-I10)/I10)","v":0},"Yes","U01R02",{"$f":"K10-F10","v":0},5,23.73,0.36,1.17,0,9.26,0,34.520000000000003,50.6128,5,23.73,0.36,1.17,0,9.26,0,34.520000000000003,50.6128,5,23.73,0.36,1.17,0,9.26,"",34.520000000000003,50.6128,5,23.73,0.36,1.17,0,9.26,"",34.520000000000003,50.6128,"U01R02",{"$f":"ROW(AZ10)","v":10}]
["U01","R03","Zone 03","Pass",25.13,25.13,0,"Yes",25.13,25.13,25.13,0,"Yes","U01R03",0,6,14.68,0,1.17,0,9.2799999999999994,0,25.13,47.807600000000001,6,14.68,0,1.17,0,9.2799999999999994,0,25.13,47.807600000000001,6,14.68,0,1.17,0,9.2799999999999994,"",25.13,47.807600000000001,6,14.68,0,1.17,0,9.2799999999999994,"",25.13,47.807600000000001,"U01R03",11]
["U01","R04","Zone 04","Pass",28.46,28.46,0,"Yes",28.46,28.46,28.46,0,"Yes","U01R04",0,7,16.82,1.6,1.17,0,8.8699999999999992,0,28.46,48.244599999999998,7,16.82,1.6,1.17,0,8.8699999999999992,0,28.46,48.244599999999998,7,16.82,1.6,1.17,0,8.8699999999999992,"",28.46,48.244599999999998,7,16.82,1.6,1.17,0,8.8699999999999992,"",28.46,48.244599999999998,"U01R04",12]
["U01","R05","Zone 05","Pass",22.68,22.68,0,"Yes",22.68,22.68,22.68,0,"Yes","U01R05",0,8,12.03,0,1.17,0,9.48,0,22.68,44.633899999999997,8,12.03,0,1.17,0,9.48,0,22.68,44.633899999999997,8,12.03,0,1.17,0,9.48,"",22.68,44.633899999999997,8,12.03,0,1.17,0,9.48,"",22.68,44.633899999999997,"U01R05",13]
["U01","R06","Zone 06","Pass",19.489999999999998,19.489999999999998,0,"Yes",19.489999999999998,19.489999999999998,19.489999999999998,0,"Yes","U01R06",0,9,7.7,2.16,1.1299999999999999,0,8.5,0,19.489999999999998,51.020899999999997,9,7.7,2.16,1.1299999999999999,0,8.5,0,19.489999999999998,51.020899999999997,9,7.7,2.16,1.1299999999999999,0,8.5,"",19.489999999999998,51.020899999999997,9,7.7,2.16,1.1299999999999999,0,8.5,"",19.489999999999998,51.020899999999997,"U01R06",14]
["U01","R07","Zone 07","Pass",12.42,12.42,0,"Yes",12.42,12.42,12.42,0,"Yes","U01R07",0,10,2.75,0.3,1.17,0,8.1999999999999993,0,12.42,49.796500000000002,10,2.75,0.3,1.17,0,8.1999999999999993,0,12.42,49.796500000000002,10,2.75,0.3,1.17,0,8.1999999999999993,"",12.42,49.796500000000002,10,2.75,0.3,1.17,0,8.1999999999999993,"",12.42,49.796500000000002,"U01R07",15]
["U01","R08","Zone 08","Pass",19.53,19.53,0,"Yes",19.53,19.53,19.53,0,"Yes","U01R08",0,11,4.03,6.22,1.1299999999999999,0,8.15,0,19.53,46.755400000000002,11,4.03,6.22,1.1299999999999999,0,8.15,0,19.53,46.755400000000002,11,4.03,6.22,1.1299999999999999,0,8.15,"",19.53,46.755400000000002,11,4.03,6.22,1.1299999999999999,0,8.15,"",19.53,46.755400000000002,"U01R08",16]
["U01","R09","Zone 09","Pass",32.299999999999997,32.299999999999997,0,"Yes",32.299999999999997,32.299999999999997,32.299999999999997,0,"Yes","U01R09",0,12,6.13,16.899999999999999,1.1200000000000001,0,8.15,0,32.299999999999997,47.563800000000001,12,6.13,16.899999999999999,1.1200000000000001,0,8.15,0,32.299999999999997,47.563800000000001,12,6.13,16.899999999999999,1.1200000000000001,0,8.15,"",32.299999999999997,47.563800000000001,12,6.13,16.899999999999999,1.1200000000000001,0,8.15,"",32.299999999999997,47.563800000000001,"U01R09",17]
["U01","R10","Zone 10","Pass",32.729999999999997,32.729999999999997,0,"Yes",32.729999999999997,32.729999999999997,32.729999999999997,0,"Yes","U01R10",0,13,7.23,16.27,1.1200000000000001,0,8.11,0,32.729999999999997,45.825800000000001,13,7.23,16.27,1.1200000000000001,0,8.11,0,32.729999999999997,45.825800000000001,13,7.23,16.27,1.1200000000000001,0,8.11,"",32.729999999999997,45.825800000000001,13,7.23,16.27,1.1200000000000001,0,8.11,"",32.729999999999997,45.825800000000001,"U01R10",18]
["U01","R11","Zone 11","Pass",64.209999999999994,64.209999999999994,0,"Yes",64.209999999999994,64.209999999999994,64.209999999999994,0,"Yes","U01R11",0,14,{"$f":"IF(Q$3=0,\"\",INDEX(INDIRECT(Q$1),$P19,Q$3))","v":20.32},34.44,1.17,0,8.2799999999999994,0,64.209999999999994,49.292999999999999,14,{"$f":"IF(Z$3=0,\"\",INDEX(INDIRECT(Z$1),$Y19,Z$3))","v":20.32},34.44,1.17,0,8.2799999999999994,0,64.209999999999994,49.292999999999999,14,{"$f":"IF(AI$3=0,\"\",INDEX(INDIRECT(AI$1),$AH19,AI$3))","v":20.32},34.44,1.17,0,8.2799999999999994,"",64.209999999999994,49.292999999999999,14,{"$f":"IF(AR$3=0,\"\",INDEX(INDIRECT(AR$1),$AQ19,AR$3))","v":20.32},34.44,1.17,0,8.2799999999999994,"",64.209999999999994,49.292999999999999,"U01R11",19]
["U01","R12","Zone 12","Pass",41.44,41.44,0,"Yes",41.44,41.44,41.44,0,"Yes","U01R12",0,15,21.38,10.23,1.17,0,8.66,0,41.44,45.609200000000001,15,21.38,10.23,1.17,0,8.66,0,41.44,45.609200000000001,15,21.38,10.23,1.17,0,8.66,"",41.44,45.609200000000001,15,21.38,10.23,1.17,0,8.66,"",41.44,45.609200000000001,"U01R12",20]
["U01","R13","Zone 13","Pass",65.47,65.47,0,"Yes",65.47,65.47,65.47,0,"Yes","U01R13",0,16,17.77,38.4,1.17,0,8.1300000000000008,0,65.47,50.942900000000002,16,17.77,38.4,1.17,0,8.1300000000000008,0,65.47,50.942900000000002,16,17.77,38.4,1.17,0,8.1300000000000008,"",65.47,50.942900000000002,16,17.77,38.4,1.17,0,8.1300000000000008,"",65.47,50.942900000000002,"U01R13",21]
["U01","R14","Zone 14","Pass",61.45,61.45,0,"Yes",61.45,61.45,61.45,0,"Yes","U01R14",0,17,19.760000000000002,32.119999999999997,1.1200000000000001,0,8.4499999999999993,0,61.45,49.968899999999998,17,19.760000000000002,32.119999999999997,1.1200000000000001,0,8.4499999999999993,0,61.45,49.968899999999998,17,19.760000000000002,32.119999999999997,1.1200000000000001,0,8.4499999999999993,"",61.45,49.968899999999998,17,19.760000000000002,32.119999999999997,1.1200000000000001,0,8.4499999999999993,"",61.45,49.968899999999998,"U01R14",22]
["U01","R15","Zone 15","Pass",96.09,96.09,0,"Yes",96.09,96.09,96.09,0,"Yes","U01R15",0,18,0.66,88.15,1.1200000000000001,0,6.16,0,96.09,56.3309,18,0.66,88.15,1.1200000000000001,0,6.16,0,96.09,56.3309,18,0.66,88.15,1.1200000000000001,0,6.16,"",96.09,56.3309,18,0.66,88.15,1.1200000000000001,0,6.16,"",96.09,56.3309,"U01R15",23]
["U01","R16","Zone 16","Pass",58.52,58.52,0,"Yes",58.52,58.52,58.52,0,"Yes","U01R16",0,19,45.71,1.35,1.1100000000000001,0,10.35,0,58.52,53.253,19,45.71,1.35,1.1100000000000001,0,10.35,0,58.52,53.253,19,45.71,1.35,1.1100000000000001,0,10.35,"",58.52,53.253,19,45.71,1.35,1.1100000000000001,0,10.35,"",58.52,53.253,"U01R16",24]
[{"$f":"\"Result \"&A8","v":"Result U01"},null,null,{"$f":"IF(SoftwareType=\"Candidate\",\"n/a\",IF(COUNTIF(D9:D24,Pass)=16,Pass,Fail))","v":"Pass"},{"$f":"AVERAGE(E9:E24)","v":41.2425},{"$f":"AVERAGE(F9:F24)","v":41.2425},{"$f":"IF(E25=0,0,(F25-E25)/E25)","v":0},null,{"$f":"AVERAGE(I9:I24)","v":41.2425},{"$f":"AVERAGE(J9:J24)","v":41.2425},{"$f":"AVERAGE(K9:K24)","v":41.2425},0,"Min",{"$f":"MIN(L9:L24)","v":0},{"$f":"AVERAGE(O9:O24)","v":0},"Ave",{"$f":"AVERAGE(Q9:Q24)","v":15.918749999999999},{"$f":"AVERAGE(R9:R24)","v":15.53125},{"$f":"AVERAGE(S9:S24)","v":1.1487499999999999},null,{"$f":"AVERAGE(U9:U24)","v":8.6437500000000007},{"$f":"AVERAGE(V9:V24)","v":0},{"$f":"AVERAGE(W9:W24)","v":41.2425},{"$f":"AVERAGE(X9:X24)","v":49.682181249999999},"Ave",{"$f":"AVERAGE(Z9:Z24)","v":15.918749999999999},{"$f":"AVERAGE(AA9:AA24)","v":15.53125},{"$f":"AVERAGE(AB9:AB24)","v":1.1487499999999999},{"$f":"AVERAGE(AC9:AC24)","v":0},{"$f":"AVERAGE(AD9:AD24)","v":8.6437500000000007},null,{"$f":"AVERAGE(AF9:AF24)","v":41.2425},{"$f":"AVERAGE(AG9:AG24)","v":49.682181249999999},null,{"$f":"AVERAGE(AI9:AI24)","v":15.918749999999999},{"$f":"AVERAGE(AJ9:AJ24)","v":15.53125},{"$f":"AVERAGE(AK9:AK24)","v":1.1487499999999999},{"$f":"AVERAGE(AL9:AL24)","v":0},{"$f":"AVERAGE(AM9:AM24)","v":8.6437500000000007},null,{"$f":"AVERAGE(AO9:AO24)","v":41.2425},{"$f":"AVERAGE(AP9:AP24)","v":49.682181249999999},"Ave",{"$f":"AVERAGE(AR9:AR24)","v":15.918749999999999},{"$f":"AVERAGE(AS9:AS24)","v":15.53125},{"$f":"AVERAGE(AT9:AT24)","v":1.1487499999999999},{"$f":"AVERAGE(AU9:AU24)","v":0},{"$f":"AVERAGE(AV9:AV24)","v":8.6437500000000007},null,{"$f":"AVERAGE(AX9:AX24)","v":41.2425},{"$f":"AVERAGE(AY9:AY24)","v":49.682181249999999}]
[{"$nulls":11},"Ave","Max",{"$f":"MAX(L9:L24)","v":0},{"$nulls":10},"% Diff",{"$f":"(Z25-Q25)/Q25","v":0},{"$f":"(AA25-R25)/R25","v":0},{"$f":"(AB25-S25)/S25","v":0},null,{"$f":"(AD25-U25)/U25","v":0},null,{"$f":"(AF25-W25)/W25","v":0}]
["U02",{"$f":"VLOOKUP(A27,TestArray,2)&\" in \"&VLOOKUP(A27,TestArray,3)&\" for Prototype \"&VLOOKUP(A27,TestArray,4)","v":"Standard Design in All Zones for Prototype S2700ft2"},{"$nulls":6},{"$f":"VLOOKUP(A27,TestArray,21)","v":"Standard = Proposed for this test"}]
[{"$f":"A27","v":"U02"},"R01",{"$f":"VLOOKUP(A28,TestArray,4+RIGHT(B28,2))","v":"Zone 01"},{"$f":"IF(SoftwareType=\"Candidate\",\"n/a\",IF(AND(H28=Yes,M28=Yes,ABS(E28-I28)<=Tolerance/2),Pass,Fail))","v":"Pass"},{"$f":"IF(Units=\"EDR\",X28,W28)","v":35.67},{"$f":"IF(Units=\"EDR\",AG28,AF28)","v":35.67},{"$f":"IF(E28=0,0,(F28-E28)/E28)","v":0},{"$f":"IF(AND((E28-Tolerance<=F28),(E28+Tolerance>=F28)),Yes,No)","v":"Yes"},{"$f":"IF(Units=\"EDR\",J28,INDIRECT(RefCol&INDEX(StandardArray,MATCH($N28,StandardList,0),2)))","v":35.67},{"$f":"IF(Units=\"EDR\",AP28,AO28)","v":35.67},{"$f":"IF(Units=\"EDR\",AY28,AX28)","v":35.67},{"$f":"IF(I28=0,0,(K28-I28)/I28)","v":0},{"$f":"IF(AND((I28-Tolerance<=K28),(I28+Tolerance>=K28),(J28-Tolerance<=K28),(J28+Tolerance>=K28)),Yes,No)","v":"Yes"},{"$f":"A28&B28","v":"U02R01"},{"$f":"K28-F28","v":0},{"$f":"MATCH($A28&$B28,INDIRECT(P$2),0)","v":20},{"$f":"IF(Q$3=0,\"\",INDEX(INDIRECT(Q$1),$P28,Q$3))","v":25.56},0,1.1499999999999999,0,8.9600000000000009,0,{"$f":"IF(TotalSum=\"No\",INDEX(INDIRECT(W$1),$P28,W$3),SUM(Q28:V28))","v":35.67},{"$f":"IF(X$3=0,\"\",INDEX(INDIRECT(X$1),$P28,X$3))","v":52.843000000000004},{"$f":"MATCH($A28&$B28,INDIRECT(Y$2),0)","v":20},{"$f":"IF(Z$3=0,\"\",INDEX(INDIRECT(Z$1),$Y28,Z$3))","v":25.56},0,1.1499999999999999,0,8.9600000000000009,0,{"$f":"IF(TotalSum=\"No\",INDEX(INDIRECT(AF$1),$Y28,AF$3),SUM(Z28:AE28))","v":35.67},{"$f":"IF(AG$3=0,\"\",INDEX(INDIRECT(AG$1),$P28,AG$3))","v":52.843000000000004},{"$f":"MATCH($A28&$B28,INDIRECT(AH$2),0)","v":20},{"$f":"IF(AI$3=0,\"\",INDEX(INDIRECT(AI$1),$AH28,AI$3))","v":25.56},0,1.1499999999999999,0,8.9600000000000009,"",{"$f":"IF(TotalSum=\"No\",INDEX(INDIRECT(AO$1),$AH28,AO$3),SUM(AI28:AN28))","v":35.67},{"$f":"IF(AP$3=0,\"\",INDEX(INDIRECT(AP$1),$P28,AP$3))","v":52.843000000000004},{"$f":"MATCH($A28&$B28,INDIRECT(AQ$2),0)","v":20},{"$f":"IF(AR$3=0,\"\",INDEX(INDIRECT(AR$1),$AQ28,AR$3))","v":25.56},0,1.1499999999999999,0,8.9600000000000009,"",{"$f":"IF(TotalSum=\"No\",INDEX(INDIRECT(AX$1),$AQ28,AX$3),SUM(AR28:AW28))","v":35.67},{"$f":"IF(AY$3=0,\"\",INDEX(INDIRECT(AY$1),$P28,AY$3))","v":52.843000000000004},{"$f":"A28&B28","v":"U02R01"},{"$f":"ROW(AZ28)","v":28}]
[{"$f":"A28","v":"U02"},"R02","Zone 02","Pass",31.06,31.06,{"$f":"IF(E29=0,0,(F29-E29)/E29)","v":0},"Yes",31.06,31.06,31.06,{"$f":"IF(I29=0,0,(K29-I29)/I29)","v":0},"Yes","U02R02",{"$f":"K29-F29","v":0},21,20.27,1.57,1.1499999999999999,0,8.07,0,31.06,47.034999999999997,21,20.27,1.57,1.1499999999999999,0,8.07,0,31.06,47.034999999999997,21,20.27,1.57,1.1499999999999999,0,8.07,"",31.06,47.034999999999997,21,20.27,1.57,1.1499999999999999,0,8.07,"",31.06,47.034999999999997,"U02R02",29]
["U02","R03","Zone 03","Pass",20.440000000000001,20.440000000000001,0,"Yes",20.440000000000001,20.440000000000001,20.440000000000001,0,"Yes","U02R03",0,22,11.1,0.1,1.1499999999999999,0,8.09,0,20.440000000000001,44.707900000000002,22,11.1,0.1,1.1499999999999999,0,8.09,0,20.440000000000001,44.707900000000002,22,11.1,0.1,1.1499999999999999,0,8.09,"",20.440000000000001,44.707900000000002,22,11.1,0.1,1.1499999999999999,0,8.09,"",20.440000000000001,44.707900000000002,"U02R03",30]
["U02","R04","Zone 04","Pass",26.47,26.47,0,"Yes",26.47,26.47,26.47,0,"Yes","U02R04",0,23,14.7,2.89,1.1499999999999999,0,7.73,0,26.47,45.471299999999999,23,14.7,2.89,1.1499999999999999,0,7.73,0,26.47,45.471299999999999,23,14.7,2.89,1.1499999999999999,0,7.73,"",26.47,45.471299999999999,23,14.7,2.89,1.1499999999999999,0,7.73,"",26.47,45.471299999999999,"U02R04",31]
["U02","R05","Zone 05","Pass",17.940000000000001,17.940000000000001,0,"Yes",17.940000000000001,17.940000000000001,17.940000000000001,0,"Yes","U02R05",0,24,8.52,0,1.1499999999999999,0,8.27,0,17.940000000000001,41.549100000000003,24,8.52,0,1.1499999999999999,0,8.27,0,17.940000000000001,41.549100000000003,24,8.52,0,1.1499999999999999,0,8.27,"",17.940000000000001,41.549100000000003,24,8.52,0,1.1499999999999999,0,8.27,"",17.940000000000001,41.549100000000003,"U02R05",32]
["U02","R06","Zone 06","Pass",18.38,18.38,0,"Yes",18.38,18.38,18.38,0,"Yes","U02R06",0,25,6.81,3.06,1.1100000000000001,0,7.4,0,18.38,49.175199999999997,25,6.81,3.06,1.1100000000000001,0,7.4,0,18.38,49.175199999999997,25,6.81,3.06,1.1100000000000001,0,7.4,"",18.38,49.175199999999997,25,6.81,3.06,1.1100000000000001,0,7.4,"",18.38,49.175199999999997,"U02R06",33]
["U02","R07","Zone 07","Pass",11.25,11.25,0,"Yes",11.25,11.25,11.25,0,"Yes","U02R07",0,26,2.33,0.62,1.1499999999999999,0,7.15,0,11.25,47.863799999999998,26,2.33,0.62,1.1499999999999999,0,7.15,0,11.25,47.863799999999998,26,2.33,0.62,1.1499999999999999,0,7.15,"",11.25,47.863799999999998,26,2.33,0.62,1.1499999999999999,0,7.15,"",11.25,47.863799999999998,"U02R07",34]
["U02","R08","Zone 08","Pass",20.12,20.12,0,"Yes",20.12,20.12,20.12,0,"Yes","U02R08",0,27,3.87,8.0399999999999991,1.1100000000000001,0,7.1,0,20.12,45.509399999999999,27,3.87,8.0399999999999991,1.1100000000000001,0,7.1,0,20.12,45.509399999999999,27,3.87,8.0399999999999991,1.1100000000000001,0,7.1,"",20.12,45.509399999999999,27,3.87,8.0399999999999991,1.1100000000000001,0,7.1,"",20.12,45.509399999999999,"U02R08",35]
["U02","R09","Zone 09","Pass",32.69,32.69,0,"Yes",32.69,32.69,32.69,0,"Yes","U02R09",0,28,5.94,18.55,1.1000000000000001,0,7.1,0,32.69,45.633200000000002,28,5.94,18.55,1.1000000000000001,0,7.1,0,32.69,45.633200000000002,28,5.94,18.55,1.1000000000000001,0,7.1,"",32.69,45.633200000000002,28,5.94,18.55,1.1000000000000001,0,7.1,"",32.69,45.633200000000002,"U02R09",36]
["U02","R10","Zone 10","Pass",33.590000000000003,33.590000000000003,0,"Yes",33.590000000000003,33.590000000000003,33.590000000000003,0,"Yes","U02R10",0,29,6.93,18.5,1.1000000000000001,0,7.06,0,33.590000000000003,43.9983,29,6.93,18.5,1.1000000000000001,0,7.06,0,33.590000000000003,43.9983,29,6.93,18.5,1.1000000000000001,0,7.06,"",33.590000000000003,43.9983,29,6.93,18.5,1.1000000000000001,0,7.06,"",33.590000000000003,43.9983,"U02R10",37]
["U02","R11","Zone 11","Pass",63.44,63.44,0,"Yes",63.44,63.44,63.44,0,"Yes","U02R11",0,30,{"$f":"IF(Q$3=0,\"\",INDEX(INDIRECT(Q$1),$P38,Q$3))","v":18.96},36.119999999999997,1.1499999999999999,0,7.21,0,63.44,46.903599999999997,30,{"$f":"IF(Z$3=0,\"\",INDEX(INDIRECT(Z$1),$Y38,Z$3))","v":18.96},36.119999999999997,1.1499999999999999,0,7.21,0,63.44,46.903599999999997,30,{"$f":"IF(AI$3=0,\"\",INDEX(INDIRECT(AI$1),$AH38,AI$3))","v":18.96},36.119999999999997,1.1499999999999999,0,7.21,"",63.44,46.903599999999997,30,{"$f":"IF(AR$3=0,\"\",INDEX(INDIRECT(AR$1),$AQ38,AR$3))","v":18.96},36.119999999999997,1.1499999999999999,0,7.21,"",63.44,46.903599999999997,"U02R11",38]
["U02","R12","Zone 12","Pass",42.52,42.52,0,"Yes",42.52,42.52,42.52,0,"Yes","U02R12",0,31,19.36,14.47,1.1499999999999999,0,7.54,0,42.52,43.999099999999999,31,19.36,14.47,1.1499999999999999,0,7.54,0,42.52,43.999099999999999,31,19.36,14.47,1.1499999999999999,0,7.54,"",42.52,43.999099999999999,31,19.36,14.47,1.1499999999999999,0,7.54,"",42.52,43.999099999999999,"U02R12",39]
["U02","R13","Zone 13","Pass",64.69,64.69,0,"Yes",64.69,64.69,64.69,0,"Yes","U02R13",0,32,17.11,39.36,1.1499999999999999,0,7.07,0,64.69,48.561,32,17.11,39.36,1.1499999999999999,0,7.07,0,64.69,48.561,32,17.11,39.36,1.1499999999999999,0,7.07,"",64.69,48.561,32,17.11,39.36,1.1499999999999999,0,7.07,"",64.69,48.561,"U02R13",40]
["U02","R14","Zone 14","Pass",60.79,60.79,0,"Yes",60.79,60.79,60.79,0,"Yes","U02R14",0,33,18.329999999999998,34.020000000000003,1.1000000000000001,0,7.34,0,60.79,47.644500000000001,33,18.329999999999998,34.020000000000003,1.1000000000000001,0,7.34,0,60.79,47.644500000000001,33,18.329999999999998,34.020000000000003,1.1000000000000001,0,7.34,"",60.79,47.644500000000001,33,18.329999999999998,34.020000000000003,1.1000000000000001,0,7.34,"",60.79,47.644500000000001,"U02R14",41]
["U02","R15","Zone 15","Pass",90.36,90.36,0,"Yes",90.36,90.36,90.36,0,"Yes","U02R15",0,34,1.51,82.41,1.1000000000000001,0,5.34,0,90.36,52.7196,34,1.51,82.41,1.1000000000000001,0,5.34,0,90.36,52.7196,34,1.51,82.41,1.1000000000000001,0,5.34,"",90.36,52.7196,34,1.51,82.41,1.1000000000000001,0,5.34,"",90.36,52.7196,"U02R15",42]
["U02","R16","Zone 16","Pass",55.28,55.28,0,"Yes",55.28,55.28,55.28,0,"Yes","U02R16",0,35,41.18,3.98,1.0900000000000001,0,9.0299999999999994,0,55.28,50.481900000000003,35,41.18,3.98,1.0900000000000001,0,9.0299999999999994,0,55.28,50.481900000000003,35,41.18,3.98,1.0900000000000001,0,9.0299999999999994,"",55.28,50.481900000000003,35,41.18,3.98,1.0900000000000001,0,9.0299999999999994,"",55.28,50.481900000000003,"U02R16",43]
[{"$f":"\"Result \"&A27","v":"Result U02"},null,null,{"$f":"IF(SoftwareType=\"Candidate\",\"n/a\",IF(COUNTIF(D28:D43,Pass)=16,Pass,Fail))","v":"Pass"},{"$f":"AVERAGE(E28:E43)","v":39.043124999999996},{"$f":"AVERAGE(F28:F43)","v":39.043124999999996},{"$f":"IF(E44=0,0,(F44-E44)/E44)","v":0},null,{"$f":"AVERAGE(I28:I43)","v":39.043124999999996},{"$f":"AVERAGE(J28:J43)","v":39.043124999999996},{"$f":"AVERAGE(K28:K43)","v":39.043124999999996},0,"Min",{"$f":"MIN(L28:L43)","v":0},{"$f":"AVERAGE(O28:O43)","v":0},"Ave",{"$f":"AVERAGE(Q28:Q43)","v":13.905000000000001},{"$f":"AVERAGE(R28:R43)","v":16.480625},{"$f":"AVERAGE(S28:S43)","v":1.1287499999999999},null,{"$f":"AVERAGE(U28:U43)","v":7.5287500000000005},{"$f":"AVERAGE(V28:V43)","v":0},{"$f":"AVERAGE(W28:W43)","v":39.043124999999996},{"$f":"AVERAGE(X28:X43)","v":47.130993750000002},"Ave",{"$f":"AVERAGE(Z28:Z43)","v":13.905000000000001},{"$f":"AVERAGE(AA28:AA43)","v":16.480625},{"$f":"AVERAGE(AB28:AB43)","v":1.1287499999999999},{"$f":"AVERAGE(AC28:AC43)","v":0},{"$f":"AVERAGE(AD28:AD43)","v":7.5287500000000005},null,{"$f":"AVERAGE(AF28:AF43)","v":39.043124999999996},{"$f":"AVERAGE(AG28:AG43)","v":47.130993750000002},null,{"$f":"AVERAGE(AI28:AI43)","v":13.905000000000001},{"$f":"AVERAGE(AJ28:AJ43)","v":16.480625},{"$f":"AVERAGE(AK28:AK43)","v":1.1287499999999999},{"$f":"AVERAGE(AL28:AL43)","v":0},{"$f":"AVERAGE(AM28:AM43)","v":7.5287500000000005},null,{"$f":"AVERAGE(AO28:AO43)","v":39.043124999999996},{"$f":"AVERAGE(AP28:AP43)","v":47.130993750000002},"Ave",{"$f":"AVERAGE(AR28:AR43)","v":13.905000000000001},{"$f":"AVERAGE(AS28:AS43)","v":16.480625},{"$f":"AVERAGE(AT28:AT43)","v":1.1287499999999999},{"$f":"AVERAGE(AU28:AU43)","v":0},{"$f":"AVERAGE(AV28:AV43)","v":7.5287500000000005},null,{"$f":"AVERAGE(AX28:AX43)","v":39.043124999999996},{"$f":"AVERAGE(AY28:AY43)","v":47.130993750000002}]
[null,null,"Page 2 of 7",{"$nulls":8},"Ave","Max",{"$f":"MAX(L28:L43)","v":0},{"$nulls":10},"% Diff",{"$f":"(Z44-Q44)/Q44","v":0},{"$f":"(AA44-R44)/R44","v":0},{"$f":"(AB44-S44)/S44","v":0},null,{"$f":"(AD44-U44)/U44","v":0},null,{"$f":"(AF44-W44)/W44","v":0}]
["U03",{"$f":"VLOOKUP(A46,TestArray,2)&\" in \"&VLOOKUP(A46,TestArray,3)&\" for Prototype \"&VLOOKUP(A46,TestArray,4)","v":"Standard Design in All Zones for Prototype S6960ft2"},{"$nulls":6},{"$f":"VLOOKUP(A46,TestArray,21)","v":"Standard = Proposed for this test"}]
[{"$f":"A46","v":"U03"},"R01",{"$f":"VLOOKUP(A47,TestArray,4+RIGHT(B47,2))","v":"Zone 01"},{"$f":"IF(SoftwareType=\"Candidate\",\"n/a\",IF(AND(H47=Yes,M47=Yes,ABS(E47-I47)<=Tolerance/2),Pass,Fail))","v":"Pass"},{"$f":"IF(Units=\"EDR\",X47,W47)","v":36.82},{"$f":"IF(Units=\"EDR\",AG47,AF47)","v":36.82},{"$f":"IF(E47=0,0,(F47-E47)/E47)","v":0},{"$f":"IF(AND((E47-Tolerance<=F47),(E47+Tolerance>=F47)),Yes,No)","v":"Yes"},{"$f":"IF(Units=\"EDR\",J47,INDIRECT(RefCol&INDEX(StandardArray,MATCH($N47,StandardList,0),2)))","v":36.82},{"$f":"IF(Units=\"EDR\",AP47,AO47)","v":36.82},{"$f":"IF(Units=\"EDR\",AY47,AX47)","v":36.82},{"$f":"IF(I47=0,0,(K47-I47)/I47)","v":0},{"$f":"IF(AND((I47-Tolerance<=K47),(I47+Tolerance>=K47),(J47-Tolerance<=K47),(J47+Tolerance>=K47)),Yes,No)","v":"Yes"},{"$f":"A47&B47","v":"U03R01"},{"$f":"K47-F47","v":0},{"$f":"MATCH($A47&$B47,INDIRECT(P$2),0)","v":36},{"$f":"IF(Q$3=0,\"\",INDEX(INDIRECT(Q$1),$P47,Q$3))","v":15.85},0.05,2.4700000000000002,0,18.45,0,{"$f":"IF(TotalSum=\"No\",INDEX(INDIRECT(W$1),$P47,W$3),SUM(Q47:V47))","v":36.82},{"$f":"IF(X$3=0,\"\",INDEX(INDIRECT(X$1),$P47,X$3))","v":57.843400000000003},{"$f":"MATCH($A47&$B47,INDIRECT(Y$2),0)","v":36},{"$f":"IF(Z$3=0,\"\",INDEX(INDIRECT(Z$1),$Y47,Z$3))","v":15.85},0.05,2.4700000000000002,0,18.45,0,{"$f":"IF(TotalSum=\"No\",INDEX(INDIRECT(AF$1),$Y47,AF$3),SUM(Z47:AE47))","v":36.82},{"$f":"IF(AG$3=0,\"\",INDEX(INDIRECT(AG$1),$P47,AG$3))","v":57.843400000000003},{"$f":"MATCH($A47&$B47,INDIRECT(AH$2),0)","v":36},{"$f":"IF(AI$3=0,\"\",INDEX(INDIRECT(AI$1),$AH47,AI$3))","v":15.85},0.05,2.4700000000000002,0,18.45,"",{"$f":"IF(TotalSum=\"No\",INDEX(INDIRECT(AO$1),$AH47,AO$3),SUM(AI47:AN47))","v":36.82},{"$f":"IF(AP$3=0,\"\",INDEX(INDIRECT(AP$1),$P47,AP$3))","v":57.843400000000003},{"$f":"MATCH($A47&$B47,INDIRECT(AQ$2),0)","v":36},{"$f":"IF(AR$3=0,\"\",INDEX(INDIRECT(AR$1),$AQ47,AR$3))","v":15.85},0.05,2.4700000000000002,0,18.45,"",{"$f":"IF(TotalSum=\"No\",INDEX(INDIRECT(AX$1),$AQ47,AX$3),SUM(AR47:AW47))","v":36.82},{"$f":"IF(AY$3=0,\"\",INDEX(INDIRECT(AY$1),$P47,AY$3))","v":57.843400000000003},{"$f":"A47&B47","v":"U03R01"},{"$f":"ROW(AZ47)","v":47}]
[{"$f":"A47","v":"U03"},"R02","Zone 02","Pass",38.03,38.03,{"$f":"IF(E48=0,0,(F48-E48)/E48)","v":0},"Yes",38.04,38.04,38.04,{"$f":"IF(I48=0,0,(K48-I48)/I48)","v":0},"Yes","U03R02",{"$f":"K48-F48","v":9.9999999999980105E-3},37,11.56,7.36,2.4700000000000002,0,16.64,0,38.03,55.942399999999999,37,11.56,7.36,2.4700000000000002,0,16.64,0,38.03,55.942399999999999,37,11.56,7.37,2.4700000000000002,0,16.64,"",38.04,55.947600000000001,37,11.56,7.37,2.4700000000000002,0,16.64,"",38.04,55.947600000000001,"U03R02",48]
["U03","R03","Zone 03","Pass",26.19,26.19,0,"Yes",26.19,26.19,26.19,0,"Yes","U03R03",0,38,5.3,1.75,2.4700000000000002,0,16.670000000000002,0,26.19,55.438600000000001,38,5.3,1.75,2.4700000000000002,0,16.670000000000002,0,26.19,55.438600000000001,38,5.3,1.75,2.4700000000000002,0,16.670000000000002,"",26.19,55.438600000000001,38,5.3,1.75,2.4700000000000002,0,16.670000000000002,"",26.19,55.438600000000001,"U03R03",49]
["U03","R04","Zone 04","Pass",34.96,34.96,0,"Yes",34.96,34.96,34.96,0,"Yes","U03R04",0,39,7.54,9.01,2.4700000000000002,0,15.94,0,34.96,54.755699999999997,39,7.54,9.01,2.4700000000000002,0,15.94,0,34.96,54.755699999999997,39,7.54,9.01,2.4700000000000002,0,15.94,"",34.96,54.755699999999997,39,7.54,9.01,2.4700000000000002,0,15.94,"",34.96,54.755699999999997,"U03R04",50]
["U03","R05","Zone 05","Pass",24.89,24.89,0,"Yes",24.89,24.89,24.89,0,"Yes","U03R05",0,40,3.85,1.52,2.4700000000000002,0,17.05,0,24.89,53.897100000000002,40,3.85,1.52,2.4700000000000002,0,17.05,0,24.89,53.897100000000002,40,3.85,1.52,2.4700000000000002,0,17.05,"",24.89,53.897100000000002,40,3.85,1.52,2.4700000000000002,0,17.05,"",24.89,53.897100000000002,"U03R05",51]
["U03","R06","Zone 06","Pass",26.79,26.79,0,"Yes",26.79,26.79,26.79,0,"Yes","U03R06",0,41,1.88,7.24,2.39,0,15.28,0,26.79,59.491,41,1.88,7.24,2.39,0,15.28,0,26.79,59.491,41,1.88,7.24,2.39,0,15.28,"",26.79,59.491,41,1.88,7.24,2.39,0,15.28,"",26.79,59.491,"U03R06",52]
["U03","R07","Zone 07","Pass",23.64,23.64,0,"Yes",23.64,23.64,23.64,0,"Yes","U03R07",0,42,0.19,6.21,2.48,0,14.76,0,23.64,60.450099999999999,42,0.19,6.21,2.48,0,14.76,0,23.64,60.450099999999999,42,0.19,6.21,2.48,0,14.76,"",23.64,60.450099999999999,42,0.19,6.21,2.48,0,14.76,"",23.64,60.450099999999999,"U03R07",53]
["U03","R08","Zone 08","Pass",35.08,35.08,0,"Yes",35.090000000000003,35.090000000000003,35.090000000000003,0,"Yes","U03R08",1.0000000000005116E-2,43,0.89,17.13,2.4,0,14.66,0,35.08,59.013500000000001,43,0.89,17.13,2.4,0,14.66,0,35.08,59.013500000000001,43,0.89,17.14,2.4,0,14.66,"",35.090000000000003,59.019199999999998,43,0.89,17.14,2.4,0,14.66,"",35.090000000000003,59.019199999999998,"U03R08",54]
["U03","R09","Zone 09","Pass",46.09,46.09,0,"Yes",46.09,46.09,46.09,0,"Yes","U03R09",0,44,1.84,27.22,2.37,0,14.66,0,46.09,57.580500000000001,44,1.84,27.22,2.37,0,14.66,0,46.09,57.580500000000001,44,1.84,27.22,2.37,0,14.66,"",46.09,57.580500000000001,44,1.84,27.22,2.37,0,14.66,"",46.09,57.580500000000001,"U03R09",55]
["U03","R10","Zone 10","Pass",46.99,46.99,0,"Yes",46.99,46.99,46.99,0,"Yes","U03R10",0,45,2.3199999999999998,27.73,2.37,0,14.57,0,46.99,56.029699999999998,45,2.3199999999999998,27.73,2.37,0,14.57,0,46.99,56.029699999999998,45,2.3199999999999998,27.73,2.37,0,14.57,"",46.99,56.029699999999998,45,2.3199999999999998,27.73,2.37,0,14.57,"",46.99,56.029699999999998,"U03R10",56]
["U03","R11","Zone 11","Pass",73.34,73.34,0,"Yes",73.34,73.34,73.34,0,"Yes","U03R11",0,46,{"$f":"IF(Q$3=0,\"\",INDEX(INDIRECT(Q$1),$P57,Q$3))","v":11.34},44.66,2.4700000000000002,0,14.87,0,73.34,56.161799999999999,46,{"$f":"IF(Z$3=0,\"\",INDEX(INDIRECT(Z$1),$Y57,Z$3))","v":11.34},44.66,2.4700000000000002,0,14.87,0,73.34,56.161799999999999,46,{"$f":"IF(AI$3=0,\"\",INDEX(INDIRECT(AI$1),$AH57,AI$3))","v":11.34},44.66,2.4700000000000002,0,14.87,"",73.34,56.161799999999999,46,{"$f":"IF(AR$3=0,\"\",INDEX(INDIRECT(AR$1),$AQ57,AR$3))","v":11.34},44.66,2.4700000000000002,0,14.87,"",73.34,56.161799999999999,"U03R11",57]
["U03","R12","Zone 12","Pass",56.87,56.87,0,"Yes",56.87,56.87,56.87,0,"Yes","U03R12",0,47,11.15,27.7,2.4700000000000002,0,15.55,0,56.87,55.641399999999997,47,11.15,27.7,2.4700000000000002,0,15.55,0,56.87,55.641399999999997,47,11.15,27.7,2.4700000000000002,0,15.55,"",56.87,55.641399999999997,47,11.15,27.7,2.4700000000000002,0,15.55,"",56.87,55.641399999999997,"U03R12",58]
["U03","R13","Zone 13","Pass",74.84,74.84,0,"Yes",74.84,74.84,74.84,0,"Yes","U03R13",0,48,9.8000000000000007,47.98,2.4700000000000002,0,14.59,0,74.84,56.851700000000001,48,9.8000000000000007,47.98,2.4700000000000002,0,14.59,0,74.84,56.851700000000001,48,9.8000000000000007,47.98,2.4700000000000002,0,14.59,"",74.84,56.851700000000001,48,9.8000000000000007,47.98,2.4700000000000002,0,14.59,"",74.84,56.851700000000001,"U03R13",59]
["U03","R14","Zone 14","Pass",69.540000000000006,69.540000000000006,0,"Yes",69.540000000000006,69.540000000000006,69.540000000000006,0,"Yes","U03R14",0,49,11.06,40.96,2.37,0,15.15,0,69.540000000000006,56.897399999999998,49,11.06,40.96,2.37,0,15.15,0,69.540000000000006,56.897399999999998,49,11.06,40.96,2.37,0,15.15,"",69.540000000000006,56.897399999999998,49,11.06,40.96,2.37,0,15.15,"",69.540000000000006,56.897399999999998,"U03R14",60]
["U03","R15","Zone 15","Pass",105.23,105.23,0,"Yes",105.23,105.23,105.23,0,"Yes","U03R15",0,50,0.16,91.62,2.37,0,11.08,0,105.23,62.315399999999997,50,0.16,91.62,2.37,0,11.08,0,105.23,62.315399999999997,50,0.16,91.62,2.37,0,11.08,"",105.23,62.315399999999997,50,0.16,91.62,2.37,0,11.08,"",105.23,62.315399999999997,"U03R15",61]
["U03","R16","Zone 16","Pass",59.46,59.46,0,"Yes",59.46,59.46,59.46,0,"Yes","U03R16",0,51,29.56,8.98,2.36,0,18.559999999999999,0,59.46,56.9071,51,29.56,8.98,2.36,0,18.559999999999999,0,59.46,56.9071,51,29.56,8.98,2.36,0,18.559999999999999,"",59.46,56.9071,51,29.56,8.98,2.36,0,18.559999999999999,"",59.46,56.9071,"U03R16",62]
[{"$f":"\"Result \"&A46","v":"Result U03"},null,null,{"$f":"IF(SoftwareType=\"Candidate\",\"n/a\",IF(COUNTIF(D47:D62,Pass)=16,Pass,Fail))","v":"Pass"},{"$f":"AVERAGE(E47:E62)","v":48.672500000000007},{"$f":"AVERAGE(F47:F62)","v":48.672500000000007},{"$f":"IF(E63=0,0,(F63-E63)/E63)","v":0},null,{"$f":"AVERAGE(I47:I62)","v":48.673750000000005},{"$f":"AVERAGE(J47:J62)","v":48.673750000000005},{"$f":"AVERAGE(K47:K62)","v":48.673750000000005},0,"Min",{"$f":"MIN(L47:L62)","v":0},{"$f":"AVERAGE(O47:O62)","v":1.2500000000001954E-3},"Ave",{"$f":"AVERAGE(Q47:Q62)","v":7.7681250000000004},{"$f":"AVERAGE(R47:R62)","v":22.945},{"$f":"AVERAGE(S47:S62)","v":2.4293749999999998},null,{"$f":"AVERAGE(U47:U62)","v":15.530000000000003},{"$f":"AVERAGE(V47:V62)","v":0},{"$f":"AVERAGE(W47:W62)","v":48.672500000000007},{"$f":"AVERAGE(X47:X62)","v":57.201050000000002},"Ave",{"$f":"AVERAGE(Z47:Z62)","v":7.7681250000000004},{"$f":"AVERAGE(AA47:AA62)","v":22.945},{"$f":"AVERAGE(AB47:AB62)","v":2.4293749999999998},{"$f":"AVERAGE(AC47:AC62)","v":0},{"$f":"AVERAGE(AD47:AD62)","v":15.530000000000003},null,{"$f":"AVERAGE(AF47:AF62)","v":48.672500000000007},{"$f":"AVERAGE(AG47:AG62)","v":57.201050000000002},null,{"$f":"AVERAGE(AI47:AI62)","v":7.7681250000000004},{"$f":"AVERAGE(AJ47:AJ62)","v":22.946249999999999},{"$f":"AVERAGE(AK47:AK62)","v":2.4293749999999998},{"$f":"AVERAGE(AL47:AL62)","v":0},{"$f":"AVERAGE(AM47:AM62)","v":15.530000000000003},null,{"$f":"AVERAGE(AO47:AO62)","v":48.673750000000005},{"$f":"AVERAGE(AP47:AP62)","v":57.201731250000002},"Ave",{"$f":"AVERAGE(AR47:AR62)","v":7.7681250000000004},{"$f":"AVERAGE(AS47:AS62)","v":22.946249999999999},{"$f":"AVERAGE(AT47:AT62)","v":2.4293749999999998},{"$f":"AVERAGE(AU47:AU62)","v":0},{"$f":"AVERAGE(AV47:AV62)","v":15.530000000000003},null,{"$f":"AVERAGE(AX47:AX62)","v":48.673750000000005},{"$f":"AVERAGE(AY47:AY62)","v":57.201731250000002}]
[{"$nulls":11},"Ave","Max",{"$f":"MAX(L47:L62)","v":0},{"$nulls":10},"% Diff",{"$f":"(Z63-Q63)/Q63","v":0},{"$f":"(AA63-R63)/R63","v":0},{"$f":"(AB63-S63)/S63","v":0},null,{"$f":"(AD63-U63)/U63","v":0},null,{"$f":"(AF63-W63)/W63","v":0}]
["U04",{"$f":"VLOOKUP(A65,TestArray,2)&\" in \"&VLOOKUP(A65,TestArray,3)&\" for Prototype \"&VLOOKUP(A65,TestArray,4)","v":"Proposed Design in All Zones for Prototype P2100ft2"},{"$nulls":6},{"$f":"VLOOKUP(A65,TestArray,21)","v":"Standard = T01 Standard for this test"}]
[{"$f":"A65","v":"U04"},"R01",{"$f":"VLOOKUP(A66,TestArray,4+RIGHT(B66,2))","v":"Zone 01"},{"$f":"IF(AND(H66=Yes,M66=Yes),Pass,Fail)","v":"Pass"},{"$f":"IF(Units=\"EDR\",X66,W66)","v":43.64},{"$f":"IF(Units=\"EDR\",AG66,AF66)","v":43.64},{"$f":"IF(E66=0,0,(F66-E66)/E66)","v":0},{"$f":"IF(AND((E66-Tolerance<=F66),(E66+Tolerance>=F66)),Yes,No)","v":"Yes"},{"$f":"IF(Units=\"EDR\",J66,INDIRECT(RefCol&INDEX(StandardArray,MATCH($N66,StandardList,0),2)))","v":45.44},{"$f":"IF(Units=\"EDR\",AP66,AO66)","v":45.44},{"$f":"IF(Units=\"EDR\",AY66,AX66)","v":45.44},{"$f":"IF(I66=0,0,(K66-I66)/I66)","v":0},{"$f":"IF(AND((I66-Tolerance<=K66),(I66+Tolerance>=K66),(J66-Tolerance<=K66),(J66+Tolerance>=K66)),Yes,No)","v":"Yes"},{"$f":"N9","v":"U01R01"},{"$f":"K66-F66","v":1.7999999999999972},{"$f":"MATCH($A66&$B66,INDIRECT(P$2),0)","v":52},{"$f":"IF(Q$3=0,\"\",INDEX(INDIRECT(Q$1),$P66,Q$3))","v":32.200000000000003},0,1.17,0,10.27,0,{"$f":"IF(TotalSum=\"No\",INDEX(INDIRECT(W$1),$P66,W$3),SUM(Q66:V66))","v":43.64},{"$f":"IF(X$3=0,\"\",INDEX(INDIRECT(X$1),$P66,X$3))","v":56.038899999999998},{"$f":"MATCH($A66&$B66,INDIRECT(Y$2),0)","v":52},{"$f":"IF(Z$3=0,\"\",INDEX(INDIRECT(Z$1),$Y66,Z$3))","v":32.200000000000003},0,1.17,0,10.27,0,{"$f":"IF(TotalSum=\"No\",INDEX(INDIRECT(AF$1),$Y66,AF$3),SUM(Z66:AE66))","v":43.64},{"$f":"IF(AG$3=0,\"\",INDEX(INDIRECT(AG$1),$P66,AG$3))","v":56.038899999999998},{"$f":"MATCH($A66&$B66,INDIRECT(AH$2),0)","v":52},{"$f":"IF(AI$3=0,\"\",INDEX(INDIRECT(AI$1),$AH66,AI$3))","v":34},0,1.17,0,10.27,"",{"$f":"IF(TotalSum=\"No\",INDEX(INDIRECT(AO$1),$AH66,AO$3),SUM(AI66:AN66))","v":45.44},{"$f":"IF(AP$3=0,\"\",INDEX(INDIRECT(AP$1),$P66,AP$3))","v":57.255699999999997},{"$f":"MATCH($A66&$B66,INDIRECT(AQ$2),0)","v":52},{"$f":"IF(AR$3=0,\"\",INDEX(INDIRECT(AR$1),$AQ66,AR$3))","v":34},0,1.17,0,10.27,"",{"$f":"IF(TotalSum=\"No\",INDEX(INDIRECT(AX$1),$AQ66,AX$3),SUM(AR66:AW66))","v":45.44},{"$f":"IF(AY$3=0,\"\",INDEX(INDIRECT(AY$1),$P66,AY$3))","v":57.255699999999997},{"$f":"A66&B66","v":"U04R01"},{"$f":"ROW(AZ66)","v":66}]
[{"$f":"A66","v":"U04"},"R02","Zone 02","Pass",32.869999999999997,32.869999999999997,{"$f":"IF(E67=0,0,(F67-E67)/E67)","v":0},"Yes",34.520000000000003,34.520000000000003,34.520000000000003,{"$f":"IF(I67=0,0,(K67-I67)/I67)","v":0},"Yes",{"$f":"N10","v":"U01R02"},{"$f":"K67-F67","v":1.6500000000000057},53,22.42,0.02,1.17,0,9.26,0,32.869999999999997,49.472000000000001,53,22.42,0.02,1.17,0,9.26,0,32.869999999999997,49.472000000000001,53,23.73,0.36,1.17,0,9.26,"",34.520000000000003,50.6128,53,23.73,0.36,1.17,0,9.26,"",34.520000000000003,50.6128,"U04R02",67]
["U04","R03","Zone 03","Pass",22.94,22.94,0,"Yes",25.13,25.13,25.13,0,"Yes","U01R03",2.1899999999999977,54,12.49,0,1.17,0,9.2799999999999994,0,22.94,46.202100000000002,54,12.49,0,1.17,0,9.2799999999999994,0,22.94,46.202100000000002,54,14.68,0,1.17,0,9.2799999999999994,"",25.13,47.807600000000001,54,14.68,0,1.17,0,9.2799999999999994,"",25.13,47.807600000000001,"U04R03",68]
["U04","R04","Zone 04","Pass",25.67,25.67,0,"Yes",28.46,28.46,28.46,0,"Yes","U01R04",2.7899999999999991,55,15.37,0.26,1.17,0,8.8699999999999992,0,25.67,46.290599999999998,55,15.37,0.26,1.17,0,8.8699999999999992,0,25.67,46.290599999999998,55,16.82,1.6,1.17,0,8.8699999999999992,"",28.46,48.244599999999998,55,16.82,1.6,1.17,0,8.8699999999999992,"",28.46,48.244599999999998,"U04R04",69]
["U04","R05","Zone 05","Pass",20.38,20.38,0,"Yes",22.68,22.68,22.68,0,"Yes","U01R05",2.3000000000000007,56,9.73,0,1.17,0,9.48,0,20.38,42.988799999999998,56,9.73,0,1.17,0,9.48,0,20.38,42.988799999999998,56,12.03,0,1.17,0,9.48,"",22.68,44.633899999999997,56,12.03,0,1.17,0,9.48,"",22.68,44.633899999999997,"U04R05",70]
["U04","R06","Zone 06","Pass",17.82,17.82,0,"Yes",19.489999999999998,19.489999999999998,19.489999999999998,0,"Yes","U01R06",1.6699999999999982,57,6.59,1.6,1.1299999999999999,0,8.5,0,17.82,49.566099999999999,57,6.59,1.6,1.1299999999999999,0,8.5,0,17.82,49.566099999999999,57,7.7,2.16,1.1299999999999999,0,8.5,"",19.489999999999998,51.020899999999997,57,7.7,2.16,1.1299999999999999,0,8.5,"",19.489999999999998,51.020899999999997,"U04R06",71]
["U04","R07","Zone 07","Pass",11.54,11.54,0,"Yes",12.42,12.42,12.42,0,"Yes","U01R07",0.88000000000000078,58,2.09,0.08,1.17,0,8.1999999999999993,0,11.54,48.950200000000002,58,2.09,0.08,1.17,0,8.1999999999999993,0,11.54,48.950200000000002,58,2.75,0.3,1.17,0,8.1999999999999993,"",12.42,49.796500000000002,58,2.75,0.3,1.17,0,8.1999999999999993,"",12.42,49.796500000000002,"U04R07",72]
["U04","R08","Zone 08","Pass",17.52,17.52,0,"Yes",19.53,19.53,19.53,0,"Yes","U01R08",2.0100000000000016,59,3.23,5.01,1.1299999999999999,0,8.15,0,17.52,45.169499999999999,59,3.23,5.01,1.1299999999999999,0,8.15,0,17.52,45.169499999999999,59,4.03,6.22,1.1299999999999999,0,8.15,"",19.53,46.755400000000002,59,4.03,6.22,1.1299999999999999,0,8.15,"",19.53,46.755400000000002,"U04R08",73]
["U04","R09","Zone 09","Pass",28.35,28.35,0,"Yes",32.299999999999997,32.299999999999997,32.299999999999997,0,"Yes","U01R09",3.9499999999999957,60,5.21,13.87,1.1200000000000001,0,8.15,0,28.35,44.959400000000002,60,5.21,13.87,1.1200000000000001,0,8.15,0,28.35,44.959400000000002,60,6.13,16.899999999999999,1.1200000000000001,0,8.15,"",32.299999999999997,47.563800000000001,60,6.13,16.899999999999999,1.1200000000000001,0,8.15,"",32.299999999999997,47.563800000000001,"U04R09",74]
["U04","R10","Zone 10","Pass",29.04,29.04,0,"Yes",32.729999999999997,32.729999999999997,32.729999999999997,0,"Yes","U01R10",3.6899999999999977,61,6.13,13.68,1.1200000000000001,0,8.11,0,29.04,43.486699999999999,61,6.13,13.68,1.1200000000000001,0,8.11,0,29.04,43.486699999999999,61,7.23,16.27,1.1200000000000001,0,8.11,"",32.729999999999997,45.825800000000001,61,7.23,16.27,1.1200000000000001,0,8.11,"",32.729999999999997,45.825800000000001,"U04R10",75]
["U04","R11","Zone 11","Pass",58.69,58.69,0,"Yes",64.209999999999994,64.209999999999994,64.209999999999994,0,"Yes","U01R11",5.519999999999996,62,{"$f":"IF(Q$3=0,\"\",INDEX(INDIRECT(Q$1),$P76,Q$3))","v":18.71},30.53,1.17,0,8.2799999999999994,0,58.69,46.721499999999999,62,{"$f":"IF(Z$3=0,\"\",INDEX(INDIRECT(Z$1),$Y76,Z$3))","v":18.71},30.53,1.17,0,8.2799999999999994,0,58.69,46.721499999999999,62,{"$f":"IF(AI$3=0,\"\",INDEX(INDIRECT(AI$1),$AH76,AI$3))","v":20.32},34.44,1.17,0,8.2799999999999994,"",64.209999999999994,49.292999999999999,62,{"$f":"IF(AR$3=0,\"\",INDEX(INDIRECT(AR$1),$AQ76,AR$3))","v":20.32},34.44,1.17,0,8.2799999999999994,"",64.209999999999994,49.292999999999999,"U04R11",76]
["U04","R12","Zone 12","Pass",37.4,37.4,0,"Yes",41.44,41.44,41.44,0,"Yes","U01R12",4.0399999999999991,63,20.18,7.39,1.17,0,8.66,0,37.4,43.378,63,20.18,7.39,1.17,0,8.66,0,37.4,43.378,63,21.38,10.23,1.17,0,8.66,"",41.44,45.609200000000001,63,21.38,10.23,1.17,0,8.66,"",41.44,45.609200000000001,"U04R12",77]
["U04","R13","Zone 13","Pass",59.8,59.8,0,"Yes",65.47,65.47,65.47,0,"Yes","U01R13",5.6700000000000017,64,16.760000000000002,33.74,1.17,0,8.1300000000000008,0,59.8,48.242800000000003,64,16.760000000000002,33.74,1.17,0,8.1300000000000008,0,59.8,48.242800000000003,64,17.77,38.4,1.17,0,8.1300000000000008,"",65.47,50.942900000000002,64,17.77,38.4,1.17,0,8.1300000000000008,"",65.47,50.942900000000002,"U04R13",78]
["U04","R14","Zone 14","Pass",54.6,54.6,0,"Yes",61.45,61.45,61.45,0,"Yes","U01R14",6.8500000000000014,65,17.829999999999998,27.2,1.1200000000000001,0,8.4499999999999993,0,54.6,46.5929,65,17.829999999999998,27.2,1.1200000000000001,0,8.4499999999999993,0,54.6,46.5929,65,19.760000000000002,32.119999999999997,1.1200000000000001,0,8.4499999999999993,"",61.45,49.968899999999998,65,19.760000000000002,32.119999999999997,1.1200000000000001,0,8.4499999999999993,"",61.45,49.968899999999998,"U04R14",79]
["U04","R15","Zone 15","Pass",89.6,89.6,0,"Yes",96.09,96.09,96.09,0,"Yes","U01R15",6.4900000000000091,66,0.42,81.900000000000006,1.1200000000000001,0,6.16,0,89.6,53.661700000000003,66,0.42,81.900000000000006,1.1200000000000001,0,6.16,0,89.6,53.661700000000003,66,0.66,88.15,1.1200000000000001,0,6.16,"",96.09,56.3309,66,0.66,88.15,1.1200000000000001,0,6.16,"",96.09,56.3309,"U04R15",80]
["U04","R16","Zone 16","Pass",55.22,55.22,0,"Yes",58.52,58.52,58.52,0,"Yes","U01R16",3.3000000000000043,67,43.62,0.14000000000000001,1.1100000000000001,0,10.35,0,55.22,51.426400000000001,67,43.62,0.14000000000000001,1.1100000000000001,0,10.35,0,55.22,51.426400000000001,67,45.71,1.35,1.1100000000000001,0,10.35,"",58.52,53.253,67,45.71,1.35,1.1100000000000001,0,10.35,"",58.52,53.253,"U04R16",81]
[{"$f":"\"Result \"&A65","v":"Result U04"},null,null,{"$f":"IF(SoftwareType=\"Candidate\",\"n/a\",IF(COUNTIF(D66:D81,Pass)=16,Pass,Fail))","v":"Pass"},{"$f":"AVERAGE(E66:E81)","v":37.817500000000003},{"$f":"AVERAGE(F66:F81)","v":37.817500000000003},{"$f":"IF(E82=0,0,(F82-E82)/E82)","v":0},null,{"$f":"AVERAGE(I66:I81)","v":41.2425},{"$f":"AVERAGE(J66:J81)","v":41.2425},{"$f":"AVERAGE(K66:K81)","v":41.2425},0,"Min",{"$f":"MIN(L66:L81)","v":0},{"$f":"AVERAGE(O66:O81)","v":3.4250000000000003},"Ave",{"$f":"AVERAGE(Q66:Q81)","v":14.561249999999999},{"$f":"AVERAGE(R66:R81)","v":13.463749999999999},{"$f":"AVERAGE(S66:S81)","v":1.1487499999999999},null,{"$f":"AVERAGE(U66:U81)","v":8.6437500000000007},{"$f":"AVERAGE(V66:V81)","v":0},{"$f":"AVERAGE(W66:W81)","v":37.817500000000003},{"$f":"AVERAGE(X66:X81)","v":47.696725000000001},"Ave",{"$f":"AVERAGE(Z66:Z81)","v":14.561249999999999},{"$f":"AVERAGE(AA66:AA81)","v":13.463749999999999},{"$f":"AVERAGE(AB66:AB81)","v":1.1487499999999999},{"$f":"AVERAGE(AC66:AC81)","v":0},{"$f":"AVERAGE(AD66:AD81)","v":8.6437500000000007},null,{"$f":"AVERAGE(AF66:AF81)","v":37.817500000000003},{"$f":"AVERAGE(AG66:AG81)","v":47.696725000000001},null,{"$f":"AVERAGE(AI66:AI81)","v":15.918749999999999},{"$f":"AVERAGE(AJ66:AJ81)","v":15.53125},{"$f":"AVERAGE(AK66:AK81)","v":1.1487499999999999},{"$f":"AVERAGE(AL66:AL81)","v":0},{"$f":"AVERAGE(AM66:AM81)","v":8.6437500000000007},null,{"$f":"AVERAGE(AO66:AO81)","v":41.2425},{"$f":"AVERAGE(AP66:AP81)","v":49.682181249999999},"Ave",{"$f":"AVERAGE(AR66:AR81)","v":15.918749999999999},{"$f":"AVERAGE(AS66:AS81)","v":15.53125},{"$f":"AVERAGE(AT66:AT81)","v":1.1487499999999999},{"$f":"AVERAGE(AU66:AU81)","v":0},{"$f":"AVERAGE(AV66:AV81)","v":8.6437500000000007},null,{"$f":"AVERAGE(AX66:AX81)","v":41.2425},{"$f":"AVERAGE(AY66:AY81)","v":49.682181249999999}]
[null,null,"Page 3 of 7",{"$nulls":8},"Ave","Max",{"$f":"MAX(L66:L81)","v":0},{"$nulls":10},"% Diff",{"$f":"(Z82-Q82)/Q82","v":0},{"$f":"(AA82-R82)/R82","v":0},{"$f":"(AB82-S82)/S82","v":0},null,{"$f":"(AD82-U82)/U82","v":0},null,{"$f":"(AF82-W82)/W82","v":0}]
["U05",{"$f":"VLOOKUP(A84,TestArray,2)&\" in \"&VLOOKUP(A84,TestArray,3)&\" for Prototype \"&VLOOKUP(A84,TestArray,4)","v":"Proposed Design in All Zones for Prototype P2700ft2"},{"$nulls":6},{"$f":"VLOOKUP(A84,TestArray,21)","v":"Standard = T02 Standard for this test"}]
[{"$f":"A84","v":"U05"},"R01",{"$f":"VLOOKUP(A85,TestArray,4+RIGHT(B85,2))","v":"Zone 01"},{"$f":"IF(AND(H85=Yes,M85=Yes),Pass,Fail)","v":"Pass"},{"$f":"IF(Units=\"EDR\",X85,W85)","v":33.76},{"$f":"IF(Units=\"EDR\",AG85,AF85)","v":33.76},{"$f":"IF(E85=0,0,(F85-E85)/E85)","v":0},{"$f":"IF(AND((E85-Tolerance<=F85),(E85+Tolerance>=F85)),Yes,No)","v":"Yes"},{"$f":"IF(Units=\"EDR\",J85,INDIRECT(RefCol&INDEX(StandardArray,MATCH($N85,StandardList,0),2)))","v":35.67},{"$f":"IF(Units=\"EDR\",AP85,AO85)","v":35.67},{"$f":"IF(Units=\"EDR\",AY85,AX85)","v":35.67},{"$f":"IF(I85=0,0,(K85-I85)/I85)","v":0},{"$f":"IF(AND((I85-Tolerance<=K85),(I85+Tolerance>=K85),(J85-Tolerance<=K85),(J85+Tolerance>=K85)),Yes,No)","v":"Yes"},{"$f":"N28","v":"U02R01"},{"$f":"K85-F85","v":1.9100000000000037},{"$f":"MATCH($A85&$B85,INDIRECT(P$2),0)","v":68},{"$f":"IF(Q$3=0,\"\",INDEX(INDIRECT(Q$1),$P85,Q$3))","v":23.65},0,1.1499999999999999,0,8.9600000000000009,0,{"$f":"IF(TotalSum=\"No\",INDEX(INDIRECT(W$1),$P85,W$3),SUM(Q85:V85))","v":33.76},{"$f":"IF(X$3=0,\"\",INDEX(INDIRECT(X$1),$P85,X$3))","v":51.404200000000003},{"$f":"MATCH($A85&$B85,INDIRECT(Y$2),0)","v":68},{"$f":"IF(Z$3=0,\"\",INDEX(INDIRECT(Z$1),$Y85,Z$3))","v":23.65},0,1.1499999999999999,0,8.9600000000000009,0,{"$f":"IF(TotalSum=\"No\",INDEX(INDIRECT(AF$1),$Y85,AF$3),SUM(Z85:AE85))","v":33.76},{"$f":"IF(AG$3=0,\"\",INDEX(INDIRECT(AG$1),$P85,AG$3))","v":51.404200000000003},{"$f":"MATCH($A85&$B85,INDIRECT(AH$2),0)","v":68},{"$f":"IF(AI$3=0,\"\",INDEX(INDIRECT(AI$1),$AH85,AI$3))","v":25.56},0,1.1499999999999999,0,8.9600000000000009,"",{"$f":"IF(TotalSum=\"No\",INDEX(INDIRECT(AO$1),$AH85,AO$3),SUM(AI85:AN85))","v":35.67},{"$f":"IF(AP$3=0,\"\",INDEX(INDIRECT(AP$1),$P85,AP$3))","v":52.843000000000004},{"$f":"MATCH($A85&$B85,INDIRECT(AQ$2),0)","v":68},{"$f":"IF(AR$3=0,\"\",INDEX(INDIRECT(AR$1),$AQ85,AR$3))","v":25.56},0,1.1499999999999999,0,8.9600000000000009,"",{"$f":"IF(TotalSum=\"No\",INDEX(INDIRECT(AX$1),$AQ85,AX$3),SUM(AR85:AW85))","v":35.67},{"$f":"IF(AY$3=0,\"\",INDEX(INDIRECT(AY$1),$P85,AY$3))","v":52.843000000000004},{"$f":"A85&B85","v":"U05R01"},{"$f":"ROW(AZ85)","v":85}]
[{"$f":"A85","v":"U05"},"R02","Zone 02","Pass",28.59,28.59,{"$f":"IF(E86=0,0,(F86-E86)/E86)","v":0},"Yes",31.06,31.06,31.06,{"$f":"IF(I86=0,0,(K86-I86)/I86)","v":0},"Yes","U02R02",{"$f":"K86-F86","v":2.4699999999999989},69,18.989999999999998,0.38,1.1499999999999999,0,8.07,0,28.59,45.282699999999998,69,18.989999999999998,0.38,1.1499999999999999,0,8.07,0,28.59,45.282699999999998,69,20.27,1.57,1.1499999999999999,0,8.07,"",31.06,47.034999999999997,69,20.27,1.57,1.1499999999999999,0,8.07,"",31.06,47.034999999999997,"U05R02",86]
["U05","R03","Zone 03","Pass",18.260000000000002,18.260000000000002,0,"Yes",20.440000000000001,20.440000000000001,20.440000000000001,0,"Yes","U02R03",2.1799999999999997,70,9.01,0.01,1.1499999999999999,0,8.09,0,18.260000000000002,42.9694,70,9.01,0.01,1.1499999999999999,0,8.09,0,18.260000000000002,42.9694,70,11.1,0.1,1.1499999999999999,0,8.09,"",20.440000000000001,44.707900000000002,70,11.1,0.1,1.1499999999999999,0,8.09,"",20.440000000000001,44.707900000000002,"U05R03",87]
["U05","R04","Zone 04","Pass",24.13,24.13,0,"Yes",26.47,26.47,26.47,0,"Yes","U02R04",2.34,71,13.29,1.96,1.1499999999999999,0,7.73,0,24.13,43.752600000000001,71,13.29,1.96,1.1499999999999999,0,7.73,0,24.13,43.752600000000001,71,14.7,2.89,1.1499999999999999,0,7.73,"",26.47,45.471299999999999,71,14.7,2.89,1.1499999999999999,0,7.73,"",26.47,45.471299999999999,"U05R04",88]
["U05","R05","Zone 05","Pass",15.76,15.76,0,"Yes",17.940000000000001,17.940000000000001,17.940000000000001,0,"Yes","U02R05",2.1800000000000015,72,6.31,0.03,1.1499999999999999,0,8.27,0,15.76,39.842199999999998,72,6.31,0.03,1.1499999999999999,0,8.27,0,15.76,39.842199999999998,72,8.52,0,1.1499999999999999,0,8.27,"",17.940000000000001,41.549100000000003,72,8.52,0,1.1499999999999999,0,8.27,"",17.940000000000001,41.549100000000003,"U05R05",89]
["U05","R06","Zone 06","Pass",16.62,16.62,0,"Yes",18.38,18.38,18.38,0,"Yes","U02R06",1.759999999999998,73,5.77,2.34,1.1100000000000001,0,7.4,0,16.62,47.555799999999998,73,5.77,2.34,1.1100000000000001,0,7.4,0,16.62,47.555799999999998,73,6.81,3.06,1.1100000000000001,0,7.4,"",18.38,49.175199999999997,73,6.81,3.06,1.1100000000000001,0,7.4,"",18.38,49.175199999999997,"U05R06",90]
["U05","R07","Zone 07","Pass",10.43,10.43,0,"Yes",11.25,11.25,11.25,0,"Yes","U02R07",0.82000000000000028,74,1.8,0.33,1.1499999999999999,0,7.15,0,10.43,47.0124,74,1.8,0.33,1.1499999999999999,0,7.15,0,10.43,47.0124,74,2.33,0.62,1.1499999999999999,0,7.15,"",11.25,47.863799999999998,74,2.33,0.62,1.1499999999999999,0,7.15,"",11.25,47.863799999999998,"U05R07",91]
["U05","R08","Zone 08","Pass",17.920000000000002,17.920000000000002,0,"Yes",20.12,20.12,20.12,0,"Yes","U02R08",2.1999999999999993,75,3.14,6.57,1.1100000000000001,0,7.1,0,17.920000000000002,43.704099999999997,75,3.14,6.57,1.1100000000000001,0,7.1,0,17.920000000000002,43.704099999999997,75,3.87,8.0399999999999991,1.1100000000000001,0,7.1,"",20.12,45.509399999999999,75,3.87,8.0399999999999991,1.1100000000000001,0,7.1,"",20.12,45.509399999999999,"U05R08",92]
["U05","R09","Zone 09","Pass",28.83,28.83,0,"Yes",32.69,32.69,32.69,0,"Yes","U02R09",3.8599999999999994,76,5.0999999999999996,15.53,1.1000000000000001,0,7.1,0,28.83,43.036999999999999,76,5.0999999999999996,15.53,1.1000000000000001,0,7.1,0,28.83,43.036999999999999,76,5.94,18.55,1.1000000000000001,0,7.1,"",32.69,45.633200000000002,76,5.94,18.55,1.1000000000000001,0,7.1,"",32.69,45.633200000000002,"U05R09",93]
["U05","R10","Zone 10","Pass",29.51,29.51,0,"Yes",33.590000000000003,33.590000000000003,33.590000000000003,0,"Yes","U02R10",4.0800000000000018,77,5.91,15.44,1.1000000000000001,0,7.06,0,29.51,41.389699999999998,77,5.91,15.44,1.1000000000000001,0,7.06,0,29.51,41.389699999999998,77,6.93,18.5,1.1000000000000001,0,7.06,"",33.590000000000003,43.9983,77,6.93,18.5,1.1000000000000001,0,7.06,"",33.590000000000003,43.9983,"U05R10",94]
["U05","R11","Zone 11","Pass",57.16,57.16,0,"Yes",63.44,63.44,63.44,0,"Yes","U02R11",6.2800000000000011,78,{"$f":"IF(Q$3=0,\"\",INDEX(INDIRECT(Q$1),$P95,Q$3))","v":17.399999999999999},31.4,1.1499999999999999,0,7.21,0,57.16,43.970999999999997,78,{"$f":"IF(Z$3=0,\"\",INDEX(INDIRECT(Z$1),$Y95,Z$3))","v":17.399999999999999},31.4,1.1499999999999999,0,7.21,0,57.16,43.970999999999997,78,{"$f":"IF(AI$3=0,\"\",INDEX(INDIRECT(AI$1),$AH95,AI$3))","v":18.96},36.119999999999997,1.1499999999999999,0,7.21,"",63.44,46.903599999999997,78,{"$f":"IF(AR$3=0,\"\",INDEX(INDIRECT(AR$1),$AQ95,AR$3))","v":18.96},36.119999999999997,1.1499999999999999,0,7.21,"",63.44,46.903599999999997,"U05R11",95]
["U05","R12","Zone 12","Pass",37.64,37.64,0,"Yes",42.52,42.52,42.52,0,"Yes","U02R12",4.8800000000000026,79,18.190000000000001,10.76,1.1499999999999999,0,7.54,0,37.64,41.288899999999998,79,18.190000000000001,10.76,1.1499999999999999,0,7.54,0,37.64,41.288899999999998,79,19.36,14.47,1.1499999999999999,0,7.54,"",42.52,43.999099999999999,79,19.36,14.47,1.1499999999999999,0,7.54,"",42.52,43.999099999999999,"U05R12",96]
["U05","R13","Zone 13","Pass",58.34,58.34,0,"Yes",64.69,64.69,64.69,0,"Yes","U02R13",6.3499999999999943,80,16.11,34.01,1.1499999999999999,0,7.07,0,58.34,45.529499999999999,80,16.11,34.01,1.1499999999999999,0,7.07,0,58.34,45.529499999999999,80,17.11,39.36,1.1499999999999999,0,7.07,"",64.69,48.561,80,17.11,39.36,1.1499999999999999,0,7.07,"",64.69,48.561,"U05R13",97]
["U05","R14","Zone 14","Pass",53.41,53.41,0,"Yes",60.79,60.79,60.79,0,"Yes","U02R14",7.3800000000000026,81,16.440000000000001,28.53,1.1000000000000001,0,7.34,0,53.41,43.991599999999998,81,16.440000000000001,28.53,1.1000000000000001,0,7.34,0,53.41,43.991599999999998,81,18.329999999999998,34.020000000000003,1.1000000000000001,0,7.34,"",60.79,47.644500000000001,81,18.329999999999998,34.020000000000003,1.1000000000000001,0,7.34,"",60.79,47.644500000000001,"U05R14",98]
["U05","R15","Zone 15","Pass",83.44,83.44,0,"Yes",90.36,90.36,90.36,0,"Yes","U02R15",6.9200000000000017,82,1.0900000000000001,75.91,1.1000000000000001,0,5.34,0,83.44,49.838999999999999,82,1.0900000000000001,75.91,1.1000000000000001,0,5.34,0,83.44,49.838999999999999,82,1.51,82.41,1.1000000000000001,0,5.34,"",90.36,52.7196,82,1.51,82.41,1.1000000000000001,0,5.34,"",90.36,52.7196,"U05R15",99]
["U05","R16","Zone 16","Pass",51.02,51.02,0,"Yes",55.28,55.28,55.28,0,"Yes","U02R16",4.259999999999998,83,39.200000000000003,1.7,1.0900000000000001,0,9.0299999999999994,0,51.02,48.064799999999998,83,39.200000000000003,1.7,1.0900000000000001,0,9.0299999999999994,0,51.02,48.064799999999998,83,41.18,3.98,1.0900000000000001,0,9.0299999999999994,"",55.28,50.481900000000003,83,41.18,3.98,1.0900000000000001,0,9.0299999999999994,"",55.28,50.481900000000003,"U05R16",100]
[{"$f":"\"Result \"&A84","v":"Result U05"},null,null,{"$f":"IF(SoftwareType=\"Candidate\",\"n/a\",IF(COUNTIF(D85:D100,Pass)=16,Pass,Fail))","v":"Pass"},{"$f":"AVERAGE(E85:E100)","v":35.301249999999996},{"$f":"AVERAGE(F85:F100)","v":35.301249999999996},{"$f":"IF(E101=0,0,(F101-E101)/E101)","v":0},null,{"$f":"AVERAGE(I85:I100)","v":39.043124999999996},{"$f":"AVERAGE(J85:J100)","v":39.043124999999996},{"$f":"AVERAGE(K85:K100)","v":39.043124999999996},0,"Min",{"$f":"MIN(L85:L100)","v":0},{"$f":"AVERAGE(O85:O100)","v":3.7418750000000003},"Ave",{"$f":"AVERAGE(Q85:Q100)","v":12.587499999999999},{"$f":"AVERAGE(R85:R100)","v":14.056249999999999},{"$f":"AVERAGE(S85:S100)","v":1.1287499999999999},null,{"$f":"AVERAGE(U85:U100)","v":7.5287500000000005},{"$f":"AVERAGE(V85:V100)","v":0},{"$f":"AVERAGE(W85:W100)","v":35.301249999999996},{"$f":"AVERAGE(X85:X100)","v":44.914681249999994},"Ave",{"$f":"AVERAGE(Z85:Z100)","v":12.587499999999999},{"$f":"AVERAGE(AA85:AA100)","v":14.056249999999999},{"$f":"AVERAGE(AB85:AB100)","v":1.1287499999999999},{"$f":"AVERAGE(AC85:AC100)","v":0},{"$f":"AVERAGE(AD85:AD100)","v":7.5287500000000005},null,{"$f":"AVERAGE(AF85:AF100)","v":35.301249999999996},{"$f":"AVERAGE(AG85:AG100)","v":44.914681249999994},null,{"$f":"AVERAGE(AI85:AI100)","v":13.905000000000001},{"$f":"AVERAGE(AJ85:AJ100)","v":16.480625},{"$f":"AVERAGE(AK85:AK100)","v":1.1287499999999999},{"$f":"AVERAGE(AL85:AL100)","v":0},{"$f":"AVERAGE(AM85:AM100)","v":7.5287500000000005},null,{"$f":"AVERAGE(AO85:AO100)","v":39.043124999999996},{"$f":"AVERAGE(AP85:AP100)","v":47.130993750000002},"Ave",{"$f":"AVERAGE(AR85:AR100)","v":13.905000000000001},{"$f":"AVERAGE(AS85:AS100)","v":16.480625},{"$f":"AVERAGE(AT85:AT100)","v":1.1287499999999999},{"$f":"AVERAGE(AU85:AU100)","v":0},{"$f":"AVERAGE(AV85:AV100)","v":7.5287500000000005},null,{"$f":"AVERAGE(AX85:AX100)","v":39.043124999999996},{"$f":"AVERAGE(AY85:AY100)","v":47.130993750000002}]
[{"$nulls":11},"Ave","Max",{"$f":"MAX(L85:L100)","v":0},{"$nulls":10},"% Diff",{"$f":"(Z101-Q101)/Q101","v":0},{"$f":"(AA101-R101)/R101","v":0},{"$f":"(AB101-S101)/S101","v":0},null,{"$f":"(AD101-U101)/U101","v":0},null,{"$f":"(AF101-W101)/W101","v":0}]
["U06",{"$f":"VLOOKUP(A103,TestArray,2)&\" in \"&VLOOKUP(A103,TestArray,3)&\" for Prototype \"&VLOOKUP(A103,TestArray,4)","v":"Proposed Design in All Zones for Prototype P6960ft2"},{"$nulls":6},{"$f":"VLOOKUP(A103,TestArray,21)","v":"Standard = T03 Standard for this test"}]
[{"$f":"A103","v":"U06"},"R01",{"$f":"VLOOKUP(A104,TestArray,4+RIGHT(B104,2))","v":"Zone 01"},{"$f":"IF(AND(H104=Yes,M104=Yes),Pass,Fail)","v":"Pass"},{"$f":"IF(Units=\"EDR\",X104,W104)","v":37.630000000000003},{"$f":"IF(Units=\"EDR\",AG104,AF104)","v":37.630000000000003},{"$f":"IF(E104=0,0,(F104-E104)/E104)","v":0},{"$f":"IF(AND((E104-Tolerance<=F104),(E104+Tolerance>=F104)),Yes,No)","v":"Yes"},{"$f":"IF(Units=\"EDR\",J104,INDIRECT(RefCol&INDEX(StandardArray,MATCH($N104,StandardList,0),2)))","v":36.82},{"$f":"IF(Units=\"EDR\",AP104,AO104)","v":36.82},{"$f":"IF(Units=\"EDR\",AY104,AX104)","v":36.82},{"$f":"IF(I104=0,0,(K104-I104)/I104)","v":0},{"$f":"IF(AND((I104-Tolerance<=K104),(I104+Tolerance>=K104),(J104-Tolerance<=K104),(J104+Tolerance>=K104)),Yes,No)","v":"Yes"},{"$f":"N47","v":"U03R01"},{"$f":"K104-F104","v":-0.81000000000000227},{"$f":"MATCH($A104&$B104,INDIRECT(P$2),0)","v":84},{"$f":"IF(Q$3=0,\"\",INDEX(INDIRECT(Q$1),$P104,Q$3))","v":16.71},0,2.4700000000000002,0,18.45,0,{"$f":"IF(TotalSum=\"No\",INDEX(INDIRECT(W$1),$P104,W$3),SUM(Q104:V104))","v":37.630000000000003},{"$f":"IF(X$3=0,\"\",INDEX(INDIRECT(X$1),$P104,X$3))","v":58.215800000000002},{"$f":"MATCH($A104&$B104,INDIRECT(Y$2),0)","v":84},{"$f":"IF(Z$3=0,\"\",INDEX(INDIRECT(Z$1),$Y104,Z$3))","v":16.71},0,2.4700000000000002,0,18.45,0,{"$f":"IF(TotalSum=\"No\",INDEX(INDIRECT(AF$1),$Y104,AF$3),SUM(Z104:AE104))","v":37.630000000000003},{"$f":"IF(AG$3=0,\"\",INDEX(INDIRECT(AG$1),$P104,AG$3))","v":58.215800000000002},{"$f":"MATCH($A104&$B104,INDIRECT(AH$2),0)","v":84},{"$f":"IF(AI$3=0,\"\",INDEX(INDIRECT(AI$1),$AH104,AI$3))","v":15.85},0.05,2.4700000000000002,0,18.45,"",{"$f":"IF(TotalSum=\"No\",INDEX(INDIRECT(AO$1),$AH104,AO$3),SUM(AI104:AN104))","v":36.82},{"$f":"IF(AP$3=0,\"\",INDEX(INDIRECT(AP$1),$P104,AP$3))","v":57.843400000000003},{"$f":"MATCH($A104&$B104,INDIRECT(AQ$2),0)","v":84},{"$f":"IF(AR$3=0,\"\",INDEX(INDIRECT(AR$1),$AQ104,AR$3))","v":15.85},0.05,2.4700000000000002,0,18.45,"",{"$f":"IF(TotalSum=\"No\",INDEX(INDIRECT(AX$1),$AQ104,AX$3),SUM(AR104:AW104))","v":36.82},{"$f":"IF(AY$3=0,\"\",INDEX(INDIRECT(AY$1),$P104,AY$3))","v":57.843400000000003},{"$f":"A104&B104","v":"U06R01"},{"$f":"ROW(AZ104)","v":104}]
[{"$f":"A104","v":"U06"},"R02","Zone 02","Pass",35.72,35.72,{"$f":"IF(E105=0,0,(F105-E105)/E105)","v":0},"Yes",38.04,38.04,38.04,{"$f":"IF(I105=0,0,(K105-I105)/I105)","v":0},"Yes","U03R02",{"$f":"K105-F105","v":2.3200000000000003},85,11.98,4.63,2.4700000000000002,0,16.64,0,35.72,54.703899999999997,85,11.98,4.63,2.4700000000000002,0,16.64,0,35.72,54.703899999999997,85,11.56,7.37,2.4700000000000002,0,16.64,"",38.04,55.947600000000001,85,11.56,7.37,2.4700000000000002,0,16.64,"",38.04,55.947600000000001,"U06R02",105]
["U06","R03","Zone 03","Pass",25.16,25.16,0,"Yes",26.19,26.19,26.19,0,"Yes","U03R03",1.0300000000000011,86,5.28,0.74,2.4700000000000002,0,16.670000000000002,0,25.16,54.773499999999999,86,5.28,0.74,2.4700000000000002,0,16.670000000000002,0,25.16,54.773499999999999,86,5.3,1.75,2.4700000000000002,0,16.670000000000002,"",26.19,55.438600000000001,86,5.3,1.75,2.4700000000000002,0,16.670000000000002,"",26.19,55.438600000000001,"U06R03",106]
["U06","R04","Zone 04","Pass",31.55,31.55,0,"Yes",34.96,34.96,34.96,0,"Yes","U03R04",3.41,87,7.81,5.33,2.4700000000000002,0,15.94,0,31.55,52.941400000000002,87,7.81,5.33,2.4700000000000002,0,15.94,0,31.55,52.941400000000002,87,7.54,9.01,2.4700000000000002,0,15.94,"",34.96,54.755699999999997,87,7.54,9.01,2.4700000000000002,0,15.94,"",34.96,54.755699999999997,"U06R04",107]
["U06","R05","Zone 05","Pass",24.03,24.03,0,"Yes",24.89,24.89,24.89,0,"Yes","U03R05",0.85999999999999943,88,4.2300000000000004,0.28000000000000003,2.4700000000000002,0,17.05,0,24.03,53.314399999999999,88,4.2300000000000004,0.28000000000000003,2.4700000000000002,0,17.05,0,24.03,53.314399999999999,88,3.85,1.52,2.4700000000000002,0,17.05,"",24.89,53.897100000000002,88,3.85,1.52,2.4700000000000002,0,17.05,"",24.89,53.897100000000002,"U06R05",108]
["U06","R06","Zone 06","Pass",24.8,24.8,0,"Yes",26.79,26.79,26.79,0,"Yes","U03R06",1.9899999999999984,89,2.0299999999999998,5.0999999999999996,2.39,0,15.28,0,24.8,58.211300000000001,89,2.0299999999999998,5.0999999999999996,2.39,0,15.28,0,24.8,58.211300000000001,89,1.88,7.24,2.39,0,15.28,"",26.79,59.491,89,1.88,7.24,2.39,0,15.28,"",26.79,59.491,"U06R06",109]
["U06","R07","Zone 07","Pass",21.16,21.16,0,"Yes",23.64,23.64,23.64,0,"Yes","U03R07",2.4800000000000004,90,0.26,3.66,2.48,0,14.76,0,21.16,58.813299999999998,90,0.26,3.66,2.48,0,14.76,0,21.16,58.813299999999998,90,0.19,6.21,2.48,0,14.76,"",23.64,60.450099999999999,90,0.19,6.21,2.48,0,14.76,"",23.64,60.450099999999999,"U06R07",110]
["U06","R08","Zone 08","Pass",31.72,31.72,0,"Yes",35.090000000000003,35.090000000000003,35.090000000000003,0,"Yes","U03R08",3.3700000000000045,91,0.96,13.7,2.4,0,14.66,0,31.72,57.085500000000003,91,0.96,13.7,2.4,0,14.66,0,31.72,57.085500000000003,91,0.89,17.14,2.4,0,14.66,"",35.090000000000003,59.019199999999998,91,0.89,17.14,2.4,0,14.66,"",35.090000000000003,59.019199999999998,"U06R08",111]
["U06","R09","Zone 09","Pass",40.78,40.78,0,"Yes",46.09,46.09,46.09,0,"Yes","U03R09",5.3100000000000023,92,2.0099999999999998,21.74,2.37,0,14.66,0,40.78,54.895800000000001,92,2.0099999999999998,21.74,2.37,0,14.66,0,40.78,54.895800000000001,92,1.84,27.22,2.37,0,14.66,"",46.09,57.580500000000001,92,1.84,27.22,2.37,0,14.66,"",46.09,57.580500000000001,"U06R09",112]
["U06","R10","Zone 10","Pass",41.81,41.81,0,"Yes",46.99,46.99,46.99,0,"Yes","U03R10",5.18,93,2.5,22.37,2.37,0,14.57,0,41.81,53.493899999999996,93,2.5,22.37,2.37,0,14.57,0,41.81,53.493899999999996,93,2.3199999999999998,27.73,2.37,0,14.57,"",46.99,56.029699999999998,93,2.3199999999999998,27.73,2.37,0,14.57,"",46.99,56.029699999999998,"U06R10",113]
["U06","R11","Zone 11","Pass",67.28,67.28,0,"Yes",73.34,73.34,73.34,0,"Yes","U03R11",6.0600000000000023,94,{"$f":"IF(Q$3=0,\"\",INDEX(INDIRECT(Q$1),$P114,Q$3))","v":11.55},38.39,2.4700000000000002,0,14.87,0,67.28,53.8033,94,{"$f":"IF(Z$3=0,\"\",INDEX(INDIRECT(Z$1),$Y114,Z$3))","v":11.55},38.39,2.4700000000000002,0,14.87,0,67.28,53.8033,94,{"$f":"IF(AI$3=0,\"\",INDEX(INDIRECT(AI$1),$AH114,AI$3))","v":11.34},44.66,2.4700000000000002,0,14.87,"",73.34,56.161799999999999,94,{"$f":"IF(AR$3=0,\"\",INDEX(INDIRECT(AR$1),$AQ114,AR$3))","v":11.34},44.66,2.4700000000000002,0,14.87,"",73.34,56.161799999999999,"U06R11",114]
["U06","R12","Zone 12","Pass",51.03,51.03,0,"Yes",56.87,56.87,56.87,0,"Yes","U03R12",5.8399999999999963,95,11.39,21.62,2.4700000000000002,0,15.55,0,51.03,53.087000000000003,95,11.39,21.62,2.4700000000000002,0,15.55,0,51.03,53.087000000000003,95,11.15,27.7,2.4700000000000002,0,15.55,"",56.87,55.641399999999997,95,11.15,27.7,2.4700000000000002,0,15.55,"",56.87,55.641399999999997,"U06R12",115]
["U06","R13","Zone 13","Pass",67.849999999999994,67.849999999999994,0,"Yes",74.84,74.84,74.84,0,"Yes","U03R13",6.9900000000000091,96,9.98,40.81,2.4700000000000002,0,14.59,0,67.849999999999994,54.122999999999998,96,9.98,40.81,2.4700000000000002,0,14.59,0,67.849999999999994,54.122999999999998,96,9.8000000000000007,47.98,2.4700000000000002,0,14.59,"",74.84,56.851700000000001,96,9.8000000000000007,47.98,2.4700000000000002,0,14.59,"",74.84,56.851700000000001,"U06R13",116]
["U06","R14","Zone 14","Pass",63.25,63.25,0,"Yes",69.540000000000006,69.540000000000006,69.540000000000006,0,"Yes","U03R14",6.2900000000000063,97,11.61,34.119999999999997,2.37,0,15.15,0,63.25,54.2896,97,11.61,34.119999999999997,2.37,0,15.15,0,63.25,54.2896,97,11.06,40.96,2.37,0,15.15,"",69.540000000000006,56.897399999999998,97,11.06,40.96,2.37,0,15.15,"",69.540000000000006,56.897399999999998,"U06R14",117]
["U06","R15","Zone 15","Pass",96.48,96.48,0,"Yes",105.23,105.23,105.23,0,"Yes","U03R15",8.75,98,0.18,82.85,2.37,0,11.08,0,96.48,59.185400000000001,98,0.18,82.85,2.37,0,11.08,0,96.48,59.185400000000001,98,0.16,91.62,2.37,0,11.08,"",105.23,62.315399999999997,98,0.16,91.62,2.37,0,11.08,"",105.23,62.315399999999997,"U06R15",118]
["U06","R16","Zone 16","Pass",56.57,56.57,0,"Yes",59.46,59.46,59.46,0,"Yes","U03R16",2.8900000000000006,99,30.46,5.19,2.36,0,18.559999999999999,0,56.57,55.578099999999999,99,30.46,5.19,2.36,0,18.559999999999999,0,56.57,55.578099999999999,99,29.56,8.98,2.36,0,18.559999999999999,"",59.46,56.9071,99,29.56,8.98,2.36,0,18.559999999999999,"",59.46,56.9071,"U06R16",119]
[{"$f":"\"Result \"&A103","v":"Result U06"},null,null,{"$f":"IF(SoftwareType=\"Candidate\",\"n/a\",IF(COUNTIF(D104:D119,Pass)=16,Pass,Fail))","v":"Pass"},{"$f":"AVERAGE(E104:E119)","v":44.801250000000003},{"$f":"AVERAGE(F104:F119)","v":44.801250000000003},{"$f":"IF(E120=0,0,(F120-E120)/E120)","v":0},null,{"$f":"AVERAGE(I104:I119)","v":48.673750000000005},{"$f":"AVERAGE(J104:J119)","v":48.673750000000005},{"$f":"AVERAGE(K104:K119)","v":48.673750000000005},0,"Min",{"$f":"MIN(L104:L119)","v":0},{"$f":"AVERAGE(O104:O119)","v":3.8725000000000014},"Ave",{"$f":"AVERAGE(Q104:Q119)","v":8.0587500000000016},{"$f":"AVERAGE(R104:R119)","v":18.783125000000002},{"$f":"AVERAGE(S104:S119)","v":2.4293749999999998},null,{"$f":"AVERAGE(U104:U119)","v":15.530000000000003},{"$f":"AVERAGE(V104:V119)","v":0},{"$f":"AVERAGE(W104:W119)","v":44.801250000000003},{"$f":"AVERAGE(X104:X119)","v":55.407199999999989},"Ave",{"$f":"AVERAGE(Z104:Z119)","v":8.0587500000000016},{"$f":"AVERAGE(AA104:AA119)","v":18.783125000000002},{"$f":"AVERAGE(AB104:AB119)","v":2.4293749999999998},{"$f":"AVERAGE(AC104:AC119)","v":0},{"$f":"AVERAGE(AD104:AD119)","v":15.530000000000003},null,{"$f":"AVERAGE(AF104:AF119)","v":44.801250000000003},{"$f":"AVERAGE(AG104:AG119)","v":55.407199999999989},null,{"$f":"AVERAGE(AI104:AI119)","v":7.7681250000000004},{"$f":"AVERAGE(AJ104:AJ119)","v":22.946249999999999},{"$f":"AVERAGE(AK104:AK119)","v":2.4293749999999998},{"$f":"AVERAGE(AL104:AL119)","v":0},{"$f":"AVERAGE(AM104:AM119)","v":15.530000000000003},null,{"$f":"AVERAGE(AO104:AO119)","v":48.673750000000005},{"$f":"AVERAGE(AP104:AP119)","v":57.201731250000002},"Ave",{"$f":"AVERAGE(AR104:AR119)","v":7.7681250000000004},{"$f":"AVERAGE(AS104:AS119)","v":22.946249999999999},{"$f":"AVERAGE(AT104:AT119)","v":2.4293749999999998},{"$f":"AVERAGE(AU104:AU119)","v":0},{"$f":"AVERAGE(AV104:AV119)","v":15.530000000000003},null,{"$f":"AVERAGE(AX104:AX119)","v":48.673750000000005},{"$f":"AVERAGE(AY104:AY119)","v":57.201731250000002}]
[null,null,"Page 4 of 7",{"$nulls":8},"Ave","Max",{"$f":"MAX(L104:L119)","v":0},{"$nulls":10},"% Diff",{"$f":"(Z120-Q120)/Q120","v":0},{"$f":"(AA120-R120)/R120","v":0},{"$f":"(AB120-S120)/S120","v":0},null,{"$f":"(AD120-U120)/U120","v":0},null,{"$f":"(AF120-W120)/W120","v":0}]
["U07",{"$f":"VLOOKUP(A122,TestArray,2)&\" in \"&VLOOKUP(A122,TestArray,3)&\" for Prototype \"&VLOOKUP(A122,TestArray,4)","v":"Common Measures in Zone 12 for Prototype P2100ft2"},{"$nulls":6},{"$f":"VLOOKUP(A122,TestArray,21)","v":"Standard = T01 Standard for this test"}]
[{"$f":"A122","v":"U07"},"R01",{"$f":"VLOOKUP(A123,TestArray,4+RIGHT(B123,2))","v":"Package"},{"$f":"IF(AND(H123=Yes,M123=Yes),Pass,Fail)","v":"Pass"},{"$f":"IF(Units=\"EDR\",X123,W123)","v":37.4},{"$f":"IF(Units=\"EDR\",AG123,AF123)","v":37.4},{"$f":"IF(E123=0,0,(F123-E123)/E123)","v":0},{"$f":"IF(AND((E123-Tolerance<=F123),(E123+Tolerance>=F123)),Yes,No)","v":"Yes"},{"$f":"IF(Units=\"EDR\",J123,INDIRECT(RefCol&INDEX(StandardArray,MATCH($N123,StandardList,0),2)))","v":41.44},{"$f":"IF(Units=\"EDR\",AP123,AO123)","v":41.44},{"$f":"IF(Units=\"EDR\",AY123,AX123)","v":41.44},{"$f":"IF(I123=0,0,(K123-I123)/I123)","v":0},{"$f":"IF(AND((I123-Tolerance<=K123),(I123+Tolerance>=K123),(J123-Tolerance<=K123),(J123+Tolerance>=K123)),Yes,No)","v":"Yes"},"U01R12",{"$f":"K123-F123","v":4.0399999999999991},{"$f":"MATCH($A123&$B123,INDIRECT(P$2),0)","v":100},{"$f":"IF(Q$3=0,\"\",INDEX(INDIRECT(Q$1),$P123,Q$3))","v":20.18},7.39,1.17,0,8.66,0,{"$f":"IF(TotalSum=\"No\",INDEX(INDIRECT(W$1),$P123,W$3),SUM(Q123:V123))","v":37.4},{"$f":"IF(X$3=0,\"\",INDEX(INDIRECT(X$1),$P123,X$3))","v":43.378},{"$f":"MATCH($A123&$B123,INDIRECT(Y$2),0)","v":100},{"$f":"IF(Z$3=0,\"\",INDEX(INDIRECT(Z$1),$Y123,Z$3))","v":20.18},7.39,1.17,0,8.66,0,{"$f":"IF(TotalSum=\"No\",INDEX(INDIRECT(AF$1),$Y123,AF$3),SUM(Z123:AE123))","v":37.4},{"$f":"IF(AG$3=0,\"\",INDEX(INDIRECT(AG$1),$P123,AG$3))","v":43.378},{"$f":"MATCH($A123&$B123,INDIRECT(AH$2),0)","v":100},{"$f":"IF(AI$3=0,\"\",INDEX(INDIRECT(AI$1),$AH123,AI$3))","v":21.38},10.23,1.17,0,8.66,"",{"$f":"IF(TotalSum=\"No\",INDEX(INDIRECT(AO$1),$AH123,AO$3),SUM(AI123:AN123))","v":41.44},{"$f":"IF(AP$3=0,\"\",INDEX(INDIRECT(AP$1),$P123,AP$3))","v":45.609200000000001},{"$f":"MATCH($A123&$B123,INDIRECT(AQ$2),0)","v":100},{"$f":"IF(AR$3=0,\"\",INDEX(INDIRECT(AR$1),$AQ123,AR$3))","v":21.38},10.23,1.17,0,8.66,"",{"$f":"IF(TotalSum=\"No\",INDEX(INDIRECT(AX$1),$AQ123,AX$3),SUM(AR123:AW123))","v":41.44},{"$f":"IF(AY$3=0,\"\",INDEX(INDIRECT(AY$1),$P123,AY$3))","v":45.609200000000001},{"$f":"A123&B123","v":"U07R01"},{"$f":"ROW(AZ123)","v":123}]
[{"$f":"A123","v":"U07"},"R02","Fenestration U 0.40/S 0.40","Pass",42.89,42.89,0,"Yes",41.44,41.44,41.44,0,"Yes",{"$f":"N123","v":"U01R12"},-1.4500000000000028,101,18.510000000000002,14.55,1.17,0,8.66,0,42.89,46.398299999999999,101,18.510000000000002,14.55,1.17,0,8.66,0,42.89,46.398299999999999,101,21.38,10.23,1.17,0,8.66,"",41.44,45.609200000000001,101,21.38,10.23,1.17,0,8.66,"",41.44,45.609200000000001,"U07R02",124]
["U07","R03","Wall R13/Roof Deck Above R6","Pass",36.47,36.47,0,"Yes",41.44,41.44,41.44,0,"Yes",{"$f":"N124","v":"U01R12"},4.9699999999999989,102,20.58,6.06,1.17,0,8.66,0,36.47,42.866500000000002,102,20.58,6.06,1.17,0,8.66,0,36.47,42.866500000000002,102,21.38,10.23,1.17,0,8.66,"",41.44,45.609200000000001,102,21.38,10.23,1.17,0,8.66,"",41.44,45.609200000000001,"U07R03",125]
["U07","R04","Ceiling R49 /Roof Deck Below R0/Radiant Barrier","Pass",41.68,41.68,0,"Yes",41.44,41.44,41.44,0,"Yes","U01R12",-0.24000000000000199,103,21.64,10.210000000000001,1.17,0,8.66,0,41.68,45.712600000000002,103,21.64,10.210000000000001,1.17,0,8.66,0,41.68,45.712600000000002,103,21.38,10.23,1.17,0,8.66,"",41.44,45.609200000000001,103,21.38,10.23,1.17,0,8.66,"",41.44,45.609200000000001,"U07R04",126]
["U07","R05","Furnace AFUE 92","Pass",34.58,34.58,0,"Yes",41.44,41.44,41.44,0,"Yes","U01R12",6.8599999999999994,104,17.36,7.39,1.17,0,8.66,0,34.58,41.843400000000003,104,17.36,7.39,1.17,0,8.66,0,34.58,41.843400000000003,104,21.38,10.23,1.17,0,8.66,"",41.44,45.609200000000001,104,21.38,10.23,1.17,0,8.66,"",41.44,45.609200000000001,"U07R05",127]
["U07","R06","Air Conditioner SEER 16/EER 14","Pass",36.39,36.39,0,"Yes",41.44,41.44,41.44,0,"Yes","U01R12",5.0499999999999972,105,20.18,6.38,1.17,0,8.66,0,36.39,42.828400000000002,105,20.18,6.38,1.17,0,8.66,0,36.39,42.828400000000002,105,21.38,10.23,1.17,0,8.66,"",41.44,45.609200000000001,105,21.38,10.23,1.17,0,8.66,"",41.44,45.609200000000001,"U07R06",128]
["U07","R07","No Cool Vent","Pass",41.84,41.84,0,"Yes",41.44,41.44,41.44,0,"Yes","U01R12",-0.40000000000000568,106,20.2,11.81,1.17,0,8.66,0,41.84,45.816000000000003,106,20.2,11.81,1.17,0,8.66,0,41.84,45.816000000000003,106,21.38,10.23,1.17,0,8.66,"",41.44,45.609200000000001,106,21.38,10.23,1.17,0,8.66,"",41.44,45.609200000000001,"U07R07",129]
["U07","R08","Ducts 2% Leakage","Pass",36.82,36.82,0,"Yes",41.44,41.44,41.44,0,"Yes","U01R12",4.6199999999999974,107,19.78,7.21,1.17,0,8.66,0,36.82,43.062399999999997,107,19.78,7.21,1.17,0,8.66,0,36.82,43.062399999999997,107,21.38,10.23,1.17,0,8.66,"",41.44,45.609200000000001,107,21.38,10.23,1.17,0,8.66,"",41.44,45.609200000000001,"U07R08",130]
["U07","R09","Insulation Construction Quality Improved","Pass",33.03,33.03,0,"Yes",41.44,41.44,41.44,0,"Yes","U01R12",8.4099999999999966,108,17.63,5.57,1.17,0,8.66,0,33.03,40.994399999999999,108,17.63,5.57,1.17,0,8.66,0,33.03,40.994399999999999,108,21.38,10.23,1.17,0,8.66,"",41.44,45.609200000000001,108,21.38,10.23,1.17,0,8.66,"",41.44,45.609200000000001,"U07R09",131]
["U07","R10","Air Leakage ACH50 2.0","Pass",35.86,35.86,0,"Yes",41.44,41.44,41.44,0,"Yes","U01R12",5.5799999999999983,109,19.510000000000002,6.52,1.17,0,8.66,0,35.86,42.539900000000003,109,19.510000000000002,6.52,1.17,0,8.66,0,35.86,42.539900000000003,109,21.38,10.23,1.17,0,8.66,"",41.44,45.609200000000001,109,21.38,10.23,1.17,0,8.66,"",41.44,45.609200000000001,"U07R10",132]
[{"$f":"\"Result \"&A122","v":"Result U07"},null,null,{"$f":"IF(COUNTIF(D123:D132,Pass)=10,Pass,Fail)","v":"Pass"},{"$f":"AVERAGE(E123:E132)","v":37.696000000000005},{"$f":"AVERAGE(F123:F132)","v":37.696000000000005},{"$f":"IF(E133=0,0,(F133-E133)/E133)","v":0},null,{"$f":"AVERAGE(I123:I132)","v":41.44},{"$f":"AVERAGE(J123:J132)","v":41.44},{"$f":"AVERAGE(K123:K132)","v":41.44},0,"Min",{"$f":"MIN(L123:L132)","v":0},{"$f":"AVERAGE(O123:O132)","v":3.7439999999999976},"Ave",{"$f":"AVERAGE(Q123:Q132)","v":19.556999999999995},{"$f":"AVERAGE(R123:R132)","v":8.3089999999999993},{"$f":"AVERAGE(S123:S132)","v":1.17},null,{"$f":"AVERAGE(U123:U132)","v":8.6599999999999984},{"$f":"AVERAGE(V123:V132)","v":0},{"$f":"AVERAGE(W123:W132)","v":37.696000000000005},{"$f":"AVERAGE(X117:X132)","v":47.135728571428579},"Ave",{"$f":"AVERAGE(Z123:Z132)","v":19.556999999999995},{"$f":"AVERAGE(AA123:AA132)","v":8.3089999999999993},{"$f":"AVERAGE(AB123:AB132)","v":1.17},{"$f":"AVERAGE(AC123:AC132)","v":0},{"$f":"AVERAGE(AD123:AD132)","v":8.6599999999999984},null,{"$f":"AVERAGE(AF123:AF132)","v":37.696000000000005},{"$f":"AVERAGE(AG117:AG132)","v":47.135728571428579},null,{"$f":"AVERAGE(AI123:AI132)","v":21.38},{"$f":"AVERAGE(AJ123:AJ132)","v":10.230000000000002},{"$f":"AVERAGE(AK123:AK132)","v":1.17},{"$f":"AVERAGE(AL123:AL132)","v":0},{"$f":"AVERAGE(AM123:AM132)","v":8.6599999999999984},null,{"$f":"AVERAGE(AO123:AO132)","v":41.44},{"$f":"AVERAGE(AP117:AP132)","v":49.24383080357142},null,{"$f":"AVERAGE(AR123:AR132)","v":21.38},{"$f":"AVERAGE(AS123:AS132)","v":10.230000000000002},{"$f":"AVERAGE(AT123:AT132)","v":1.17},{"$f":"AVERAGE(AU123:AU132)","v":0},{"$f":"AVERAGE(AV123:AV132)","v":8.6599999999999984},null,{"$f":"AVERAGE(AX123:AX132)","v":41.44},{"$f":"AVERAGE(AY117:AY132)","v":49.24383080357142}]
[{"$nulls":11},"Ave","Max",{"$f":"MAX(L123:L132)","v":0},{"$nulls":10},"% Diff",{"$f":"(Z133-Q133)/Q133","v":0},{"$f":"(AA133-R133)/R133","v":0},{"$f":"(AB133-S133)/S133","v":0},null,{"$f":"(AD133-U133)/U133","v":0},null,{"$f":"(AF133-W133)/W133","v":0}]
["U08",{"$f":"VLOOKUP(A135,TestArray,2)&\" in \"&VLOOKUP(A135,TestArray,3)&\" for Prototype \"&VLOOKUP(A135,TestArray,4)","v":"Water Heating in Zone 12 for Prototype P2100ft2"},{"$nulls":6},{"$f":"VLOOKUP(A135,TestArray,21)","v":"Standard = T01 Standard for this test"}]
[{"$f":"A135","v":"U08"},"R01",{"$f":"VLOOKUP(A136,TestArray,4+RIGHT(B136,2))","v":"Package"},{"$f":"IF(AND(H136=Yes,M136=Yes),Pass,Fail)","v":"Pass"},{"$f":"IF(Units=\"EDR\",X136,W136)","v":37.4},{"$f":"IF(Units=\"EDR\",AG136,AF136)","v":37.4},{"$f":"IF(E136=0,0,(F136-E136)/E136)","v":0},{"$f":"IF(AND((E136-Tolerance<=F136),(E136+Tolerance>=F136)),Yes,No)","v":"Yes"},{"$f":"IF(Units=\"EDR\",J136,INDIRECT(RefCol&INDEX(StandardArray,MATCH($N136,StandardList,0),2)))","v":41.44},{"$f":"IF(Units=\"EDR\",AP136,AO136)","v":41.44},{"$f":"IF(Units=\"EDR\",AY136,AX136)","v":41.44},{"$f":"IF(I136=0,0,(K136-I136)/I136)","v":0},{"$f":"IF(AND((I136-Tolerance<=K136),(I136+Tolerance>=K136),(J136-Tolerance<=K136),(J136+Tolerance>=K136)),Yes,No)","v":"Yes"},"U01R12",{"$f":"K136-F136","v":4.0399999999999991},{"$f":"MATCH($A136&$B136,INDIRECT(P$2),0)","v":110},{"$f":"IF(Q$3=0,\"\",INDEX(INDIRECT(Q$1),$P136,Q$3))","v":20.18},7.39,1.17,0,8.66,0,{"$f":"IF(TotalSum=\"No\",INDEX(INDIRECT(W$1),$P136,W$3),SUM(Q136:V136))","v":37.4},{"$f":"IF(X$3=0,\"\",INDEX(INDIRECT(X$1),$P136,X$3))","v":43.378},{"$f":"MATCH($A136&$B136,INDIRECT(Y$2),0)","v":110},{"$f":"IF(Z$3=0,\"\",INDEX(INDIRECT(Z$1),$Y136,Z$3))","v":20.18},7.39,1.17,0,8.66,0,{"$f":"IF(TotalSum=\"No\",INDEX(INDIRECT(AF$1),$Y136,AF$3),SUM(Z136:AE136))","v":37.4},{"$f":"IF(AG$3=0,\"\",INDEX(INDIRECT(AG$1),$P136,AG$3))","v":43.378},{"$f":"MATCH($A136&$B136,INDIRECT(AH$2),0)","v":110},{"$f":"IF(AI$3=0,\"\",INDEX(INDIRECT(AI$1),$AH136,AI$3))","v":21.38},10.23,1.17,0,8.66,null,{"$f":"IF(TotalSum=\"No\",INDEX(INDIRECT(AO$1),$AH136,AO$3),SUM(AI136:AN136))","v":41.44},{"$f":"IF(AP$3=0,\"\",INDEX(INDIRECT(AP$1),$P136,AP$3))","v":45.609200000000001},{"$f":"MATCH($A136&$B136,INDIRECT(AQ$2),0)","v":110},{"$f":"IF(AR$3=0,\"\",INDEX(INDIRECT(AR$1),$AQ136,AR$3))","v":21.38},10.23,1.17,0,8.66,"",{"$f":"IF(TotalSum=\"No\",INDEX(INDIRECT(AX$1),$AQ136,AX$3),SUM(AR136:AW136))","v":41.44},{"$f":"IF(AY$3=0,\"\",INDEX(INDIRECT(AY$1),$P136,AY$3))","v":45.609200000000001},{"$f":"A136&B136","v":"U08R01"},{"$f":"ROW(AZ136)","v":136}]
[{"$f":"A136","v":"U08"},"R02","Parallel Piping","Pass",37.46,37.46,0,"Yes",41.44,41.44,41.44,0,"Yes",{"$f":"N136","v":"U01R12"},3.9799999999999969,111,20.18,7.39,1.17,0,8.7200000000000006,0,37.46,43.410600000000002,111,20.18,7.39,1.17,0,8.7200000000000006,0,37.46,43.410600000000002,111,21.38,10.23,1.17,0,8.66,null,41.44,45.609200000000001,111,21.38,10.23,1.17,0,8.66,"",41.44,45.609200000000001,"U08R02",137]
["U08","R03","Small Tankless EF 0.80/Input 195000/0 gal","Pass",37.619999999999997,37.619999999999997,0,"Yes",41.44,41.44,41.44,0,"Yes",{"$f":"N137","v":"U01R12"},3.8200000000000003,112,20.18,7.39,1.17,0,8.8800000000000008,0,37.619999999999997,43.497700000000002,112,20.18,7.39,1.17,0,8.8800000000000008,0,37.619999999999997,43.497700000000002,112,21.38,10.23,1.17,0,8.66,null,41.44,45.609200000000001,112,21.38,10.23,1.17,0,8.66,"",41.44,45.609200000000001,"U08R03",138]
["U08","R04","Large Tankless RE 0.76/Input 300000/0 gal","Pass",38.08,38.08,0,"Yes",41.44,41.44,41.44,0,"Yes","U01R12",3.3599999999999994,113,20.18,7.39,1.17,0,9.34,0,38.08,43.748100000000001,113,20.18,7.39,1.17,0,9.34,0,38.08,43.748100000000001,113,21.38,10.23,1.17,0,8.66,null,41.44,45.609200000000001,113,21.38,10.23,1.17,0,8.66,"",41.44,45.609200000000001,"U08R04",139]
["U08","R05","Large Storage RE 0.77/Input 100000/75gal/Stby 0.01","Pass",40.21,40.21,0,"Yes",41.44,41.44,41.44,0,"Yes","U01R12",1.2299999999999969,114,20.18,7.39,1.17,0,11.47,0,40.21,44.907200000000003,114,20.18,7.39,1.17,0,11.47,0,40.21,44.907200000000003,114,21.38,10.23,1.17,0,8.66,null,41.44,45.609200000000001,114,21.38,10.23,1.17,0,8.66,"",41.44,45.609200000000001,"U08R05",140]
["U08","R06","Large Storage RE 0.77/Input 100000/75gal/Stby 0.03","Pass",46.17,46.17,0,"Yes",41.44,41.44,41.44,0,"Yes","U01R12",-4.730000000000004,115,20.18,7.39,1.17,0,17.43,0,46.17,48.150599999999997,115,20.18,7.39,1.17,0,17.43,0,46.17,48.150599999999997,115,21.38,10.23,1.17,0,8.66,null,41.44,45.609200000000001,115,21.38,10.23,1.17,0,8.66,"",41.44,45.609200000000001,"U08R06",141]
["U08","R07","Electric Resistance EF 0.92/Input 4500","Pass",58.35,58.35,0,"Yes",41.44,41.44,41.44,0,"Yes","U01R12",-16.910000000000004,116,20.18,7.39,1.17,0,29.61,0,58.35,55.628700000000002,116,20.18,7.39,1.17,0,29.61,0,58.35,55.628700000000002,116,21.38,10.23,1.17,0,8.66,null,41.44,46.316699999999997,116,21.38,10.23,1.17,0,8.66,"",41.44,46.316699999999997,"U08R07",142]
["U08","R08","Heat Pump EF 2.4/Input 4500","Pass",39.83,39.83,0,"Yes",41.44,41.44,41.44,0,"Yes","U01R12",1.6099999999999994,117,20.399999999999999,7.2,1.17,0,11.06,0,39.83,45.360599999999998,117,20.399999999999999,7.2,1.17,0,11.06,0,39.83,45.360599999999998,117,21.38,10.23,1.17,0,8.66,null,41.44,46.316699999999997,117,21.38,10.23,1.17,0,8.66,"",41.44,46.316699999999997,"U08R08",143]
["U08","R09","2 Water Heaters using Multiplier","Pass",37.4,37.4,0,"Yes",41.44,41.44,41.44,0,"Yes","U01R12",4.0399999999999991,118,20.18,7.39,1.17,0,8.66,0,37.4,43.378,118,20.18,7.39,1.17,0,8.66,0,37.4,43.378,118,21.38,10.23,1.17,0,8.66,null,41.44,45.609200000000001,118,21.38,10.23,1.17,0,8.66,"",41.44,45.609200000000001,"U08R09",144]
["U08","R10","2 Water Heaters Using 2 entries","Pass",37.4,37.4,0,"Yes",41.44,41.44,41.44,0,"Yes","U01R12",4.0399999999999991,119,20.18,7.39,1.17,0,8.66,0,37.4,43.378,119,20.18,7.39,1.17,0,8.66,0,37.4,43.378,119,21.38,10.23,1.17,0,8.66,null,41.44,45.609200000000001,119,21.38,10.23,1.17,0,8.66,"",41.44,45.609200000000001,"U08R10",145]
[{"$f":"\"Result \"&A135","v":"Result U08"},null,null,{"$f":"IF(COUNTIF(D136:D145,Pass)=10,Pass,Fail)","v":"Pass"},{"$f":"AVERAGE(E136:E145)","v":40.991999999999997},{"$f":"AVERAGE(F136:F145)","v":40.991999999999997},{"$f":"IF(E146=0,0,(F146-E146)/E146)","v":0},null,{"$f":"AVERAGE(I136:I145)","v":41.44},{"$f":"AVERAGE(J136:J145)","v":41.44},{"$f":"AVERAGE(K136:K145)","v":41.44},0,"Min",{"$f":"MIN(L136:L145)","v":0},{"$f":"AVERAGE(O136:O145)","v":0.44799999999999829},"Ave",{"$f":"AVERAGE(Q136:Q145)","v":20.202000000000005},{"$f":"AVERAGE(R136:R145)","v":7.3709999999999996},{"$f":"AVERAGE(S136:S145)","v":1.17},null,{"$f":"AVERAGE(U136:U145)","v":12.248999999999999},{"$f":"AVERAGE(V136:V145)","v":0},{"$f":"AVERAGE(W136:W145)","v":40.991999999999997},{"$f":"AVERAGE(X130:X145)","v":44.897852040816339},"Ave",{"$f":"AVERAGE(Z136:Z145)","v":20.202000000000005},{"$f":"AVERAGE(AA136:AA145)","v":7.3709999999999996},{"$f":"AVERAGE(AB136:AB145)","v":1.17},{"$f":"AVERAGE(AC136:AC145)","v":0},{"$f":"AVERAGE(AD136:AD145)","v":12.248999999999999},null,{"$f":"AVERAGE(AF136:AF145)","v":40.991999999999997},{"$f":"AVERAGE(AG130:AG145)","v":44.897852040816339},null,{"$f":"AVERAGE(AI136:AI145)","v":21.38},{"$f":"AVERAGE(AJ136:AJ145)","v":10.230000000000002},{"$f":"AVERAGE(AK136:AK145)","v":1.17},{"$f":"AVERAGE(AL136:AL145)","v":0},{"$f":"AVERAGE(AM136:AM145)","v":8.6599999999999984},null,{"$f":"AVERAGE(AO136:AO145)","v":41.44},{"$f":"AVERAGE(AP130:AP145)","v":45.969887914540813},null,{"$f":"AVERAGE(AR136:AR145)","v":21.38},{"$f":"AVERAGE(AS136:AS145)","v":10.230000000000002},{"$f":"AVERAGE(AT136:AT145)","v":1.17},{"$f":"AVERAGE(AU136:AU145)","v":0},{"$f":"AVERAGE(AV136:AV145)","v":8.6599999999999984},null,{"$f":"AVERAGE(AX136:AX145)","v":41.44},{"$f":"AVERAGE(AY130:AY145)","v":45.969887914540813}]
[{"$nulls":11},"Ave","Max",{"$f":"MAX(L136:L145)","v":0},{"$nulls":10},"% Diff",{"$f":"(Z146-Q146)/Q146","v":0},{"$f":"(AA146-R146)/R146","v":0},{"$f":"(AB146-S146)/S146","v":0},null,{"$f":"(AD146-U146)/U146","v":0},null,{"$f":"(AF146-W146)/W146","v":0}]
["U09",{"$f":"VLOOKUP(A148,TestArray,2)&\" in \"&VLOOKUP(A148,TestArray,3)&\" for Prototype \"&VLOOKUP(A148,TestArray,4)","v":"Multiple Orientation in Zone 12 for Prototype S2100ft2/P2100ft2"},{"$nulls":6},{"$f":"VLOOKUP(A148,TestArray,21)","v":"Standard = T01 Standard for this test"}]
[{"$f":"A148","v":"U09"},"R01",{"$f":"VLOOKUP(A149,TestArray,4+RIGHT(B149,2))","v":"Single Standard Front 45"},{"$f":"IF(SoftwareType=\"Candidate\",\"n/a\",IF(AND(H149=Yes,M149=Yes),Pass,Fail))","v":"Pass"},{"$f":"IF(Units=\"EDR\",X149,W149)","v":42.65},{"$f":"IF(Units=\"EDR\",AG149,AF149)","v":42.65},{"$f":"IF(E149=0,0,(F149-E149)/E149)","v":0},{"$f":"IF(AND((E149-Tolerance<=F149),(E149+Tolerance>=F149)),Yes,No)","v":"Yes"},{"$f":"IF(Units=\"EDR\",J149,INDIRECT(RefCol&INDEX(StandardArray,MATCH($N149,StandardList,0),2)))","v":41.44},{"$f":"IF(Units=\"EDR\",AP149,AO149)","v":41.44},{"$f":"IF(Units=\"EDR\",AY149,AX149)","v":41.44},{"$f":"IF(I149=0,0,(K149-I149)/I149)","v":0},{"$f":"IF(AND((I149-Tolerance<=K149),(I149+Tolerance>=K149),(J149-Tolerance<=K149),(J149+Tolerance>=K149)),Yes,No)","v":"Yes"},"U01R12",{"$f":"K149-F149","v":-1.2100000000000009},{"$f":"MATCH($A149&$B149,INDIRECT(P$2),0)","v":120},{"$f":"IF(Q$3=0,\"\",INDEX(INDIRECT(Q$1),$P149,Q$3))","v":21.59},11.23,1.17,0,8.66,0,{"$f":"IF(TotalSum=\"No\",INDEX(INDIRECT(W$1),$P149,W$3),SUM(Q149:V149))","v":42.65},{"$f":"IF(X$3=0,\"\",INDEX(INDIRECT(X$1),$P149,X$3))","v":46.273099999999999},{"$f":"MATCH($A149&$B149,INDIRECT(Y$2),0)","v":120},{"$f":"IF(Z$3=0,\"\",INDEX(INDIRECT(Z$1),$Y149,Z$3))","v":21.59},11.23,1.17,0,8.66,0,{"$f":"IF(TotalSum=\"No\",INDEX(INDIRECT(AF$1),$Y149,AF$3),SUM(Z149:AE149))","v":42.65},{"$f":"IF(AG$3=0,\"\",INDEX(INDIRECT(AG$1),$P149,AG$3))","v":46.273099999999999},{"$f":"MATCH($A149&$B149,INDIRECT(AH$2),0)","v":120},{"$f":"IF(AI$3=0,\"\",INDEX(INDIRECT(AI$1),$AH149,AI$3))","v":21.38},10.23,1.17,0,8.66,"",{"$f":"IF(TotalSum=\"No\",INDEX(INDIRECT(AO$1),$AH149,AO$3),SUM(AI149:AN149))","v":41.44},{"$f":"IF(AP$3=0,\"\",INDEX(INDIRECT(AP$1),$P149,AP$3))","v":45.609200000000001},{"$f":"MATCH($A149&$B149,INDIRECT(AQ$2),0)","v":120},{"$f":"IF(AR$3=0,\"\",INDEX(INDIRECT(AR$1),$AQ149,AR$3))","v":21.38},10.23,1.17,0,8.66,"",{"$f":"IF(TotalSum=\"No\",INDEX(INDIRECT(AX$1),$AQ149,AX$3),SUM(AR149:AW149))","v":41.44},{"$f":"IF(AY$3=0,\"\",INDEX(INDIRECT(AY$1),$P149,AY$3))","v":45.609200000000001},{"$f":"A149&B149","v":"U09R01"},{"$f":"ROW(AZ149)","v":149}]
[{"$f":"A149","v":"U09"},"R02","East Standard",{"$f":"IF(SoftwareType=\"Candidate\",\"n/a\",IF(AND(H150=Yes,M150=Yes),Pass,Fail))","v":"Pass"},41.44,41.44,0,"Yes",41.44,41.44,41.44,0,"Yes",{"$f":"N149","v":"U01R12"},0,122,21.38,10.23,1.17,0,8.66,0,41.44,45.609200000000001,122,21.38,10.23,1.17,0,8.66,0,41.44,45.609200000000001,122,21.38,10.23,1.17,0,8.66,"",41.44,45.609200000000001,122,21.38,10.23,1.17,0,8.66,"",41.44,45.609200000000001,"U09R02",150]
["U09","R03","South Standard",{"$f":"IF(SoftwareType=\"Candidate\",\"n/a\",IF(AND(H151=Yes,M151=Yes),Pass,Fail))","v":"Pass"},41.44,41.44,0,"Yes",41.44,41.44,41.44,0,"Yes",{"$f":"N150","v":"U01R12"},0,123,21.38,10.23,1.17,0,8.66,0,41.44,45.609200000000001,123,21.38,10.23,1.17,0,8.66,0,41.44,45.609200000000001,123,21.38,10.23,1.17,0,8.66,"",41.44,45.609200000000001,123,21.38,10.23,1.17,0,8.66,"",41.44,45.609200000000001,"U09R03",151]
["U09","R04","West Standard",{"$f":"IF(SoftwareType=\"Candidate\",\"n/a\",IF(AND(H152=Yes,M152=Yes),Pass,Fail))","v":"Pass"},41.44,41.44,0,"Yes",41.44,41.44,41.44,0,"Yes","U01R12",0,124,21.38,10.23,1.17,0,8.66,0,41.44,45.609200000000001,124,21.38,10.23,1.17,0,8.66,0,41.44,45.609200000000001,124,21.38,10.23,1.17,0,8.66,"",41.44,45.609200000000001,124,21.38,10.23,1.17,0,8.66,"",41.44,45.609200000000001,"U09R04",152]
["U09","R05","North Standard",{"$f":"IF(SoftwareType=\"Candidate\",\"n/a\",IF(AND(H153=Yes,M153=Yes),Pass,Fail))","v":"Pass"},41.44,41.44,0,"Yes",41.44,41.44,41.44,0,"Yes","U01R12",0,121,21.38,10.23,1.17,0,8.66,0,41.44,45.609200000000001,121,21.38,10.23,1.17,0,8.66,0,41.44,45.609200000000001,121,21.38,10.23,1.17,0,8.66,"",41.44,45.609200000000001,121,21.38,10.23,1.17,0,8.66,"",41.44,45.609200000000001,"U09R05",153]
["U09","R06","Single Proposed front 45",{"$f":"IF(AND(H154=Yes,M154=Yes),Pass,Fail)","v":"Pass"},42.5,42.5,0,"Yes",41.44,41.44,41.44,0,"Yes","U01R12",-1.0600000000000023,125,21.04,11.63,1.17,0,8.66,0,42.5,46.175199999999997,125,21.04,11.63,1.17,0,8.66,0,42.5,46.175199999999997,125,21.38,10.23,1.17,0,8.66,"",41.44,45.609200000000001,125,21.38,10.23,1.17,0,8.66,"",41.44,45.609200000000001,"U09R06",154]
["U09","R07","East Proposed",{"$f":"IF(AND(H155=Yes,M155=Yes),Pass,Fail)","v":"Pass"},44.13,44.13,0,"Yes",41.44,41.44,41.44,0,"Yes","U01R12",-2.6900000000000048,127,21.92,12.38,1.17,0,8.66,0,44.13,47.078499999999998,127,21.92,12.38,1.17,0,8.66,0,44.13,47.078499999999998,127,21.38,10.23,1.17,0,8.66,"",41.44,45.609200000000001,127,21.38,10.23,1.17,0,8.66,"",41.44,45.609200000000001,"U09R07",155]
["U09","R08","South Proposed",{"$f":"IF(SoftwareType=\"Candidate\",\"n/a\",IF(AND(H156=Yes,M156=Yes),Pass,Fail))","v":"Pass"},38.020000000000003,38.020000000000003,0,"Yes",41.44,41.44,41.44,0,"Yes","U01R12",3.4199999999999946,128,22.46,5.73,1.17,0,8.66,0,38.020000000000003,47.078499999999998,128,22.46,5.73,1.17,0,8.66,0,38.020000000000003,47.078499999999998,128,21.38,10.23,1.17,0,8.66,"",41.44,45.609200000000001,128,21.38,10.23,1.17,0,8.66,"",41.44,45.609200000000001,"U09R08",156]
["U09","R09","West Proposed",{"$f":"IF(SoftwareType=\"Candidate\",\"n/a\",IF(AND(H157=Yes,M157=Yes),Pass,Fail))","v":"Pass"},43.05,43.05,0,"Yes",41.44,41.44,41.44,0,"Yes","U01R12",-1.6099999999999994,129,21.63,11.59,1.17,0,8.66,0,43.05,47.078499999999998,129,21.63,11.59,1.17,0,8.66,0,43.05,47.078499999999998,129,21.38,10.23,1.17,0,8.66,"",41.44,45.609200000000001,129,21.38,10.23,1.17,0,8.66,"",41.44,45.609200000000001,"U09R09",157]
["U09","R10","North Proposed",{"$f":"IF(SoftwareType=\"Candidate\",\"n/a\",IF(AND(H158=Yes,M158=Yes),Pass,Fail))","v":"Pass"},37.4,37.4,0,"Yes",41.44,41.44,41.44,0,"Yes","U01R12",4.0399999999999991,126,20.18,7.39,1.17,0,8.66,0,37.4,47.078499999999998,126,20.18,7.39,1.17,0,8.66,0,37.4,47.078499999999998,126,21.38,10.23,1.17,0,8.66,"",41.44,45.609200000000001,126,21.38,10.23,1.17,0,8.66,"",41.44,45.609200000000001,"U09R10",158]
[{"$f":"\"Result \"&A148","v":"Result U09"},null,null,{"$f":"IF(SoftwareType=\"Candidate\",IF(COUNTIF(D154:D155,Pass)=2,Pass,Fail),IF(COUNTIF(D149:D158,Pass)=10,Pass,Fail))","v":"Pass"},{"$f":"AVERAGE(E149:E158)","v":41.350999999999999},{"$f":"AVERAGE(F149:F158)","v":41.350999999999999},{"$f":"IF(E159=0,0,(F159-E159)/E159)","v":0},null,{"$f":"AVERAGE(I149:I158)","v":41.44},{"$f":"AVERAGE(J149:J158)","v":41.44},{"$f":"AVERAGE(K149:K158)","v":41.44},0,"Min",{"$f":"MIN(L149:L158)","v":0},{"$f":"AVERAGE(O149:O158)","v":8.8999999999998636E-2},"Ave",{"$f":"AVERAGE(Q149:Q158)","v":21.434000000000001},{"$f":"AVERAGE(R149:R158)","v":10.087000000000002},{"$f":"AVERAGE(S149:S158)","v":1.17},null,{"$f":"AVERAGE(U149:U158)","v":8.6599999999999984},{"$f":"AVERAGE(V149:V158)","v":0},{"$f":"AVERAGE(W149:W158)","v":41.350999999999999},{"$f":"AVERAGE(X143:X158)","v":45.729539431486877},"Ave",{"$f":"AVERAGE(Z149:Z158)","v":21.434000000000001},{"$f":"AVERAGE(AA149:AA158)","v":10.087000000000002},{"$f":"AVERAGE(AB149:AB158)","v":1.17},{"$f":"AVERAGE(AC149:AC158)","v":0},{"$f":"AVERAGE(AD149:AD158)","v":8.6599999999999984},null,{"$f":"AVERAGE(AF149:AF158)","v":41.350999999999999},{"$f":"AVERAGE(AG143:AG158)","v":45.729539431486877},null,{"$f":"AVERAGE(AI149:AI158)","v":21.38},{"$f":"AVERAGE(AJ149:AJ158)","v":10.230000000000002},{"$f":"AVERAGE(AK149:AK158)","v":1.17},{"$f":"AVERAGE(AL149:AL158)","v":0},{"$f":"AVERAGE(AM149:AM158)","v":8.6599999999999984},null,{"$f":"AVERAGE(AO149:AO158)","v":41.44},{"$f":"AVERAGE(AP143:AP158)","v":45.68549913675291},null,{"$f":"AVERAGE(AR149:AR158)","v":21.38},{"$f":"AVERAGE(AS149:AS158)","v":10.230000000000002},{"$f":"AVERAGE(AT149:AT158)","v":1.17},{"$f":"AVERAGE(AU149:AU158)","v":0},{"$f":"AVERAGE(AV149:AV158)","v":8.6599999999999984},null,{"$f":"AVERAGE(AX149:AX158)","v":41.44},{"$f":"AVERAGE(AY143:AY158)","v":45.68549913675291}]
[null,null,"Page 5 of 7",{"$nulls":8},"Ave","Max",{"$f":"MAX(L149:L158)","v":0},{"$nulls":10},"% Diff",{"$f":"(Z159-Q159)/Q159","v":0},{"$f":"(AA159-R159)/R159","v":0},{"$f":"(AB159-S159)/S159","v":0},null,{"$f":"(AD159-U159)/U159","v":0},null,{"$f":"(AF159-W159)/W159","v":0}]
["U10",{"$f":"VLOOKUP(A161,TestArray,2)&\" in \"&VLOOKUP(A161,TestArray,3)&\" for Prototype \"&VLOOKUP(A161,TestArray,4)","v":"Multi Family Water Heating in Zone 12 for Prototype P6960ft2"},{"$nulls":6},{"$f":"VLOOKUP(A161,TestArray,21)","v":"Standard = Varies for this test"}]
[{"$f":"A161","v":"U10"},"R01",{"$f":"VLOOKUP(A162,TestArray,4+RIGHT(B162,2))","v":"8 Storage"},{"$f":"IF(AND(H162=Yes,M162=Yes),Pass,Fail)","v":"Pass"},{"$f":"IF(Units=\"EDR\",X162,W162)","v":61.31},{"$f":"IF(Units=\"EDR\",AG162,AF162)","v":61.31},{"$f":"IF(E162=0,0,(F162-E162)/E162)","v":0},{"$f":"IF(AND((E162-Tolerance<=F162),(E162+Tolerance>=F162)),Yes,No)","v":"Yes"},{"$f":"IF(Units=\"EDR\",J162,INDIRECT(RefCol&INDEX(StandardArray,MATCH($N162,StandardList,0),2)))","v":56.87},{"$f":"IF(Units=\"EDR\",AP162,AO162)","v":56.87},{"$f":"IF(Units=\"EDR\",AY162,AX162)","v":56.87},{"$f":"IF(I162=0,0,(K162-I162)/I162)","v":0},{"$f":"IF(AND((I162-Tolerance<=K162),(I162+Tolerance>=K162),(J162-Tolerance<=K162),(J162+Tolerance>=K162)),Yes,No)","v":"Yes"},"U06R12",{"$f":"K162-F162","v":-4.4400000000000048},{"$f":"MATCH($A162&$B162,INDIRECT(P$2),0)","v":130},{"$f":"IF(Q$3=0,\"\",INDEX(INDIRECT(Q$1),$P162,Q$3))","v":11.39},21.62,2.4700000000000002,0,25.83,0,{"$f":"IF(TotalSum=\"No\",INDEX(INDIRECT(W$1),$P162,W$3),SUM(Q162:V162))","v":61.31},{"$f":"IF(X$3=0,\"\",INDEX(INDIRECT(X$1),$P162,X$3))","v":57.537599999999998},{"$f":"MATCH($A162&$B162,INDIRECT(Y$2),0)","v":130},{"$f":"IF(Z$3=0,\"\",INDEX(INDIRECT(Z$1),$Y162,Z$3))","v":11.39},21.62,2.4700000000000002,0,25.83,0,{"$f":"IF(TotalSum=\"No\",INDEX(INDIRECT(AF$1),$Y162,AF$3),SUM(Z162:AE162))","v":61.31},{"$f":"IF(AG$3=0,\"\",INDEX(INDIRECT(AG$1),$P162,AG$3))","v":57.537599999999998},{"$f":"MATCH($A162&$B162,INDIRECT(AH$2),0)","v":130},{"$f":"IF(AI$3=0,\"\",INDEX(INDIRECT(AI$1),$AH162,AI$3))","v":11.15},27.7,2.4700000000000002,0,15.55,"",{"$f":"IF(TotalSum=\"No\",INDEX(INDIRECT(AO$1),$AH162,AO$3),SUM(AI162:AN162))","v":56.87},{"$f":"IF(AP$3=0,\"\",INDEX(INDIRECT(AP$1),$P162,AP$3))","v":55.641399999999997},{"$f":"MATCH($A162&$B162,INDIRECT(AQ$2),0)","v":130},{"$f":"IF(AR$3=0,\"\",INDEX(INDIRECT(AR$1),$AQ162,AR$3))","v":11.15},27.7,2.4700000000000002,0,15.55,"",{"$f":"IF(TotalSum=\"No\",INDEX(INDIRECT(AX$1),$AQ162,AX$3),SUM(AR162:AW162))","v":56.87},{"$f":"IF(AY$3=0,\"\",INDEX(INDIRECT(AY$1),$P162,AY$3))","v":55.641399999999997},{"$f":"A162&B162","v":"U10R01"},{"$f":"ROW(AZ162)","v":162}]
[{"$f":"A162","v":"U10"},"R02","8 Storage 2 Systems","Pass",61.31,61.31,0,"Yes",56.87,56.87,56.87,0,"Yes",{"$f":"N162","v":"U06R12"},-4.4400000000000048,131,11.39,21.62,2.4700000000000002,0,25.83,0,61.31,57.537599999999998,131,11.39,21.62,2.4700000000000002,0,25.83,0,61.31,57.537599999999998,131,11.15,27.7,2.4700000000000002,0,15.55,"",56.87,55.641399999999997,131,11.15,27.7,2.4700000000000002,0,15.55,"",56.87,55.641399999999997,"U10R02",163]
["U10","R03","8 LgStor ","Pass",68.06,68.06,0,"Yes",56.87,56.87,56.87,0,"Yes",{"$f":"N163","v":"U06R12"},-11.190000000000005,132,11.39,21.62,2.4700000000000002,0,32.58,0,68.06,60.46,132,11.39,21.62,2.4700000000000002,0,32.58,0,68.06,60.46,132,11.15,27.7,2.4700000000000002,0,15.55,"",56.87,55.641399999999997,132,11.15,27.7,2.4700000000000002,0,15.55,"",56.87,55.641399999999997,"U10R03",164]
["U10","R04","2 LgStor Central Solar",{"$f":"IF(AND(H165=Yes,M165=Yes),Pass,Fail)","v":"Pass"},55.36,55.36,0,"Yes",61.2,61.2,61.2,0,"Yes","U10R04",5.8400000000000034,133,11.39,21.62,2.4700000000000002,0,19.88,0,55.36,55.473300000000002,133,11.39,21.62,2.4700000000000002,0,19.88,0,55.36,55.473300000000002,133,11.15,27.7,2.4700000000000002,0,19.88,"",61.2,58.051400000000001,133,11.15,27.7,2.4700000000000002,0,19.88,"",61.2,58.051400000000001,"U10R04",165]
["U10","R05","2 LgStor Central Solar Recirc","Pass",62.02,62.02,0,"Yes",67.86,67.86,67.86,0,"Yes","U10R05",5.8399999999999963,134,11.39,21.62,2.4700000000000002,0,26.54,0,62.02,54.5974,134,11.39,21.62,2.4700000000000002,0,26.54,0,62.02,54.5974,134,11.15,27.7,2.4700000000000002,0,26.54,"",67.86,57.008299999999998,134,11.15,27.7,2.4700000000000002,0,26.54,"",67.86,57.008299999999998,"U10R05",166]
["U10","R06","2 LgStor Central Recirc","Pass",66.77,66.77,0,"Yes",67.86,67.86,67.86,0,"Yes","U10R05",1.0900000000000034,135,11.39,21.62,2.4700000000000002,0,31.29,0,66.77,56.538400000000003,135,11.39,21.62,2.4700000000000002,0,31.29,0,66.77,56.538400000000003,135,11.15,27.7,2.4700000000000002,0,26.54,"",67.86,57.008299999999998,135,11.15,27.7,2.4700000000000002,0,26.54,"",67.86,57.008299999999998,"U10R06",167]
["U10","R07","2 SmInstantant Central Solar","Pass",51.82,51.82,0,"Yes",57.66,57.66,57.66,0,"Yes","U10R07",5.8399999999999963,136,11.39,21.62,2.4700000000000002,0,16.34,0,51.82,54.658499999999997,136,11.39,21.62,2.4700000000000002,0,16.34,0,51.82,54.658499999999997,136,11.15,27.7,2.4700000000000002,0,16.34,"",57.66,57.271700000000003,136,11.15,27.7,2.4700000000000002,0,16.34,"",57.66,57.271700000000003,"U10R07",168]
["U10","R08","2 SmInstantant Central Solar Recirc","Pass",58.76,58.76,0,"Yes",64.599999999999994,64.599999999999994,64.599999999999994,0,"Yes","U10R08",5.8399999999999963,137,11.39,21.62,2.4700000000000002,0,23.28,0,58.76,53.665700000000001,137,11.39,21.62,2.4700000000000002,0,23.28,0,58.76,53.665700000000001,137,11.15,27.7,2.4700000000000002,0,23.28,"",64.599999999999994,56.094700000000003,137,11.15,27.7,2.4700000000000002,0,23.28,"",64.599999999999994,56.094700000000003,"U10R08",169]
["U10","R09","1 Indirect Central Solar","Pass",58.14,58.14,0,"Yes",63.3,63.3,63.3,0,"Yes","U10R09",5.1599999999999966,138,11.39,21.62,2.4700000000000002,0,22.66,0,58.14,55.132599999999996,138,11.39,21.62,2.4700000000000002,0,22.66,0,58.14,55.132599999999996,138,11.15,27.7,2.4700000000000002,0,21.98,"",63.3,57.350999999999999,138,11.15,27.7,2.4700000000000002,0,21.98,"",63.3,57.350999999999999,"U10R09",170]
["U10","R10","1 Indirect Central Solar Recirc","Pass",65.209999999999994,65.209999999999994,0,"Yes",70.38,70.38,70.38,0,"Yes","U10R10",5.1700000000000017,139,11.39,21.62,2.4700000000000002,0,29.73,0,65.209999999999994,54.196599999999997,139,11.39,21.62,2.4700000000000002,0,29.73,0,65.209999999999994,54.196599999999997,139,11.15,27.7,2.4700000000000002,0,29.06,"",70.38,56.268599999999999,139,11.15,27.7,2.4700000000000002,0,29.06,"",70.38,56.268599999999999,"U10R10",171]
[{"$f":"\"Result \"&A161","v":"Result U10"},null,null,{"$f":"IF(COUNTIF(D162:D171,Pass)=10,Pass,Fail)","v":"Pass"},{"$f":"AVERAGE(E162:E171)","v":60.875999999999998},{"$f":"AVERAGE(F162:F171)","v":60.875999999999998},{"$f":"IF(E172=0,0,(F172-E172)/E172)","v":0},null,{"$f":"AVERAGE(I162:I171)","v":62.347000000000001},{"$f":"AVERAGE(J162:J171)","v":62.347000000000001},{"$f":"AVERAGE(K162:K171)","v":62.347000000000001},0,"Min",{"$f":"MIN(L162:L171)","v":0},{"$f":"AVERAGE(O162:O171)","v":1.4709999999999979},"Ave",{"$f":"AVERAGE(Q162:Q171)","v":11.39},{"$f":"AVERAGE(R162:R171)","v":21.62},{"$f":"AVERAGE(S162:S171)","v":2.4699999999999998},null,{"$f":"AVERAGE(U162:U171)","v":25.395999999999997},{"$f":"AVERAGE(V162:V171)","v":0},{"$f":"AVERAGE(W162:W171)","v":60.875999999999998},{"$f":"AVERAGE(X156:X171)","v":53.340195673677627},"Ave",{"$f":"AVERAGE(Z162:Z171)","v":11.39},{"$f":"AVERAGE(AA162:AA171)","v":21.62},{"$f":"AVERAGE(AB162:AB171)","v":2.4699999999999998},{"$f":"AVERAGE(AC162:AC171)","v":0},{"$f":"AVERAGE(AD162:AD171)","v":25.395999999999997},null,{"$f":"AVERAGE(AF162:AF171)","v":60.875999999999998},{"$f":"AVERAGE(AG156:AG171)","v":53.340195673677627},null,{"$f":"AVERAGE(AI162:AI171)","v":11.150000000000002},{"$f":"AVERAGE(AJ162:AJ171)","v":27.699999999999996},{"$f":"AVERAGE(AK162:AK171)","v":2.4699999999999998},{"$f":"AVERAGE(AL162:AL171)","v":0},{"$f":"AVERAGE(AM162:AM171)","v":21.026999999999997},null,{"$f":"AVERAGE(AO162:AO171)","v":62.347000000000001},{"$f":"AVERAGE(AP156:AP171)","v":53.46366422405378},null,{"$f":"AVERAGE(AR162:AR171)","v":11.150000000000002},{"$f":"AVERAGE(AS162:AS171)","v":27.699999999999996},{"$f":"AVERAGE(AT162:AT171)","v":2.4699999999999998},{"$f":"AVERAGE(AU162:AU171)","v":0},{"$f":"AVERAGE(AV162:AV171)","v":21.026999999999997},null,{"$f":"AVERAGE(AX162:AX171)","v":62.347000000000001},{"$f":"AVERAGE(AY156:AY171)","v":53.46366422405378}]
[{"$nulls":11},"Ave","Max",{"$f":"MAX(L162:L171)","v":0},{"$nulls":10},"% Diff",{"$f":"(Z172-Q172)/Q172","v":0},{"$f":"(AA172-R172)/R172","v":0},{"$f":"(AB172-S172)/S172","v":0},null,{"$f":"(AD172-U172)/U172","v":0},null,{"$f":"(AF172-W172)/W172","v":0}]
["U11",{"$f":"VLOOKUP(A174,TestArray,2)&\" in \"&VLOOKUP(A174,TestArray,3)&\" for Prototype \"&VLOOKUP(A174,TestArray,4)","v":"Source Energy in Zone 12 for Prototype P2100ft2"},{"$nulls":6},{"$f":"VLOOKUP(A174,TestArray,21)","v":"Standard = Varies for this test"}]
[{"$f":"A174","v":"U11"},"R01",{"$f":"VLOOKUP(A175,TestArray,4+RIGHT(B175,2))","v":"Package"},{"$f":"IF(AND(H175=Yes,M175=Yes),Pass,Fail)","v":"Pass"},{"$f":"IF(Units=\"EDR\",X175,W175)","v":37.4},{"$f":"IF(Units=\"EDR\",AG175,AF175)","v":37.4},{"$f":"IF(E175=0,0,(F175-E175)/E175)","v":0},{"$f":"IF(AND((E175-Tolerance<=F175),(E175+Tolerance>=F175)),Yes,No)","v":"Yes"},{"$f":"IF(Units=\"EDR\",J175,INDIRECT(RefCol&INDEX(StandardArray,MATCH($N175,StandardList,0),2)))","v":41.44},{"$f":"IF(Units=\"EDR\",AP175,AO175)","v":41.44},{"$f":"IF(Units=\"EDR\",AY175,AX175)","v":41.44},{"$f":"IF(I175=0,0,(K175-I175)/I175)","v":0},{"$f":"IF(AND((I175-Tolerance<=K175),(I175+Tolerance>=K175),(J175-Tolerance<=K175),(J175+Tolerance>=K175)),Yes,No)","v":"Yes"},"U04R12",{"$f":"K175-F175","v":4.0399999999999991},{"$f":"MATCH($A175&$B175,INDIRECT(P$2),0)","v":140},{"$f":"IF(Q$3=0,\"\",INDEX(INDIRECT(Q$1),$P175,Q$3))","v":20.18},7.39,1.17,0,8.66,0,{"$f":"IF(TotalSum=\"No\",INDEX(INDIRECT(W$1),$P175,W$3),SUM(Q175:V175))","v":37.4},{"$f":"IF(X$3=0,\"\",INDEX(INDIRECT(X$1),$P175,X$3))","v":43.378},{"$f":"MATCH($A175&$B175,INDIRECT(Y$2),0)","v":140},{"$f":"IF(Z$3=0,\"\",INDEX(INDIRECT(Z$1),$Y175,Z$3))","v":20.18},7.39,1.17,0,8.66,0,{"$f":"IF(TotalSum=\"No\",INDEX(INDIRECT(AF$1),$Y175,AF$3),SUM(Z175:AE175))","v":37.4},{"$f":"IF(AG$3=0,\"\",INDEX(INDIRECT(AG$1),$P175,AG$3))","v":43.378},{"$f":"MATCH($A175&$B175,INDIRECT(AH$2),0)","v":140},{"$f":"IF(AI$3=0,\"\",INDEX(INDIRECT(AI$1),$AH175,AI$3))","v":21.38},10.23,1.17,0,8.66,"",{"$f":"IF(TotalSum=\"No\",INDEX(INDIRECT(AO$1),$AH175,AO$3),SUM(AI175:AN175))","v":41.44},{"$f":"IF(AP$3=0,\"\",INDEX(INDIRECT(AP$1),$P175,AP$3))","v":45.609200000000001},{"$f":"MATCH($A175&$B175,INDIRECT(AQ$2),0)","v":140},{"$f":"IF(AR$3=0,\"\",INDEX(INDIRECT(AR$1),$AQ175,AR$3))","v":21.38},10.23,1.17,0,8.66,"",{"$f":"IF(TotalSum=\"No\",INDEX(INDIRECT(AX$1),$AQ175,AX$3),SUM(AR175:AW175))","v":41.44},{"$f":"IF(AY$3=0,\"\",INDEX(INDIRECT(AY$1),$P175,AY$3))","v":45.609200000000001},{"$f":"A175&B175","v":"U11R01"},{"$f":"ROW(AZ175)","v":175}]
[{"$f":"A175","v":"U11"},"R02","Package No Natural Gas","Pass",62.88,62.88,0,"Yes",67.83,67.83,67.83,0,"Yes","U11R02",4.9499999999999957,141,37.54,7.22,1.17,0,16.95,0,62.88,45.7682,141,37.54,7.22,1.17,0,16.95,0,62.88,45.7682,141,39.659999999999997,10.050000000000001,1.17,0,16.95,"",67.83,47.782200000000003,141,39.659999999999997,10.050000000000001,1.17,0,16.95,"",67.83,47.782200000000003,"U11R02",176]
["U11","R03","Electric DHW","Pass",55,55,0,"Yes",41.44,41.44,41.44,0,"Yes","U04R12",-13.560000000000002,142,20.149999999999999,7.41,1.17,0,26.27,0,55,53.777299999999997,142,20.149999999999999,7.41,1.17,0,26.27,0,55,53.777299999999997,142,21.38,10.23,1.17,0,8.66,"",41.44,46.316699999999997,142,21.38,10.23,1.17,0,8.66,"",41.44,46.316699999999997,"U11R03",177]
["U11","R04","Electric DHW no Natural Gas","Pass",72.150000000000006,72.150000000000006,0,"Yes",67.83,67.83,67.83,0,"Yes","U11R02",-4.3200000000000074,143,37.479999999999997,7.23,1.17,0,26.27,0,72.150000000000006,56.7577,143,37.479999999999997,7.23,1.17,0,26.27,0,72.150000000000006,56.7577,143,39.659999999999997,10.050000000000001,1.17,0,16.95,"",67.83,54.789499999999997,143,39.659999999999997,10.050000000000001,1.17,0,16.95,"",67.83,54.789499999999997,"U11R04",178]
["U11","R05","Heatpump DHW","Pass",39.83,39.83,0,"Yes",41.44,41.44,41.44,0,"Yes","U04R12",1.6099999999999994,144,20.399999999999999,7.2,1.17,0,11.06,0,39.83,45.360599999999998,144,20.399999999999999,7.2,1.17,0,11.06,0,39.83,45.360599999999998,144,21.38,10.23,1.17,0,8.66,"",41.44,46.316699999999997,144,21.38,10.23,1.17,0,8.66,"",41.44,46.316699999999997,"U11R05",179]
["U11","R06","Heatpump DHW no Natural Gas","Pass",57.2,57.2,0,"Yes",67.83,67.83,67.83,0,"Yes",{"$f":"N178","v":"U11R02"},10.629999999999995,145,37.94,7.03,1.17,0,11.06,0,57.2,49.834200000000003,145,37.94,7.03,1.17,0,11.06,0,57.2,49.834200000000003,145,39.659999999999997,10.050000000000001,1.17,0,16.95,"",67.83,54.789499999999997,145,39.659999999999997,10.050000000000001,1.17,0,16.95,"",67.83,54.789499999999997,"U11R06",180]
["U11","R07","Heatpump HVAC","Pass",35.28,35.28,0,"Yes",40.03,40.03,40.03,0,"Yes","U11R07",4.75,146,18.55,6.9,1.17,0,8.66,0,35.28,43.258499999999998,146,18.55,6.9,1.17,0,8.66,0,35.28,43.258499999999998,146,19.97,10.23,1.17,0,8.66,"",40.03,45.939500000000002,146,19.97,10.23,1.17,0,8.66,"",40.03,45.939500000000002,"U11R07",181]
["U11","R08","Heatpump HVAC no Natural Gas","Pass",43.48,43.48,0,"Yes",48.23,48.23,48.23,0,"Yes","U11R08",4.75,147,18.63,6.73,1.17,0,16.95,0,43.48,44.363399999999999,147,18.63,6.73,1.17,0,16.95,0,43.48,44.363399999999999,147,20.059999999999999,10.050000000000001,1.17,0,16.95,"",48.23,46.622199999999999,147,20.059999999999999,10.050000000000001,1.17,0,16.95,"",48.23,46.622199999999999,"U11R08",182]
["U11","R09","Heatpump HVAC & DHW ","Pass",37.67,37.67,0,"Yes",40.03,40.03,40.03,0,"Yes",{"$f":"N181","v":"U11R07"},2.3599999999999994,148,18.73,6.71,1.17,0,11.06,0,37.67,45.267299999999999,148,18.73,6.71,1.17,0,11.06,0,37.67,45.267299999999999,148,19.97,10.23,1.17,0,8.66,"",40.03,46.665799999999997,148,19.97,10.23,1.17,0,8.66,"",40.03,46.665799999999997,"U11R09",183]
["U11","R10","Heatpump HVAC & DHW no Natural Gas","Pass",37.6,37.6,0,"Yes",48.23,48.23,48.23,0,"Yes","U11R08",10.629999999999995,149,18.82,6.55,1.17,0,11.06,0,37.6,48.863100000000003,149,18.82,6.55,1.17,0,11.06,0,37.6,48.863100000000003,149,20.059999999999999,10.050000000000001,1.17,0,16.95,"",48.23,54.790300000000002,149,20.059999999999999,10.050000000000001,1.17,0,16.95,"",48.23,54.790300000000002,"U11R10",184]
[{"$f":"\"Result \"&A174","v":"Result U11"},null,null,{"$f":"IF(COUNTIF(D175:D184,Pass)=10,Pass,Fail)","v":"Pass"},{"$f":"AVERAGE(E175:E184)","v":47.849000000000004},{"$f":"AVERAGE(F175:F184)","v":47.849000000000004},{"$f":"IF(E185=0,0,(F185-E185)/E185)","v":0},null,{"$f":"AVERAGE(I175:I184)","v":50.432999999999993},{"$f":"AVERAGE(J175:J184)","v":50.432999999999993},{"$f":"AVERAGE(K175:K184)","v":50.432999999999993},0,"Min",{"$f":"MIN(L175:L184)","v":0},{"$f":"AVERAGE(O175:O184)","v":2.5839999999999974},"Ave",{"$f":"AVERAGE(Q175:Q184)","v":24.841999999999999},{"$f":"AVERAGE(R175:R184)","v":7.0370000000000008},{"$f":"AVERAGE(S175:S184)","v":1.17},null,{"$f":"AVERAGE(U175:U184)","v":14.8},{"$f":"AVERAGE(V175:V184)","v":0},{"$f":"AVERAGE(W175:W184)","v":47.849000000000004},{"$f":"AVERAGE(X169:X184)","v":49.497385405262683},"Ave",{"$f":"AVERAGE(Z175:Z184)","v":24.841999999999999},{"$f":"AVERAGE(AA175:AA184)","v":7.0370000000000008},{"$f":"AVERAGE(AB175:AB184)","v":1.17},{"$f":"AVERAGE(AC175:AC184)","v":0},{"$f":"AVERAGE(AD175:AD184)","v":14.8},null,{"$f":"AVERAGE(AF175:AF184)","v":47.849000000000004},{"$f":"AVERAGE(AG169:AG184)","v":49.497385405262683},null,{"$f":"AVERAGE(AI175:AI184)","v":26.317999999999994},{"$f":"AVERAGE(AJ175:AJ184)","v":10.14},{"$f":"AVERAGE(AK175:AK184)","v":1.17},{"$f":"AVERAGE(AL175:AL184)","v":0},{"$f":"AVERAGE(AM175:AM184)","v":12.804999999999998},null,{"$f":"AVERAGE(AO175:AO184)","v":50.432999999999993},{"$f":"AVERAGE(AP169:AP184)","v":50.91425458743241},null,{"$f":"AVERAGE(AR175:AR184)","v":26.317999999999994},{"$f":"AVERAGE(AS175:AS184)","v":10.14},{"$f":"AVERAGE(AT175:AT184)","v":1.17},{"$f":"AVERAGE(AU175:AU184)","v":0},{"$f":"AVERAGE(AV175:AV184)","v":12.804999999999998},null,{"$f":"AVERAGE(AX175:AX184)","v":50.432999999999993},{"$f":"AVERAGE(AY169:AY184)","v":50.91425458743241}]
[{"$nulls":11},"Ave","Max",{"$f":"MAX(L175:L184)","v":0},{"$nulls":10},"% Diff",{"$f":"(Z185-Q185)/Q185","v":0},{"$f":"(AA185-R185)/R185","v":0},{"$f":"(AB185-S185)/S185","v":0},null,{"$f":"(AD185-U185)/U185","v":0},null,{"$f":"(AF185-W185)/W185","v":0}]
["U12",{"$f":"VLOOKUP(A187,TestArray,2)&\" in \"&VLOOKUP(A187,TestArray,3)&\" for Prototype \"&VLOOKUP(A187,TestArray,4)","v":"E+A+A Base & Windows in Zone 12 for Prototype P1665ft2"},{"$nulls":6},{"$f":"VLOOKUP(A187,TestArray,21)","v":"Standard = Varies for this test"}]
[{"$f":"A187","v":"U12"},"R01",{"$f":"VLOOKUP(A188,TestArray,4+RIGHT(B188,2))","v":"E 1440ft2 as New Construction"},{"$f":"IF(ConstructionType=\"New\",\"n/a\",IF(AND(H188=Yes,M188=Yes),Pass,Fail))","v":"Pass"},{"$f":"IF(Units=\"EDR\",0,W188)","v":238.29},{"$f":"IF(Units=\"EDR\",0,AF188)","v":238.29},{"$f":"IF(E188=0,0,(F188-E188)/E188)","v":0},{"$f":"IF(AND((E188-Tolerance<=F188),(E188+Tolerance>=F188)),Yes,No)","v":"Yes"},{"$f":"IF(Units=\"EDR\",0,INDIRECT(RefCol&INDEX(StandardArray,MATCH($N188,StandardList,0),2)))","v":46.72},{"$f":"IF(Units=\"EDR\",0,AO188)","v":46.72},{"$f":"IF(Units=\"EDR\",0,AX188)","v":46.72},{"$f":"IF(I188=0,0,(K188-I188)/I188)","v":0},{"$f":"IF(AND((I188-Tolerance<=K188),(I188+Tolerance>=K188),(J188-Tolerance<=K188),(J188+Tolerance>=K188)),Yes,No)","v":"Yes"},"U12R01",{"$f":"K188-F188","v":-191.57},{"$f":"MATCH($A188&$B188,INDIRECT(P$2),0)","v":150},{"$f":"IF(Q$3=0,\"\",INDEX(INDIRECT(Q$1),$P188,Q$3))","v":61.74},156.72999999999999,1.48,0,18.34,0,{"$f":"IF(TotalSum=\"No\",INDEX(INDIRECT(W$1),$P188,W$3),SUM(Q188:V188))","v":238.29},{"$f":"IF(X$3=0,\"\",INDEX(INDIRECT(X$1),$P188,X$3))","v":138.08500000000001},{"$f":"MATCH($A188&$B188,INDIRECT(Y$2),0)","v":150},{"$f":"IF(Z$3=0,\"\",INDEX(INDIRECT(Z$1),$Y188,Z$3))","v":61.74},156.72999999999999,1.48,0,18.34,0,{"$f":"IF(TotalSum=\"No\",INDEX(INDIRECT(AF$1),$Y188,AF$3),SUM(Z188:AE188))","v":238.29},{"$f":"IF(AG$3=0,\"\",INDEX(INDIRECT(AG$1),$P188,AG$3))","v":138.08500000000001},{"$f":"MATCH($A188&$B188,INDIRECT(AH$2),0)","v":150},{"$f":"IF(AI$3=0,\"\",INDEX(INDIRECT(AI$1),$AH188,AI$3))","v":21.24},11.81,1.48,0,12.19,"",{"$f":"IF(TotalSum=\"No\",INDEX(INDIRECT(AO$1),$AH188,AO$3),SUM(AI188:AN188))","v":46.72},{"$f":"IF(AP$3=0,\"\",INDEX(INDIRECT(AP$1),$P188,AP$3))","v":48.184399999999997},{"$f":"MATCH($A188&$B188,INDIRECT(AQ$2),0)","v":150},{"$f":"IF(AR$3=0,\"\",INDEX(INDIRECT(AR$1),$AQ188,AR$3))","v":21.24},11.81,1.48,0,12.19,"",{"$f":"IF(TotalSum=\"No\",INDEX(INDIRECT(AX$1),$AQ188,AX$3),SUM(AR188:AW188))","v":46.72},{"$f":"IF(AY$3=0,\"\",INDEX(INDIRECT(AY$1),$P188,AY$3))","v":48.184399999999997},{"$f":"A188&B188","v":"U12R01"},{"$f":"ROW(AZ188)","v":188}]
[{"$f":"A188","v":"U12"},"R02","E 1440ft2 as Addition/Alteration","Pass",240.98,240.98,0,"Yes",240.98,240.98,240.98,0,"Yes","U12R02",0,151,60.09,162.55000000000001,0,0,18.34,0,240.98,0,151,60.09,162.55000000000001,0,0,18.34,0,240.98,0,151,60.09,162.55000000000001,0,0,18.34,"",240.98,0,151,60.09,162.55000000000001,0,0,18.34,"",240.98,0,"U12R02",189]
["U12","R03","EA 1665ft2","Pass",210.32,210.32,0,"Yes",206.96,206.96,206.96,0,"Yes","U12R03",-3.3599999999999852,152,55.69,138.63999999999999,0,0,15.99,0,210.32,0,152,55.69,138.63999999999999,0,0,15.99,0,210.32,0,152,54.78,136.19,0,0,15.99,"",206.96,0,152,54.78,136.19,0,0,15.99,"",206.96,0,"U12R03",190]
["U12","R04","EAA Ceiling R38 Verified","Pass",184.64,184.64,0,"Yes",206.96,206.96,206.96,0,"Yes","U12R03",22.320000000000022,153,51.15,117.5,0,0,15.99,0,184.64,0,153,51.15,117.5,0,0,15.99,0,184.64,0,153,54.78,136.19,0,0,15.99,"",206.96,0,153,54.78,136.19,0,0,15.99,"",206.96,0,"U12R04",191]
["U12","R05","EAA Ceiling R38 Verified Wind U0.41/S0.36","Pass",150.63999999999999,150.63999999999999,0,"Yes",174.1,174.1,174.1,0,"Yes","U12R05",23.460000000000008,154,47.12,87.53,0,0,15.99,0,150.63999999999999,0,154,47.12,87.53,0,0,15.99,0,150.63999999999999,0,154,50.58,107.53,0,0,15.99,"",174.1,0,154,50.58,107.53,0,0,15.99,"",174.1,0,"U12R05",192]
["U12","R06","EAA Ceiling R38 Verified Wind U0.41/S0.36 Verified","Pass",150.63999999999999,150.63999999999999,0,"Yes",174.1,174.1,174.1,0,"Yes",{"$f":"N192","v":"U12R05"},23.460000000000008,155,47.12,87.53,0,0,15.99,0,150.63999999999999,0,155,47.12,87.53,0,0,15.99,0,150.63999999999999,0,155,50.58,107.53,0,0,15.99,"",174.1,0,155,50.58,107.53,0,0,15.99,"",174.1,0,"U12R06",193]
["U12","R07","EAA Ceiling R38 Verified Wind U0.40/S0.35","Pass",149.9,149.9,0,"Yes",174.1,174.1,174.1,0,"Yes",{"$f":"N192","v":"U12R05"},24.199999999999989,156,47.09,86.82,0,0,15.99,0,149.9,0,156,47.09,86.82,0,0,15.99,0,149.9,0,156,50.58,107.53,0,0,15.99,"",174.1,0,156,50.58,107.53,0,0,15.99,"",174.1,0,"U12R07",194]
["U12","R08","EAA Ceiling R38 Verified Wind U0.40/S0.35 Verified","Pass",149.9,149.9,0,"Yes",206.96,206.96,206.96,0,"Yes",{"$f":"N191","v":"U12R03"},57.06,157,47.09,86.82,0,0,15.99,0,149.9,0,157,47.09,86.82,0,0,15.99,0,149.9,0,157,54.78,136.19,0,0,15.99,"",206.96,0,157,54.78,136.19,0,0,15.99,"",206.96,0,"U12R08",195]
["U12","R09","EAA Ceiling R38 Verified Wind U0.39/S0.34","Pass",149.09,149.09,0,"Yes",174.1,174.1,174.1,0,"Yes",{"$f":"N192","v":"U12R05"},25.009999999999991,158,47.06,86.04,0,0,15.99,0,149.09,0,158,47.06,86.04,0,0,15.99,0,149.09,0,158,50.58,107.53,0,0,15.99,"",174.1,0,158,50.58,107.53,0,0,15.99,"",174.1,0,"U12R09",196]
["U12","R10","EAA Ceiling R38 Verified Wind U0.39/S0.34 Verified","Pass",149.09,149.09,0,"Yes",206.96,206.96,206.96,0,"Yes",{"$f":"N191","v":"U12R03"},57.870000000000005,159,47.06,86.04,0,0,15.99,0,149.09,0,159,47.06,86.04,0,0,15.99,0,149.09,0,159,54.78,136.19,0,0,15.99,"",206.96,0,159,54.78,136.19,0,0,15.99,"",206.96,0,"U12R10",197]
[{"$f":"\"Result \"&A187","v":"Result U12"},null,null,{"$f":"IF(ConstructionType=\"New\",\"n/a\",IF(COUNTIF(D188:D197,Pass)=10,Pass,Fail))","v":"Pass"},{"$f":"IF(Units=\"EDR\",\"n/a\",AVERAGE(E188:E197))","v":177.34899999999999},{"$f":"IF(Units=\"EDR\",\"n/a\",AVERAGE(F188:F197))","v":177.34899999999999},{"$f":"IF(Units=\"EDR\",\"n/a\",IF(E198=0,0,(F198-E198)/E198))","v":0},null,{"$f":"IF(Units=\"EDR\",\"n/a\",AVERAGE(I188:I197))","v":181.19399999999999},{"$f":"IF(Units=\"EDR\",\"n/a\",AVERAGE(J188:J197))","v":181.19399999999999},{"$f":"IF(Units=\"EDR\",\"n/a\",AVERAGE(K188:K197))","v":181.19399999999999},{"$f":"IF(Units=\"EDR\",\"n/a\",IF(J198=0,0,(K198-J198)/J198))","v":0},"Min",{"$f":"MIN(L188:L197)","v":0},{"$f":"AVERAGE(O188:O197)","v":3.8450000000000046},"Ave",{"$f":"AVERAGE(Q188:Q197)","v":51.121000000000002},{"$f":"AVERAGE(R188:R197)","v":109.61999999999998},{"$f":"AVERAGE(S188:S197)","v":0.14799999999999999},null,{"$f":"AVERAGE(U188:U197)","v":16.46},{"$f":"AVERAGE(V188:V197)","v":0},{"$f":"AVERAGE(W188:W197)","v":177.34899999999999},{"$f":"AVERAGE(X182:X197)","v":23.291156100375904},"Ave",{"$f":"AVERAGE(Z188:Z197)","v":51.121000000000002},{"$f":"AVERAGE(AA188:AA197)","v":109.61999999999998},{"$f":"AVERAGE(AB188:AB197)","v":0.14799999999999999},{"$f":"AVERAGE(AC188:AC197)","v":0},{"$f":"AVERAGE(AD188:AD197)","v":16.46},null,{"$f":"AVERAGE(AF188:AF197)","v":177.34899999999999},{"$f":"AVERAGE(AG182:AG197)","v":23.291156100375904},null,{"$f":"AVERAGE(AI188:AI197)","v":50.277000000000001},{"$f":"AVERAGE(AJ188:AJ197)","v":114.92400000000001},{"$f":"AVERAGE(AK188:AK197)","v":0.14799999999999999},{"$f":"AVERAGE(AL188:AL197)","v":0},{"$f":"AVERAGE(AM188:AM197)","v":15.844999999999999},null,{"$f":"AVERAGE(AO188:AO197)","v":181.19399999999999},{"$f":"AVERAGE(AP182:AP197)","v":17.655496756245174},null,{"$f":"AVERAGE(AR188:AR197)","v":50.277000000000001},{"$f":"AVERAGE(AS188:AS197)","v":114.92400000000001},{"$f":"AVERAGE(AT188:AT197)","v":0.14799999999999999},{"$f":"AVERAGE(AU188:AU197)","v":0},{"$f":"AVERAGE(AV188:AV197)","v":15.844999999999999},null,{"$f":"AVERAGE(AX188:AX197)","v":181.19399999999999},{"$f":"AVERAGE(AY182:AY197)","v":17.655496756245174}]
[null,null,"Page 6 of 7",{"$nulls":8},"Ave","Max",{"$f":"MAX(L188:L197)","v":0},{"$nulls":10},"% Diff",{"$f":"(Z198-Q198)/Q198","v":0},{"$f":"(AA198-R198)/R198","v":0},{"$f":"(AB198-S198)/S198","v":0},null,{"$f":"(AD198-U198)/U198","v":0},null,{"$f":"(AF198-W198)/W198","v":0}]
["U13",{"$f":"VLOOKUP(A200,TestArray,2)&\" in \"&VLOOKUP(A200,TestArray,3)&\" for Prototype \"&VLOOKUP(A200,TestArray,4)","v":"E+A+A Walls & HVAC in Zone 12 for Prototype P1665ft2"},{"$nulls":6},{"$f":"VLOOKUP(A200,TestArray,21)","v":"Standard = Varies for this test"}]
[{"$f":"A200","v":"U13"},"R01",{"$f":"VLOOKUP(A201,TestArray,4+RIGHT(B201,2))","v":"EAA Ceiling R38 Verified Wall R11"},{"$f":"IF(ConstructionType=\"New\",\"n/a\",IF(AND(H201=Yes,M201=Yes),Pass,Fail))","v":"Pass"},{"$f":"IF(Units=\"EDR\",0,W201)","v":148.41999999999999},{"$f":"IF(Units=\"EDR\",0,AF201)","v":148.41999999999999},{"$f":"IF(E201=0,0,(F201-E201)/E201)","v":0},{"$f":"IF(AND((E201-Tolerance<=F201),(E201+Tolerance>=F201)),Yes,No)","v":"Yes"},{"$f":"IF(Units=\"EDR\",0,INDIRECT(RefCol&INDEX(StandardArray,MATCH($N201,StandardList,0),2)))","v":170.48},{"$f":"IF(Units=\"EDR\",0,AO201)","v":170.48},{"$f":"IF(Units=\"EDR\",0,AX201)","v":170.48},{"$f":"IF(I201=0,0,(K201-I201)/I201)","v":0},{"$f":"IF(AND((I201-Tolerance<=K201),(I201+Tolerance>=K201),(J201-Tolerance<=K201),(J201+Tolerance>=K201)),Yes,No)","v":"Yes"},"U13R01",{"$f":"K201-F201","v":22.060000000000002},{"$f":"MATCH($A201&$B201,INDIRECT(P$2),0)","v":160},{"$f":"IF(Q$3=0,\"\",INDEX(INDIRECT(Q$1),$P201,Q$3))","v":36.04},96.39,0,0,15.99,0,{"$f":"IF(TotalSum=\"No\",INDEX(INDIRECT(W$1),$P201,W$3),SUM(Q201:V201))","v":148.41999999999999},{"$f":"IF(X$3=0,\"\",INDEX(INDIRECT(X$1),$P201,X$3))","v":0},{"$f":"MATCH($A201&$B201,INDIRECT(Y$2),0)","v":160},{"$f":"IF(Z$3=0,\"\",INDEX(INDIRECT(Z$1),$Y201,Z$3))","v":36.04},96.39,0,0,15.99,0,{"$f":"IF(TotalSum=\"No\",INDEX(INDIRECT(AF$1),$Y201,AF$3),SUM(Z201:AE201))","v":148.41999999999999},{"$f":"IF(AG$3=0,\"\",INDEX(INDIRECT(AG$1),$P201,AG$3))","v":0},{"$f":"MATCH($A201&$B201,INDIRECT(AH$2),0)","v":160},{"$f":"IF(AI$3=0,\"\",INDEX(INDIRECT(AI$1),$AH201,AI$3))","v":39.76},114.73,0,0,15.99,"",{"$f":"IF(TotalSum=\"No\",INDEX(INDIRECT(AO$1),$AH201,AO$3),SUM(AI201:AN201))","v":170.48},{"$f":"IF(AP$3=0,\"\",INDEX(INDIRECT(AP$1),$P201,AP$3))","v":0},{"$f":"MATCH($A201&$B201,INDIRECT(AQ$2),0)","v":160},{"$f":"IF(AR$3=0,\"\",INDEX(INDIRECT(AR$1),$AQ201,AR$3))","v":39.76},114.73,0,0,15.99,"",{"$f":"IF(TotalSum=\"No\",INDEX(INDIRECT(AX$1),$AQ201,AX$3),SUM(AR201:AW201))","v":170.48},{"$f":"IF(AY$3=0,\"\",INDEX(INDIRECT(AY$1),$P201,AY$3))","v":0},{"$f":"A201&B201","v":"U13R01"},{"$f":"ROW(AZ201)","v":201}]
[{"$f":"A201","v":"U13"},"R02","EAA Ceiling R38 Verified Wall R11 Verified","Pass",148.41999999999999,148.41999999999999,0,"Yes",170.48,170.48,170.48,0,"Yes",{"$f":"N201","v":"U13R01"},22.060000000000002,161,36.04,96.39,0,0,15.99,0,148.41999999999999,0,161,36.04,96.39,0,0,15.99,0,148.41999999999999,0,161,39.76,114.73,0,0,15.99,"",170.48,0,161,39.76,114.73,0,0,15.99,"",170.48,0,"U13R02",202]
["U13","R03","EAA Ceiling R38 Verified Wall R13","Pass",146.16999999999999,146.16999999999999,0,"Yes",170.48,170.48,170.48,0,"Yes",{"$f":"N201","v":"U13R01"},24.310000000000002,162,35.11,95.07,0,0,15.99,0,146.16999999999999,0,162,35.11,95.07,0,0,15.99,0,146.16999999999999,0,162,39.76,114.73,0,0,15.99,"",170.48,0,162,39.76,114.73,0,0,15.99,"",170.48,0,"U13R03",203]
["U13","R04","EAA Ceiling R38 Verified Wall R13 Verified","Pass",146.16999999999999,146.16999999999999,0,"Yes",206.96,206.96,206.96,0,"Yes",{"$f":"N191","v":"U12R03"},60.79000000000002,163,35.11,95.07,0,0,15.99,0,146.16999999999999,0,163,35.11,95.07,0,0,15.99,0,146.16999999999999,0,163,54.78,136.19,0,0,15.99,"",206.96,0,163,54.78,136.19,0,0,15.99,"",206.96,0,"U13R04",204]
["U13","R05","EAA Ceiling R38 Verified HVAC Worse","Pass",145.52000000000001,145.52000000000001,0,"Yes",131.19,131.19,131.19,0,"Yes","U13R05",-14.330000000000013,164,45.74,83.79,0,0,15.99,0,145.52000000000001,0,164,45.74,83.79,0,0,15.99,0,145.52000000000001,0,164,48.05,67.150000000000006,0,0,15.99,"",131.19,0,164,48.05,67.150000000000006,0,0,15.99,"",131.19,0,"U13R05",205]
["U13","R06","EAA Ceiling R38 Verified HVAC Worse Verified","Pass",145.52000000000001,145.52000000000001,0,"Yes",131.19,131.19,131.19,0,"Yes",{"$f":"N205","v":"U13R05"},-14.330000000000013,165,45.74,83.79,0,0,15.99,0,145.52000000000001,0,165,45.74,83.79,0,0,15.99,0,145.52000000000001,0,165,48.05,67.150000000000006,0,0,15.99,"",131.19,0,165,48.05,67.150000000000006,0,0,15.99,"",131.19,0,"U13R06",206]
["U13","R07","EAA Ceiling R38 Verified HVAC Equal ","Pass",118.74,118.74,0,"Yes",131.19,131.19,131.19,0,"Yes",{"$f":"N205","v":"U13R05"},12.450000000000003,166,44.51,58.24,0,0,15.99,0,118.74,0,166,44.51,58.24,0,0,15.99,0,118.74,0,166,48.05,67.150000000000006,0,0,15.99,"",131.19,0,166,48.05,67.150000000000006,0,0,15.99,"",131.19,0,"U13R07",207]
["U13","R08","EAA Ceiling R38 Verified HVAC Equal Verified","Pass",118.74,118.74,0,"Yes",206.96,206.96,206.96,0,"Yes",{"$f":"N191","v":"U12R03"},88.220000000000013,167,44.51,58.24,0,0,15.99,0,118.74,0,167,44.51,58.24,0,0,15.99,0,118.74,0,167,54.78,136.19,0,0,15.99,"",206.96,0,167,54.78,136.19,0,0,15.99,"",206.96,0,"U13R08",208]
["U13","R09","EAA Ceiling R38 Verified HVAC Better","Pass",100.23,100.23,0,"Yes",131.19,131.19,131.19,0,"Yes",{"$f":"N205","v":"U13R05"},30.959999999999994,168,37.659999999999997,46.58,0,0,15.99,0,100.23,0,168,37.659999999999997,46.58,0,0,15.99,0,100.23,0,168,48.05,67.150000000000006,0,0,15.99,"",131.19,0,168,48.05,67.150000000000006,0,0,15.99,"",131.19,0,"U13R09",209]
["U13","R10","EAA Ceiling R38 Verified HVAC Better Verified","Pass",100.23,100.23,0,"Yes",206.96,206.96,206.96,0,"Yes",{"$f":"N191","v":"U12R03"},106.73,169,37.659999999999997,46.58,0,0,15.99,0,100.23,0,169,37.659999999999997,46.58,0,0,15.99,0,100.23,0,169,54.78,136.19,0,0,15.99,"",206.96,0,169,54.78,136.19,0,0,15.99,"",206.96,0,"U13R10",210]
[{"$f":"\"Result \"&A200","v":"Result U13"},null,null,{"$f":"IF(ConstructionType=\"New\",\"n/a\",IF(COUNTIF(D201:D210,Pass)=10,Pass,Fail))","v":"Pass"},{"$f":"IF(Units=\"EDR\",\"n/a\",AVERAGE(E201:E210))","v":131.81599999999997},{"$f":"IF(Units=\"EDR\",\"n/a\",AVERAGE(F201:F210))","v":131.81599999999997},{"$f":"IF(Units=\"EDR\",\"n/a\",IF(E211=0,0,(F211-E211)/E211))","v":0},null,{"$f":"IF(Units=\"EDR\",\"n/a\",AVERAGE(I201:I210))","v":165.70800000000003},{"$f":"IF(Units=\"EDR\",\"n/a\",AVERAGE(J201:J210))","v":165.70800000000003},{"$f":"IF(Units=\"EDR\",\"n/a\",AVERAGE(K201:K210))","v":165.70800000000003},{"$f":"IF(Units=\"EDR\",\"n/a\",IF(J211=0,0,(K211-J211)/J211))","v":0},"Min",{"$f":"MIN(L201:L210)","v":0},{"$f":"AVERAGE(O201:O210)","v":33.892000000000003},"Ave",{"$f":"AVERAGE(Q201:Q210)","v":39.811999999999998},{"$f":"AVERAGE(R201:R210)","v":76.01400000000001},{"$f":"AVERAGE(S201:S210)","v":0},null,{"$f":"AVERAGE(U201:U210)","v":15.99},{"$f":"AVERAGE(V201:V210)","v":0},{"$f":"AVERAGE(W201:W210)","v":131.81599999999997},{"$f":"AVERAGE(X195:X210)","v":1.6636540071697075},"Ave",{"$f":"AVERAGE(Z201:Z210)","v":39.811999999999998},{"$f":"AVERAGE(AA201:AA210)","v":76.01400000000001},{"$f":"AVERAGE(AB201:AB210)","v":0},{"$f":"AVERAGE(AC201:AC210)","v":0},{"$f":"AVERAGE(AD201:AD210)","v":15.99},null,{"$f":"AVERAGE(AF201:AF210)","v":131.81599999999997},{"$f":"AVERAGE(AG195:AG210)","v":1.6636540071697075},null,{"$f":"AVERAGE(AI201:AI210)","v":47.582000000000008},{"$f":"AVERAGE(AJ201:AJ210)","v":102.136},{"$f":"AVERAGE(AK201:AK210)","v":0},{"$f":"AVERAGE(AL201:AL210)","v":0},{"$f":"AVERAGE(AM201:AM210)","v":15.99},null,{"$f":"AVERAGE(AO201:AO210)","v":165.70800000000003},{"$f":"AVERAGE(AP195:AP210)","v":1.2611069111603697},null,{"$f":"AVERAGE(AR201:AR210)","v":47.582000000000008},{"$f":"AVERAGE(AS201:AS210)","v":102.136},{"$f":"AVERAGE(AT201:AT210)","v":0},{"$f":"AVERAGE(AU201:AU210)","v":0},{"$f":"AVERAGE(AV201:AV210)","v":15.99},null,{"$f":"AVERAGE(AX201:AX210)","v":165.70800000000003},{"$f":"AVERAGE(AY195:AY210)","v":1.2611069111603697}]
[null,null,"Page 7 of 7",{"$nulls":8},"Ave","Max",{"$f":"MAX(L201:L210)","v":0},{"$nulls":10},"% Diff",{"$f":"(Z211-Q211)/Q211","v":0},{"$f":"(AA211-R211)/R211","v":0},{"$f":"(AB211-S211)/S211","v":{"$error":"#DIV/0!"}},null,{"$f":"(AD211-U211)/U211","v":0},null,{"$f":"(AF211-W211)/W211","v":0}]

{"sheet":"Reference","index":4,"n_rows":170,"n_cols":235,"rows_kept":170,"cut":false,"hidden":false,"merged":[]}
["2016-08-31T16:59:42",667,"U",166,0,null,null,"Proposed Model Site Electric Use",{"$nulls":9},"Proposed Model Site Natural Gas Use",{"$nulls":9},"Proposed Model Site Other Fuel Use",{"$nulls":9},"Proposed Model TDV",{"$nulls":11},"Standard Model Site Electric Use",{"$nulls":9},"Standard Model Site Natural Gas Use",{"$nulls":9},"Standard Model Site Other Fuel Use",{"$nulls":9},"Standard Model TDV",{"$nulls":10},"Software Versions",null,null,null,"Proposed Model Electric Demand",{"$nulls":10},"Standard Model Electric Demand",{"$nulls":10},"Savings Results",null,null,null,"CAHP-SF / CAHP-MF / CMFNH Results",{"$nulls":8},"Proposed Design Rating Model Site Electric Use",{"$nulls":10},"Proposed  Design Rating Model Site Natural Gas Use",{"$nulls":9},"Proposed  Design Rating Model Site Other Fuel Use",{"$nulls":9},"Proposed  Design Rating Model TDV",{"$nulls":10},"Proposed Design Rating Model Electric Demand",{"$nulls":10},"Reference Design Rating Model Site Electric Use",{"$nulls":9},"Reference Design Rating Model Site Natural Gas Use",{"$nulls":9},"Reference Design Rating Model Site Other Fuel Use",{"$nulls":9},"Reference Design Rating Model TDV",{"$nulls":9},"Reference Design Rating Model Electric Demand",{"$nulls":9},"Energy Design Ratings"]
[null,"Project",null,null,"Pass /","Compliance","Design","Spc Heat","Spc Cool","IAQ Vent","Other HVAC","Wtr Heat","Ins Light","Appl & Cook","Plug Lds","Exterior","TOTAL","Spc Heat","Spc Cool","IAQ Vent","Other HVAC","Wtr Heat","Ins Light","Appl & Cook","Plug Lds","Exterior","TOTAL","Spc Heat","Spc Cool","IAQ Vent","Other HVAC","Wtr Heat","Ins Light","Appl & Cook","Plug Lds","Exterior","TOTAL","Spc Heat","Spc Cool","IAQ Vent","Other HVAC","Wtr Heat","PV Credit","Ins Light","Appl & Cook","Plug Lds","Exterior","TOTAL","Comp Total","Spc Heat","Spc Cool","IAQ Vent","Other HVAC","Wtr Heat","Ins Light","Appl & Cook","Plug Lds","Exterior","TOTAL","Spc Heat","Spc Cool","IAQ Vent","Other HVAC","Wtr Heat","Ins Light","Appl & Cook","Plug Lds","Exterior","TOTAL","Spc Heat","Spc Cool","IAQ Vent","Other HVAC","Wtr Heat","Ins Light","Appl & Cook","Plug Lds","Exterior","TOTAL","Spc Heat","Spc Cool","IAQ Vent","Other HVAC","Wtr Heat","Ins Light","Appl & Cook","Plug Lds","Exterior","TOTAL","Comp Total","Compliance",null,null,"End User","Spc Heat","Spc Cool","IAQ Vent","Other HVAC","Wtr Heat","Ins Light","Appl & Cook","Plug Lds","Exterior","TOTAL","Comp Total","Spc Heat","Spc Cool","IAQ Vent","Other HVAC","Wtr Heat","Ins Light","Appl & Cook","Plug Lds","Exterior","TOTAL","Comp Total","Total Demand","Compliance Demand","Total TDV","Compliance TDV","Zero Energy Ready Kicker","Future Code Kicker","High Efficacy Licker","Low Use Kicker","Ultra Low Use Kicker","Initial Score","Initial Incentive","Final Score","Final Incentive","Spc Heat","Spc Cool","IAQ Vent","Other HVAC","Wtr Heat","PV","Ins Light","Appl & Cook","Plug Lds","Exterior","TOTAL","Spc Heat","Spc Cool","IAQ Vent","Other HVAC","Wtr Heat","Ins Light","Appl & Cook","Plug Lds","Exterior","TOTAL","Spc Heat","Spc Cool","IAQ Vent","Other HVAC","Wtr Heat","Ins Light","Appl & Cook","Plug Lds","Exterior","TOTAL","Spc Heat","Spc Cool","IAQ Vent","Other HVAC","Wtr Heat","PV Credit","Ins Light","Appl & Cook","Plug Lds","Exterior","TOTAL","Spc Heat","Spc Cool","IAQ Vent","Other HVAC","Wtr Heat","PV","Ins Light","Appl & Cook","Plug Lds","Exterior","TOTAL","Spc Heat","Spc Cool","IAQ Vent","Other HVAC","Wtr Heat","Ins Light","Appl & Cook","Plug Lds","Exterior","TOTAL","Spc Heat","Spc Cool","IAQ Vent","Other HVAC","Wtr Heat","Ins Light","Appl & Cook","Plug Lds","Exterior","TOTAL","Spc Heat","Spc Cool","IAQ Vent","Other HVAC","Wtr Heat","Ins Light","Appl & Cook","Plug Lds","Exterior","TOTAL","Spc Heat","Spc Cool","IAQ Vent","Other HVAC","Wtr Heat","Ins Light","Appl & Cook","Plug Lds","Exterior","TOTAL","Spc Heat","Spc Cool","IAQ Vent","Other HVAC","Wtr Heat","Ins Light","Appl & Cook","Plug Lds","Exterior","TOTAL","Excluding","Only","Standard"]
["Run Date/Time","Path/File","Run Title","Analysis Type","Fail","Margin","Rating","(kWh)","(kWh)","(kWh)","(kWh)","(kWh)","(kWh)","(kWh)","(kWh)","(kWh)","(kWh)","(Therms)","(Therms)","(Therms)","(Therms)","(Therms)","(Therms)","(Therms)","(Therms)","(Therms)","(Therms)","(MMBtu)","(MMBtu)","(MMBtu)","(MMBtu)","(MMBtu)","(MMBtu)","(MMBtu)","(MMBtu)","(MMBtu)","(MMBtu)","(kTDV/ft2-yr)","(kTDV/ft2-yr)","(kTDV/ft2-yr)","(kTDV/ft2-yr)","(kTDV/ft2-yr)","(kTDV/ft2-yr)","(kTDV/ft2-yr)","(kTDV/ft2-yr)","(kTDV/ft2-yr)","(kTDV/ft2-yr)","(kTDV/ft2-yr)","(kTDV/ft2-yr)","(kWh)","(kWh)","(kWh)","(kWh)","(kWh)","(kWh)","(kWh)","(kWh)","(kWh)","(kWh)","(Therms)","(Therms)","(Therms)","(Therms)","(Therms)","(Therms)","(Therms)","(Therms)","(Therms)","(Therms)","(MMBtu)","(MMBtu)","(MMBtu)","(MMBtu)","(MMBtu)","(MMBtu)","(MMBtu)","(MMBtu)","(MMBtu)","(MMBtu)","(kTDV/ft2-yr)","(kTDV/ft2-yr)","(kTDV/ft2-yr)","(kTDV/ft2-yr)","(kTDV/ft2-yr)","(kTDV/ft2-yr)","(kTDV/ft2-yr)","(kTDV/ft2-yr)","(kTDV/ft2-yr)","(kTDV/ft2-yr)","(kTDV/ft2-yr)","Ruleset","CSE","CEC DHW","Application","(kW)","(kW)","(kW)","(kW)","(kW)","(kW)","(kW)","(kW)","(kW)","(kW)","(kW)","(kW)","(kW)","(kW)","(kW)","(kW)","(kW)","(kW)","(kW)","(kW)","(kW)","(kW)","(kW)","(kW)","(%)","(%)","(0 or 5)","(0 or 3)","(0 or 5)","(0 or 5)","(0 or 5)","(int)","($)","(int)","($)","(kWh)","(kWh)","(kWh)","(kWh)","(kWh)","(kWh)","(kWh)","(kWh)","(kWh)","(kWh)","(kWh)","(Therms)","(Therms)","(Therms)","(Therms)","(Therms)","(Therms)","(Therms)","(Therms)","(Therms)","(Therms)","(MMBtu)","(MMBtu)","(MMBtu)","(MMBtu)","(MMBtu)","(MMBtu)","(MMBtu)","(MMBtu)","(MMBtu)","(MMBtu)","(kTDV/ft2-yr)","(kTDV/ft2-yr)","(kTDV/ft2-yr)","(kTDV/ft2-yr)","(kTDV/ft2-yr)","(kTDV/ft2-yr)","(kTDV/ft2-yr)","(kTDV/ft2-yr)","(kTDV/ft2-yr)","(kTDV/ft2-yr)","(kTDV/ft2-yr)","(kW)","(kW)","(kW)","(kW)","(kW)","(kW)","(kW)","(kW)","(kW)","(kW)","(kW)","(kWh)","(kWh)","(kWh)","(kWh)","(kWh)","(kWh)","(kWh)","(kWh)","(kWh)","(kWh)","(Therms)","(Therms)","(Therms)","(Therms)","(Therms)","(Therms)","(Therms)","(Therms)","(Therms)","(Therms)","(MMBtu)","(MMBtu)","(MMBtu)","(MMBtu)","(MMBtu)","(MMBtu)","(MMBtu)","(MMBtu)","(MMBtu)","(MMBtu)","(kTDV/ft2-yr)","(kTDV/ft2-yr)","(kTDV/ft2-yr)","(kTDV/ft2-yr)","(kTDV/ft2-yr)","(kTDV/ft2-yr)","(kTDV/ft2-yr)","(kTDV/ft2-yr)","(kTDV/ft2-yr)","(kTDV/ft2-yr)","(kW)","(kW)","(kW)","(kW)","(kW)","(kW)","(kW)","(kW)","(kW)","(kW)","PV","PV","Design"]
["2016-08-31T17:00:50","U01R01","v27 01 S21 G20 M01","Proposed and Standard","PASS",0,57.255699999999997,315.01900000000001,0,111.69,0,0,505.55700000000002,889.01599999999996,2025.88,119.621,3966.79,366.858,0,0,0,129.65100000000001,0,43.669699999999999,0,0,540.17899999999997,0,0,0,0,0,0,0,0,0,0,34,0,1.17,0,10.27,0,5.44,13.06,21.44,1.2,86.58,45.44,315.01799999999997,0,111.69,0,0,505.55700000000002,889.01599999999996,2025.88,119.621,3966.79,366.85700000000003,0,0,0,129.65100000000001,0,43.669699999999999,0,0,540.178,0,0,0,0,0,0,0,0,0,0,34,0,1.17,0,10.27,5.44,13.06,21.44,1.2,86.58,45.44,"CA Residential 2016, Vers. 1.0","CSE 0.813 EXE",null,"MPCBECC",1.3120800000000001E-9,0,1.2753799999999999E-2,0,0,7.4915999999999996E-2,0.13228300000000001,0.25846799999999998,1.0530599999999999E-2,0.48895100000000002,1.2753799999999999E-2,1.3120800000000001E-9,0,1.2753799999999999E-2,0,0,7.4915999999999996E-2,0.13228300000000001,0.25846799999999998,1.0530599999999999E-2,0.48895100000000002,1.2753799999999999E-2,0,0,0,0,{"$nulls":9},315.01900000000001,0,111.69,0,0,0,505.55700000000002,889.01599999999996,2025.88,119.621,3966.79,366.858,0,0,0,129.65100000000001,0,43.669699999999999,0,0,540.17899999999997,0,0,0,0,0,0,0,0,0,0,34,0,1.17,0,10.27,0,5.44,13.06,21.44,1.2,86.58,1.3120800000000001E-9,0,1.2753799999999999E-2,0,0,0,7.4915999999999996E-2,0.13228300000000001,0.25846799999999998,1.0530599999999999E-2,0.48895100000000002,419.18900000000002,0,111.69,0,0,2135,930.00099999999998,2637.81,297.5,6531.19,348.87900000000002,0,0,0,183.46600000000001,0,65.400000000000006,0,0,597.745,0,0,0,0,0,0,0,0,0,0,33.33,0,1.17,0,14.53,23.21,14.89,28.04,2.82,117.99,1.8028300000000001E-9,0,1.2753799999999999E-2,0,0,0.33579999999999999,0.11074100000000001,0.35138000000000003,4.1461199999999997E-3,0.81482200000000005,57.255699999999997,0,57.255699999999997]
["2016-08-31T17:00:51","U01R02","v27 02 S21 G20 M01","Proposed and Standard","PASS",0,50.6128,212.21600000000001,6.16716,111.69,0,0,505.55700000000002,926.02300000000002,2025.88,119.621,3907.16,247.12899999999999,0,0,0,116.405,0,43.669699999999999,0,0,407.20400000000001,0,0,0,0,0,0,0,0,0,0,23.73,0.36,1.17,0,9.26,0,5.44,13.69,21.46,1.2,76.31,34.520000000000003,212.21600000000001,6.16716,111.69,0,0,505.55700000000002,926.02300000000002,2025.88,119.621,3907.16,247.12899999999999,0,0,0,116.405,0,43.669699999999999,0,0,407.20400000000001,0,0,0,0,0,0,0,0,0,0,23.73,0.36,1.17,0,9.26,5.44,13.69,21.46,1.2,76.31,34.520000000000003,"CA Residential 2016, Vers. 1.0","CSE 0.813 EXE",null,"MPCBECC",0,1.12493E-2,1.2753799999999999E-2,0,0,7.4915999999999996E-2,0.14302300000000001,0.25846799999999998,1.0530599999999999E-2,0.51094099999999998,2.4003E-2,0,1.12493E-2,1.2753799999999999E-2,0,0,7.4915999999999996E-2,0.14302300000000001,0.25846799999999998,1.0530599999999999E-2,0.51094099999999998,2.4003E-2,0,0,0,0,{"$nulls":9},212.21600000000001,6.16716,111.69,0,0,0,505.55700000000002,926.02300000000002,2025.88,119.621,3907.16,247.12899999999999,0,0,0,116.405,0,43.669699999999999,0,0,407.20400000000001,0,0,0,0,0,0,0,0,0,0,23.73,0.36,1.17,0,9.26,0,5.44,13.69,21.46,1.2,76.31,0,1.12493E-2,1.2753799999999999E-2,0,0,0,7.4915999999999996E-2,0.14302300000000001,0.25846799999999998,1.0530599999999999E-2,0.51094099999999998,455.72300000000001,63.205500000000001,111.69,0,0,2135,930.00099999999998,2637.81,297.5,6630.93,379.27100000000002,0,0,0,170.803,0,65.400000000000006,0,0,615.47400000000005,0,0,0,0,0,0,0,0,0,0,37.39,3.55,1.17,0,13.59,23.29,14.9,28.13,2.81,124.83,0,0.130719,1.2753799999999999E-2,0,0,0.33579999999999999,0.11074100000000001,0.35138000000000003,4.1461199999999997E-3,0.94554099999999996,50.6128,0,50.6128]
["2016-08-31T17:00:51","U01R03","v27 03 S21 G20 M01","Proposed and Standard","PASS",0,47.807600000000001,129.86799999999999,0,111.69,0,0,505.55700000000002,919.53800000000001,2025.88,119.621,3812.16,151.22499999999999,0,0,0,116.887,0,43.669699999999999,0,0,311.78100000000001,0,0,0,0,0,0,0,0,0,0,14.68,0,1.17,0,9.2799999999999994,0,5.41,13.54,21.43,1.19,66.7,25.13,129.86799999999999,0,111.69,0,0,505.55700000000002,919.53800000000001,2025.88,119.621,3812.16,151.22499999999999,0,0,0,116.887,0,43.669699999999999,0,0,311.78100000000001,0,0,0,0,0,0,0,0,0,0,14.68,0,1.17,0,9.2799999999999994,5.41,13.54,21.43,1.19,66.7,25.13,"CA Residential 2016, Vers. 1.0","CSE 0.813 EXE",null,"MPCBECC",0,0,1.2753799999999999E-2,0,0,7.4915999999999996E-2,0.13894100000000001,0.25846799999999998,1.0530599999999999E-2,0.49560900000000002,1.2753799999999999E-2,0,0,1.2753799999999999E-2,0,0,7.4915999999999996E-2,0.13894100000000001,0.25846799999999998,1.0530599999999999E-2,0.49560900000000002,1.2753799999999999E-2,0,0,0,0,{"$nulls":9},129.86799999999999,0,111.69,0,0,0,505.55700000000002,919.53800000000001,2025.88,119.621,3812.16,151.22499999999999,0,0,0,116.887,0,43.669699999999999,0,0,311.78100000000001,0,0,0,0,0,0,0,0,0,0,14.68,0,1.17,0,9.2799999999999994,0,5.41,13.54,21.43,1.19,66.7,0,0,1.2753799999999999E-2,0,0,0,7.4915999999999996E-2,0.13894100000000001,0.25846799999999998,1.0530599999999999E-2,0.49560900000000002,387.17700000000002,0,111.69,0,0,2135,930.00099999999998,2637.81,297.5,6499.18,322.20699999999999,0,0,0,171.37200000000001,0,65.400000000000006,0,0,558.97900000000004,0,0,0,0,0,0,0,0,0,0,31.69,0,1.17,0,13.6,23.09,14.89,28.02,2.78,115.24,0,0,1.2753799999999999E-2,0,0,0.33579999999999999,0.11074100000000001,0.35138000000000003,4.1461199999999997E-3,0.81482200000000005,47.807600000000001,0,47.807600000000001]
["2016-08-31T17:00:51","U01R04","v27 04 S21 G20 M01","Proposed and Standard","PASS",0,48.244599999999998,149.80000000000001,24.561900000000001,111.69,0,0,505.55700000000002,938.95500000000004,2025.88,119.621,3876.07,174.44499999999999,0,0,0,111.371,0,43.669699999999999,0,0,329.48599999999999,0,0,0,0,0,0,0,0,0,0,16.82,1.6,1.17,0,8.8699999999999992,0,5.46,13.77,21.48,1.2,70.37,28.46,149.80000000000001,24.561900000000001,111.69,0,0,505.55700000000002,938.95500000000004,2025.88,119.621,3876.07,174.44499999999999,0,0,0,111.371,0,43.669699999999999,0,0,329.48599999999999,0,0,0,0,0,0,0,0,0,0,16.82,1.6,1.17,0,8.8699999999999992,5.46,13.77,21.48,1.2,70.37,28.46,"CA Residential 2016, Vers. 1.0","CSE 0.813 EXE",null,"MPCBECC",0,0.15347,1.2753799999999999E-2,0,0,7.4915999999999996E-2,0.14660000000000001,0.25846799999999998,1.0530599999999999E-2,0.65673800000000004,0.16622300000000001,0,0.15347,1.2753799999999999E-2,0,0,7.4915999999999996E-2,0.14660000000000001,0.25846799999999998,1.0530599999999999E-2,0.65673800000000004,0.16622300000000001,0,0,0,0,{"$nulls":9},149.80000000000001,24.561900000000001,111.69,0,0,0,505.55700000000002,938.95500000000004,2025.88,119.621,3876.07,174.44499999999999,0,0,0,111.371,0,43.669699999999999,0,0,329.48599999999999,0,0,0,0,0,0,0,0,0,0,16.82,1.6,1.17,0,8.8699999999999992,0,5.46,13.77,21.48,1.2,70.37,0,0.15347,1.2753799999999999E-2,0,0,0,7.4915999999999996E-2,0.14660000000000001,0.25846799999999998,1.0530599999999999E-2,0.65673800000000004,351.05599999999998,151.226,111.69,0,0,2135,930.00099999999998,2637.81,297.5,6614.28,292.16399999999999,0,0,0,165.96,0,65.400000000000006,0,0,523.524,0,0,0,0,0,0,0,0,0,0,28.98,8.16,1.17,0,13.22,23.33,14.9,28.15,2.8,120.71,0,0.64194300000000004,1.2753799999999999E-2,0,0,0.33579999999999999,0.11074100000000001,0.35138000000000003,4.1461199999999997E-3,1.4567600000000001,48.244599999999998,0,48.244599999999998]
["2016-08-31T17:00:50","U01R05","v27 05 S21 G20 M01","Proposed and Standard","PASS",0,44.633899999999997,108.196,0,111.69,0,0,505.55700000000002,919.42700000000002,2025.88,119.621,3790.37,126.003,0,0,0,119.652,0,43.669699999999999,0,0,289.32499999999999,0,0,0,0,0,0,0,0,0,0,12.03,0,1.17,0,9.48,0,5.36,13.44,21.36,1.19,64.03,22.68,108.196,0,111.69,0,0,505.55700000000002,919.42700000000002,2025.88,119.621,3790.37,126.003,0,0,0,119.652,0,43.669699999999999,0,0,289.32499999999999,0,0,0,0,0,0,0,0,0,0,12.03,0,1.17,0,9.48,5.36,13.44,21.36,1.19,64.03,22.68,"CA Residential 2016, Vers. 1.0","CSE 0.813 EXE",null,"MPCBECC",0,0,1.2753799999999999E-2,0,0,7.4915999999999996E-2,0.138463,0.25846799999999998,1.0530599999999999E-2,0.49513099999999999,1.2753799999999999E-2,0,0,1.2753799999999999E-2,0,0,7.4915999999999996E-2,0.138463,0.25846799999999998,1.0530599999999999E-2,0.49513099999999999,1.2753799999999999E-2,0,0,0,0,{"$nulls":9},108.196,0,111.69,0,0,0,505.55700000000002,919.42700000000002,2025.88,119.621,3790.37,126.003,0,0,0,119.652,0,43.669699999999999,0,0,289.32499999999999,0,0,0,0,0,0,0,0,0,0,12.03,0,1.17,0,9.48,0,5.36,13.44,21.36,1.19,64.03,0,0,1.2753799999999999E-2,0,0,0,7.4915999999999996E-2,0.138463,0.25846799999999998,1.0530599999999999E-2,0.49513099999999999,402.94099999999997,0,111.69,0,0,2135,930.00099999999998,2637.81,297.5,6514.94,335.36399999999998,0,0,0,174.023,0,65.400000000000006,0,0,574.78800000000001,0,0,0,0,0,0,0,0,0,0,32.380000000000003,0,1.17,0,13.79,22.84,14.87,27.86,2.78,115.69,2.6512700000000002E-15,0,1.2753799999999999E-2,0,0,0.33579999999999999,0.11074100000000001,0.35138000000000003,4.1461199999999997E-3,0.81482200000000005,44.633899999999997,0,44.633899999999997]
["2016-08-31T17:00:50","U01R06","v27 06 S21 G20 M01","Proposed and Standard","PASS",0,51.020899999999997,67.737799999999993,35.925899999999999,111.69,0,0,505.55700000000002,953.52599999999995,2025.88,119.621,3819.94,78.880399999999995,0,0,0,106.27500000000001,0,43.669699999999999,0,0,228.82499999999999,0,0,0,0,0,0,0,0,0,0,7.7,2.16,1.1299999999999999,0,8.5,0,5.27,13.63,20.78,1.1499999999999999,60.32,19.489999999999998,67.737700000000004,35.925899999999999,111.69,0,0,505.55700000000002,953.52599999999995,2025.88,119.621,3819.94,78.880300000000005,0,0,0,106.27500000000001,0,43.669699999999999,0,0,228.82499999999999,0,0,0,0,0,0,0,0,0,0,7.7,2.16,1.1299999999999999,0,8.5,5.27,13.63,20.78,1.1499999999999999,60.32,19.489999999999998,"CA Residential 2016, Vers. 1.0","CSE 0.813 EXE",null,"MPCBECC",0,0.17299300000000001,1.2753799999999999E-2,0,0,7.4915999999999996E-2,0.14454600000000001,0.25846799999999998,1.0530599999999999E-2,0.67420800000000003,0.185747,0,0.17299300000000001,1.2753799999999999E-2,0,0,7.4915999999999996E-2,0.14454600000000001,0.25846799999999998,1.0530599999999999E-2,0.67420800000000003,0.185747,0,0,0,0,{"$nulls":9},67.737799999999993,35.925899999999999,111.69,0,0,0,505.55700000000002,953.52599999999995,2025.88,119.621,3819.94,78.880399999999995,0,0,0,106.27500000000001,0,43.669699999999999,0,0,228.82499999999999,0,0,0,0,0,0,0,0,0,0,7.7,2.16,1.1299999999999999,0,8.5,0,5.27,13.63,20.78,1.1499999999999999,60.32,0,0.17299300000000001,1.2753799999999999E-2,0,0,0,7.4915999999999996E-2,0.14454600000000001,0.25846799999999998,1.0530599999999999E-2,0.67420800000000003,148.465,90.926299999999998,111.69,0,0,2135,930.00099999999998,2637.81,297.5,6351.39,123.557,0,0,0,161.15600000000001,0,65.400000000000006,0,0,350.113,0,0,0,0,0,0,0,0,0,0,12.35,5.55,1.1299999999999999,0,12.88,22.42,14.59,27.08,2.74,98.74,0,0.29978900000000003,1.2753799999999999E-2,0,0,0.33579999999999999,0.11074100000000001,0.35138000000000003,4.1461199999999997E-3,1.1146100000000001,51.020899999999997,0,51.020899999999997]
["2016-08-31T17:00:50","U01R07","v27 07 S21 G20 M01","Proposed and Standard","PASS",0,49.796500000000002,25.065000000000001,3.65082,111.69,0,0,505.55700000000002,955.10199999999998,2025.88,119.621,3746.57,29.187200000000001,0,0,0,104.54600000000001,0,43.669699999999999,0,0,177.40299999999999,0,0,0,0,0,0,0,0,0,0,2.75,0.3,1.17,0,8.1999999999999993,0,5.54,13.89,21.65,1.22,54.72,12.42,25.065000000000001,3.65082,111.69,0,0,505.55700000000002,955.10199999999998,2025.88,119.621,3746.57,29.187200000000001,0,0,0,104.54600000000001,0,43.669699999999999,0,0,177.40299999999999,0,0,0,0,0,0,0,0,0,0,2.75,0.3,1.17,0,8.1999999999999993,5.54,13.89,21.65,1.22,54.72,12.42,"CA Residential 2016, Vers. 1.0","CSE 0.813 EXE",null,"MPCBECC",0,3.2055100000000003E-2,1.2753799999999999E-2,0,0,7.4915999999999996E-2,0.144064,0.25846799999999998,1.0530599999999999E-2,0.53278700000000001,4.4808899999999999E-2,0,3.2055100000000003E-2,1.2753799999999999E-2,0,0,7.4915999999999996E-2,0.144064,0.25846799999999998,1.0530599999999999E-2,0.53278700000000001,4.4808899999999999E-2,0,0,0,0,{"$nulls":9},25.065000000000001,3.65082,111.69,0,0,0,505.55700000000002,955.10199999999998,2025.88,119.621,3746.57,29.187200000000001,0,0,0,104.54600000000001,0,43.669699999999999,0,0,177.40299999999999,0,0,0,0,0,0,0,0,0,0,2.75,0.3,1.17,0,8.1999999999999993,0,5.54,13.89,21.65,1.22,54.72,0,3.2055100000000003E-2,1.2753799999999999E-2,0,0,0,7.4915999999999996E-2,0.144064,0.25846799999999998,1.0530599999999999E-2,0.53278700000000001,60.110500000000002,29.023700000000002,111.69,0,0,2135,930.00099999999998,2637.81,297.5,6201.14,50.023800000000001,0,0,0,159.6,0,65.400000000000006,0,0,275.024,0,0,0,0,0,0,0,0,0,0,4.8499999999999996,2.38,1.17,0,12.51,23.59,14.88,28.26,2.93,90.57,0,0.133802,1.2753799999999999E-2,0,0,0.33579999999999999,0.11074100000000001,0.35138000000000003,4.1461199999999997E-3,0.94862299999999999,49.796500000000002,0,49.796500000000002]
["2016-08-31T17:00:51","U01R08","v27 08 S21 G20 M01","Proposed and Standard","PASS",0,46.755400000000002,35.346200000000003,226.191,111.69,0,0,505.55700000000002,969.94299999999998,2025.88,119.621,3994.23,41.160699999999999,0,0,0,101.84099999999999,0,43.669699999999999,0,0,186.672,0,0,0,0,0,0,0,0,0,0,4.03,6.22,1.1299999999999999,0,8.15,0,5.32,13.84,20.87,1.17,60.73,19.53,35.346200000000003,226.191,111.69,0,0,505.55700000000002,969.94299999999998,2025.88,119.621,3994.23,41.160699999999999,0,0,0,101.84099999999999,0,43.669699999999999,0,0,186.672,0,0,0,0,0,0,0,0,0,0,4.03,6.22,1.1299999999999999,0,8.15,5.32,13.84,20.87,1.17,60.73,19.53,"CA Residential 2016, Vers. 1.0","CSE 0.813 EXE",null,"MPCBECC",0,0.45141500000000001,1.2753799999999999E-2,0,0,7.4915999999999996E-2,0.149196,0.25846799999999998,1.0530599999999999E-2,0.95727799999999996,0.46416800000000003,0,0.45141500000000001,1.2753799999999999E-2,0,0,7.4915999999999996E-2,0.149196,0.25846799999999998,1.0530599999999999E-2,0.95727799999999996,0.46416800000000003,0,0,0,0,{"$nulls":9},35.346200000000003,226.191,111.69,0,0,0,505.55700000000002,969.94299999999998,2025.88,119.621,3994.23,41.160699999999999,0,0,0,101.84099999999999,0,43.669699999999999,0,0,186.672,0,0,0,0,0,0,0,0,0,0,4.03,6.22,1.1299999999999999,0,8.15,0,5.32,13.84,20.87,1.17,60.73,0,0.45141500000000001,1.2753799999999999E-2,0,0,0,7.4915999999999996E-2,0.149196,0.25846799999999998,1.0530599999999999E-2,0.95727799999999996,108.01900000000001,654.303,111.69,0,0,2135,930.00099999999998,2637.81,297.5,6874.32,89.896699999999996,0,0,0,156.83799999999999,0,65.400000000000006,0,0,312.13400000000001,0,0,0,0,0,0,0,0,0,0,9.02,22.55,1.1299999999999999,0,12.55,22.64,14.62,27.23,2.79,112.53,0,1.5246500000000001,1.2753799999999999E-2,0,0,0.33579999999999999,0.11074100000000001,0.35138000000000003,4.1461199999999997E-3,2.33948,46.755400000000002,0,46.755400000000002]
["2016-08-31T17:00:45","U01R09","v27 09 S21 G20 M01","Proposed and Standard","PASS",0,47.563800000000001,54.219000000000001,462.12099999999998,111.69,0,0,505.55700000000002,969.65200000000004,2025.88,119.621,4248.74,63.1571,0,0,0,101.676,0,43.669699999999999,0,0,208.50299999999999,0,0,0,0,0,0,0,0,0,0,6.13,16.899999999999999,1.1200000000000001,0,8.15,0,5.25,13.72,20.63,1.1499999999999999,73.05,32.299999999999997,54.219000000000001,462.12099999999998,111.69,0,0,505.55700000000002,969.65200000000004,2025.88,119.621,4248.74,63.1571,0,0,0,101.676,0,43.669699999999999,0,0,208.50299999999999,0,0,0,0,0,0,0,0,0,0,6.13,16.899999999999999,1.1200000000000001,0,8.15,5.25,13.72,20.63,1.1499999999999999,73.05,32.299999999999997,"CA Residential 2016, Vers. 1.0","CSE 0.813 EXE",null,"MPCBECC",0,1.17225,1.2753799999999999E-2,0,0,7.4915999999999996E-2,0.15179799999999999,0.25846799999999998,1.0530599999999999E-2,1.6807099999999999,1.1850000000000001,0,1.17225,1.2753799999999999E-2,0,0,7.4915999999999996E-2,0.15179799999999999,0.25846799999999998,1.0530599999999999E-2,1.6807099999999999,1.1850000000000001,-1.1920900000000001E-7,-1.1920900000000001E-7,0,0,{"$nulls":9},54.219000000000001,462.12099999999998,111.69,0,0,0,505.55700000000002,969.65200000000004,2025.88,119.621,4248.74,63.1571,0,0,0,101.676,0,43.669699999999999,0,0,208.50299999999999,0,0,0,0,0,0,0,0,0,0,6.13,16.899999999999999,1.1200000000000001,0,8.15,0,5.25,13.72,20.63,1.1499999999999999,73.05,0,1.17225,1.2753799999999999E-2,0,0,0,7.4915999999999996E-2,0.15179799999999999,0.25846799999999998,1.0530599999999999E-2,1.6807099999999999,152.267,1205.06,111.69,0,0,2135,930.00099999999998,2637.81,297.5,7469.33,126.76,0,0,0,156.63499999999999,0,65.400000000000006,0,0,348.79500000000002,0,0,0,0,0,0,0,0,0,0,12.63,43.11,1.1200000000000001,0,12.56,22.39,14.52,26.97,2.75,136.05000000000001,0,2.45269,1.2753799999999999E-2,0,0,0.33579999999999999,0.11074100000000001,0.35138000000000003,4.1461199999999997E-3,3.2675100000000001,47.563800000000001,0,47.563800000000001]
["2016-08-31T17:00:47","U01R10","v27 10 S21 G20 M01","Proposed and Standard","PASS",0,45.825800000000001,64.058099999999996,580.50699999999995,111.69,0,0,505.55700000000002,971.48599999999999,2025.88,119.621,4378.8,74.621600000000001,0,0,0,100.913,0,43.669699999999999,0,0,219.20400000000001,0,0,0,0,0,0,0,0,0,0,7.23,16.27,1.1200000000000001,0,8.11,0,5.18,13.68,20.54,1.1399999999999999,73.27,32.729999999999997,64.058099999999996,580.50699999999995,111.69,0,0,505.55700000000002,971.48599999999999,2025.88,119.621,4378.8,74.621600000000001,0,0,0,100.913,0,43.669699999999999,0,0,219.20400000000001,0,0,0,0,0,0,0,0,0,0,7.23,16.27,1.1200000000000001,0,8.11,5.18,13.68,20.54,1.1399999999999999,73.27,32.729999999999997,"CA Residential 2016, Vers. 1.0","CSE 0.813 EXE",null,"MPCBECC",0,1.1548700000000001,1.2753799999999999E-2,0,0,7.4915999999999996E-2,0.15229400000000001,0.25846799999999998,1.0530599999999999E-2,1.6638299999999999,1.1676200000000001,0,1.1548700000000001,1.2753799999999999E-2,0,0,7.4915999999999996E-2,0.15229400000000001,0.25846799999999998,1.0530599999999999E-2,1.6638299999999999,1.1676200000000001,0,0,0,0,{"$nulls":9},64.058099999999996,580.50699999999995,111.69,0,0,0,505.55700000000002,971.48599999999999,2025.88,119.621,4378.8,74.621600000000001,0,0,0,100.913,0,43.669699999999999,0,0,219.20400000000001,0,0,0,0,0,0,0,0,0,0,7.23,16.27,1.1200000000000001,0,8.11,0,5.18,13.68,20.54,1.1399999999999999,73.27,0,1.1548700000000001,1.2753799999999999E-2,0,0,0,7.4915999999999996E-2,0.15229400000000001,0.25846799999999998,1.0530599999999999E-2,1.6638299999999999,170.91200000000001,1686.8,111.69,0,0,2135,930.00099999999998,2637.81,297.5,7969.71,142.28800000000001,0,0,0,155.80699999999999,0,65.400000000000006,0,0,363.495,0,0,0,0,0,0,0,0,0,0,14.15,48.73,1.1200000000000001,0,12.51,22.15,14.51,26.85,2.71,142.72999999999999,0,2.7154500000000001,1.2753799999999999E-2,0,0,0.33579999999999999,0.11074100000000001,0.35138000000000003,4.1461199999999997E-3,3.5302699999999998,45.825800000000001,0,45.825800000000001]
["2016-08-31T17:00:45","U01R11","v27 11 S21 G20 M01","Proposed and Standard","PASS",0,49.292999999999999,180.417,1317.77,111.69,0,0,505.55700000000002,966.471,2025.88,119.621,5227.41,210.12,0,0,0,103.003,0,43.669699999999999,0,0,356.79199999999997,0,0,0,0,0,0,0,0,0,0,20.32,34.44,1.17,0,8.2799999999999994,0,5.52,14.3,21.53,1.21,106.77,64.209999999999994,180.417,1317.77,111.69,0,0,505.55700000000002,966.471,2025.88,119.621,5227.41,210.12,0,0,0,103.003,0,43.669699999999999,0,0,356.79199999999997,0,0,0,0,0,0,0,0,0,0,20.32,34.44,1.17,0,8.2799999999999994,5.52,14.3,21.53,1.21,106.77,64.209999999999994,"CA Residential 2016, Vers. 1.0","CSE 0.813 EXE",null,"MPCBECC",0,1.54339,1.2753799999999999E-2,0,0,7.4915999999999996E-2,0.152701,0.25846799999999998,1.0530599999999999E-2,2.0527600000000001,1.5561400000000001,0,1.54339,1.2753799999999999E-2,0,0,7.4915999999999996E-2,0.152701,0.25846799999999998,1.0530599999999999E-2,2.0527600000000001,1.5561400000000001,0,0,0,0,{"$nulls":9},180.417,1317.77,111.69,0,0,0,505.55700000000002,966.471,2025.88,119.621,5227.41,210.12,0,0,0,103.003,0,43.669699999999999,0,0,356.79199999999997,0,0,0,0,0,0,0,0,0,0,20.32,34.44,1.17,0,8.2799999999999994,0,5.52,14.3,21.53,1.21,106.77,0,1.54339,1.2753799999999999E-2,0,0,0,7.4915999999999996E-2,0.152701,0.25846799999999998,1.0530599999999999E-2,2.0527600000000001,414.50099999999998,3106.48,111.69,0,0,2135,930.00099999999998,2637.81,297.5,9632.98,345.00099999999998,0,0,0,157.63800000000001,0,65.400000000000006,0,0,568.03899999999999,0,0,0,0,0,0,0,0,0,0,34.33,74.87,1.17,0,12.68,23.7,14.91,28.28,2.86,192.8,0,3.16703,1.2753799999999999E-2,0,0,0.33579999999999999,0.11074100000000001,0.35138000000000003,4.1461199999999997E-3,3.9818600000000002,49.292999999999999,0,49.292999999999999]
["2016-08-31T17:00:46","U01R12","v27 12 S21 G20 M01","Proposed and Standard","PASS",0,45.609200000000001,189.36,276.12799999999999,111.69,0,0,505.55700000000002,948.78800000000001,2025.88,119.621,4177.03,220.50200000000001,0,0,0,108.29,0,43.669699999999999,0,0,372.46199999999999,0,0,0,0,0,0,0,0,0,0,21.38,10.23,1.17,0,8.66,0,5.55,14.02,21.58,1.22,83.81,41.44,189.36,276.12799999999999,111.69,0,0,505.55700000000002,948.78800000000001,2025.88,119.621,4177.03,220.50200000000001,0,0,0,108.29,0,43.669699999999999,0,0,372.46199999999999,0,0,0,0,0,0,0,0,0,0,21.38,10.23,1.17,0,8.66,5.55,14.02,21.58,1.22,83.81,41.44,"CA Residential 2016, Vers. 1.0","CSE 0.813 EXE",null,"MPCBECC",0,0.53406799999999999,1.2753799999999999E-2,0,0,7.4915999999999996E-2,0.14984600000000001,0.25846799999999998,1.0530599999999999E-2,1.0405800000000001,0.54682200000000003,0,0.53406799999999999,1.2753799999999999E-2,0,0,7.4915999999999996E-2,0.14984600000000001,0.25846799999999998,1.0530599999999999E-2,1.0405800000000001,0.54682200000000003,0,0,0,0,{"$nulls":9},189.36,276.12799999999999,111.69,0,0,0,505.55700000000002,948.78800000000001,2025.88,119.621,4177.03,220.50200000000001,0,0,0,108.29,0,43.669699999999999,0,0,372.46199999999999,0,0,0,0,0,0,0,0,0,0,21.38,10.23,1.17,0,8.66,0,5.55,14.02,21.58,1.22,83.81,0,0.53406799999999999,1.2753799999999999E-2,0,0,0,7.4915999999999996E-2,0.14984600000000001,0.25846799999999998,1.0530599999999999E-2,1.0405800000000001,420.762,1095.06,111.69,0,0,2135,930.00099999999998,2637.81,297.5,7627.83,350.15800000000002,0,0,0,162.852,0,65.400000000000006,0,0,578.41,0,0,0,0,0,0,0,0,0,0,34.94,41.16,1.17,0,13.03,23.83,14.92,28.35,2.86,160.26,0,2.2516400000000001,1.2753799999999999E-2,0,0,0.33579999999999999,0.11074100000000001,0.35138000000000003,4.1461199999999997E-3,3.0664600000000002,45.609200000000001,0,45.609200000000001]
["2016-08-31T17:00:46","U01R13","v27 13 S21 G20 M01","Proposed and Standard","PASS",0,50.942900000000002,156.69300000000001,1495.85,111.69,0,0,505.55700000000002,975.74699999999996,2025.88,119.621,5391.04,182.489,0,0,0,101.053,0,43.669699999999999,0,0,327.21199999999999,0,0,0,0,0,0,0,0,0,0,17.77,38.4,1.17,0,8.1300000000000008,0,5.5,14.21,21.53,1.21,107.92,65.47,156.69300000000001,1495.85,111.69,0,0,505.55700000000002,975.74699999999996,2025.88,119.621,5391.04,182.489,0,0,0,101.053,0,43.669699999999999,0,0,327.21199999999999,0,0,0,0,0,0,0,0,0,0,17.77,38.4,1.17,0,8.1300000000000008,5.5,14.21,21.53,1.21,107.92,65.47,"CA Residential 2016, Vers. 1.0","CSE 0.813 EXE",null,"MPCBECC",0,1.98539,1.2753799999999999E-2,0,0,7.4915999999999996E-2,0.153729,0.25846799999999998,1.0530599999999999E-2,2.49579,1.9981500000000001,0,1.98539,1.2753799999999999E-2,0,0,7.4915999999999996E-2,0.153729,0.25846799999999998,1.0530599999999999E-2,2.49579,1.9981500000000001,0,0,0,0,{"$nulls":9},156.69300000000001,1495.85,111.69,0,0,0,505.55700000000002,975.74699999999996,2025.88,119.621,5391.04,182.489,0,0,0,101.053,0,43.669699999999999,0,0,327.21199999999999,0,0,0,0,0,0,0,0,0,0,17.77,38.4,1.17,0,8.1300000000000008,0,5.5,14.21,21.53,1.21,107.92,0,1.98539,1.2753799999999999E-2,0,0,0,7.4915999999999996E-2,0.153729,0.25846799999999998,1.0530599999999999E-2,2.49579,365.69200000000001,3417.01,111.69,0,0,2135,930.00099999999998,2637.81,297.5,9894.7000000000007,304.37400000000002,0,0,0,155.65700000000001,0,65.400000000000006,0,0,525.43100000000004,0,0,0,0,0,0,0,0,0,0,30.5,75.56,1.17,0,12.52,23.59,14.91,28.27,2.82,189.34,0,3.4108700000000001,1.2753799999999999E-2,0,0,0.33579999999999999,0.11074100000000001,0.35138000000000003,4.1461199999999997E-3,4.2256900000000002,50.942900000000002,0,50.942900000000002]
["2016-08-31T17:01:03","U01R14","v27 14 S21 G20 M01","Proposed and Standard","PASS",0,49.968899999999998,174.58,1281.03,111.69,0,0,505.55700000000002,964.49599999999998,2025.88,119.621,5182.8599999999997,203.53700000000001,0,0,0,104.271,0,43.669699999999999,0,0,351.47899999999998,0,0,0,0,0,0,0,0,0,0,19.760000000000002,32.119999999999997,1.1200000000000001,0,8.4499999999999993,0,5.26,13.67,20.6,1.1499999999999999,102.13,61.45,174.58,1281.03,111.69,0,0,505.55700000000002,964.49599999999998,2025.88,119.621,5182.8599999999997,203.53700000000001,0,0,0,104.271,0,43.669699999999999,0,0,351.47899999999998,0,0,0,0,0,0,0,0,0,0,19.760000000000002,32.119999999999997,1.1200000000000001,0,8.4499999999999993,5.26,13.67,20.6,1.1499999999999999,102.13,61.45,"CA Residential 2016, Vers. 1.0","CSE 0.813 EXE",null,"MPCBECC",0,1.7926599999999999,1.2753799999999999E-2,0,0,7.4915999999999996E-2,0.15366099999999999,0.25846799999999998,1.0530599999999999E-2,2.3029899999999999,1.80541,0,1.7926599999999999,1.2753799999999999E-2,0,0,7.4915999999999996E-2,0.15366099999999999,0.25846799999999998,1.0530599999999999E-2,2.3029899999999999,1.80541,0,0,0,0,{"$nulls":9},174.58,1281.03,111.69,0,0,0,505.55700000000002,964.49599999999998,2025.88,119.621,5182.8599999999997,203.53700000000001,0,0,0,104.271,0,43.669699999999999,0,0,351.47899999999998,0,0,0,0,0,0,0,0,0,0,19.760000000000002,32.119999999999997,1.1200000000000001,0,8.4499999999999993,0,5.26,13.67,20.6,1.1499999999999999,102.13,0,1.7926599999999999,1.2753799999999999E-2,0,0,0,7.4915999999999996E-2,0.15366099999999999,0.25846799999999998,1.0530599999999999E-2,2.3029899999999999,413.59399999999999,2961.78,111.69,0,0,2135,930.00099999999998,2637.81,297.5,9487.3799999999992,344.61599999999999,0,0,0,158.755,0,65.400000000000006,0,0,568.77,0,0,0,0,0,0,0,0,0,0,34.380000000000003,66.819999999999993,1.1200000000000001,0,12.86,22.6,14.52,27.07,2.72,182.09,0,3.1716700000000002,1.2753799999999999E-2,0,0,0.33579999999999999,0.11074100000000001,0.35138000000000003,4.1461199999999997E-3,3.9864899999999999,49.968899999999998,0,49.968899999999998]
["2016-08-31T17:00:46","U01R15","v27 15 S21 G20 M01","Proposed and Standard","PASS",0,56.3309,5.7251099999999999,4900.54,111.69,0,0,505.55700000000002,1044.02,2025.88,119.621,8713.0400000000009,6.6680599999999997,0,0,0,75.512,0,43.669699999999999,0,0,125.85,0,0,0,0,0,0,0,0,0,0,0.66,88.15,1.1200000000000001,0,6.16,0,5.29,14.42,20.64,1.1599999999999999,137.6,96.09,5.7251099999999999,4900.54,111.69,0,0,505.55700000000002,1044.02,2025.88,119.621,8713.0400000000009,6.6680599999999997,0,0,0,75.512,0,43.669699999999999,0,0,125.85,0,0,0,0,0,0,0,0,0,0,0.66,88.15,1.1200000000000001,0,6.16,5.29,14.42,20.64,1.1599999999999999,137.6,96.09,"CA Residential 2016, Vers. 1.0","CSE 0.813 EXE",null,"MPCBECC",0,3.71062,1.2753799999999999E-2,0,0,7.4915999999999996E-2,0.15804599999999999,0.25846799999999998,1.0530599999999999E-2,4.2253299999999996,3.7233700000000001,0,3.71062,1.2753799999999999E-2,0,0,7.4915999999999996E-2,0.15804599999999999,0.25846799999999998,1.0530599999999999E-2,4.2253299999999996,3.7233700000000001,0,0,0,0,{"$nulls":9},5.7251099999999999,4900.54,111.69,0,0,0,505.55700000000002,1044.02,2025.88,119.621,8713.0400000000009,6.6680599999999997,0,0,0,75.512,0,43.669699999999999,0,0,125.85,0,0,0,0,0,0,0,0,0,0,0.66,88.15,1.1200000000000001,0,6.16,0,5.29,14.42,20.64,1.1599999999999999,137.6,0,3.71062,1.2753799999999999E-2,0,0,0,7.4915999999999996E-2,0.15804599999999999,0.25846799999999998,1.0530599999999999E-2,4.2253299999999996,33.899500000000003,9519.69,111.69,0,0,2135,930.00099999999998,2637.81,297.5,15665.6,28.217199999999998,0,0,0,130.13399999999999,0,65.400000000000006,0,0,223.751,0,0,0,0,0,0,0,0,0,0,2.85,149.29,1.1200000000000001,0,10.62,22.73,14.54,27.12,2.76,231.03,0,5.0876400000000004,1.2753799999999999E-2,0,0,0.33579999999999999,0.11074100000000001,0.35138000000000003,4.1461199999999997E-3,5.9024599999999996,56.3309,0,56.3309]
["2016-08-31T17:00:45","U01R16","v27 16 S21 G20 M01","Proposed and Standard","PASS",0,53.253,416.11500000000001,36.548099999999998,111.69,0,0,505.55700000000002,907.13900000000001,2025.88,119.621,4122.55,485.86200000000002,0,0,0,128.68799999999999,0,43.669699999999999,0,0,658.21900000000005,0,0,0,0,0,0,0,0,0,0,45.71,1.35,1.1100000000000001,0,10.35,0,5.22,13.12,20.54,1.1399999999999999,98.54,58.52,416.11500000000001,36.548099999999998,111.69,0,0,505.55700000000002,907.13900000000001,2025.88,119.621,4122.55,485.86200000000002,0,0,0,128.68799999999999,0,43.669699999999999,0,0,658.21900000000005,0,0,0,0,0,0,0,0,0,0,45.71,1.35,1.1100000000000001,0,10.35,5.22,13.12,20.54,1.1399999999999999,98.54,58.52,"CA Residential 2016, Vers. 1.0","CSE 0.813 EXE",null,"MPCBECC",0,5.1203699999999998E-2,1.2753799999999999E-2,0,0,7.4915999999999996E-2,0.14513699999999999,0.25846799999999998,1.0530599999999999E-2,0.55300899999999997,6.3957399999999998E-2,0,5.1203699999999998E-2,1.2753799999999999E-2,0,0,7.4915999999999996E-2,0.14513699999999999,0.25846799999999998,1.0530599999999999E-2,0.55300899999999997,6.3957399999999998E-2,0,0,0,0,{"$nulls":9},416.11500000000001,36.548099999999998,111.69,0,0,0,505.55700000000002,907.13900000000001,2025.88,119.621,4122.55,485.86200000000002,0,0,0,128.68799999999999,0,43.669699999999999,0,0,658.21900000000005,0,0,0,0,0,0,0,0,0,0,45.71,1.35,1.1100000000000001,0,10.35,0,5.22,13.12,20.54,1.1399999999999999,98.54,0,5.1203699999999998E-2,1.2753799999999999E-2,0,0,0,7.4915999999999996E-2,0.14513699999999999,0.25846799999999998,1.0530599999999999E-2,0.55300899999999997,532.28899999999999,250.172,111.69,0,0,2135,930.00099999999998,2637.81,297.5,6894.46,444.18900000000002,0,0,0,182.24600000000001,0,65.400000000000006,0,0,691.83500000000004,0,0,0,0,0,0,0,0,0,0,43.19,10.18,1.1100000000000001,0,14.66,22.38,14.5,26.96,2.7,135.68,0,0.53870399999999996,1.2753799999999999E-2,0,0,0.33579999999999999,0.11074100000000001,0.35138000000000003,4.1461199999999997E-3,1.3535299999999999,53.253,0,53.253]
["2016-08-31T17:00:47","U02R01","v27 01 S27 G20 M01","Proposed and Standard","PASS",0,52.843000000000004,302.29899999999998,0,141.255,0,0,615.745,974.09199999999998,2371.31,151.51499999999999,4556.21,352.04399999999998,0,0,0,146.27199999999999,0,45.121000000000002,0,0,543.43700000000001,0,0,0,0,0,0,0,0,0,0,25.56,0,1.1499999999999999,0,8.9600000000000009,0,5.15,10.83,19.52,1.18,72.349999999999994,35.67,302.29899999999998,0,141.255,0,0,615.745,974.09199999999998,2371.31,151.51499999999999,4556.21,352.04399999999998,0,0,0,146.27199999999999,0,45.121000000000002,0,0,543.43700000000001,0,0,0,0,0,0,0,0,0,0,25.56,0,1.1499999999999999,0,8.9600000000000009,5.15,10.83,19.52,1.18,72.349999999999994,35.67,"CA Residential 2016, Vers. 1.0","CSE 0.813 EXE",null,"MPCBECC",9.81034E-14,0,1.61297E-2,0,0,9.1244199999999998E-2,0.1288,0.30218800000000001,1.3338300000000001E-2,0.55169999999999997,1.61297E-2,9.8101099999999997E-14,0,1.61297E-2,0,0,9.1244199999999998E-2,0.1288,0.30218800000000001,1.3338300000000001E-2,0.55169999999999997,1.61297E-2,0,0,0,0,{"$nulls":9},302.29899999999998,0,141.255,0,0,0,615.745,974.09199999999998,2371.31,151.51499999999999,4556.21,352.04399999999998,0,0,0,146.27199999999999,0,45.121000000000002,0,0,543.43700000000001,0,0,0,0,0,0,0,0,0,0,25.56,0,1.1499999999999999,0,8.9600000000000009,0,5.15,10.83,19.52,1.18,72.349999999999994,9.81034E-14,0,1.61297E-2,0,0,0,9.1244199999999998E-2,0.1288,0.30218800000000001,1.3338300000000001E-2,0.55169999999999997,498.40800000000002,0,141.255,0,0,2615,989.00099999999998,3267.2,327.5,7838.36,414.81099999999998,0,0,0,199.32499999999999,0,73.400000000000006,0,0,687.53599999999994,0,0,0,0,0,0,0,0,0,0,30.92,0,1.1499999999999999,0,12.21,22.11,12.56,27.01,2.41,108.37,1.62352E-9,0,1.61297E-2,0,0,0.41129599999999999,0.118258,0.43522,4.56421E-3,0.98546800000000001,52.843000000000004,0,52.843000000000004]
["2016-08-31T17:00:42","U02R02","v27 02 S27 G20 M01","Proposed and Standard","PASS",0,47.034999999999997,232.7,41.0319,141.255,0,0,615.745,1015.23,2371.31,151.51499999999999,4568.78,270.983,0,0,0,131.18700000000001,0,45.121000000000002,0,0,447.291,0,0,0,0,0,0,0,0,0,0,20.27,1.57,1.1499999999999999,0,8.07,0,5.16,11.24,19.54,1.18,68.180000000000007,31.06,232.7,41.0319,141.255,0,0,615.745,1015.23,2371.31,151.51499999999999,4568.78,270.983,0,0,0,131.18700000000001,0,45.121000000000002,0,0,447.291,0,0,0,0,0,0,0,0,0,0,20.27,1.57,1.1499999999999999,0,8.07,5.16,11.24,19.54,1.18,68.180000000000007,31.06,"CA Residential 2016, Vers. 1.0","CSE 0.813 EXE",null,"MPCBECC",0,5.1727700000000001E-2,1.61297E-2,0,0,9.1244199999999998E-2,0.14094599999999999,0.30218800000000001,1.3338300000000001E-2,0.61557399999999995,6.7857399999999998E-2,0,5.1727700000000001E-2,1.61297E-2,0,0,9.1244199999999998E-2,0.14094599999999999,0.30218800000000001,1.3338300000000001E-2,0.61557399999999995,6.7857399999999998E-2,0,0,0,0,{"$nulls":9},232.7,41.0319,141.255,0,0,0,615.745,1015.23,2371.31,151.51499999999999,4568.78,270.983,0,0,0,131.18700000000001,0,45.121000000000002,0,0,447.291,0,0,0,0,0,0,0,0,0,0,20.27,1.57,1.1499999999999999,0,8.07,0,5.16,11.24,19.54,1.18,68.180000000000007,0,5.1727700000000001E-2,1.61297E-2,0,0,0,9.1244199999999998E-2,0.14094599999999999,0.30218800000000001,1.3338300000000001E-2,0.61557399999999995,592.99800000000005,193.11099999999999,141.255,0,0,2615,989.00099999999998,3267.2,327.5,8126.06,493.517,0,0,0,185.191,0,73.400000000000006,0,0,752.10799999999995,0,0,0,0,0,0,0,0,0,0,37.83,7.84,1.1499999999999999,0,11.4,22.19,12.57,27.1,2.41,122.49,0,0.37591000000000002,1.61297E-2,0,0,0.41129599999999999,0.118258,0.43522,4.56421E-3,1.36138,47.034999999999997,0,47.034999999999997]
["2016-08-31T17:00:42","U02R03","v27 03 S27 G20 M01","Proposed and Standard","PASS",0,44.707900000000002,125.801,1.9315199999999999,141.255,0,0,615.745,1009.52,2371.31,151.51499999999999,4417.08,146.49,0,0,0,131.749,0,45.121000000000002,0,0,323.36,0,0,0,0,0,0,0,0,0,0,11.1,0.1,1.1499999999999999,0,8.09,0,5.13,11.11,19.5,1.17,57.35,20.440000000000001,125.801,1.9315100000000001,141.255,0,0,615.745,1009.52,2371.31,151.51499999999999,4417.08,146.49,0,0,0,131.749,0,45.121000000000002,0,0,323.36,0,0,0,0,0,0,0,0,0,0,11.1,0.1,1.1499999999999999,0,8.09,5.13,11.11,19.5,1.17,57.35,20.440000000000001,"CA Residential 2016, Vers. 1.0","CSE 0.813 EXE",null,"MPCBECC",0,8.8307899999999998E-3,1.61297E-2,0,0,9.1244199999999998E-2,0.135768,0.30218800000000001,1.3338300000000001E-2,0.56749899999999998,2.49605E-2,0,8.8307799999999999E-3,1.61297E-2,0,0,9.1244199999999998E-2,0.135768,0.30218800000000001,1.3338300000000001E-2,0.56749899999999998,2.49605E-2,0,-3.7252900000000001E-9,0,0,{"$nulls":9},125.801,1.9315199999999999,141.255,0,0,0,615.745,1009.52,2371.31,151.51499999999999,4417.08,146.49,0,0,0,131.749,0,45.121000000000002,0,0,323.36,0,0,0,0,0,0,0,0,0,0,11.1,0.1,1.1499999999999999,0,8.09,0,5.13,11.11,19.5,1.17,57.35,0,8.8307899999999998E-3,1.61297E-2,0,0,0,9.1244199999999998E-2,0.135768,0.30218800000000001,1.3338300000000001E-2,0.56749899999999998,491.65499999999997,0,141.255,0,0,2615,989.00099999999998,3267.2,327.5,7831.61,409.15300000000002,0,0,0,185.82400000000001,0,73.400000000000006,0,0,668.37699999999995,0,0,0,0,0,0,0,0,0,0,31.3,0,1.1499999999999999,0,11.4,22,12.56,27,2.38,107.79,0,0,1.61297E-2,0,0,0.41129599999999999,0.118258,0.43522,4.56421E-3,0.98546800000000001,44.707900000000002,0,44.707900000000002]
["2016-08-31T17:00:42","U02R04","v27 04 S27 G20 M01","Proposed and Standard","PASS",0,45.471299999999999,168.10499999999999,71.365799999999993,141.255,0,0,615.745,1030.26,2371.31,151.51499999999999,4549.5600000000004,195.762,0,0,0,125.44,0,45.121000000000002,0,0,366.32299999999998,0,0,0,0,0,0,0,0,0,0,14.7,2.89,1.1499999999999999,0,7.73,0,5.17,11.39,19.55,1.18,63.76,26.47,168.10499999999999,71.365799999999993,141.255,0,0,615.745,1030.26,2371.31,151.51499999999999,4549.5600000000004,195.762,0,0,0,125.44,0,45.121000000000002,0,0,366.32400000000001,0,0,0,0,0,0,0,0,0,0,14.7,2.89,1.1499999999999999,0,7.73,5.17,11.39,19.55,1.18,63.76,26.47,"CA Residential 2016, Vers. 1.0","CSE 0.813 EXE",null,"MPCBECC",0,0.34032699999999999,1.61297E-2,0,0,9.1244199999999998E-2,0.144708,0.30218800000000001,1.3338300000000001E-2,0.90793400000000002,0.356456,0,0.34032699999999999,1.61297E-2,0,0,9.1244199999999998E-2,0.144708,0.30218800000000001,1.3338300000000001E-2,0.90793500000000005,0.35645700000000002,5.9604600000000002E-8,5.9604600000000002E-8,0,0,{"$nulls":9},168.10499999999999,71.365799999999993,141.255,0,0,0,615.745,1030.26,2371.31,151.51499999999999,4549.5600000000004,195.762,0,0,0,125.44,0,45.121000000000002,0,0,366.32299999999998,0,0,0,0,0,0,0,0,0,0,14.7,2.89,1.1499999999999999,0,7.73,0,5.17,11.39,19.55,1.18,63.76,0,0.34032699999999999,1.61297E-2,0,0,0,9.1244199999999998E-2,0.144708,0.30218800000000001,1.3338300000000001E-2,0.90793400000000002,464.315,327.91899999999998,141.255,0,0,2615,989.00099999999998,3267.2,327.5,8132.19,386.42399999999998,0,0,0,179.76499999999999,0,73.400000000000006,0,0,639.58799999999997,0,0,0,0,0,0,0,0,0,0,29.8,12.25,1.1499999999999999,0,11.07,22.23,12.57,27.12,2.4,118.59,0,1.1887799999999999,1.61297E-2,0,0,0.41129599999999999,0.118258,0.43522,4.56421E-3,2.1742499999999998,45.471299999999999,0,45.471299999999999]
["2016-08-31T17:00:42","U02R05","v27 05 S27 G20 M01","Proposed and Standard","PASS",0,41.549100000000003,98.3904,0,141.255,0,0,615.745,1010.73,2371.31,151.51499999999999,4388.95,114.584,0,0,0,134.91800000000001,0,45.121000000000002,0,0,294.62299999999999,0,0,0,0,0,0,0,0,0,0,8.52,0,1.1499999999999999,0,8.27,0,5.08,11.14,19.440000000000001,1.17,54.77,17.940000000000001,98.3904,0,141.255,0,0,615.745,1010.73,2371.31,151.51499999999999,4388.95,114.584,0,0,0,134.91800000000001,0,45.121000000000002,0,0,294.62299999999999,0,0,0,0,0,0,0,0,0,0,8.52,0,1.1499999999999999,0,8.27,5.08,11.14,19.440000000000001,1.17,54.77,17.940000000000001,"CA Residential 2016, Vers. 1.0","CSE 0.813 EXE",null,"MPCBECC",0,0,1.61297E-2,0,0,9.1244199999999998E-2,0.13561200000000001,0.30218800000000001,1.3338300000000001E-2,0.55851200000000001,1.61297E-2,0,0,1.61297E-2,0,0,9.1244199999999998E-2,0.13561200000000001,0.30218800000000001,1.3338300000000001E-2,0.55851200000000001,1.61297E-2,0,0,0,0,{"$nulls":9},98.3904,0,141.255,0,0,0,615.745,1010.73,2371.31,151.51499999999999,4388.95,114.584,0,0,0,134.91800000000001,0,45.121000000000002,0,0,294.62299999999999,0,0,0,0,0,0,0,0,0,0,8.52,0,1.1499999999999999,0,8.27,0,5.08,11.14,19.440000000000001,1.17,54.77,0,0,1.61297E-2,0,0,0,9.1244199999999998E-2,0.13561200000000001,0.30218800000000001,1.3338300000000001E-2,0.55851200000000001,507.68,0,141.255,0,0,2615,989.00099999999998,3267.2,327.5,7847.63,422.53800000000001,0,0,0,188.804,0,73.400000000000006,0,0,684.74199999999996,0,0,0,0,0,0,0,0,0,0,31.71,0,1.1499999999999999,0,11.57,21.76,12.54,26.83,2.38,107.94,3.8656599999999998E-15,0,1.61297E-2,0,0,0.41129599999999999,0.118258,0.43522,4.56421E-3,0.98546800000000001,41.549100000000003,0,41.549100000000003]
["2016-08-31T17:00:42","U02R06","v27 06 S27 G20 M01","Proposed and Standard","PASS",0,49.175199999999997,77.079700000000003,71.211200000000005,141.255,0,0,615.745,1046.52,2371.31,151.51499999999999,4474.63,89.759,0,0,0,119.752,0,45.121000000000002,0,0,254.63200000000001,0,0,0,0,0,0,0,0,0,0,6.81,3.06,1.1100000000000001,0,7.4,0,4.99,11.24,18.91,1.1399999999999999,54.66,18.38,77.079700000000003,71.211200000000005,141.255,0,0,615.745,1046.52,2371.31,151.51499999999999,4474.63,89.759,0,0,0,119.752,0,45.121000000000002,0,0,254.63200000000001,0,0,0,0,0,0,0,0,0,0,6.81,3.06,1.1100000000000001,0,7.4,4.99,11.24,18.91,1.1399999999999999,54.66,18.38,"CA Residential 2016, Vers. 1.0","CSE 0.813 EXE",null,"MPCBECC",0,0.301091,1.61297E-2,0,0,9.1244199999999998E-2,0.14183499999999999,0.30218800000000001,1.3338300000000001E-2,0.86582599999999998,0.31722,0,0.301091,1.61297E-2,0,0,9.1244199999999998E-2,0.14183499999999999,0.30218800000000001,1.3338300000000001E-2,0.86582599999999998,0.31722,0,0,0,0,{"$nulls":9},77.079700000000003,71.211200000000005,141.255,0,0,0,615.745,1046.52,2371.31,151.51499999999999,4474.63,89.759,0,0,0,119.752,0,45.121000000000002,0,0,254.63200000000001,0,0,0,0,0,0,0,0,0,0,6.81,3.06,1.1100000000000001,0,7.4,0,4.99,11.24,18.91,1.1399999999999999,54.66,0,0.301091,1.61297E-2,0,0,0,9.1244199999999998E-2,0.14183499999999999,0.30218800000000001,1.3338300000000001E-2,0.86582599999999998,203.96299999999999,174.18,141.255,0,0,2615,989.00099999999998,3267.2,327.5,7718.1,169.744,0,0,0,174.49,0,73.400000000000006,0,0,417.63400000000001,0,0,0,0,0,0,0,0,0,0,13.18,7.52,1.1100000000000001,0,10.79,21.36,12.31,26.08,2.35,94.7,0,0.49838700000000002,1.61297E-2,0,0,0.41129599999999999,0.118258,0.43522,4.56421E-3,1.4838499999999999,49.175199999999997,0,49.175199999999997]
["2016-08-31T17:00:42","U02R07","v27 07 S27 G20 M01","Proposed and Standard","PASS",0,47.863799999999998,27.444900000000001,12.108599999999999,141.255,0,0,615.745,1048.3699999999999,2371.31,151.51499999999999,4367.75,31.958400000000001,0,0,0,117.807,0,45.121000000000002,0,0,194.886,0,0,0,0,0,0,0,0,0,0,2.33,0.62,1.1499999999999999,0,7.15,0,5.25,11.5,19.71,1.2,48.91,11.25,27.4451,12.108599999999999,141.255,0,0,615.745,1048.3699999999999,2371.31,151.51499999999999,4367.75,31.9587,0,0,0,117.807,0,45.121000000000002,0,0,194.887,0,0,0,0,0,0,0,0,0,0,2.33,0.62,1.1499999999999999,0,7.15,5.25,11.5,19.71,1.2,48.91,11.25,"CA Residential 2016, Vers. 1.0","CSE 0.813 EXE",null,"MPCBECC",0,7.3335899999999996E-2,1.61297E-2,0,0,9.1244199999999998E-2,0.14122299999999999,0.30218800000000001,1.3338300000000001E-2,0.637459,8.9465600000000006E-2,0,7.3335899999999996E-2,1.61297E-2,0,0,9.1244199999999998E-2,0.14122299999999999,0.30218800000000001,1.3338300000000001E-2,0.637459,8.9465600000000006E-2,0,0,0,0,{"$nulls":9},27.444900000000001,12.108599999999999,141.255,0,0,0,615.745,1048.3699999999999,2371.31,151.51499999999999,4367.75,31.958400000000001,0,0,0,117.807,0,45.121000000000002,0,0,194.886,0,0,0,0,0,0,0,0,0,0,2.33,0.62,1.1499999999999999,0,7.15,0,5.25,11.5,19.71,1.2,48.91,0,7.3335899999999996E-2,1.61297E-2,0,0,0,9.1244199999999998E-2,0.14122299999999999,0.30218800000000001,1.3338300000000001E-2,0.637459,84.307000000000002,76.9071,141.255,0,0,2615,989.00099999999998,3267.2,327.5,7501.17,70.1601,0,0,0,172.755,0,73.400000000000006,0,0,316.315,0,0,0,0,0,0,0,0,0,0,5.27,4.29,1.1499999999999999,0,10.48,22.47,12.55,27.22,2.5099999999999998,85.94,0,0.31993500000000002,1.61297E-2,0,0,0.41129599999999999,0.118258,0.43522,4.56421E-3,1.3053999999999999,47.863799999999998,0,47.863799999999998]
["2016-08-31T17:00:42","U02R08","v27 08 S27 G20 M01","Proposed and Standard","PASS",0,45.509399999999999,43.641100000000002,358.95299999999997,141.255,0,0,615.745,1066.3800000000001,2371.31,151.51499999999999,4748.8,50.82,0,0,0,114.69199999999999,0,45.121000000000002,0,0,210.63300000000001,0,0,0,0,0,0,0,0,0,0,3.87,8.0399999999999991,1.1100000000000001,0,7.1,0,5.04,11.42,18.989999999999998,1.1499999999999999,56.72,20.12,43.640999999999998,358.95299999999997,141.255,0,0,615.745,1066.3800000000001,2371.31,151.51499999999999,4748.8,50.819899999999997,0,0,0,114.69199999999999,0,45.121000000000002,0,0,210.63300000000001,0,0,0,0,0,0,0,0,0,0,3.87,8.0399999999999991,1.1100000000000001,0,7.1,5.04,11.42,18.989999999999998,1.1499999999999999,56.72,20.12,"CA Residential 2016, Vers. 1.0","CSE 0.813 EXE",null,"MPCBECC",0,0.76071100000000003,1.61297E-2,0,0,9.1244199999999998E-2,0.14743800000000001,0.30218800000000001,1.3338300000000001E-2,1.3310500000000001,0.77683999999999997,0,0.76071100000000003,1.61297E-2,0,0,9.1244199999999998E-2,0.14743800000000001,0.30218800000000001,1.3338300000000001E-2,1.3310500000000001,0.77683999999999997,0,0,0,0,{"$nulls":9},43.641100000000002,358.95299999999997,141.255,0,0,0,615.745,1066.3800000000001,2371.31,151.51499999999999,4748.8,50.82,0,0,0,114.69199999999999,0,45.121000000000002,0,0,210.63300000000001,0,0,0,0,0,0,0,0,0,0,3.87,8.0399999999999991,1.1100000000000001,0,7.1,0,5.04,11.42,18.989999999999998,1.1499999999999999,56.72,0,0.76071100000000003,1.61297E-2,0,0,0,9.1244199999999998E-2,0.14743800000000001,0.30218800000000001,1.3338300000000001E-2,1.3310500000000001,155.221,963.40599999999995,141.255,0,0,2615,989.00099999999998,3267.2,327.5,8458.58,129.179,0,0,0,169.65,0,73.400000000000006,0,0,372.22899999999998,0,0,0,0,0,0,0,0,0,0,10.07,25.89,1.1100000000000001,0,10.5,21.57,12.33,26.23,2.39,110.09,0,2.1878299999999999,1.61297E-2,0,0,0.41129599999999999,0.118258,0.43522,4.56421E-3,3.1732999999999998,45.509399999999999,0,45.509399999999999]
["2016-08-31T17:00:42","U02R09","v27 09 S27 G20 M01","Proposed and Standard","PASS",0,45.633200000000002,67.634900000000002,684.26400000000001,141.255,0,0,615.745,1066.08,2371.31,151.51499999999999,5097.8,78.784599999999998,0,0,0,114.47499999999999,0,45.121000000000002,0,0,238.38,0,0,0,0,0,0,0,0,0,0,5.94,18.55,1.1000000000000001,0,7.1,0,4.97,11.34,18.77,1.1299999999999999,68.900000000000006,32.69,67.635099999999994,684.26400000000001,141.255,0,0,615.745,1066.08,2371.31,151.51499999999999,5097.8,78.784800000000004,0,0,0,114.47499999999999,0,45.121000000000002,0,0,238.381,0,0,0,0,0,0,0,0,0,0,5.94,18.55,1.1000000000000001,0,7.1,4.97,11.34,18.77,1.1299999999999999,68.900000000000006,32.69,"CA Residential 2016, Vers. 1.0","CSE 0.813 EXE",null,"MPCBECC",0,1.631,1.61297E-2,0,0,9.1244199999999998E-2,0.15055499999999999,0.30218800000000001,1.3338300000000001E-2,2.2044600000000001,1.64713,0,1.631,1.61297E-2,0,0,9.1244199999999998E-2,0.15055499999999999,0.30218800000000001,1.3338300000000001E-2,2.2044600000000001,1.64713,0,0,0,0,{"$nulls":9},67.634900000000002,684.26400000000001,141.255,0,0,0,615.745,1066.08,2371.31,151.51499999999999,5097.8,78.784599999999998,0,0,0,114.47499999999999,0,45.121000000000002,0,0,238.38,0,0,0,0,0,0,0,0,0,0,5.94,18.55,1.1000000000000001,0,7.1,0,4.97,11.34,18.77,1.1299999999999999,68.900000000000006,0,1.631,1.61297E-2,0,0,0,9.1244199999999998E-2,0.15055499999999999,0.30218800000000001,1.3338300000000001E-2,2.2044600000000001,218.43799999999999,1765,141.255,0,0,2615,989.00099999999998,3267.2,327.5,9323.39,181.846,0,0,0,169.404,0,73.400000000000006,0,0,424.65,0,0,0,0,0,0,0,0,0,0,14.06,48.69,1.1000000000000001,0,10.5,21.33,12.25,25.98,2.35,136.26,0,3.50705,1.61297E-2,0,0,0.41129599999999999,0.118258,0.43522,4.56421E-3,4.4925100000000002,45.633200000000002,0,45.633200000000002]
["2016-08-31T17:00:58","U02R10","v27 10 S27 G20 M01","Proposed and Standard","PASS",0,43.9983,79.014200000000002,862.23699999999997,141.255,0,0,615.745,1069.01,2371.31,151.51499999999999,5290.08,92.043999999999997,0,0,0,113.613,0,45.121000000000002,0,0,250.77799999999999,0,0,0,0,0,0,0,0,0,0,6.93,18.5,1.1000000000000001,0,7.06,0,4.91,11.34,18.7,1.1200000000000001,69.66,33.590000000000003,79.014200000000002,862.23699999999997,141.255,0,0,615.745,1069.01,2371.31,151.51499999999999,5290.08,92.043999999999997,0,0,0,113.613,0,45.121000000000002,0,0,250.77799999999999,0,0,0,0,0,0,0,0,0,0,6.93,18.5,1.1000000000000001,0,7.06,4.91,11.34,18.7,1.1200000000000001,69.66,33.590000000000003,"CA Residential 2016, Vers. 1.0","CSE 0.813 EXE",null,"MPCBECC",0,1.65228,1.61297E-2,0,0,9.1244199999999998E-2,0.151278,0.30218800000000001,1.3338300000000001E-2,2.2264599999999999,1.6684099999999999,0,1.65228,1.61297E-2,0,0,9.1244199999999998E-2,0.151278,0.30218800000000001,1.3338300000000001E-2,2.2264599999999999,1.6684099999999999,1.1920899999999999E-6,1.07288E-6,0,0,{"$nulls":9},79.014200000000002,862.23699999999997,141.255,0,0,0,615.745,1069.01,2371.31,151.51499999999999,5290.08,92.043999999999997,0,0,0,113.613,0,45.121000000000002,0,0,250.77799999999999,0,0,0,0,0,0,0,0,0,0,6.93,18.5,1.1000000000000001,0,7.06,0,4.91,11.34,18.7,1.1200000000000001,69.66,0,1.65228,1.61297E-2,0,0,0,9.1244199999999998E-2,0.151278,0.30218800000000001,1.3338300000000001E-2,2.2264599999999999,247.03299999999999,2424.92,141.255,0,0,2615,989.00099999999998,3267.2,327.5,10011.9,205.66,0,0,0,168.49600000000001,0,73.400000000000006,0,0,447.55599999999998,0,0,0,0,0,0,0,0,0,0,15.88,54.76,1.1000000000000001,0,10.46,21.1,12.24,25.87,2.3199999999999998,143.72999999999999,0,3.8767399999999999,1.61297E-2,0,0,0.41129599999999999,0.118258,0.43522,4.56421E-3,4.8622100000000001,43.9983,0,43.9983]
["2016-08-31T17:00:58","U02R11","v27 11 S27 G20 M01","Proposed and Standard","PASS",0,46.903599999999997,216.499,1810.99,141.255,0,0,615.745,1062,2371.31,151.51499999999999,6369.31,252.142,0,0,0,115.96299999999999,0,45.121000000000002,0,0,413.226,0,0,0,0,0,0,0,0,0,0,18.96,36.119999999999997,1.1499999999999999,0,7.21,0,5.23,11.78,19.600000000000001,1.19,101.24,63.44,216.499,1810.99,141.255,0,0,615.745,1062,2371.31,151.51499999999999,6369.31,252.142,0,0,0,115.96299999999999,0,45.121000000000002,0,0,413.226,0,0,0,0,0,0,0,0,0,0,18.96,36.119999999999997,1.1499999999999999,0,7.21,5.23,11.78,19.600000000000001,1.19,101.24,63.44,"CA Residential 2016, Vers. 1.0","CSE 0.813 EXE",null,"MPCBECC",0,2.0658099999999999,1.61297E-2,0,0,9.1244199999999998E-2,0.151751,0.30218800000000001,1.3338300000000001E-2,2.64046,2.0819399999999999,0,2.0658099999999999,1.61297E-2,0,0,9.1244199999999998E-2,0.151751,0.30218800000000001,1.3338300000000001E-2,2.64046,2.0819399999999999,0,0,0,0,{"$nulls":9},216.499,1810.99,141.255,0,0,0,615.745,1062,2371.31,151.51499999999999,6369.31,252.142,0,0,0,115.96299999999999,0,45.121000000000002,0,0,413.226,0,0,0,0,0,0,0,0,0,0,18.96,36.119999999999997,1.1499999999999999,0,7.21,0,5.23,11.78,19.600000000000001,1.19,101.24,0,2.0658099999999999,1.61297E-2,0,0,0,9.1244199999999998E-2,0.151751,0.30218800000000001,1.3338300000000001E-2,2.64046,571.98199999999997,4348.13,141.255,0,0,2615,989.00099999999998,3267.2,327.5,12260.1,476.07600000000002,0,0,0,170.536,0,73.400000000000006,0,0,720.01199999999994,0,0,0,0,0,0,0,0,0,0,36.799999999999997,81.510000000000005,1.1499999999999999,0,10.6,22.57,12.58,27.25,2.4500000000000002,194.91,0,4.4313500000000001,1.61297E-2,0,0,0.41129599999999999,0.118258,0.43522,4.56421E-3,5.4168200000000004,46.903599999999997,0,46.903599999999997]
["2016-08-31T17:00:56","U02R12","v27 12 S27 G20 M01","Proposed and Standard","PASS",0,43.999099999999999,220.267,492.25900000000001,141.255,0,0,615.745,1041.8699999999999,2371.31,151.51499999999999,5034.22,256.49200000000002,0,0,0,121.937,0,45.121000000000002,0,0,423.55,0,0,0,0,0,0,0,0,0,0,19.36,14.47,1.1499999999999999,0,7.54,0,5.26,11.58,19.64,1.2,80.2,42.52,220.267,492.25900000000001,141.255,0,0,615.745,1041.8699999999999,2371.31,151.51499999999999,5034.22,256.49200000000002,0,0,0,121.937,0,45.121000000000002,0,0,423.55,0,0,0,0,0,0,0,0,0,0,19.36,14.47,1.1499999999999999,0,7.54,5.26,11.58,19.64,1.2,80.2,42.52,"CA Residential 2016, Vers. 1.0","CSE 0.813 EXE",null,"MPCBECC",0,0.98270500000000005,1.61297E-2,0,0,9.1244199999999998E-2,0.148562,0.30218800000000001,1.3338300000000001E-2,1.5541700000000001,0.99883500000000003,0,0.98270500000000005,1.61297E-2,0,0,9.1244199999999998E-2,0.148562,0.30218800000000001,1.3338300000000001E-2,1.5541700000000001,0.99883500000000003,0,0,0,0,{"$nulls":9},220.267,492.25900000000001,141.255,0,0,0,615.745,1041.8699999999999,2371.31,151.51499999999999,5034.22,256.49200000000002,0,0,0,121.937,0,45.121000000000002,0,0,423.55,0,0,0,0,0,0,0,0,0,0,19.36,14.47,1.1499999999999999,0,7.54,0,5.26,11.58,19.64,1.2,80.2,0,0.98270500000000005,1.61297E-2,0,0,0,9.1244199999999998E-2,0.148562,0.30218800000000001,1.3338300000000001E-2,1.5541700000000001,567.59900000000005,1686.96,141.255,0,0,2615,989.00099999999998,3267.2,327.5,9594.51,472.35599999999999,0,0,0,176.31299999999999,0,73.400000000000006,0,0,722.06899999999996,0,0,0,0,0,0,0,0,0,0,36.630000000000003,48.27,1.1499999999999999,0,10.9,22.7,12.58,27.31,2.44,161.97999999999999,0,3.3591700000000002,1.61297E-2,0,0,0.41129599999999999,0.118258,0.43522,4.56421E-3,4.3446300000000004,43.999099999999999,0,43.999099999999999]
["2016-08-31T17:00:56","U02R13","v27 13 S27 G20 M01","Proposed and Standard","PASS",0,48.561,193.839,2015.12,141.255,0,0,615.745,1072.58,2371.31,151.51499999999999,6561.36,225.75,0,0,0,113.694,0,45.121000000000002,0,0,384.565,0,0,0,0,0,0,0,0,0,0,17.11,39.36,1.1499999999999999,0,7.07,0,5.21,11.84,19.59,1.19,102.52,64.69,193.839,2015.12,141.255,0,0,615.745,1072.58,2371.31,151.51499999999999,6561.36,225.75,0,0,0,113.694,0,45.121000000000002,0,0,384.565,0,0,0,0,0,0,0,0,0,0,17.11,39.36,1.1499999999999999,0,7.07,5.21,11.84,19.59,1.19,102.52,64.69,"CA Residential 2016, Vers. 1.0","CSE 0.813 EXE",null,"MPCBECC",0,2.5655399999999999,1.61297E-2,0,0,9.1244199999999998E-2,0.15291099999999999,0.30218800000000001,1.3338300000000001E-2,3.1413500000000001,2.5816699999999999,0,2.5655399999999999,1.61297E-2,0,0,9.1244199999999998E-2,0.15291099999999999,0.30218800000000001,1.3338300000000001E-2,3.1413500000000001,2.5816699999999999,0,0,0,0,{"$nulls":9},193.839,2015.12,141.255,0,0,0,615.745,1072.58,2371.31,151.51499999999999,6561.36,225.75,0,0,0,113.694,0,45.121000000000002,0,0,384.565,0,0,0,0,0,0,0,0,0,0,17.11,39.36,1.1499999999999999,0,7.07,0,5.21,11.84,19.59,1.19,102.52,0,2.5655399999999999,1.61297E-2,0,0,0,9.1244199999999998E-2,0.15291099999999999,0.30218800000000001,1.3338300000000001E-2,3.1413500000000001,515.98,4729.34,141.255,0,0,2615,989.00099999999998,3267.2,327.5,12585.3,429.46199999999999,0,0,0,168.28299999999999,0,73.400000000000006,0,0,671.14400000000001,0,0,0,0,0,0,0,0,0,0,33.450000000000003,81.680000000000007,1.1499999999999999,0,10.47,22.48,12.58,27.23,2.41,191.45,0,4.7471699999999997,1.61297E-2,0,0,0.41129599999999999,0.118258,0.43522,4.56421E-3,5.73264,48.561,0,48.561]
["2016-08-31T17:00:54","U02R14","v27 14 S27 G20 M01","Proposed and Standard","PASS",0,47.644500000000001,207.99,1784.56,141.255,0,0,615.745,1059.7,2371.31,151.51499999999999,6332.08,242.489,0,0,0,117.294,0,45.121000000000002,0,0,404.904,0,0,0,0,0,0,0,0,0,0,18.329999999999998,34.020000000000003,1.1000000000000001,0,7.34,0,4.9800000000000004,11.39,18.75,1.1299999999999999,97.04,60.79,207.99,1784.56,141.255,0,0,615.745,1059.7,2371.31,151.51499999999999,6332.07,242.489,0,0,0,117.294,0,45.121000000000002,0,0,404.904,0,0,0,0,0,0,0,0,0,0,18.329999999999998,34.020000000000003,1.1000000000000001,0,7.34,4.9800000000000004,11.39,18.75,1.1299999999999999,97.04,60.79,"CA Residential 2016, Vers. 1.0","CSE 0.813 EXE",null,"MPCBECC",0,2.3717299999999999,1.61297E-2,0,0,9.1244199999999998E-2,0.15287200000000001,0.30218800000000001,1.3338300000000001E-2,2.9474999999999998,2.3878599999999999,0,2.3717299999999999,1.61297E-2,0,0,9.1244199999999998E-2,0.15287200000000001,0.30218800000000001,1.3338300000000001E-2,2.9475099999999999,2.3878599999999999,7.1525600000000001E-7,7.1525600000000001E-7,0,0,{"$nulls":9},207.99,1784.56,141.255,0,0,0,615.745,1059.7,2371.31,151.51499999999999,6332.08,242.489,0,0,0,117.294,0,45.121000000000002,0,0,404.904,0,0,0,0,0,0,0,0,0,0,18.329999999999998,34.020000000000003,1.1000000000000001,0,7.34,0,4.9800000000000004,11.39,18.75,1.1299999999999999,97.04,0,2.3717299999999999,1.61297E-2,0,0,0,9.1244199999999998E-2,0.15287200000000001,0.30218800000000001,1.3338300000000001E-2,2.9474999999999998,570.12699999999995,4179.53,141.255,0,0,2615,989.00099999999998,3267.2,327.5,12089.6,475.04199999999997,0,0,0,171.691,0,73.400000000000006,0,0,720.13400000000001,0,0,0,0,0,0,0,0,0,0,36.85,72.92,1.1000000000000001,0,10.75,21.53,12.25,26.08,2.33,183.81,0,4.41805,1.61297E-2,0,0,0.41129599999999999,0.118258,0.43522,4.56421E-3,5.4035200000000003,47.644500000000001,0,47.644500000000001]
["2016-08-31T17:01:15","U02R15","v27 15 S27 G20 M01","Proposed and Standard","PASS",0,52.7196,16.986499999999999,5899.64,141.255,0,0,615.745,1151.43,2371.31,151.51499999999999,10347.9,19.784300000000002,0,0,0,84.692300000000003,0,45.121000000000002,0,0,149.59800000000001,0,0,0,0,0,0,0,0,0,0,1.51,82.41,1.1000000000000001,0,5.34,0,5.01,12.08,18.79,1.1399999999999999,127.38,90.36,16.986499999999999,5899.64,141.255,0,0,615.745,1151.43,2371.31,151.51499999999999,10347.9,19.784300000000002,0,0,0,84.692300000000003,0,45.121000000000002,0,0,149.59800000000001,0,0,0,0,0,0,0,0,0,0,1.51,82.41,1.1000000000000001,0,5.34,5.01,12.08,18.79,1.1399999999999999,127.38,90.36,"CA Residential 2016, Vers. 1.0","CSE 0.813 EXE",null,"MPCBECC",0,4.4396800000000001,1.61297E-2,0,0,9.1244199999999998E-2,0.15833900000000001,0.30218800000000001,1.3338300000000001E-2,5.0209200000000003,4.4558099999999996,0,4.4396800000000001,1.61297E-2,0,0,9.1244199999999998E-2,0.15833900000000001,0.30218800000000001,1.3338300000000001E-2,5.0209200000000003,4.4558099999999996,0,0,0,0,{"$nulls":9},16.986499999999999,5899.64,141.255,0,0,0,615.745,1151.43,2371.31,151.51499999999999,10347.9,19.784300000000002,0,0,0,84.692300000000003,0,45.121000000000002,0,0,149.59800000000001,0,0,0,0,0,0,0,0,0,0,1.51,82.41,1.1000000000000001,0,5.34,0,5.01,12.08,18.79,1.1399999999999999,127.38,0,4.4396800000000001,1.61297E-2,0,0,0,9.1244199999999998E-2,0.15833900000000001,0.30218800000000001,1.3338300000000001E-2,5.0209200000000003,76.340699999999998,12428.6,141.255,0,0,2615,989.00099999999998,3267.2,327.5,19844.900000000001,63.5443,0,0,0,139.785,0,73.400000000000006,0,0,276.72899999999998,0,0,0,0,0,0,0,0,0,0,5,153.1,1.1000000000000001,0,8.81,21.65,12.26,26.12,2.36,230.4,0,6.7805799999999996,1.61297E-2,0,0,0.41129599999999999,0.118258,0.43522,4.56421E-3,7.7660400000000003,52.7196,0,52.7196]
["2016-08-31T17:00:55","U02R16","v27 16 S27 G20 M01","Proposed and Standard","PASS",0,50.481900000000003,482.02300000000002,140.46799999999999,141.255,0,0,615.745,991.83900000000006,2371.31,151.51499999999999,4894.1499999999996,562.81700000000001,0,0,0,145.16200000000001,0,45.121000000000002,0,0,753.1,0,0,0,0,0,0,0,0,0,0,41.18,3.98,1.0900000000000001,0,9.0299999999999994,0,4.9400000000000004,10.81,18.690000000000001,1.1299999999999999,90.85,55.28,482.02300000000002,140.46899999999999,141.255,0,0,615.745,991.84,2371.31,151.51499999999999,4894.1499999999996,562.81700000000001,0,0,0,145.16200000000001,0,45.121000000000002,0,0,753.1,0,0,0,0,0,0,0,0,0,0,41.18,3.98,1.0900000000000001,0,9.0299999999999994,4.9400000000000004,10.81,18.690000000000001,1.1299999999999999,90.85,55.28,"CA Residential 2016, Vers. 1.0","CSE 0.813 EXE",null,"MPCBECC",0,0.24964,1.61297E-2,0,0,9.1244199999999998E-2,0.143568,0.30218800000000001,1.3338300000000001E-2,0.81610899999999997,0.26577000000000001,0,0.249644,1.61297E-2,0,0,9.1244199999999998E-2,0.143568,0.30218800000000001,1.3338300000000001E-2,0.81611299999999998,0.26577400000000001,3.6954900000000002E-6,3.6656900000000001E-6,0,0,{"$nulls":9},482.02300000000002,140.46799999999999,141.255,0,0,0,615.745,991.83900000000006,2371.31,151.51499999999999,4894.1499999999996,562.81700000000001,0,0,0,145.16200000000001,0,45.121000000000002,0,0,753.1,0,0,0,0,0,0,0,0,0,0,41.18,3.98,1.0900000000000001,0,9.0299999999999994,0,4.9400000000000004,10.81,18.690000000000001,1.1299999999999999,90.85,0,0.24964,1.61297E-2,0,0,0,9.1244199999999998E-2,0.143568,0.30218800000000001,1.3338300000000001E-2,0.81610899999999997,696.22199999999998,563.976,141.255,0,0,2615,989.00099999999998,3267.2,327.5,8600.15,580.98900000000003,0,0,0,197.989,0,73.400000000000006,0,0,852.37800000000004,0,0,0,0,0,0,0,0,0,0,43.9,16.04,1.0900000000000001,0,12.31,21.32,12.23,25.97,2.31,135.16999999999999,0,1.1113599999999999,1.61297E-2,0,0,0.41129599999999999,0.118258,0.43522,4.56421E-3,2.0968300000000002,50.481900000000003,0,50.481900000000003]
["2016-08-31T17:01:03","U03R01","v27 01 S69 G15 M01","Proposed and Standard","PASS",0,57.843400000000003,480.80700000000002,4.6427199999999997,785.77200000000005,0,0,2033.7,5307.43,12062,433.91399999999999,21108.2,559.928,0,0,0,775.96100000000001,0,287.95400000000001,0,0,1623.84,0,0,0,0,0,0,0,0,0,0,15.85,0.05,2.4700000000000002,0,18.45,0,6.6,23.91,38.54,1.31,107.18,36.82,480.80700000000002,4.6427199999999997,785.77200000000005,0,0,2033.7,5307.43,12062,433.91399999999999,21108.2,559.928,0,0,0,775.96100000000001,0,287.95400000000001,0,0,1623.84,0,0,0,0,0,0,0,0,0,0,15.85,0.05,2.4700000000000002,0,18.45,6.6,23.91,38.54,1.31,107.18,36.82,"CA Residential 2016, Vers. 1.0","CSE 0.813 EXE",null,"MPCBECC",0,1.68871E-3,8.9726299999999995E-2,0,0,0.30136400000000002,0.70207799999999998,1.54311,3.8198599999999999E-2,2.6761699999999999,9.1414999999999996E-2,0,1.68871E-3,8.9726299999999995E-2,0,0,0.30136400000000002,0.70207799999999998,1.54311,3.8198599999999999E-2,2.6761699999999999,9.1414999999999996E-2,0,0,0,0,{"$nulls":9},480.80700000000002,4.6427199999999997,785.77200000000005,0,0,0,2033.7,5307.43,12062,433.91399999999999,21108.2,559.928,0,0,0,775.96100000000001,0,287.95400000000001,0,0,1623.84,0,0,0,0,0,0,0,0,0,0,15.85,0.05,2.4700000000000002,0,18.45,0,6.6,23.91,38.54,1.31,107.18,0,1.68871E-3,8.9726299999999995E-2,0,0,0,0.30136400000000002,0.70207799999999998,1.54311,3.8198599999999999E-2,2.6761699999999999,888.24300000000005,0.19209100000000001,785.77200000000005,0,0,5894.96,6547.68,10697.7,540.49900000000002,25355.1,739.25900000000001,0,0,0,1220.78,0,291.12400000000002,0,0,2251.16,0,0,0,0,0,0,0,0,0,0,21.59,0,2.4700000000000002,0,29.02,19.34,27.59,34.31,1.54,135.86000000000001,0,0,8.9726299999999995E-2,0,0,0.92718,0.77117400000000003,1.42503,7.5326799999999999E-3,3.22065,57.843400000000003,0,57.843400000000003]
["2016-08-31T17:01:03","U03R02","v27 02 S69 G15 M01","Proposed and Standard","PASS",1.00021E-2,55.942399999999999,340.613,583.70100000000002,785.77200000000005,0,0,2033.7,5405.35,12062,433.91399999999999,21645,396.65,0,0,0,696.60599999999999,0,287.95400000000001,0,0,1381.21,0,0,0,0,0,0,0,0,0,0,11.56,7.36,2.4700000000000002,0,16.64,0,6.61,24.33,38.58,1.31,108.86,38.03,340.613,583.83900000000006,785.77200000000005,0,0,2033.7,5405.36,12062,433.91399999999999,21645.200000000001,396.65,0,0,0,696.60599999999999,0,287.95400000000001,0,0,1381.21,0,0,0,0,0,0,0,0,0,0,11.56,7.37,2.4700000000000002,0,16.64,6.61,24.33,38.58,1.31,108.87,38.04,"CA Residential 2016, Vers. 1.0","CSE 0.813 EXE",null,"MPCBECC",0,1.16181,8.9726299999999995E-2,0,0,0.30136400000000002,0.72809000000000001,1.54311,3.8198599999999999E-2,3.8622999999999998,1.25153,0,1.1619699999999999,8.9726299999999995E-2,0,0,0.30136400000000002,0.72809199999999996,1.54311,3.8198599999999999E-2,3.86246,1.2517,1.6450899999999999E-4,1.62244E-4,9.1872299999999994E-3,2.62937E-2,{"$nulls":9},340.613,583.70100000000002,785.77200000000005,0,0,0,2033.7,5405.35,12062,433.91399999999999,21645,396.65,0,0,0,696.60599999999999,0,287.95400000000001,0,0,1381.21,0,0,0,0,0,0,0,0,0,0,11.56,7.36,2.4700000000000002,0,16.64,0,6.61,24.33,38.58,1.31,108.86,0,1.16181,8.9726299999999995E-2,0,0,0,0.30136400000000002,0.72809000000000001,1.54311,3.8198599999999999E-2,3.8622999999999998,1065.97,1159.26,785.77200000000005,0,0,5894.96,6547.68,10697.7,540.49900000000002,26691.9,887.14700000000005,0,0,0,1141.4000000000001,0,291.12400000000002,0,0,2319.67,0,0,0,0,0,0,0,0,0,0,26.52,15.31,2.4700000000000002,0,27.27,19.399999999999999,27.6,34.42,1.54,154.53,0,2.3363999999999998,8.9726299999999995E-2,0,0,0.92718,0.77117400000000003,1.42503,7.5326799999999999E-3,5.5570500000000003,55.942399999999999,0,55.947600000000001]
["2016-08-31T17:00:56","U03R03","v27 03 S69 G15 M01","Proposed and Standard","PASS",0,55.438600000000001,154.197,148.77099999999999,785.77200000000005,0,0,2033.7,5391.14,12062,433.91399999999999,21009.4,179.55500000000001,0,0,0,699.798,0,287.95400000000001,0,0,1167.31,0,0,0,0,0,0,0,0,0,0,5.3,1.75,2.4700000000000002,0,16.670000000000002,0,6.57,24.13,38.51,1.3,96.7,26.19,154.197,148.78100000000001,785.77200000000005,0,0,2033.7,5391.15,12062,433.91399999999999,21009.5,179.55500000000001,0,0,0,699.798,0,287.95400000000001,0,0,1167.31,0,0,0,0,0,0,0,0,0,0,5.3,1.75,2.4700000000000002,0,16.670000000000002,6.57,24.13,38.51,1.3,96.7,26.19,"CA Residential 2016, Vers. 1.0","CSE 0.813 EXE",null,"MPCBECC",0,0.31318400000000002,8.9726299999999995E-2,0,0,0.30136400000000002,0.715333,1.54311,3.8198599999999999E-2,3.0009199999999998,0.40291100000000002,0,0.313224,8.9726299999999995E-2,0,0,0.30136400000000002,0.71533599999999997,1.54311,3.8198599999999999E-2,3.0009600000000001,0.402951,4.3630600000000002E-5,3.9994699999999998E-5,0,0,{"$nulls":9},154.197,148.77099999999999,785.77200000000005,0,0,0,2033.7,5391.14,12062,433.91399999999999,21009.4,179.55500000000001,0,0,0,699.798,0,287.95400000000001,0,0,1167.31,0,0,0,0,0,0,0,0,0,0,5.3,1.75,2.4700000000000002,0,16.670000000000002,0,6.57,24.13,38.51,1.3,96.7,0,0.31318400000000002,8.9726299999999995E-2,0,0,0,0.30136400000000002,0.715333,1.54311,3.8198599999999999E-2,3.0009199999999998,842.375,75.385999999999996,785.77200000000005,0,0,5894.96,6547.68,10697.7,540.49900000000002,25384.400000000001,701.02099999999996,0,0,0,1145.3499999999999,0,291.12400000000002,0,0,2137.4899999999998,0,0,0,0,0,0,0,0,0,0,20.97,1.26,2.4700000000000002,0,27.29,19.239999999999998,27.59,34.29,1.53,134.63999999999999,0,0.24352599999999999,8.9726299999999995E-2,0,0,0.92718,0.77117400000000003,1.42503,7.5326799999999999E-3,3.4641700000000002,55.438600000000001,0,55.438600000000001]
["2016-08-31T17:00:56","U03R04","v27 04 S69 G15 M01","Proposed and Standard","PASS",0,54.755699999999997,221.58699999999999,795.63300000000004,785.77200000000005,0,0,2033.7,5449.84,12062,433.91399999999999,21782.400000000001,258.04300000000001,0,0,0,666.51700000000005,0,287.95400000000001,0,0,1212.51,0,0,0,0,0,0,0,0,0,0,7.54,9.01,2.4700000000000002,0,15.94,0,6.62,24.44,38.6,1.31,105.93,34.96,221.58699999999999,795.721,785.77200000000005,0,0,2033.7,5449.85,12062,433.91399999999999,21782.5,258.04199999999997,0,0,0,666.51700000000005,0,287.95400000000001,0,0,1212.51,0,0,0,0,0,0,0,0,0,0,7.54,9.01,2.4700000000000002,0,15.94,6.62,24.44,38.6,1.31,105.93,34.96,"CA Residential 2016, Vers. 1.0","CSE 0.813 EXE",null,"MPCBECC",0,2.2160700000000002,8.9726299999999995E-2,0,0,0.30136400000000002,0.74304999999999999,1.54311,3.8198599999999999E-2,4.9315199999999999,2.3058000000000001,0,2.2162500000000001,8.9726299999999995E-2,0,0,0.30136400000000002,0.74305100000000002,1.54311,3.8198599999999999E-2,4.9317000000000002,2.3059699999999999,1.7690699999999999E-4,1.7595299999999999E-4,0,0,{"$nulls":9},221.58699999999999,795.63300000000004,785.77200000000005,0,0,0,2033.7,5449.84,12062,433.91399999999999,21782.400000000001,258.04300000000001,0,0,0,666.51700000000005,0,287.95400000000001,0,0,1212.51,0,0,0,0,0,0,0,0,0,0,7.54,9.01,2.4700000000000002,0,15.94,0,6.62,24.44,38.6,1.31,105.93,0,2.2160700000000002,8.9726299999999995E-2,0,0,0,0.30136400000000002,0.74304999999999999,1.54311,3.8198599999999999E-2,4.9315199999999999,803.59299999999996,1807.28,785.77200000000005,0,0,5894.96,6547.68,10697.7,540.49900000000002,27077.5,668.78599999999994,0,0,0,1111.18,0,291.12400000000002,0,0,2071.09,0,0,0,0,0,0,0,0,0,0,20.079999999999998,21.65,2.4700000000000002,0,26.57,19.440000000000001,27.6,34.450000000000003,1.53,153.79,0,4.9297000000000004,8.9726299999999995E-2,0,0,0.92718,0.77117400000000003,1.42503,7.5326799999999999E-3,8.1503499999999995,54.755699999999997,0,54.755699999999997]
["2016-08-31T17:00:55","U03R05","v27 05 S69 G15 M01","Proposed and Standard","PASS",0,53.897100000000002,114.408,121.46899999999999,785.77200000000005,0,0,2033.7,5427.77,12062,433.91399999999999,20979,133.238,0,0,0,716.42100000000005,0,287.95400000000001,0,0,1137.6099999999999,0,0,0,0,0,0,0,0,0,0,3.85,1.52,2.4700000000000002,0,17.05,0,6.51,24.18,38.39,1.3,95.27,24.89,114.408,121.47499999999999,785.77200000000005,0,0,2033.7,5427.78,12062,433.91399999999999,20979,133.238,0,0,0,716.42100000000005,0,287.95400000000001,0,0,1137.6099999999999,0,0,0,0,0,0,0,0,0,0,3.85,1.52,2.4700000000000002,0,17.05,6.51,24.18,38.39,1.3,95.27,24.89,"CA Residential 2016, Vers. 1.0","CSE 0.813 EXE",null,"MPCBECC",0,0.32561600000000002,8.9726299999999995E-2,0,0,0.30136400000000002,0.72127200000000002,1.54311,3.8198599999999999E-2,3.0192899999999998,0.41534199999999999,0,0.32564300000000002,8.9726299999999995E-2,0,0,0.30136400000000002,0.72127399999999997,1.54311,3.8198599999999999E-2,3.01932,0.41537000000000002,2.9325499999999999E-5,2.7716200000000001E-5,0,0,{"$nulls":9},114.408,121.46899999999999,785.77200000000005,0,0,0,2033.7,5427.77,12062,433.91399999999999,20979,133.238,0,0,0,716.42100000000005,0,287.95400000000001,0,0,1137.6099999999999,0,0,0,0,0,0,0,0,0,0,3.85,1.52,2.4700000000000002,0,17.05,0,6.51,24.18,38.39,1.3,95.27,0,0.32561600000000002,8.9726299999999995E-2,0,0,0,0.30136400000000002,0.72127200000000002,1.54311,3.8198599999999999E-2,3.0192899999999998,838.24199999999996,6.2671400000000004,785.77200000000005,0,0,5894.96,6547.68,10697.7,540.49900000000002,25311.200000000001,697.66099999999994,0,0,0,1162.01,0,291.12400000000002,0,0,2150.8000000000002,0,0,0,0,0,0,0,0,0,0,20.52,0.04,2.4700000000000002,0,27.65,19.03,27.56,34.090000000000003,1.52,132.88,0,2.82621E-3,8.9726299999999995E-2,0,0,0.92718,0.77117400000000003,1.42503,7.5326799999999999E-3,3.2234699999999998,53.897100000000002,0,53.897100000000002]
["2016-08-31T17:00:56","U03R06","v27 06 S69 G15 M01","Proposed and Standard","PASS",0,59.491,54.724299999999999,707.21299999999997,785.77200000000005,0,0,2033.7,5517.32,12062,433.91399999999999,21594.6,63.726199999999999,0,0,0,636.71799999999996,0,287.95400000000001,0,0,988.39800000000002,0,0,0,0,0,0,0,0,0,0,1.88,7.24,2.39,0,15.28,0,6.39,23.97,37.35,1.26,95.76,26.79,54.723999999999997,707.28200000000004,785.77200000000005,0,0,2033.7,5517.33,12062,433.91399999999999,21594.7,63.725900000000003,0,0,0,636.71799999999996,0,287.95400000000001,0,0,988.39800000000002,0,0,0,0,0,0,0,0,0,0,1.88,7.24,2.39,0,15.28,6.39,23.97,37.35,1.26,95.76,26.79,"CA Residential 2016, Vers. 1.0","CSE 0.813 EXE",null,"MPCBECC",0,1.57819,8.9726299999999995E-2,0,0,0.30136400000000002,0.73856599999999994,1.54311,3.8198599999999999E-2,4.2891599999999999,1.6679200000000001,0,1.5783,8.9726299999999995E-2,0,0,0.30136400000000002,0.738568,1.54311,3.8198599999999999E-2,4.2892700000000001,1.6680299999999999,1.1062599999999999E-4,1.0895699999999999E-4,0,0,{"$nulls":9},54.724299999999999,707.21299999999997,785.77200000000005,0,0,0,2033.7,5517.32,12062,433.91399999999999,21594.6,63.726199999999999,0,0,0,636.71799999999996,0,287.95400000000001,0,0,988.39800000000002,0,0,0,0,0,0,0,0,0,0,1.88,7.24,2.39,0,15.28,0,6.39,23.97,37.35,1.26,95.76,0,1.57819,8.9726299999999995E-2,0,0,0,0.30136400000000002,0.73856599999999994,1.54311,3.8198599999999999E-2,4.2891599999999999,277.27999999999997,1263.29,785.77200000000005,0,0,5894.96,6547.68,10697.7,540.49900000000002,26007.200000000001,230.76,0,0,0,1082.05,0,291.12400000000002,0,0,1603.93,0,0,0,0,0,0,0,0,0,0,6.99,14.17,2.39,0,25.97,18.68,26.93,33.130000000000003,1.5,129.76,0,2.40483,8.9726299999999995E-2,0,0,0.92718,0.77117400000000003,1.42503,7.5326799999999999E-3,5.62547,59.491,0,59.491]
["2016-08-31T17:00:56","U03R07","v27 07 S69 G15 M01","Proposed and Standard","PASS",0,60.450099999999999,5.5001199999999999,408.35899999999998,785.77200000000005,0,0,2033.7,5527.39,12062,433.91399999999999,21256.6,6.4046500000000002,0,0,0,626.69500000000005,0,287.95400000000001,0,0,921.05399999999997,0,0,0,0,0,0,0,0,0,0,0.19,6.21,2.48,0,14.76,0,6.72,24.67,38.92,1.33,95.28,23.64,5.4996900000000002,408.411,785.77200000000005,0,0,2033.7,5527.41,12062,433.91399999999999,21256.7,6.4041399999999999,0,0,0,626.69500000000005,0,287.95400000000001,0,0,921.053,0,0,0,0,0,0,0,0,0,0,0.19,6.21,2.48,0,14.76,6.72,24.67,38.92,1.33,95.28,23.64,"CA Residential 2016, Vers. 1.0","CSE 0.813 EXE",null,"MPCBECC",0,1.3881300000000001,8.9726299999999995E-2,0,0,0.30136400000000002,0.73728499999999997,1.54311,3.8198599999999999E-2,4.0978199999999996,1.47786,0,1.38828,8.9726299999999995E-2,0,0,0.30136400000000002,0.73728700000000003,1.54311,3.8198599999999999E-2,4.0979700000000001,1.47801,1.5163399999999999E-4,1.4960799999999999E-4,0,0,{"$nulls":9},5.5001199999999999,408.35899999999998,785.77200000000005,0,0,0,2033.7,5527.39,12062,433.91399999999999,21256.6,6.4046500000000002,0,0,0,626.69500000000005,0,287.95400000000001,0,0,921.05399999999997,0,0,0,0,0,0,0,0,0,0,0.19,6.21,2.48,0,14.76,0,6.72,24.67,38.92,1.33,95.28,0,1.3881300000000001,8.9726299999999995E-2,0,0,0,0.30136400000000002,0.73728499999999997,1.54311,3.8198599999999999E-2,4.0978199999999996,74.553299999999993,764.65099999999995,785.77200000000005,0,0,5894.96,6547.68,10697.7,540.49900000000002,25305.9,62.043100000000003,0,0,0,1072.78,0,291.12400000000002,0,0,1425.95,0,0,0,0,0,0,0,0,0,0,1.83,12.15,2.48,0,25.26,19.649999999999999,27.62,34.58,1.61,125.18,0,2.50596,8.9726299999999995E-2,0,0,0.92718,0.77117400000000003,1.42503,7.5326799999999999E-3,5.7266000000000004,60.450099999999999,0,60.450099999999999]
["2016-08-31T17:00:56","U03R08","v27 08 S69 G15 M01","Proposed and Standard","PASS",1.00021E-2,59.013500000000001,25.5425,2167.27,785.77200000000005,0,0,2033.7,5600.87,12062,433.91399999999999,23109,29.744199999999999,0,0,0,610.30799999999999,0,287.95400000000001,0,0,928.00599999999997,0,0,0,0,0,0,0,0,0,0,0.89,17.13,2.4,0,14.66,0,6.45,24.36,37.51,1.28,104.68,35.08,25.542000000000002,2167.4499999999998,785.77200000000005,0,0,2033.7,5600.89,12062,433.91399999999999,23109.200000000001,29.7437,0,0,0,610.30799999999999,0,287.95400000000001,0,0,928.00599999999997,0,0,0,0,0,0,0,0,0,0,0.89,17.14,2.4,0,14.66,6.45,24.36,37.51,1.28,104.69,35.090000000000003,"CA Residential 2016, Vers. 1.0","CSE 0.813 EXE",null,"MPCBECC",0,3.6818399999999998,8.9726299999999995E-2,0,0,0.30136400000000002,0.75144100000000003,1.54311,3.8198599999999999E-2,6.4056800000000003,3.7715700000000001,0,3.6819000000000002,8.9726299999999995E-2,0,0,0.30136400000000002,0.75144100000000003,1.54311,3.8198599999999999E-2,6.4057399999999998,3.77162,5.1975299999999997E-5,5.1975299999999997E-5,9.5540499999999997E-3,2.85042E-2,{"$nulls":9},25.5425,2167.27,785.77200000000005,0,0,0,2033.7,5600.87,12062,433.91399999999999,23109,29.744199999999999,0,0,0,610.30799999999999,0,287.95400000000001,0,0,928.00599999999997,0,0,0,0,0,0,0,0,0,0,0.89,17.13,2.4,0,14.66,0,6.45,24.36,37.51,1.28,104.68,0,3.6818399999999998,8.9726299999999995E-2,0,0,0,0.30136400000000002,0.75144100000000003,1.54311,3.8198599999999999E-2,6.4056800000000003,200.43700000000001,4238.05,785.77200000000005,0,0,5894.96,6547.68,10697.7,540.49900000000002,28905.1,166.81,0,0,0,1055.28,0,291.12400000000002,0,0,1513.21,0,0,0,0,0,0,0,0,0,0,5.07,34.58,2.4,0,25.35,18.86,26.98,33.32,1.53,148.09,0,6.4691999999999998,8.9726299999999995E-2,0,0,0.92718,0.77117400000000003,1.42503,7.5326799999999999E-3,9.6898400000000002,59.013500000000001,0,59.019199999999998]
["2016-08-31T17:00:56","U03R09","v27 09 S69 G15 M01","Proposed and Standard","PASS",0,57.580500000000001,53.674500000000002,3175.06,785.77200000000005,0,0,2033.7,5579.89,12062,433.91399999999999,24124,62.522799999999997,0,0,0,609.06299999999999,0,287.95400000000001,0,0,959.54,0,0,0,0,0,0,0,0,0,0,1.84,27.22,2.37,0,14.66,0,6.37,24.16,37.08,1.26,114.96,46.09,53.673999999999999,3175.19,785.77200000000005,0,0,2033.7,5579.9,12062,433.91399999999999,24124.1,62.522100000000002,0,0,0,609.06299999999999,0,287.95400000000001,0,0,959.54,0,0,0,0,0,0,0,0,0,0,1.84,27.22,2.37,0,14.66,6.37,24.16,37.08,1.26,114.96,46.09,"CA Residential 2016, Vers. 1.0","CSE 0.813 EXE",null,"MPCBECC",0,5.5484,8.9726299999999995E-2,0,0,0.30136400000000002,0.75509499999999996,1.54311,3.8198599999999999E-2,8.2758900000000004,5.6381199999999998,0,5.5484400000000003,8.9726299999999995E-2,0,0,0.30136400000000002,0.75509499999999996,1.54311,3.8198599999999999E-2,8.2759300000000007,5.6381600000000001,4.00543E-5,4.0531200000000003E-5,0,0,{"$nulls":9},53.674500000000002,3175.06,785.77200000000005,0,0,0,2033.7,5579.89,12062,433.91399999999999,24124,62.522799999999997,0,0,0,609.06299999999999,0,287.95400000000001,0,0,959.54,0,0,0,0,0,0,0,0,0,0,1.84,27.22,2.37,0,14.66,0,6.37,24.16,37.08,1.26,114.96,0,5.5484,8.9726299999999995E-2,0,0,0,0.30136400000000002,0.75509499999999996,1.54311,3.8198599999999999E-2,8.2758900000000004,325.18400000000003,6261.79,785.77200000000005,0,0,5894.96,6547.68,10697.7,540.49900000000002,31053.599999999999,270.70999999999998,0,0,0,1053.72,0,291.12400000000002,0,0,1615.55,0,0,0,0,0,0,0,0,0,0,8.14,55.34,2.37,0,25.36,18.649999999999999,26.78,33,1.51,171.15,0,9.4844899999999992,8.9726299999999995E-2,0,0,0.92718,0.77117400000000003,1.42503,7.5326799999999999E-3,12.7051,57.580500000000001,0,57.580500000000001]
["2016-08-31T17:00:57","U03R10","v27 10 S69 G15 M01","Proposed and Standard","PASS",0,56.029699999999998,68.168599999999998,3834.01,785.77200000000005,0,0,2033.7,5585.71,12062,433.91399999999999,24803.200000000001,79.409899999999993,0,0,0,604.34299999999996,0,287.95400000000001,0,0,971.70699999999999,0,0,0,0,0,0,0,0,0,0,2.3199999999999998,27.73,2.37,0,14.57,0,6.29,24.11,36.92,1.25,115.56,46.99,68.168099999999995,3834.13,785.77200000000005,0,0,2033.7,5585.71,12062,433.91399999999999,24803.4,79.409400000000005,0,0,0,604.34299999999996,0,287.95400000000001,0,0,971.70600000000002,0,0,0,0,0,0,0,0,0,0,2.3199999999999998,27.73,2.37,0,14.57,6.29,24.11,36.92,1.25,115.56,46.99,"CA Residential 2016, Vers. 1.0","CSE 0.813 EXE",null,"MPCBECC",0,5.5297000000000001,8.9726299999999995E-2,0,0,0.30136400000000002,0.75569699999999995,1.54311,3.8198599999999999E-2,8.2577999999999996,5.6194300000000004,0,5.5297299999999998,8.9726299999999995E-2,0,0,0.30136400000000002,0.75569699999999995,1.54311,3.8198599999999999E-2,8.2578300000000002,5.6194600000000001,2.95639E-5,2.9087100000000001E-5,0,0,{"$nulls":9},68.168599999999998,3834.01,785.77200000000005,0,0,0,2033.7,5585.71,12062,433.91399999999999,24803.200000000001,79.409899999999993,0,0,0,604.34299999999996,0,287.95400000000001,0,0,971.70699999999999,0,0,0,0,0,0,0,0,0,0,2.3199999999999998,27.73,2.37,0,14.57,0,6.29,24.11,36.92,1.25,115.56,0,5.5297000000000001,8.9726299999999995E-2,0,0,0,0.30136400000000002,0.75569699999999995,1.54311,3.8198599999999999E-2,8.2577999999999996,370.08,7899.94,785.77200000000005,0,0,5894.96,6547.68,10697.7,540.49900000000002,32736.7,308.10000000000002,0,0,0,1048.3399999999999,0,291.12400000000002,0,0,1647.57,0,0,0,0,0,0,0,0,0,0,9.26,60.87,2.37,0,25.28,18.45,26.75,32.86,1.49,177.33,0,10.250500000000001,8.9726299999999995E-2,0,0,0.92718,0.77117400000000003,1.42503,7.5326799999999999E-3,13.4712,56.029699999999998,0,56.029699999999998]
["2016-08-31T17:00:43","U03R11","v27 11 S69 G15 M01","Proposed and Standard","PASS",0,56.161799999999999,332.48899999999998,6190.11,785.77200000000005,0,0,2033.7,5543.01,12062,433.91399999999999,27381,387.22899999999998,0,0,0,615.9,0,287.95400000000001,0,0,1291.08,0,0,0,0,0,0,0,0,0,0,11.34,44.66,2.4700000000000002,0,14.87,0,6.7,24.95,38.71,1.32,145.02000000000001,73.34,332.48899999999998,6190.24,785.77200000000005,0,0,2033.7,5543.01,12062,433.91399999999999,27381.1,387.22800000000001,0,0,0,615.9,0,287.95400000000001,0,0,1291.08,0,0,0,0,0,0,0,0,0,0,11.34,44.66,2.4700000000000002,0,14.87,6.7,24.95,38.71,1.32,145.02000000000001,73.34,"CA Residential 2016, Vers. 1.0","CSE 0.813 EXE",null,"MPCBECC",0,6.68065,8.9726299999999995E-2,0,0,0.30136400000000002,0.75359500000000001,1.54311,3.8198599999999999E-2,9.4066500000000008,6.7703800000000003,0,6.6807299999999996,8.9726299999999995E-2,0,0,0.30136400000000002,0.75359500000000001,1.54311,3.8198599999999999E-2,9.4067299999999996,6.7704599999999999,8.0108600000000001E-5,8.0108600000000001E-5,0,0,{"$nulls":9},332.48899999999998,6190.11,785.77200000000005,0,0,0,2033.7,5543.01,12062,433.91399999999999,27381,387.22899999999998,0,0,0,615.9,0,287.95400000000001,0,0,1291.08,0,0,0,0,0,0,0,0,0,0,11.34,44.66,2.4700000000000002,0,14.87,0,6.7,24.95,38.71,1.32,145.02000000000001,0,6.68065,8.9726299999999995E-2,0,0,0,0.30136400000000002,0.75359500000000001,1.54311,3.8198599999999999E-2,9.4066500000000008,1038.6500000000001,12457.1,785.77200000000005,0,0,5894.96,6547.68,10697.7,540.49900000000002,37962.400000000001,864.495,0,0,0,1058.55,0,291.12400000000002,0,0,2214.17,0,0,0,0,0,0,0,0,0,0,26.02,84.37,2.4700000000000002,0,25.55,19.739999999999998,27.62,34.61,1.57,221.95,0,11.447100000000001,8.9726299999999995E-2,0,0,0.92718,0.77117400000000003,1.42503,7.5326799999999999E-3,14.6678,56.161799999999999,0,56.161799999999999]
["2016-08-31T17:00:43","U03R12","v27 12 S69 G15 M01","Proposed and Standard","PASS",0,55.641399999999997,325.666,2661.1,785.77200000000005,0,0,2033.7,5501.42,12062,433.91399999999999,23803.5,379.22500000000002,0,0,0,647.79700000000003,0,287.95400000000001,0,0,1314.98,0,0,0,0,0,0,0,0,0,0,11.15,27.7,2.4700000000000002,0,15.55,0,6.74,24.8,38.78,1.33,128.52000000000001,56.87,325.666,2661.26,785.77200000000005,0,0,2033.7,5501.43,12062,433.91399999999999,23803.7,379.22399999999999,0,0,0,647.79700000000003,0,287.95400000000001,0,0,1314.98,0,0,0,0,0,0,0,0,0,0,11.15,27.7,2.4700000000000002,0,15.55,6.74,24.8,38.78,1.33,128.52000000000001,56.87,"CA Residential 2016, Vers. 1.0","CSE 0.813 EXE",null,"MPCBECC",0,4.9396699999999996,8.9726299999999995E-2,0,0,0.30136400000000002,0.74921000000000004,1.54311,3.8198599999999999E-2,7.6612799999999996,5.0293900000000002,0,4.9398099999999996,8.9726299999999995E-2,0,0,0.30136400000000002,0.74921000000000004,1.54311,3.8198599999999999E-2,7.6614199999999997,5.0295399999999999,1.46389E-4,1.4591199999999999E-4,0,0,{"$nulls":9},325.666,2661.1,785.77200000000005,0,0,0,2033.7,5501.42,12062,433.91399999999999,23803.5,379.22500000000002,0,0,0,647.79700000000003,0,287.95400000000001,0,0,1314.98,0,0,0,0,0,0,0,0,0,0,11.15,27.7,2.4700000000000002,0,15.55,0,6.74,24.8,38.78,1.33,128.52000000000001,0,4.9396699999999996,8.9726299999999995E-2,0,0,0,0.30136400000000002,0.74921000000000004,1.54311,3.8198599999999999E-2,7.6612799999999996,1029.96,5831.04,785.77200000000005,0,0,5894.96,6547.68,10697.7,540.49900000000002,31327.7,857.13099999999997,0,0,0,1091.3900000000001,0,291.12400000000002,0,0,2239.65,0,0,0,0,0,0,0,0,0,0,25.89,54.47,2.4700000000000002,0,26.21,19.850000000000001,27.63,34.69,1.57,192.78,0,9.2231100000000001,8.9726299999999995E-2,0,0,0.92718,0.77117400000000003,1.42503,7.5326799999999999E-3,12.4438,55.641399999999997,0,55.641399999999997]
["2016-08-31T17:00:43","U03R13","v27 13 S69 G15 M01","Proposed and Standard","PASS",0,56.851700000000001,285.15800000000002,6836.91,785.77200000000005,0,0,2033.7,5570.99,12062,433.91399999999999,28008.400000000001,332.10300000000001,0,0,0,604.26199999999994,0,287.95400000000001,0,0,1224.32,0,0,0,0,0,0,0,0,0,0,9.8000000000000007,47.98,2.4700000000000002,0,14.59,0,6.67,24.95,38.69,1.32,146.47,74.84,285.15699999999998,6837.03,785.77200000000005,0,0,2033.7,5570.99,12062,433.91399999999999,28008.5,332.10199999999998,0,0,0,604.26199999999994,0,287.95400000000001,0,0,1224.32,0,0,0,0,0,0,0,0,0,0,9.8000000000000007,47.98,2.4700000000000002,0,14.59,6.67,24.95,38.69,1.32,146.47,74.84,"CA Residential 2016, Vers. 1.0","CSE 0.813 EXE",null,"MPCBECC",0,7.6774899999999997,8.9726299999999995E-2,0,0,0.30136400000000002,0.755409,1.54311,3.8198599999999999E-2,10.4053,7.76722,0,7.6775200000000003,8.9726299999999995E-2,0,0,0.30136400000000002,0.755409,1.54311,3.8198599999999999E-2,10.4053,7.7672499999999998,2.95639E-5,2.9087100000000001E-5,0,0,{"$nulls":9},285.15800000000002,6836.91,785.77200000000005,0,0,0,2033.7,5570.99,12062,433.91399999999999,28008.400000000001,332.10300000000001,0,0,0,604.26199999999994,0,287.95400000000001,0,0,1224.32,0,0,0,0,0,0,0,0,0,0,9.8000000000000007,47.98,2.4700000000000002,0,14.59,0,6.67,24.95,38.69,1.32,146.47,0,7.6774899999999997,8.9726299999999995E-2,0,0,0,0.30136400000000002,0.755409,1.54311,3.8198599999999999E-2,10.4053,927.52,13616.4,785.77200000000005,0,0,5894.96,6547.68,10697.7,540.49900000000002,39010.5,771.99599999999998,0,0,0,1046.18,0,291.12400000000002,0,0,2109.3000000000002,0,0,0,0,0,0,0,0,0,0,23.39,85.46,2.4700000000000002,0,25.26,19.649999999999999,27.62,34.590000000000003,1.54,219.98,0,12.217599999999999,8.9726299999999995E-2,0,0,0.92718,0.77117400000000003,1.42503,7.5326799999999999E-3,15.4382,56.851700000000001,0,56.851700000000001]
["2016-08-31T17:00:44","U03R14","v27 14 S69 G15 M01","Proposed and Standard","PASS",0,56.897399999999998,322.464,5872.07,785.77200000000005,0,0,2033.7,5539.67,12062,433.91399999999999,27049.5,375.95100000000002,0,0,0,623.22699999999998,0,287.95400000000001,0,0,1287.1300000000001,0,0,0,0,0,0,0,0,0,0,11.06,40.96,2.37,0,15.15,0,6.38,24.13,37.020000000000003,1.26,138.33000000000001,69.540000000000006,322.464,5872.13,785.77200000000005,0,0,2033.7,5539.67,12062,433.91399999999999,27049.599999999999,375.95,0,0,0,623.22699999999998,0,287.95400000000001,0,0,1287.1300000000001,0,0,0,0,0,0,0,0,0,0,11.06,40.96,2.37,0,15.15,6.38,24.13,37.020000000000003,1.26,138.33000000000001,69.540000000000006,"CA Residential 2016, Vers. 1.0","CSE 0.813 EXE",null,"MPCBECC",0,7.0342099999999999,8.9726299999999995E-2,0,0,0.30136400000000002,0.75548400000000004,1.54311,3.8198599999999999E-2,9.7621000000000002,7.1239400000000002,0,7.0342500000000001,8.9726299999999995E-2,0,0,0.30136400000000002,0.75548400000000004,1.54311,3.8198599999999999E-2,9.7621400000000005,7.1239800000000004,3.9100600000000003E-5,3.8146999999999999E-5,0,0,{"$nulls":9},322.464,5872.07,785.77200000000005,0,0,0,2033.7,5539.67,12062,433.91399999999999,27049.5,375.95100000000002,0,0,0,623.22699999999998,0,287.95400000000001,0,0,1287.1300000000001,0,0,0,0,0,0,0,0,0,0,11.06,40.96,2.37,0,15.15,0,6.38,24.13,37.020000000000003,1.26,138.33000000000001,0,7.0342099999999999,8.9726299999999995E-2,0,0,0,0.30136400000000002,0.75548400000000004,1.54311,3.8198599999999999E-2,9.7621000000000002,1031.54,11891,785.77200000000005,0,0,5894.96,6547.68,10697.7,540.49900000000002,37389.199999999997,859.49900000000002,0,0,0,1065.1300000000001,0,291.12400000000002,0,0,2215.7600000000002,0,0,0,0,0,0,0,0,0,0,25.94,75.430000000000007,2.37,0,25.9,18.829999999999998,26.77,33.130000000000003,1.49,209.86,0,11.264099999999999,8.9726299999999995E-2,0,0,0.92718,0.77117400000000003,1.42503,7.5326799999999999E-3,14.4847,56.897399999999998,0,56.897399999999998]
["2016-08-31T17:00:44","U03R15","v27 15 S69 G15 M01","Proposed and Standard","PASS",0,62.315399999999997,4.7719899999999997,17538.2,785.77200000000005,0,0,2033.7,5776.37,12062,433.91399999999999,38634.699999999997,5.5579599999999996,0,0,0,452.49599999999998,0,287.95400000000001,0,0,746.00800000000004,0,0,0,0,0,0,0,0,0,0,0.16,91.62,2.37,0,11.08,0,6.42,24.77,37.11,1.27,174.8,105.23,4.7716700000000003,17538.3,785.77200000000005,0,0,2033.7,5776.38,12062,433.91399999999999,38634.800000000003,5.5575799999999997,0,0,0,452.49599999999998,0,287.95400000000001,0,0,746.00800000000004,0,0,0,0,0,0,0,0,0,0,0.16,91.62,2.37,0,11.08,6.42,24.77,37.11,1.27,174.8,105.23,"CA Residential 2016, Vers. 1.0","CSE 0.813 EXE",null,"MPCBECC",0,12.2578,8.9726299999999995E-2,0,0,0.30136400000000002,0.75797000000000003,1.54311,3.8198599999999999E-2,14.988200000000001,12.3475,0,12.2578,8.9726299999999995E-2,0,0,0.30136400000000002,0.75797000000000003,1.54311,3.8198599999999999E-2,14.988200000000001,12.3475,0,0,0,0,{"$nulls":9},4.7719899999999997,17538.2,785.77200000000005,0,0,0,2033.7,5776.37,12062,433.91399999999999,38634.699999999997,5.5579599999999996,0,0,0,452.49599999999998,0,287.95400000000001,0,0,746.00800000000004,0,0,0,0,0,0,0,0,0,0,0.16,91.62,2.37,0,11.08,0,6.42,24.77,37.11,1.27,174.8,0,12.2578,8.9726299999999995E-2,0,0,0,0.30136400000000002,0.75797000000000003,1.54311,3.8198599999999999E-2,14.988200000000001,95.000900000000001,32917.800000000003,785.77200000000005,0,0,5894.96,6547.68,10697.7,540.49900000000002,57479.5,79.076599999999999,0,0,0,889.40899999999999,0,291.12400000000002,0,0,1259.6099999999999,0,0,0,0,0,0,0,0,0,0,2.42,153.05000000000001,2.37,0,21.77,18.93,26.8,33.18,1.51,260.02999999999997,0,16.9299,8.9726299999999995E-2,0,0,0.92718,0.77117400000000003,1.42503,7.5326799999999999E-3,20.150600000000001,62.315399999999997,0,62.315399999999997]
["2016-08-31T17:01:04","U03R16","v27 16 S69 G15 M01","Proposed and Standard","PASS",0,56.9071,890.63599999999997,943.73400000000004,785.77200000000005,0,0,2033.7,5399.12,12062,433.91399999999999,22548.799999999999,1039.92,0,0,0,768.83,0,287.95400000000001,0,0,2096.6999999999998,0,0,0,0,0,0,0,0,0,0,29.56,8.98,2.36,0,18.559999999999999,0,6.33,23.66,36.909999999999997,1.25,127.61,59.46,890.63599999999997,943.80600000000004,785.77200000000005,0,0,2033.7,5399.13,12062,433.91399999999999,22548.9,1039.92,0,0,0,768.83,0,287.95400000000001,0,0,2096.6999999999998,0,0,0,0,0,0,0,0,0,0,29.56,8.98,2.36,0,18.559999999999999,6.33,23.66,36.909999999999997,1.25,127.61,59.46,"CA Residential 2016, Vers. 1.0","CSE 0.813 EXE",null,"MPCBECC",0,1.6954100000000001,8.9726299999999995E-2,0,0,0.30136400000000002,0.74360199999999999,1.54311,3.8198599999999999E-2,4.4114100000000001,1.7851399999999999,0,1.69547,8.9726299999999995E-2,0,0,0.30136400000000002,0.74360300000000001,1.54311,3.8198599999999999E-2,4.4114699999999996,1.7851999999999999,6.1988800000000005E-5,6.1154400000000005E-5,0,0,{"$nulls":9},890.63599999999997,943.73400000000004,785.77200000000005,0,0,0,2033.7,5399.12,12062,433.91399999999999,22548.799999999999,1039.92,0,0,0,768.83,0,287.95400000000001,0,0,2096.6999999999998,0,0,0,0,0,0,0,0,0,0,29.56,8.98,2.36,0,18.559999999999999,0,6.33,23.66,36.909999999999997,1.25,127.61,0,1.6954100000000001,8.9726299999999995E-2,0,0,0,0.30136400000000002,0.74360199999999999,1.54311,3.8198599999999999E-2,4.4114100000000001,1353.48,2658.86,785.77200000000005,0,0,5894.96,6547.68,10697.7,540.49900000000002,28479,1129.46,0,0,0,1211.55,0,291.12400000000002,0,0,2632.13,0,0,0,0,0,0,0,0,0,0,33.17,22.39,2.36,0,29.25,18.649999999999999,26.72,32.99,1.48,167.01,0,3.6081099999999999,8.9726299999999995E-2,0,0,0.92718,0.77117400000000003,1.42503,7.5326799999999999E-3,6.8287599999999999,56.9071,0,56.9071]
["2016-08-31T17:00:31","U04R01","v27 01 P21 U20 M01","Proposed and Standard","PASS",1.8,56.038899999999998,301.66800000000001,0,111.69,0,0,505.55700000000002,885.56200000000001,2025.88,119.621,3949.98,351.31,0,0,0,129.65100000000001,0,43.669699999999999,0,0,524.63099999999997,0,0,0,0,0,0,0,0,0,0,32.200000000000003,0,1.17,0,10.27,0,5.44,13.02,21.44,1.2,84.74,43.64,315.01799999999997,0,111.69,0,0,505.55700000000002,889.01599999999996,2025.88,119.621,3966.79,366.85700000000003,0,0,0,129.65100000000001,0,43.669699999999999,0,0,540.178,0,0,0,0,0,0,0,0,0,0,34,0,1.17,0,10.27,5.44,13.06,21.44,1.2,86.58,45.44,"CA Residential 2016, Vers. 1.0","CSE 0.813 EXE",null,"MPCBECC",5.8522800000000004E-10,0,1.2753799999999999E-2,0,0,7.4915999999999996E-2,0.13134100000000001,0.25846799999999998,1.0530599999999999E-2,0.48800900000000003,1.2753799999999999E-2,1.3120800000000001E-9,0,1.2753799999999999E-2,0,0,7.4915999999999996E-2,0.13228300000000001,0.25846799999999998,1.0530599999999999E-2,0.48895100000000002,1.2753799999999999E-2,9.41902E-4,0,2.12521,3.9612699999999998,{"$nulls":9},301.66800000000001,0,111.69,0,0,0,505.55700000000002,885.56200000000001,2025.88,119.621,3949.98,351.31,0,0,0,129.65100000000001,0,43.669699999999999,0,0,524.63099999999997,0,0,0,0,0,0,0,0,0,0,32.200000000000003,0,1.17,0,10.27,0,5.44,13.02,21.44,1.2,84.74,5.8522800000000004E-10,0,1.2753799999999999E-2,0,0,0,7.4915999999999996E-2,0.13134100000000001,0.25846799999999998,1.0530599999999999E-2,0.48800900000000003,419.18900000000002,0,111.69,0,0,2135,930.00099999999998,2637.81,297.5,6531.19,348.87900000000002,0,0,0,183.46600000000001,0,65.400000000000006,0,0,597.745,0,0,0,0,0,0,0,0,0,0,33.33,0,1.17,0,14.53,23.21,14.89,28.04,2.82,117.99,1.8028300000000001E-9,0,1.2753799999999999E-2,0,0,0.33579999999999999,0.11074100000000001,0.35138000000000003,4.1461199999999997E-3,0.81482200000000005,56.038899999999998,0,57.255699999999997]
["2016-08-31T17:00:33","U04R02","v27 02 P21 U20 M01","Proposed and Standard","PASS",1.65,49.472000000000001,201.386,0.84929699999999997,111.69,0,0,505.55700000000002,920.76300000000003,2025.88,119.621,3885.75,234.517,0,0,0,116.405,0,43.669699999999999,0,0,394.59199999999998,0,0,0,0,0,0,0,0,0,0,22.42,0.02,1.17,0,9.26,0,5.44,13.62,21.46,1.2,74.59,32.869999999999997,212.21600000000001,6.16716,111.69,0,0,505.55700000000002,926.02300000000002,2025.88,119.621,3907.16,247.12899999999999,0,0,0,116.405,0,43.669699999999999,0,0,407.20400000000001,0,0,0,0,0,0,0,0,0,0,23.73,0.36,1.17,0,9.26,5.44,13.69,21.46,1.2,76.31,34.520000000000003,"CA Residential 2016, Vers. 1.0","CSE 0.813 EXE",null,"MPCBECC",0,1.0497099999999999E-3,1.2753799999999999E-2,0,0,7.4915999999999996E-2,0.14169599999999999,0.25846799999999998,1.0530599999999999E-2,0.499415,1.38035E-2,0,1.12493E-2,1.2753799999999999E-2,0,0,7.4915999999999996E-2,0.14302300000000001,0.25846799999999998,1.0530599999999999E-2,0.51094099999999998,2.4003E-2,1.1526099999999999E-2,1.01996E-2,2.2539699999999998,4.7798400000000001,{"$nulls":9},201.386,0.84929699999999997,111.69,0,0,0,505.55700000000002,920.76300000000003,2025.88,119.621,3885.75,234.517,0,0,0,116.405,0,43.669699999999999,0,0,394.59199999999998,0,0,0,0,0,0,0,0,0,0,22.42,0.02,1.17,0,9.26,0,5.44,13.62,21.46,1.2,74.59,0,1.0497099999999999E-3,1.2753799999999999E-2,0,0,0,7.4915999999999996E-2,0.14169599999999999,0.25846799999999998,1.0530599999999999E-2,0.499415,455.72300000000001,63.205500000000001,111.69,0,0,2135,930.00099999999998,2637.81,297.5,6630.93,379.27100000000002,0,0,0,170.803,0,65.400000000000006,0,0,615.47400000000005,0,0,0,0,0,0,0,0,0,0,37.39,3.55,1.17,0,13.59,23.29,14.9,28.13,2.81,124.83,0,0.130719,1.2753799999999999E-2,0,0,0.33579999999999999,0.11074100000000001,0.35138000000000003,4.1461199999999997E-3,0.94554099999999996,49.472000000000001,0,50.6128]
["2016-08-31T17:00:29","U04R03","v27 03 P21 U20 M01","Proposed and Standard","PASS",2.19,46.202100000000002,111.346,0,111.69,0,0,505.55700000000002,915.94,2025.88,119.621,3790.04,129.65700000000001,0,0,0,116.887,0,43.669699999999999,0,0,290.214,0,0,0,0,0,0,0,0,0,0,12.49,0,1.17,0,9.2799999999999994,0,5.41,13.49,21.43,1.19,64.459999999999994,22.94,129.86799999999999,0,111.69,0,0,505.55700000000002,919.53800000000001,2025.88,119.621,3812.16,151.22499999999999,0,0,0,116.887,0,43.669699999999999,0,0,311.78100000000001,0,0,0,0,0,0,0,0,0,0,14.68,0,1.17,0,9.2799999999999994,5.41,13.54,21.43,1.19,66.7,25.13,"CA Residential 2016, Vers. 1.0","CSE 0.813 EXE",null,"MPCBECC",0,0,1.2753799999999999E-2,0,0,7.4915999999999996E-2,0.13777900000000001,0.25846799999999998,1.0530599999999999E-2,0.494448,1.2753799999999999E-2,0,0,1.2753799999999999E-2,0,0,7.4915999999999996E-2,0.13894100000000001,0.25846799999999998,1.0530599999999999E-2,0.49560900000000002,1.2753799999999999E-2,1.1612199999999999E-3,0,3.35832,8.7146899999999992,{"$nulls":9},111.346,0,111.69,0,0,0,505.55700000000002,915.94,2025.88,119.621,3790.04,129.65700000000001,0,0,0,116.887,0,43.669699999999999,0,0,290.214,0,0,0,0,0,0,0,0,0,0,12.49,0,1.17,0,9.2799999999999994,0,5.41,13.49,21.43,1.19,64.459999999999994,0,0,1.2753799999999999E-2,0,0,0,7.4915999999999996E-2,0.13777900000000001,0.25846799999999998,1.0530599999999999E-2,0.494448,387.17700000000002,0,111.69,0,0,2135,930.00099999999998,2637.81,297.5,6499.18,322.20699999999999,0,0,0,171.37200000000001,0,65.400000000000006,0,0,558.97900000000004,0,0,0,0,0,0,0,0,0,0,31.69,0,1.17,0,13.6,23.09,14.89,28.02,2.78,115.24,0,0,1.2753799999999999E-2,0,0,0.33579999999999999,0.11074100000000001,0.35138000000000003,4.1461199999999997E-3,0.81482200000000005,46.202100000000002,0,47.807600000000001]
["2016-08-31T17:00:35","U04R04","v27 04 P21 U20 M01","Proposed and Standard","PASS",2.79,46.290599999999998,137.58099999999999,7.0410000000000004,111.69,0,0,505.55700000000002,933.9,2025.88,119.621,3841.27,160.21600000000001,0,0,0,111.371,0,43.669699999999999,0,0,315.25700000000001,0,0,0,0,0,0,0,0,0,0,15.37,0.26,1.17,0,8.8699999999999992,0,5.46,13.71,21.48,1.2,67.52,25.67,149.80000000000001,24.561900000000001,111.69,0,0,505.55700000000002,938.95500000000004,2025.88,119.621,3876.07,174.44499999999999,0,0,0,111.371,0,43.669699999999999,0,0,329.48599999999999,0,0,0,0,0,0,0,0,0,0,16.82,1.6,1.17,0,8.8699999999999992,5.46,13.77,21.48,1.2,70.37,28.46,"CA Residential 2016, Vers. 1.0","CSE 0.813 EXE",null,"MPCBECC",0,2.4018399999999999E-2,1.2753799999999999E-2,0,0,7.4915999999999996E-2,0.14554900000000001,0.25846799999999998,1.0530599999999999E-2,0.52623500000000001,3.6772199999999998E-2,0,0.15347,1.2753799999999999E-2,0,0,7.4915999999999996E-2,0.14660000000000001,0.25846799999999998,1.0530599999999999E-2,0.65673800000000004,0.16622300000000001,0.13050200000000001,0.12945100000000001,4.0500299999999996,9.8032299999999992,{"$nulls":9},137.58099999999999,7.0410000000000004,111.69,0,0,0,505.55700000000002,933.9,2025.88,119.621,3841.27,160.21600000000001,0,0,0,111.371,0,43.669699999999999,0,0,315.25700000000001,0,0,0,0,0,0,0,0,0,0,15.37,0.26,1.17,0,8.8699999999999992,0,5.46,13.71,21.48,1.2,67.52,0,2.4018399999999999E-2,1.2753799999999999E-2,0,0,0,7.4915999999999996E-2,0.14554900000000001,0.25846799999999998,1.0530599999999999E-2,0.52623500000000001,351.05599999999998,151.226,111.69,0,0,2135,930.00099999999998,2637.81,297.5,6614.28,292.16399999999999,0,0,0,165.96,0,65.400000000000006,0,0,523.524,0,0,0,0,0,0,0,0,0,0,28.98,8.16,1.17,0,13.22,23.33,14.9,28.15,2.8,120.71,0,0.64194300000000004,1.2753799999999999E-2,0,0,0.33579999999999999,0.11074100000000001,0.35138000000000003,4.1461199999999997E-3,1.4567600000000001,46.290599999999998,0,48.244599999999998]
["2016-08-31T17:00:35","U04R05","v27 05 P21 U20 M01","Proposed and Standard","PASS",2.2999999999999998,42.988799999999998,89.5047,0,111.69,0,0,505.55700000000002,914.70500000000004,2025.88,119.621,3766.96,104.236,0,0,0,119.652,0,43.669699999999999,0,0,267.55700000000002,0,0,0,0,0,0,0,0,0,0,9.73,0,1.17,0,9.48,0,5.36,13.38,21.36,1.19,61.67,20.38,108.196,0,111.69,0,0,505.55700000000002,919.42700000000002,2025.88,119.621,3790.37,126.003,0,0,0,119.652,0,43.669699999999999,0,0,289.32499999999999,0,0,0,0,0,0,0,0,0,0,12.03,0,1.17,0,9.48,5.36,13.44,21.36,1.19,64.03,22.68,"CA Residential 2016, Vers. 1.0","CSE 0.813 EXE",null,"MPCBECC",0,0,1.2753799999999999E-2,0,0,7.4915999999999996E-2,0.13678699999999999,0.25846799999999998,1.0530599999999999E-2,0.49345499999999998,1.2753799999999999E-2,0,0,1.2753799999999999E-2,0,0,7.4915999999999996E-2,0.138463,0.25846799999999998,1.0530599999999999E-2,0.49513099999999999,1.2753799999999999E-2,1.6763500000000001E-3,0,3.6857700000000002,10.1411,{"$nulls":9},89.5047,0,111.69,0,0,0,505.55700000000002,914.70500000000004,2025.88,119.621,3766.96,104.236,0,0,0,119.652,0,43.669699999999999,0,0,267.55700000000002,0,0,0,0,0,0,0,0,0,0,9.73,0,1.17,0,9.48,0,5.36,13.38,21.36,1.19,61.67,0,0,1.2753799999999999E-2,0,0,0,7.4915999999999996E-2,0.13678699999999999,0.25846799999999998,1.0530599999999999E-2,0.49345499999999998,402.94099999999997,0,111.69,0,0,2135,930.00099999999998,2637.81,297.5,6514.94,335.36399999999998,0,0,0,174.023,0,65.400000000000006,0,0,574.78800000000001,0,0,0,0,0,0,0,0,0,0,32.380000000000003,0,1.17,0,13.79,22.84,14.87,27.86,2.78,115.69,2.6512700000000002E-15,0,1.2753799999999999E-2,0,0,0.33579999999999999,0.11074100000000001,0.35138000000000003,4.1461199999999997E-3,0.81482200000000005,42.988799999999998,0,44.633899999999997]
["2016-08-31T17:00:35","U04R06","v27 06 P21 U20 M01","Proposed and Standard","PASS",1.67,49.566099999999999,58.390700000000002,21.417400000000001,111.69,0,0,505.55700000000002,949.80700000000002,2025.88,119.621,3792.37,67.995699999999999,0,0,0,106.27500000000001,0,43.669699999999999,0,0,217.941,0,0,0,0,0,0,0,0,0,0,6.59,1.6,1.1299999999999999,0,8.5,0,5.27,13.58,20.78,1.1499999999999999,58.6,17.82,67.737700000000004,35.925899999999999,111.69,0,0,505.55700000000002,953.52599999999995,2025.88,119.621,3819.94,78.880300000000005,0,0,0,106.27500000000001,0,43.669699999999999,0,0,228.82499999999999,0,0,0,0,0,0,0,0,0,0,7.7,2.16,1.1299999999999999,0,8.5,5.27,13.63,20.78,1.1499999999999999,60.32,19.489999999999998,"CA Residential 2016, Vers. 1.0","CSE 0.813 EXE",null,"MPCBECC",0,0.14163700000000001,1.2753799999999999E-2,0,0,7.4915999999999996E-2,0.143651,0.25846799999999998,1.0530599999999999E-2,0.641957,0.154391,0,0.17299300000000001,1.2753799999999999E-2,0,0,7.4915999999999996E-2,0.14454600000000001,0.25846799999999998,1.0530599999999999E-2,0.67420800000000003,0.185747,3.2250599999999997E-2,3.1356299999999997E-2,2.8514599999999999,8.5685000000000002,{"$nulls":9},58.390700000000002,21.417400000000001,111.69,0,0,0,505.55700000000002,949.80700000000002,2025.88,119.621,3792.37,67.995699999999999,0,0,0,106.27500000000001,0,43.669699999999999,0,0,217.941,0,0,0,0,0,0,0,0,0,0,6.59,1.6,1.1299999999999999,0,8.5,0,5.27,13.58,20.78,1.1499999999999999,58.6,0,0.14163700000000001,1.2753799999999999E-2,0,0,0,7.4915999999999996E-2,0.143651,0.25846799999999998,1.0530599999999999E-2,0.641957,148.465,90.926299999999998,111.69,0,0,2135,930.00099999999998,2637.81,297.5,6351.39,123.557,0,0,0,161.15600000000001,0,65.400000000000006,0,0,350.113,0,0,0,0,0,0,0,0,0,0,12.35,5.55,1.1299999999999999,0,12.88,22.42,14.59,27.08,2.74,98.74,0,0.29978900000000003,1.2753799999999999E-2,0,0,0.33579999999999999,0.11074100000000001,0.35138000000000003,4.1461199999999997E-3,1.1146100000000001,49.566099999999999,0,51.020899999999997]
["2016-08-31T17:00:35","U04R07","v27 07 P21 U20 M01","Proposed and Standard","PASS",0.88,48.950200000000002,19.406099999999999,1.4439900000000001,111.69,0,0,505.55700000000002,951.37599999999998,2025.88,119.621,3734.98,22.5975,0,0,0,104.54600000000001,0,43.669699999999999,0,0,170.81299999999999,0,0,0,0,0,0,0,0,0,0,2.09,0.08,1.17,0,8.1999999999999993,0,5.54,13.84,21.65,1.22,53.79,11.54,25.065000000000001,3.65082,111.69,0,0,505.55700000000002,955.10199999999998,2025.88,119.621,3746.57,29.187200000000001,0,0,0,104.54600000000001,0,43.669699999999999,0,0,177.40299999999999,0,0,0,0,0,0,0,0,0,0,2.75,0.3,1.17,0,8.1999999999999993,5.54,13.89,21.65,1.22,54.72,12.42,"CA Residential 2016, Vers. 1.0","CSE 0.813 EXE",null,"MPCBECC",0,9.2964299999999996E-3,1.2753799999999999E-2,0,0,7.4915999999999996E-2,0.142984,0.25846799999999998,1.0530599999999999E-2,0.50894799999999996,2.2050199999999999E-2,0,3.2055100000000003E-2,1.2753799999999999E-2,0,0,7.4915999999999996E-2,0.144064,0.25846799999999998,1.0530599999999999E-2,0.53278700000000001,4.4808899999999999E-2,2.38389E-2,2.27587E-2,1.69956,7.08535,{"$nulls":9},19.406099999999999,1.4439900000000001,111.69,0,0,0,505.55700000000002,951.37599999999998,2025.88,119.621,3734.98,22.5975,0,0,0,104.54600000000001,0,43.669699999999999,0,0,170.81299999999999,0,0,0,0,0,0,0,0,0,0,2.09,0.08,1.17,0,8.1999999999999993,0,5.54,13.84,21.65,1.22,53.79,0,9.2964299999999996E-3,1.2753799999999999E-2,0,0,0,7.4915999999999996E-2,0.142984,0.25846799999999998,1.0530599999999999E-2,0.50894799999999996,60.110500000000002,29.023700000000002,111.69,0,0,2135,930.00099999999998,2637.81,297.5,6201.14,50.023800000000001,0,0,0,159.6,0,65.400000000000006,0,0,275.024,0,0,0,0,0,0,0,0,0,0,4.8499999999999996,2.38,1.17,0,12.51,23.59,14.88,28.26,2.93,90.57,0,0.133802,1.2753799999999999E-2,0,0,0.33579999999999999,0.11074100000000001,0.35138000000000003,4.1461199999999997E-3,0.94862299999999999,48.950200000000002,0,49.796500000000002]
["2016-08-31T17:00:36","U04R08","v27 08 P21 U20 M01","Proposed and Standard","PASS",2.0099999999999998,45.169499999999999,28.4861,187.22399999999999,111.69,0,0,505.55700000000002,965.86199999999997,2025.88,119.621,3944.32,33.171999999999997,0,0,0,101.84099999999999,0,43.669699999999999,0,0,178.68299999999999,0,0,0,0,0,0,0,0,0,0,3.23,5.01,1.1299999999999999,0,8.15,0,5.32,13.79,20.87,1.17,58.67,17.52,35.346200000000003,226.191,111.69,0,0,505.55700000000002,969.94299999999998,2025.88,119.621,3994.23,41.160699999999999,0,0,0,101.84099999999999,0,43.669699999999999,0,0,186.672,0,0,0,0,0,0,0,0,0,0,4.03,6.22,1.1299999999999999,0,8.15,5.32,13.84,20.87,1.17,60.73,19.53,"CA Residential 2016, Vers. 1.0","CSE 0.813 EXE",null,"MPCBECC",0,0.34553899999999999,1.2753799999999999E-2,0,0,7.4915999999999996E-2,0.14818600000000001,0.25846799999999998,1.0530599999999999E-2,0.85039299999999995,0.35829299999999997,0,0.45141500000000001,1.2753799999999999E-2,0,0,7.4915999999999996E-2,0.149196,0.25846799999999998,1.0530599999999999E-2,0.95727799999999996,0.46416800000000003,0.10688599999999999,0.105876,3.3920599999999999,10.2919,{"$nulls":9},28.4861,187.22399999999999,111.69,0,0,0,505.55700000000002,965.86199999999997,2025.88,119.621,3944.32,33.171999999999997,0,0,0,101.84099999999999,0,43.669699999999999,0,0,178.68299999999999,0,0,0,0,0,0,0,0,0,0,3.23,5.01,1.1299999999999999,0,8.15,0,5.32,13.79,20.87,1.17,58.67,0,0.34553899999999999,1.2753799999999999E-2,0,0,0,7.4915999999999996E-2,0.14818600000000001,0.25846799999999998,1.0530599999999999E-2,0.85039299999999995,108.01900000000001,654.303,111.69,0,0,2135,930.00099999999998,2637.81,297.5,6874.32,89.896699999999996,0,0,0,156.83799999999999,0,65.400000000000006,0,0,312.13400000000001,0,0,0,0,0,0,0,0,0,0,9.02,22.55,1.1299999999999999,0,12.55,22.64,14.62,27.23,2.79,112.53,0,1.5246500000000001,1.2753799999999999E-2,0,0,0.33579999999999999,0.11074100000000001,0.35138000000000003,4.1461199999999997E-3,2.33948,45.169499999999999,0,46.755400000000002]
["2016-08-31T17:00:33","U04R09","v27 09 P21 U20 M01","Proposed and Standard","PASS",3.95,44.959400000000002,46.349699999999999,387.94499999999999,111.69,0,0,505.55700000000002,965.36699999999996,2025.88,119.621,4162.41,53.990400000000001,0,0,0,101.676,0,43.669699999999999,0,0,199.33699999999999,0,0,0,0,0,0,0,0,0,0,5.21,13.87,1.1200000000000001,0,8.15,0,5.25,13.67,20.63,1.1499999999999999,69.05,28.35,54.219000000000001,462.12099999999998,111.69,0,0,505.55700000000002,969.65200000000004,2025.88,119.621,4248.74,63.1571,0,0,0,101.676,0,43.669699999999999,0,0,208.50299999999999,0,0,0,0,0,0,0,0,0,0,6.13,16.899999999999999,1.1200000000000001,0,8.15,5.25,13.72,20.63,1.1499999999999999,73.05,32.299999999999997,"CA Residential 2016, Vers. 1.0","CSE 0.813 EXE",null,"MPCBECC",0,0.94950299999999999,1.2753799999999999E-2,0,0,7.4915999999999996E-2,0.15090700000000001,0.25846799999999998,1.0530599999999999E-2,1.4570799999999999,0.962256,0,1.17225,1.2753799999999999E-2,0,0,7.4915999999999996E-2,0.15179799999999999,0.25846799999999998,1.0530599999999999E-2,1.6807099999999999,1.1850000000000001,0.223636,0.222745,5.4756900000000002,12.229100000000001,{"$nulls":9},46.349699999999999,387.94499999999999,111.69,0,0,0,505.55700000000002,965.36699999999996,2025.88,119.621,4162.41,53.990400000000001,0,0,0,101.676,0,43.669699999999999,0,0,199.33699999999999,0,0,0,0,0,0,0,0,0,0,5.21,13.87,1.1200000000000001,0,8.15,0,5.25,13.67,20.63,1.1499999999999999,69.05,0,0.94950299999999999,1.2753799999999999E-2,0,0,0,7.4915999999999996E-2,0.15090700000000001,0.25846799999999998,1.0530599999999999E-2,1.4570799999999999,152.267,1205.06,111.69,0,0,2135,930.00099999999998,2637.81,297.5,7469.33,126.76,0,0,0,156.63499999999999,0,65.400000000000006,0,0,348.79500000000002,0,0,0,0,0,0,0,0,0,0,12.63,43.11,1.1200000000000001,0,12.56,22.39,14.52,26.97,2.75,136.05000000000001,0,2.45269,1.2753799999999999E-2,0,0,0.33579999999999999,0.11074100000000001,0.35138000000000003,4.1461199999999997E-3,3.2675100000000001,44.959400000000002,0,47.563800000000001]
["2016-08-31T17:00:35","U04R10","v27 10 P21 U20 M01","Proposed and Standard","PASS",3.69,43.486699999999999,54.806399999999996,482.96199999999999,111.69,0,0,505.55700000000002,967.38499999999999,2025.88,119.621,4267.8999999999996,63.844200000000001,0,0,0,100.913,0,43.669699999999999,0,0,208.42699999999999,0,0,0,0,0,0,0,0,0,0,6.13,13.68,1.1200000000000001,0,8.11,0,5.18,13.63,20.54,1.1399999999999999,69.53,29.04,64.058099999999996,580.50699999999995,111.69,0,0,505.55700000000002,971.48599999999999,2025.88,119.621,4378.8,74.621600000000001,0,0,0,100.913,0,43.669699999999999,0,0,219.20400000000001,0,0,0,0,0,0,0,0,0,0,7.23,16.27,1.1200000000000001,0,8.11,5.18,13.68,20.54,1.1399999999999999,73.27,32.729999999999997,"CA Residential 2016, Vers. 1.0","CSE 0.813 EXE",null,"MPCBECC",0,0.99762499999999998,1.2753799999999999E-2,0,0,7.4915999999999996E-2,0.151479,0.25846799999999998,1.0530599999999999E-2,1.5057700000000001,1.0103800000000001,0,1.1548700000000001,1.2753799999999999E-2,0,0,7.4915999999999996E-2,0.15229400000000001,0.25846799999999998,1.0530599999999999E-2,1.6638299999999999,1.1676200000000001,0.158056,0.15724199999999999,5.1044200000000002,11.274100000000001,{"$nulls":9},54.806399999999996,482.96199999999999,111.69,0,0,0,505.55700000000002,967.38499999999999,2025.88,119.621,4267.8999999999996,63.844200000000001,0,0,0,100.913,0,43.669699999999999,0,0,208.42699999999999,0,0,0,0,0,0,0,0,0,0,6.13,13.68,1.1200000000000001,0,8.11,0,5.18,13.63,20.54,1.1399999999999999,69.53,0,0.99762499999999998,1.2753799999999999E-2,0,0,0,7.4915999999999996E-2,0.151479,0.25846799999999998,1.0530599999999999E-2,1.5057700000000001,170.91200000000001,1686.8,111.69,0,0,2135,930.00099999999998,2637.81,297.5,7969.71,142.28800000000001,0,0,0,155.80699999999999,0,65.400000000000006,0,0,363.495,0,0,0,0,0,0,0,0,0,0,14.15,48.73,1.1200000000000001,0,12.51,22.15,14.51,26.85,2.71,142.72999999999999,0,2.7154500000000001,1.2753799999999999E-2,0,0,0.33579999999999999,0.11074100000000001,0.35138000000000003,4.1461199999999997E-3,3.5302699999999998,43.486699999999999,0,45.825800000000001]
["2016-08-31T17:00:36","U04R11","v27 11 P21 U20 M01","Proposed and Standard","PASS",5.52,46.721499999999999,166.77600000000001,1156.52,111.69,0,0,505.55700000000002,962.81,2025.88,119.621,5048.8599999999997,194.233,0,0,0,103.003,0,43.669699999999999,0,0,340.90600000000001,0,0,0,0,0,0,0,0,0,0,18.71,30.53,1.17,0,8.2799999999999994,0,5.52,14.25,21.53,1.21,101.2,58.69,180.417,1317.77,111.69,0,0,505.55700000000002,966.471,2025.88,119.621,5227.41,210.12,0,0,0,103.003,0,43.669699999999999,0,0,356.79199999999997,0,0,0,0,0,0,0,0,0,0,20.32,34.44,1.17,0,8.2799999999999994,5.52,14.3,21.53,1.21,106.77,64.209999999999994,"CA Residential 2016, Vers. 1.0","CSE 0.813 EXE",null,"MPCBECC",0,1.4113100000000001,1.2753799999999999E-2,0,0,7.4915999999999996E-2,0.15171000000000001,0.25846799999999998,1.0530599999999999E-2,1.9196800000000001,1.4240600000000001,0,1.54339,1.2753799999999999E-2,0,0,7.4915999999999996E-2,0.152701,0.25846799999999998,1.0530599999999999E-2,2.0527600000000001,1.5561400000000001,0.13307099999999999,0.13208,5.2168099999999997,8.5967900000000004,{"$nulls":9},166.77600000000001,1156.52,111.69,0,0,0,505.55700000000002,962.81,2025.88,119.621,5048.8599999999997,194.233,0,0,0,103.003,0,43.669699999999999,0,0,340.90600000000001,0,0,0,0,0,0,0,0,0,0,18.71,30.53,1.17,0,8.2799999999999994,0,5.52,14.25,21.53,1.21,101.2,0,1.4113100000000001,1.2753799999999999E-2,0,0,0,7.4915999999999996E-2,0.15171000000000001,0.25846799999999998,1.0530599999999999E-2,1.9196800000000001,414.50099999999998,3106.48,111.69,0,0,2135,930.00099999999998,2637.81,297.5,9632.98,345.00099999999998,0,0,0,157.63800000000001,0,65.400000000000006,0,0,568.03899999999999,0,0,0,0,0,0,0,0,0,0,34.33,74.87,1.17,0,12.68,23.7,14.91,28.28,2.86,192.8,0,3.16703,1.2753799999999999E-2,0,0,0.33579999999999999,0.11074100000000001,0.35138000000000003,4.1461199999999997E-3,3.9818600000000002,46.721499999999999,0,49.292999999999999]
["2016-08-31T17:00:32","U04R12","v27 12 P21 U20 M01","Proposed and Standard","PASS",4.04,43.378,179.28899999999999,212.96899999999999,111.69,0,0,505.55700000000002,943.90800000000002,2025.88,119.621,4098.92,208.77500000000001,0,0,0,108.29,0,43.669699999999999,0,0,360.73500000000001,0,0,0,0,0,0,0,0,0,0,20.18,7.39,1.17,0,8.66,0,5.55,13.96,21.58,1.22,79.709999999999994,37.4,189.36,276.12799999999999,111.69,0,0,505.55700000000002,948.78800000000001,2025.88,119.621,4177.03,220.50200000000001,0,0,0,108.29,0,43.669699999999999,0,0,372.46199999999999,0,0,0,0,0,0,0,0,0,0,21.38,10.23,1.17,0,8.66,5.55,14.02,21.58,1.22,83.81,41.44,"CA Residential 2016, Vers. 1.0","CSE 0.813 EXE",null,"MPCBECC",0,0.400474,1.2753799999999999E-2,0,0,7.4915999999999996E-2,0.14868500000000001,0.25846799999999998,1.0530599999999999E-2,0.90582700000000005,0.41322799999999998,0,0.53406799999999999,1.2753799999999999E-2,0,0,7.4915999999999996E-2,0.14984600000000001,0.25846799999999998,1.0530599999999999E-2,1.0405800000000001,0.54682200000000003,0.13475500000000001,0.13359399999999999,4.8920199999999996,9.7490400000000008,{"$nulls":9},179.28899999999999,212.96899999999999,111.69,0,0,0,505.55700000000002,943.90800000000002,2025.88,119.621,4098.92,208.77500000000001,0,0,0,108.29,0,43.669699999999999,0,0,360.73500000000001,0,0,0,0,0,0,0,0,0,0,20.18,7.39,1.17,0,8.66,0,5.55,13.96,21.58,1.22,79.709999999999994,0,0.400474,1.2753799999999999E-2,0,0,0,7.4915999999999996E-2,0.14868500000000001,0.25846799999999998,1.0530599999999999E-2,0.90582700000000005,420.762,1095.06,111.69,0,0,2135,930.00099999999998,2637.81,297.5,7627.83,350.15800000000002,0,0,0,162.852,0,65.400000000000006,0,0,578.41,0,0,0,0,0,0,0,0,0,0,34.94,41.16,1.17,0,13.03,23.83,14.92,28.35,2.86,160.26,0,2.2516400000000001,1.2753799999999999E-2,0,0,0.33579999999999999,0.11074100000000001,0.35138000000000003,4.1461199999999997E-3,3.0664600000000002,43.378,0,45.609200000000001]
["2016-08-31T17:00:31","U04R13","v27 13 P21 U20 M01","Proposed and Standard","PASS",5.67,48.242800000000003,148.14699999999999,1315.74,111.69,0,0,505.55700000000002,971.92,2025.88,119.621,5198.5600000000004,172.53700000000001,0,0,0,101.053,0,43.669699999999999,0,0,317.26,0,0,0,0,0,0,0,0,0,0,16.760000000000002,33.74,1.17,0,8.1300000000000008,0,5.5,14.16,21.53,1.21,102.2,59.8,156.69300000000001,1495.85,111.69,0,0,505.55700000000002,975.74699999999996,2025.88,119.621,5391.04,182.489,0,0,0,101.053,0,43.669699999999999,0,0,327.21199999999999,0,0,0,0,0,0,0,0,0,0,17.77,38.4,1.17,0,8.1300000000000008,5.5,14.21,21.53,1.21,107.92,65.47,"CA Residential 2016, Vers. 1.0","CSE 0.813 EXE",null,"MPCBECC",0,1.78738,1.2753799999999999E-2,0,0,7.4915999999999996E-2,0.15285699999999999,0.25846799999999998,1.0530599999999999E-2,2.2968999999999999,1.80013,0,1.98539,1.2753799999999999E-2,0,0,7.4915999999999996E-2,0.153729,0.25846799999999998,1.0530599999999999E-2,2.49579,1.9981500000000001,0.19888900000000001,0.198018,5.3002200000000004,8.6604500000000009,{"$nulls":9},148.14699999999999,1315.74,111.69,0,0,0,505.55700000000002,971.92,2025.88,119.621,5198.5600000000004,172.53700000000001,0,0,0,101.053,0,43.669699999999999,0,0,317.26,0,0,0,0,0,0,0,0,0,0,16.760000000000002,33.74,1.17,0,8.1300000000000008,0,5.5,14.16,21.53,1.21,102.2,0,1.78738,1.2753799999999999E-2,0,0,0,7.4915999999999996E-2,0.15285699999999999,0.25846799999999998,1.0530599999999999E-2,2.2968999999999999,365.69200000000001,3417.01,111.69,0,0,2135,930.00099999999998,2637.81,297.5,9894.7000000000007,304.37400000000002,0,0,0,155.65700000000001,0,65.400000000000006,0,0,525.43100000000004,0,0,0,0,0,0,0,0,0,0,30.5,75.56,1.17,0,12.52,23.59,14.91,28.27,2.82,189.34,0,3.4108700000000001,1.2753799999999999E-2,0,0,0.33579999999999999,0.11074100000000001,0.35138000000000003,4.1461199999999997E-3,4.2256900000000002,48.242800000000003,0,50.942900000000002]
["2016-08-31T17:00:32","U04R14","v27 14 P21 U20 M01","Proposed and Standard","PASS",6.85,46.5929,158.56800000000001,1090.58,111.69,0,0,505.55700000000002,959.64499999999998,2025.88,119.621,4971.54,184.87,0,0,0,104.271,0,43.669699999999999,0,0,332.81099999999998,0,0,0,0,0,0,0,0,0,0,17.829999999999998,27.2,1.1200000000000001,0,8.4499999999999993,0,5.26,13.62,20.6,1.1499999999999999,95.23,54.6,174.58,1281.03,111.69,0,0,505.55700000000002,964.49599999999998,2025.88,119.621,5182.8599999999997,203.53700000000001,0,0,0,104.271,0,43.669699999999999,0,0,351.47899999999998,0,0,0,0,0,0,0,0,0,0,19.760000000000002,32.119999999999997,1.1200000000000001,0,8.4499999999999993,5.26,13.67,20.6,1.1499999999999999,102.13,61.45,"CA Residential 2016, Vers. 1.0","CSE 0.813 EXE",null,"MPCBECC",0,1.5677399999999999,1.2753799999999999E-2,0,0,7.4915999999999996E-2,0.15287200000000001,0.25846799999999998,1.0530599999999999E-2,2.07728,1.58049,0,1.7926599999999999,1.2753799999999999E-2,0,0,7.4915999999999996E-2,0.15366099999999999,0.25846799999999998,1.0530599999999999E-2,2.3029899999999999,1.80541,0.22570299999999999,0.224914,6.7561,11.1473,{"$nulls":9},158.56800000000001,1090.58,111.69,0,0,0,505.55700000000002,959.64499999999998,2025.88,119.621,4971.54,184.87,0,0,0,104.271,0,43.669699999999999,0,0,332.81099999999998,0,0,0,0,0,0,0,0,0,0,17.829999999999998,27.2,1.1200000000000001,0,8.4499999999999993,0,5.26,13.62,20.6,1.1499999999999999,95.23,0,1.5677399999999999,1.2753799999999999E-2,0,0,0,7.4915999999999996E-2,0.15287200000000001,0.25846799999999998,1.0530599999999999E-2,2.07728,413.59399999999999,2961.78,111.69,0,0,2135,930.00099999999998,2637.81,297.5,9487.3799999999992,344.61599999999999,0,0,0,158.755,0,65.400000000000006,0,0,568.77,0,0,0,0,0,0,0,0,0,0,34.380000000000003,66.819999999999993,1.1200000000000001,0,12.86,22.6,14.52,27.07,2.72,182.09,0,3.1716700000000002,1.2753799999999999E-2,0,0,0.33579999999999999,0.11074100000000001,0.35138000000000003,4.1461199999999997E-3,3.9864899999999999,46.5929,0,49.968899999999998]
["2016-08-31T17:00:31","U04R15","v27 15 P21 U20 M01","Proposed and Standard","PASS",6.4900099999999998,53.661700000000003,3.6502699999999999,4641.46,111.69,0,0,505.55700000000002,1041.52,2025.88,119.621,8449.39,4.2514900000000004,0,0,0,75.512,0,43.669699999999999,0,0,123.43300000000001,0,0,0,0,0,0,0,0,0,0,0.42,81.900000000000006,1.1200000000000001,0,6.16,0,5.29,14.39,20.64,1.1599999999999999,131.08000000000001,89.6,5.7251099999999999,4900.54,111.69,0,0,505.55700000000002,1044.02,2025.88,119.621,8713.0400000000009,6.6680599999999997,0,0,0,75.512,0,43.669699999999999,0,0,125.85,0,0,0,0,0,0,0,0,0,0,0.66,88.15,1.1200000000000001,0,6.16,5.29,14.42,20.64,1.1599999999999999,137.6,96.09,"CA Residential 2016, Vers. 1.0","CSE 0.813 EXE",null,"MPCBECC",0,3.4059900000000001,1.2753799999999999E-2,0,0,7.4915999999999996E-2,0.157475,0.25846799999999998,1.0530599999999999E-2,3.92014,3.4187500000000002,0,3.71062,1.2753799999999999E-2,0,0,7.4915999999999996E-2,0.15804599999999999,0.25846799999999998,1.0530599999999999E-2,4.2253299999999996,3.7233700000000001,0.30519600000000002,0.30462499999999998,4.7383800000000003,6.7540899999999997,{"$nulls":9},3.6502699999999999,4641.46,111.69,0,0,0,505.55700000000002,1041.52,2025.88,119.621,8449.39,4.2514900000000004,0,0,0,75.512,0,43.669699999999999,0,0,123.43300000000001,0,0,0,0,0,0,0,0,0,0,0.42,81.900000000000006,1.1200000000000001,0,6.16,0,5.29,14.39,20.64,1.1599999999999999,131.08000000000001,0,3.4059900000000001,1.2753799999999999E-2,0,0,0,7.4915999999999996E-2,0.157475,0.25846799999999998,1.0530599999999999E-2,3.92014,33.899500000000003,9519.69,111.69,0,0,2135,930.00099999999998,2637.81,297.5,15665.6,28.217199999999998,0,0,0,130.13399999999999,0,65.400000000000006,0,0,223.751,0,0,0,0,0,0,0,0,0,0,2.85,149.29,1.1200000000000001,0,10.62,22.73,14.54,27.12,2.76,231.03,0,5.0876400000000004,1.2753799999999999E-2,0,0,0.33579999999999999,0.11074100000000001,0.35138000000000003,4.1461199999999997E-3,5.9024599999999996,53.661700000000003,0,56.3309]
["2016-08-31T17:00:30","U04R16","v27 16 P21 U20 M01","Proposed and Standard","PASS",3.3,51.426400000000001,398.76900000000001,4.3966399999999997,111.69,0,0,505.55700000000002,900.26199999999994,2025.88,119.621,4066.18,465.608,0,0,0,128.68799999999999,0,43.669699999999999,0,0,637.96500000000003,0,0,0,0,0,0,0,0,0,0,43.62,0.14000000000000001,1.1100000000000001,0,10.35,0,5.22,13.04,20.54,1.1399999999999999,95.16,55.22,416.11500000000001,36.548099999999998,111.69,0,0,505.55700000000002,907.13900000000001,2025.88,119.621,4122.55,485.86200000000002,0,0,0,128.68799999999999,0,43.669699999999999,0,0,658.21900000000005,0,0,0,0,0,0,0,0,0,0,45.71,1.35,1.1100000000000001,0,10.35,5.22,13.12,20.54,1.1399999999999999,98.54,58.52,"CA Residential 2016, Vers. 1.0","CSE 0.813 EXE",null,"MPCBECC",0,3.0393799999999999E-3,1.2753799999999999E-2,0,0,7.4915999999999996E-2,0.143542,0.25846799999999998,1.0530599999999999E-2,0.50324999999999998,1.5793100000000001E-2,0,5.1203699999999998E-2,1.2753799999999999E-2,0,0,7.4915999999999996E-2,0.14513699999999999,0.25846799999999998,1.0530599999999999E-2,0.55300899999999997,6.3957399999999998E-2,4.97598E-2,4.81643E-2,3.4300799999999998,5.6390900000000004,{"$nulls":9},398.76900000000001,4.3966399999999997,111.69,0,0,0,505.55700000000002,900.26199999999994,2025.88,119.621,4066.18,465.608,0,0,0,128.68799999999999,0,43.669699999999999,0,0,637.96500000000003,0,0,0,0,0,0,0,0,0,0,43.62,0.14000000000000001,1.1100000000000001,0,10.35,0,5.22,13.04,20.54,1.1399999999999999,95.16,0,3.0393799999999999E-3,1.2753799999999999E-2,0,0,0,7.4915999999999996E-2,0.143542,0.25846799999999998,1.0530599999999999E-2,0.50324999999999998,532.28899999999999,250.172,111.69,0,0,2135,930.00099999999998,2637.81,297.5,6894.46,444.18900000000002,0,0,0,182.24600000000001,0,65.400000000000006,0,0,691.83500000000004,0,0,0,0,0,0,0,0,0,0,43.19,10.18,1.1100000000000001,0,14.66,22.38,14.5,26.96,2.7,135.68,0,0.53870399999999996,1.2753799999999999E-2,0,0,0.33579999999999999,0.11074100000000001,0.35138000000000003,4.1461199999999997E-3,1.3535299999999999,51.426400000000001,0,53.253]
["2016-08-31T17:00:46","U05R01","v27 01 P27 U20 M01","Proposed and Standard","PASS",1.91,51.404200000000003,282.83800000000002,0,141.255,0,0,615.745,968.48900000000003,2371.31,151.51499999999999,4531.1499999999996,329.38099999999997,0,0,0,146.27199999999999,0,45.121000000000002,0,0,520.774,0,0,0,0,0,0,0,0,0,0,23.65,0,1.1499999999999999,0,8.9600000000000009,0,5.15,10.77,19.52,1.18,70.38,33.76,302.29899999999998,0,141.255,0,0,615.745,974.09199999999998,2371.31,151.51499999999999,4556.21,352.04399999999998,0,0,0,146.27199999999999,0,45.121000000000002,0,0,543.43700000000001,0,0,0,0,0,0,0,0,0,0,25.56,0,1.1499999999999999,0,8.9600000000000009,5.15,10.83,19.52,1.18,72.349999999999994,35.67,"CA Residential 2016, Vers. 1.0","CSE 0.813 EXE",null,"MPCBECC",1.5237700000000001E-11,0,1.61297E-2,0,0,9.1244199999999998E-2,0.127385,0.30218800000000001,1.3338300000000001E-2,0.55028500000000002,1.61297E-2,9.8101099999999997E-14,0,1.61297E-2,0,0,9.1244199999999998E-2,0.1288,0.30218800000000001,1.3338300000000001E-2,0.55169999999999997,1.61297E-2,1.4146600000000001E-3,0,2.72289,5.3546500000000004,{"$nulls":9},282.83800000000002,0,141.255,0,0,0,615.745,968.48900000000003,2371.31,151.51499999999999,4531.1499999999996,329.38099999999997,0,0,0,146.27199999999999,0,45.121000000000002,0,0,520.774,0,0,0,0,0,0,0,0,0,0,23.65,0,1.1499999999999999,0,8.9600000000000009,0,5.15,10.77,19.52,1.18,70.38,1.5237700000000001E-11,0,1.61297E-2,0,0,0,9.1244199999999998E-2,0.127385,0.30218800000000001,1.3338300000000001E-2,0.55028500000000002,498.40800000000002,0,141.255,0,0,2615,989.00099999999998,3267.2,327.5,7838.36,414.81099999999998,0,0,0,199.32499999999999,0,73.400000000000006,0,0,687.53599999999994,0,0,0,0,0,0,0,0,0,0,30.92,0,1.1499999999999999,0,12.21,22.11,12.56,27.01,2.41,108.37,1.62352E-9,0,1.61297E-2,0,0,0.41129599999999999,0.118258,0.43522,4.56421E-3,0.98546800000000001,51.404200000000003,0,52.843000000000004]
["2016-08-31T17:00:27","U05R02","v27 02 P27 U20 M01","Proposed and Standard","PASS",2.4700000000000002,45.282699999999998,219.23,9.4436599999999995,141.255,0,0,615.745,1007.8,2371.31,151.51499999999999,4516.3,255.297,0,0,0,131.18700000000001,0,45.121000000000002,0,0,431.60500000000002,0,0,0,0,0,0,0,0,0,0,18.989999999999998,0.38,1.1499999999999999,0,8.07,0,5.16,11.17,19.54,1.18,65.64,28.59,232.7,41.0319,141.255,0,0,615.745,1015.23,2371.31,151.51499999999999,4568.78,270.983,0,0,0,131.18700000000001,0,45.121000000000002,0,0,447.291,0,0,0,0,0,0,0,0,0,0,20.27,1.57,1.1499999999999999,0,8.07,5.16,11.24,19.54,1.18,68.180000000000007,31.06,"CA Residential 2016, Vers. 1.0","CSE 0.813 EXE",null,"MPCBECC",0,1.4802900000000001E-2,1.61297E-2,0,0,9.1244199999999998E-2,0.139237,0.30218800000000001,1.3338300000000001E-2,0.57694000000000001,3.0932600000000001E-2,0,5.1727700000000001E-2,1.61297E-2,0,0,9.1244199999999998E-2,0.14094599999999999,0.30218800000000001,1.3338300000000001E-2,0.61557399999999995,6.7857399999999998E-2,3.8633800000000003E-2,3.6924800000000001E-2,3.7254299999999998,7.95235,{"$nulls":9},219.23,9.4436599999999995,141.255,0,0,0,615.745,1007.8,2371.31,151.51499999999999,4516.3,255.297,0,0,0,131.18700000000001,0,45.121000000000002,0,0,431.60500000000002,0,0,0,0,0,0,0,0,0,0,18.989999999999998,0.38,1.1499999999999999,0,8.07,0,5.16,11.17,19.54,1.18,65.64,0,1.4802900000000001E-2,1.61297E-2,0,0,0,9.1244199999999998E-2,0.139237,0.30218800000000001,1.3338300000000001E-2,0.57694000000000001,592.99800000000005,193.11099999999999,141.255,0,0,2615,989.00099999999998,3267.2,327.5,8126.06,493.517,0,0,0,185.191,0,73.400000000000006,0,0,752.10799999999995,0,0,0,0,0,0,0,0,0,0,37.83,7.84,1.1499999999999999,0,11.4,22.19,12.57,27.1,2.41,122.49,0,0.37591000000000002,1.61297E-2,0,0,0.41129599999999999,0.118258,0.43522,4.56421E-3,1.36138,45.282699999999998,0,47.034999999999997]
["2016-08-31T17:00:32","U05R03","v27 03 P27 U20 M01","Proposed and Standard","PASS",2.1800000000000002,42.9694,102.86,0.83986400000000005,141.255,0,0,615.745,1004.36,2371.31,151.51499999999999,4387.88,119.77500000000001,0,0,0,131.749,0,45.121000000000002,0,0,296.64499999999998,0,0,0,0,0,0,0,0,0,0,9.01,0.01,1.1499999999999999,0,8.09,0,5.13,11.06,19.5,1.17,55.12,18.260000000000002,125.801,1.9315100000000001,141.255,0,0,615.745,1009.52,2371.31,151.51499999999999,4417.08,146.49,0,0,0,131.749,0,45.121000000000002,0,0,323.36,0,0,0,0,0,0,0,0,0,0,11.1,0.1,1.1499999999999999,0,8.09,5.13,11.11,19.5,1.17,57.35,20.440000000000001,"CA Residential 2016, Vers. 1.0","CSE 0.813 EXE",null,"MPCBECC",0,1.9704800000000001E-7,1.61297E-2,0,0,9.1244199999999998E-2,0.13433700000000001,0.30218800000000001,1.3338300000000001E-2,0.55723699999999998,1.6129899999999999E-2,0,8.8307799999999999E-3,1.61297E-2,0,0,9.1244199999999998E-2,0.135768,0.30218800000000001,1.3338300000000001E-2,0.56749899999999998,2.49605E-2,1.02623E-2,8.8305799999999993E-3,3.8884099999999999,10.6654,{"$nulls":9},102.86,0.83986400000000005,141.255,0,0,0,615.745,1004.36,2371.31,151.51499999999999,4387.88,119.77500000000001,0,0,0,131.749,0,45.121000000000002,0,0,296.64499999999998,0,0,0,0,0,0,0,0,0,0,9.01,0.01,1.1499999999999999,0,8.09,0,5.13,11.06,19.5,1.17,55.12,0,1.9704800000000001E-7,1.61297E-2,0,0,0,9.1244199999999998E-2,0.13433700000000001,0.30218800000000001,1.3338300000000001E-2,0.55723699999999998,491.65499999999997,0,141.255,0,0,2615,989.00099999999998,3267.2,327.5,7831.61,409.15300000000002,0,0,0,185.82400000000001,0,73.400000000000006,0,0,668.37699999999995,0,0,0,0,0,0,0,0,0,0,31.3,0,1.1499999999999999,0,11.4,22,12.56,27,2.38,107.79,0,0,1.61297E-2,0,0,0.41129599999999999,0.118258,0.43522,4.56421E-3,0.98546800000000001,42.9694,0,44.707900000000002]
["2016-08-31T17:00:30","U05R04","v27 04 P27 U20 M01","Proposed and Standard","PASS",2.34,43.752600000000001,152.947,50.563699999999997,141.255,0,0,615.745,1022.75,2371.31,151.51499999999999,4506.09,178.11,0,0,0,125.44,0,45.121000000000002,0,0,348.67099999999999,0,0,0,0,0,0,0,0,0,0,13.29,1.96,1.1499999999999999,0,7.73,0,5.17,11.32,19.55,1.18,61.35,24.13,168.10499999999999,71.365799999999993,141.255,0,0,615.745,1030.26,2371.31,151.51499999999999,4549.5600000000004,195.762,0,0,0,125.44,0,45.121000000000002,0,0,366.32400000000001,0,0,0,0,0,0,0,0,0,0,14.7,2.89,1.1499999999999999,0,7.73,5.17,11.39,19.55,1.18,63.76,26.47,"CA Residential 2016, Vers. 1.0","CSE 0.813 EXE",null,"MPCBECC",0,0.24168400000000001,1.61297E-2,0,0,9.1244199999999998E-2,0.14319299999999999,0.30218800000000001,1.3338300000000001E-2,0.80777699999999997,0.25781399999999999,0,0.34032699999999999,1.61297E-2,0,0,9.1244199999999998E-2,0.144708,0.30218800000000001,1.3338300000000001E-2,0.90793500000000005,0.35645700000000002,0.100157,9.8642900000000006E-2,3.7797999999999998,8.8401999999999994,{"$nulls":9},152.947,50.563699999999997,141.255,0,0,0,615.745,1022.75,2371.31,151.51499999999999,4506.09,178.11,0,0,0,125.44,0,45.121000000000002,0,0,348.67099999999999,0,0,0,0,0,0,0,0,0,0,13.29,1.96,1.1499999999999999,0,7.73,0,5.17,11.32,19.55,1.18,61.35,0,0.24168400000000001,1.61297E-2,0,0,0,9.1244199999999998E-2,0.14319299999999999,0.30218800000000001,1.3338300000000001E-2,0.80777699999999997,464.315,327.91899999999998,141.255,0,0,2615,989.00099999999998,3267.2,327.5,8132.19,386.42399999999998,0,0,0,179.76499999999999,0,73.400000000000006,0,0,639.58799999999997,0,0,0,0,0,0,0,0,0,0,29.8,12.25,1.1499999999999999,0,11.07,22.23,12.57,27.12,2.4,118.59,0,1.1887799999999999,1.61297E-2,0,0,0.41129599999999999,0.118258,0.43522,4.56421E-3,2.1742499999999998,43.752600000000001,0,45.471299999999999]
["2016-08-31T17:00:33","U05R05","v27 05 P27 U20 M01","Proposed and Standard","PASS",2.1800000000000002,39.842199999999998,74.906099999999995,0.93408000000000002,141.255,0,0,615.745,1003.7,2371.31,151.51499999999999,4359.3599999999997,87.234499999999997,0,0,0,134.91800000000001,0,45.121000000000002,0,0,267.27300000000002,0,0,0,0,0,0,0,0,0,0,6.31,0.03,1.1499999999999999,0,8.27,0,5.08,11.07,19.440000000000001,1.17,52.52,15.76,98.3904,0,141.255,0,0,615.745,1010.73,2371.31,151.51499999999999,4388.95,114.584,0,0,0,134.91800000000001,0,45.121000000000002,0,0,294.62299999999999,0,0,0,0,0,0,0,0,0,0,8.52,0,1.1499999999999999,0,8.27,5.08,11.14,19.440000000000001,1.17,54.77,17.940000000000001,"CA Residential 2016, Vers. 1.0","CSE 0.813 EXE",null,"MPCBECC",0,0,1.61297E-2,0,0,9.1244199999999998E-2,0.13354099999999999,0.30218800000000001,1.3338300000000001E-2,0.55644099999999996,1.61297E-2,0,0,1.61297E-2,0,0,9.1244199999999998E-2,0.13561200000000001,0.30218800000000001,1.3338300000000001E-2,0.55851200000000001,1.61297E-2,2.0716200000000001E-3,0,4.1080899999999998,12.1516,{"$nulls":9},74.906099999999995,0.93408000000000002,141.255,0,0,0,615.745,1003.7,2371.31,151.51499999999999,4359.3599999999997,87.234499999999997,0,0,0,134.91800000000001,0,45.121000000000002,0,0,267.27300000000002,0,0,0,0,0,0,0,0,0,0,6.31,0.03,1.1499999999999999,0,8.27,0,5.08,11.07,19.440000000000001,1.17,52.52,0,0,1.61297E-2,0,0,0,9.1244199999999998E-2,0.13354099999999999,0.30218800000000001,1.3338300000000001E-2,0.55644099999999996,507.68,0,141.255,0,0,2615,989.00099999999998,3267.2,327.5,7847.63,422.53800000000001,0,0,0,188.804,0,73.400000000000006,0,0,684.74199999999996,0,0,0,0,0,0,0,0,0,0,31.71,0,1.1499999999999999,0,11.57,21.76,12.54,26.83,2.38,107.94,3.8656599999999998E-15,0,1.61297E-2,0,0,0.41129599999999999,0.118258,0.43522,4.56421E-3,0.98546800000000001,39.842199999999998,0,41.549100000000003]
["2016-08-31T17:00:34","U05R06","v27 06 P27 U20 M01","Proposed and Standard","PASS",1.76,47.555799999999998,66.073800000000006,46.563899999999997,141.255,0,0,615.745,1041.1600000000001,2371.31,151.51499999999999,4433.62,76.942800000000005,0,0,0,119.752,0,45.121000000000002,0,0,241.816,0,0,0,0,0,0,0,0,0,0,5.77,2.34,1.1100000000000001,0,7.4,0,4.99,11.2,18.91,1.1399999999999999,52.86,16.62,77.079700000000003,71.211200000000005,141.255,0,0,615.745,1046.52,2371.31,151.51499999999999,4474.63,89.759,0,0,0,119.752,0,45.121000000000002,0,0,254.63200000000001,0,0,0,0,0,0,0,0,0,0,6.81,3.06,1.1100000000000001,0,7.4,4.99,11.24,18.91,1.1399999999999999,54.66,18.38,"CA Residential 2016, Vers. 1.0","CSE 0.813 EXE",null,"MPCBECC",0,0.24435799999999999,1.61297E-2,0,0,9.1244199999999998E-2,0.140741,0.30218800000000001,1.3338300000000001E-2,0.80799900000000002,0.26048700000000002,0,0.301091,1.61297E-2,0,0,9.1244199999999998E-2,0.14183499999999999,0.30218800000000001,1.3338300000000001E-2,0.86582599999999998,0.31722,5.7827400000000001E-2,5.6732999999999999E-2,3.2930799999999998,9.5756200000000007,{"$nulls":9},66.073800000000006,46.563899999999997,141.255,0,0,0,615.745,1041.1600000000001,2371.31,151.51499999999999,4433.62,76.942800000000005,0,0,0,119.752,0,45.121000000000002,0,0,241.816,0,0,0,0,0,0,0,0,0,0,5.77,2.34,1.1100000000000001,0,7.4,0,4.99,11.2,18.91,1.1399999999999999,52.86,0,0.24435799999999999,1.61297E-2,0,0,0,9.1244199999999998E-2,0.140741,0.30218800000000001,1.3338300000000001E-2,0.80799900000000002,203.96299999999999,174.18,141.255,0,0,2615,989.00099999999998,3267.2,327.5,7718.1,169.744,0,0,0,174.49,0,73.400000000000006,0,0,417.63400000000001,0,0,0,0,0,0,0,0,0,0,13.18,7.52,1.1100000000000001,0,10.79,21.36,12.31,26.08,2.35,94.7,0,0.49838700000000002,1.61297E-2,0,0,0.41129599999999999,0.118258,0.43522,4.56421E-3,1.4838499999999999,47.555799999999998,0,49.175199999999997]
["2016-08-31T17:00:33","U05R07","v27 07 P27 U20 M01","Proposed and Standard","PASS",0.82,47.0124,21.6798,5.8654500000000001,141.255,0,0,615.745,1043.2,2371.31,151.51499999999999,4350.5600000000004,25.245100000000001,0,0,0,117.807,0,45.121000000000002,0,0,188.173,0,0,0,0,0,0,0,0,0,0,1.8,0.33,1.1499999999999999,0,7.15,0,5.25,11.45,19.71,1.2,48.04,10.43,27.4451,12.108599999999999,141.255,0,0,615.745,1048.3699999999999,2371.31,151.51499999999999,4367.75,31.9587,0,0,0,117.807,0,45.121000000000002,0,0,194.887,0,0,0,0,0,0,0,0,0,0,2.33,0.62,1.1499999999999999,0,7.15,5.25,11.5,19.71,1.2,48.91,11.25,"CA Residential 2016, Vers. 1.0","CSE 0.813 EXE",null,"MPCBECC",0,4.6467300000000003E-2,1.61297E-2,0,0,9.1244199999999998E-2,0.139986,0.30218800000000001,1.3338300000000001E-2,0.60935300000000003,6.2597E-2,0,7.3335899999999996E-2,1.61297E-2,0,0,9.1244199999999998E-2,0.14122299999999999,0.30218800000000001,1.3338300000000001E-2,0.637459,8.9465600000000006E-2,2.8105999999999999E-2,2.6868599999999999E-2,1.77878,7.2888900000000003,{"$nulls":9},21.6798,5.8654500000000001,141.255,0,0,0,615.745,1043.2,2371.31,151.51499999999999,4350.5600000000004,25.245100000000001,0,0,0,117.807,0,45.121000000000002,0,0,188.173,0,0,0,0,0,0,0,0,0,0,1.8,0.33,1.1499999999999999,0,7.15,0,5.25,11.45,19.71,1.2,48.04,0,4.6467300000000003E-2,1.61297E-2,0,0,0,9.1244199999999998E-2,0.139986,0.30218800000000001,1.3338300000000001E-2,0.60935300000000003,84.307000000000002,76.9071,141.255,0,0,2615,989.00099999999998,3267.2,327.5,7501.17,70.1601,0,0,0,172.755,0,73.400000000000006,0,0,316.315,0,0,0,0,0,0,0,0,0,0,5.27,4.29,1.1499999999999999,0,10.48,22.47,12.55,27.22,2.5099999999999998,85.94,0,0.31993500000000002,1.61297E-2,0,0,0.41129599999999999,0.118258,0.43522,4.56421E-3,1.3053999999999999,47.0124,0,47.863799999999998]
["2016-08-31T17:00:34","U05R08","v27 08 P27 U20 M01","Proposed and Standard","PASS",2.2000000000000002,43.704099999999997,35.813400000000001,292.75799999999998,141.255,0,0,615.745,1060.67,2371.31,151.51499999999999,4669.0600000000004,41.704700000000003,0,0,0,114.69199999999999,0,45.121000000000002,0,0,201.518,0,0,0,0,0,0,0,0,0,0,3.14,6.57,1.1100000000000001,0,7.1,0,5.04,11.37,18.989999999999998,1.1499999999999999,54.47,17.920000000000002,43.640999999999998,358.95299999999997,141.255,0,0,615.745,1066.3800000000001,2371.31,151.51499999999999,4748.8,50.819899999999997,0,0,0,114.69199999999999,0,45.121000000000002,0,0,210.63300000000001,0,0,0,0,0,0,0,0,0,0,3.87,8.0399999999999991,1.1100000000000001,0,7.1,5.04,11.42,18.989999999999998,1.1499999999999999,56.72,20.12,"CA Residential 2016, Vers. 1.0","CSE 0.813 EXE",null,"MPCBECC",0,0.59690699999999997,1.61297E-2,0,0,9.1244199999999998E-2,0.14626500000000001,0.30218800000000001,1.3338300000000001E-2,1.1660699999999999,0.61303700000000005,0,0.76071100000000003,1.61297E-2,0,0,9.1244199999999998E-2,0.14743800000000001,0.30218800000000001,1.3338300000000001E-2,1.3310500000000001,0.77683999999999997,0.16497600000000001,0.163803,3.96685,10.9344,{"$nulls":9},35.813400000000001,292.75799999999998,141.255,0,0,0,615.745,1060.67,2371.31,151.51499999999999,4669.0600000000004,41.704700000000003,0,0,0,114.69199999999999,0,45.121000000000002,0,0,201.518,0,0,0,0,0,0,0,0,0,0,3.14,6.57,1.1100000000000001,0,7.1,0,5.04,11.37,18.989999999999998,1.1499999999999999,54.47,0,0.59690699999999997,1.61297E-2,0,0,0,9.1244199999999998E-2,0.14626500000000001,0.30218800000000001,1.3338300000000001E-2,1.1660699999999999,155.221,963.40599999999995,141.255,0,0,2615,989.00099999999998,3267.2,327.5,8458.58,129.179,0,0,0,169.65,0,73.400000000000006,0,0,372.22899999999998,0,0,0,0,0,0,0,0,0,0,10.07,25.89,1.1100000000000001,0,10.5,21.57,12.33,26.23,2.39,110.09,0,2.1878299999999999,1.61297E-2,0,0,0.41129599999999999,0.118258,0.43522,4.56421E-3,3.1732999999999998,43.704099999999997,0,45.509399999999999]
["2016-08-31T17:00:43","U05R09","v27 09 P27 U20 M01","Proposed and Standard","PASS",3.86,43.036999999999999,58.634900000000002,566.58000000000004,141.255,0,0,615.745,1059.73,2371.31,151.51499999999999,4964.76,68.300799999999995,0,0,0,114.47499999999999,0,45.121000000000002,0,0,227.89699999999999,0,0,0,0,0,0,0,0,0,0,5.0999999999999996,15.53,1.1000000000000001,0,7.1,0,4.97,11.28,18.77,1.1299999999999999,64.98,28.83,67.635099999999994,684.26400000000001,141.255,0,0,615.745,1066.08,2371.31,151.51499999999999,5097.8,78.784800000000004,0,0,0,114.47499999999999,0,45.121000000000002,0,0,238.381,0,0,0,0,0,0,0,0,0,0,5.94,18.55,1.1000000000000001,0,7.1,4.97,11.34,18.77,1.1299999999999999,68.900000000000006,32.69,"CA Residential 2016, Vers. 1.0","CSE 0.813 EXE",null,"MPCBECC",0,1.3655299999999999,1.61297E-2,0,0,9.1244199999999998E-2,0.14945600000000001,0.30218800000000001,1.3338300000000001E-2,1.9378899999999999,1.3816600000000001,0,1.631,1.61297E-2,0,0,9.1244199999999998E-2,0.15055499999999999,0.30218800000000001,1.3338300000000001E-2,2.2044600000000001,1.64713,0.266565,0.26546599999999998,5.6894,11.8079,{"$nulls":9},58.634900000000002,566.58000000000004,141.255,0,0,0,615.745,1059.73,2371.31,151.51499999999999,4964.76,68.300799999999995,0,0,0,114.47499999999999,0,45.121000000000002,0,0,227.89699999999999,0,0,0,0,0,0,0,0,0,0,5.0999999999999996,15.53,1.1000000000000001,0,7.1,0,4.97,11.28,18.77,1.1299999999999999,64.98,0,1.3655299999999999,1.61297E-2,0,0,0,9.1244199999999998E-2,0.14945600000000001,0.30218800000000001,1.3338300000000001E-2,1.9378899999999999,218.43799999999999,1765,141.255,0,0,2615,989.00099999999998,3267.2,327.5,9323.39,181.846,0,0,0,169.404,0,73.400000000000006,0,0,424.65,0,0,0,0,0,0,0,0,0,0,14.06,48.69,1.1000000000000001,0,10.5,21.33,12.25,25.98,2.35,136.26,0,3.50705,1.61297E-2,0,0,0.41129599999999999,0.118258,0.43522,4.56421E-3,4.4925100000000002,43.036999999999999,0,45.633200000000002]
["2016-08-31T17:00:43","U05R10","v27 10 P27 U20 M01","Proposed and Standard","PASS",4.08,41.389699999999998,68.137100000000004,701.36300000000006,141.255,0,0,615.745,1063.19,2371.31,151.51499999999999,5112.51,79.373199999999997,0,0,0,113.613,0,45.121000000000002,0,0,238.107,0,0,0,0,0,0,0,0,0,0,5.91,15.44,1.1000000000000001,0,7.06,0,4.91,11.29,18.7,1.1200000000000001,65.53,29.51,79.014200000000002,862.23699999999997,141.255,0,0,615.745,1069.01,2371.31,151.51499999999999,5290.08,92.043999999999997,0,0,0,113.613,0,45.121000000000002,0,0,250.77799999999999,0,0,0,0,0,0,0,0,0,0,6.93,18.5,1.1000000000000001,0,7.06,4.91,11.34,18.7,1.1200000000000001,69.66,33.590000000000003,"CA Residential 2016, Vers. 1.0","CSE 0.813 EXE",null,"MPCBECC",0,1.4214199999999999,1.61297E-2,0,0,9.1244199999999998E-2,0.15032100000000001,0.30218800000000001,1.3338300000000001E-2,1.99464,1.4375500000000001,0,1.65228,1.61297E-2,0,0,9.1244199999999998E-2,0.151278,0.30218800000000001,1.3338300000000001E-2,2.2264599999999999,1.6684099999999999,0.23181599999999999,0.23086000000000001,5.9287999999999998,12.1465,{"$nulls":9},68.137100000000004,701.36300000000006,141.255,0,0,0,615.745,1063.19,2371.31,151.51499999999999,5112.51,79.373199999999997,0,0,0,113.613,0,45.121000000000002,0,0,238.107,0,0,0,0,0,0,0,0,0,0,5.91,15.44,1.1000000000000001,0,7.06,0,4.91,11.29,18.7,1.1200000000000001,65.53,0,1.4214199999999999,1.61297E-2,0,0,0,9.1244199999999998E-2,0.15032100000000001,0.30218800000000001,1.3338300000000001E-2,1.99464,247.03299999999999,2424.92,141.255,0,0,2615,989.00099999999998,3267.2,327.5,10011.9,205.66,0,0,0,168.49600000000001,0,73.400000000000006,0,0,447.55599999999998,0,0,0,0,0,0,0,0,0,0,15.88,54.76,1.1000000000000001,0,10.46,21.1,12.24,25.87,2.3199999999999998,143.72999999999999,0,3.8767399999999999,1.61297E-2,0,0,0.41129599999999999,0.118258,0.43522,4.56421E-3,4.8622100000000001,41.389699999999998,0,43.9983]
["2016-08-31T17:00:44","U05R11","v27 11 P27 U20 M01","Proposed and Standard","PASS",6.28,43.970999999999997,199.41499999999999,1570.27,141.255,0,0,615.745,1056.74,2371.31,151.51499999999999,6106.24,232.24600000000001,0,0,0,115.96299999999999,0,45.121000000000002,0,0,393.33,0,0,0,0,0,0,0,0,0,0,17.399999999999999,31.4,1.1499999999999999,0,7.21,0,5.23,11.73,19.600000000000001,1.19,94.91,57.16,216.499,1810.99,141.255,0,0,615.745,1062,2371.31,151.51499999999999,6369.31,252.142,0,0,0,115.96299999999999,0,45.121000000000002,0,0,413.226,0,0,0,0,0,0,0,0,0,0,18.96,36.119999999999997,1.1499999999999999,0,7.21,5.23,11.78,19.600000000000001,1.19,101.24,63.44,"CA Residential 2016, Vers. 1.0","CSE 0.813 EXE",null,"MPCBECC",0,1.85368,1.61297E-2,0,0,9.1244199999999998E-2,0.15051999999999999,0.30218800000000001,1.3338300000000001E-2,2.4270999999999998,1.86981,0,2.0658099999999999,1.61297E-2,0,0,9.1244199999999998E-2,0.151751,0.30218800000000001,1.3338300000000001E-2,2.64046,2.0819399999999999,0.21335999999999999,0.21213000000000001,6.2524600000000001,9.8991199999999999,{"$nulls":9},199.41499999999999,1570.27,141.255,0,0,0,615.745,1056.74,2371.31,151.51499999999999,6106.24,232.24600000000001,0,0,0,115.96299999999999,0,45.121000000000002,0,0,393.33,0,0,0,0,0,0,0,0,0,0,17.399999999999999,31.4,1.1499999999999999,0,7.21,0,5.23,11.73,19.600000000000001,1.19,94.91,0,1.85368,1.61297E-2,0,0,0,9.1244199999999998E-2,0.15051999999999999,0.30218800000000001,1.3338300000000001E-2,2.4270999999999998,571.98199999999997,4348.13,141.255,0,0,2615,989.00099999999998,3267.2,327.5,12260.1,476.07600000000002,0,0,0,170.536,0,73.400000000000006,0,0,720.01199999999994,0,0,0,0,0,0,0,0,0,0,36.799999999999997,81.510000000000005,1.1499999999999999,0,10.6,22.57,12.58,27.25,2.4500000000000002,194.91,0,4.4313500000000001,1.61297E-2,0,0,0.41129599999999999,0.118258,0.43522,4.56421E-3,5.4168200000000004,43.970999999999997,0,46.903599999999997]
["2016-08-31T17:00:44","U05R12","v27 12 P27 U20 M01","Proposed and Standard","PASS",4.88,41.288899999999998,207.78399999999999,373.495,141.255,0,0,615.745,1035.07,2371.31,151.51499999999999,4896.18,241.95599999999999,0,0,0,121.937,0,45.121000000000002,0,0,409.01400000000001,0,0,0,0,0,0,0,0,0,0,18.190000000000001,10.76,1.1499999999999999,0,7.54,0,5.26,11.52,19.64,1.2,75.260000000000005,37.64,220.267,492.25900000000001,141.255,0,0,615.745,1041.8699999999999,2371.31,151.51499999999999,5034.22,256.49200000000002,0,0,0,121.937,0,45.121000000000002,0,0,423.55,0,0,0,0,0,0,0,0,0,0,19.36,14.47,1.1499999999999999,0,7.54,5.26,11.58,19.64,1.2,80.2,42.52,"CA Residential 2016, Vers. 1.0","CSE 0.813 EXE",null,"MPCBECC",0,0.76916700000000005,1.61297E-2,0,0,9.1244199999999998E-2,0.14719099999999999,0.30218800000000001,1.3338300000000001E-2,1.3392599999999999,0.78529700000000002,0,0.98270500000000005,1.61297E-2,0,0,9.1244199999999998E-2,0.148562,0.30218800000000001,1.3338300000000001E-2,1.5541700000000001,0.99883500000000003,0.21490799999999999,0.21353800000000001,6.1595899999999997,11.477,{"$nulls":9},207.78399999999999,373.495,141.255,0,0,0,615.745,1035.07,2371.31,151.51499999999999,4896.18,241.95599999999999,0,0,0,121.937,0,45.121000000000002,0,0,409.01400000000001,0,0,0,0,0,0,0,0,0,0,18.190000000000001,10.76,1.1499999999999999,0,7.54,0,5.26,11.52,19.64,1.2,75.260000000000005,0,0.76916700000000005,1.61297E-2,0,0,0,9.1244199999999998E-2,0.14719099999999999,0.30218800000000001,1.3338300000000001E-2,1.3392599999999999,567.59900000000005,1686.96,141.255,0,0,2615,989.00099999999998,3267.2,327.5,9594.51,472.35599999999999,0,0,0,176.31299999999999,0,73.400000000000006,0,0,722.06899999999996,0,0,0,0,0,0,0,0,0,0,36.630000000000003,48.27,1.1499999999999999,0,10.9,22.7,12.58,27.31,2.44,161.97999999999999,0,3.3591700000000002,1.61297E-2,0,0,0.41129599999999999,0.118258,0.43522,4.56421E-3,4.3446300000000004,41.288899999999998,0,43.999099999999999]
["2016-08-31T17:00:44","U05R13","v27 13 P27 U20 M01","Proposed and Standard","PASS",6.35,45.529499999999999,183.03899999999999,1751.75,141.255,0,0,615.745,1066.8800000000001,2371.31,151.51499999999999,6281.49,213.173,0,0,0,113.694,0,45.121000000000002,0,0,371.988,0,0,0,0,0,0,0,0,0,0,16.11,34.01,1.1499999999999999,0,7.07,0,5.21,11.79,19.59,1.19,96.12,58.34,193.839,2015.12,141.255,0,0,615.745,1072.58,2371.31,151.51499999999999,6561.36,225.75,0,0,0,113.694,0,45.121000000000002,0,0,384.565,0,0,0,0,0,0,0,0,0,0,17.11,39.36,1.1499999999999999,0,7.07,5.21,11.84,19.59,1.19,102.52,64.69,"CA Residential 2016, Vers. 1.0","CSE 0.813 EXE",null,"MPCBECC",0,2.25779,1.61297E-2,0,0,9.1244199999999998E-2,0.151834,0.30218800000000001,1.3338300000000001E-2,2.8325300000000002,2.2739199999999999,0,2.5655399999999999,1.61297E-2,0,0,9.1244199999999998E-2,0.15291099999999999,0.30218800000000001,1.3338300000000001E-2,3.1413500000000001,2.5816699999999999,0.30882700000000002,0.307751,6.2426899999999996,9.8160500000000006,{"$nulls":9},183.03899999999999,1751.75,141.255,0,0,0,615.745,1066.8800000000001,2371.31,151.51499999999999,6281.49,213.173,0,0,0,113.694,0,45.121000000000002,0,0,371.988,0,0,0,0,0,0,0,0,0,0,16.11,34.01,1.1499999999999999,0,7.07,0,5.21,11.79,19.59,1.19,96.12,0,2.25779,1.61297E-2,0,0,0,9.1244199999999998E-2,0.151834,0.30218800000000001,1.3338300000000001E-2,2.8325300000000002,515.98,4729.34,141.255,0,0,2615,989.00099999999998,3267.2,327.5,12585.3,429.46199999999999,0,0,0,168.28299999999999,0,73.400000000000006,0,0,671.14400000000001,0,0,0,0,0,0,0,0,0,0,33.450000000000003,81.680000000000007,1.1499999999999999,0,10.47,22.48,12.58,27.23,2.41,191.45,0,4.7471699999999997,1.61297E-2,0,0,0.41129599999999999,0.118258,0.43522,4.56421E-3,5.73264,45.529499999999999,0,48.561]
["2016-08-31T17:00:54","U05R14","v27 14 P27 U20 M01","Proposed and Standard","PASS",7.38,43.991599999999998,187.84399999999999,1503.41,141.255,0,0,615.745,1052.3900000000001,2371.31,151.51499999999999,6023.46,219.00200000000001,0,0,0,117.294,0,45.121000000000002,0,0,381.41699999999997,0,0,0,0,0,0,0,0,0,0,16.440000000000001,28.53,1.1000000000000001,0,7.34,0,4.9800000000000004,11.33,18.75,1.1299999999999999,89.6,53.41,207.99,1784.56,141.255,0,0,615.745,1059.7,2371.31,151.51499999999999,6332.07,242.489,0,0,0,117.294,0,45.121000000000002,0,0,404.904,0,0,0,0,0,0,0,0,0,0,18.329999999999998,34.020000000000003,1.1000000000000001,0,7.34,4.9800000000000004,11.39,18.75,1.1299999999999999,97.04,60.79,"CA Residential 2016, Vers. 1.0","CSE 0.813 EXE",null,"MPCBECC",0,2.0525600000000002,1.61297E-2,0,0,9.1244199999999998E-2,0.15190699999999999,0.30218800000000001,1.3338300000000001E-2,2.62737,2.0686900000000001,0,2.3717299999999999,1.61297E-2,0,0,9.1244199999999998E-2,0.15287200000000001,0.30218800000000001,1.3338300000000001E-2,2.9475099999999999,2.3878599999999999,0.32013799999999998,0.31917299999999998,7.6669400000000003,12.1402,{"$nulls":9},187.84399999999999,1503.41,141.255,0,0,0,615.745,1052.3900000000001,2371.31,151.51499999999999,6023.46,219.00200000000001,0,0,0,117.294,0,45.121000000000002,0,0,381.41699999999997,0,0,0,0,0,0,0,0,0,0,16.440000000000001,28.53,1.1000000000000001,0,7.34,0,4.9800000000000004,11.33,18.75,1.1299999999999999,89.6,0,2.0525600000000002,1.61297E-2,0,0,0,9.1244199999999998E-2,0.15190699999999999,0.30218800000000001,1.3338300000000001E-2,2.62737,570.12699999999995,4179.53,141.255,0,0,2615,989.00099999999998,3267.2,327.5,12089.6,475.04199999999997,0,0,0,171.691,0,73.400000000000006,0,0,720.13400000000001,0,0,0,0,0,0,0,0,0,0,36.85,72.92,1.1000000000000001,0,10.75,21.53,12.25,26.08,2.33,183.81,0,4.41805,1.61297E-2,0,0,0.41129599999999999,0.118258,0.43522,4.56421E-3,5.4035200000000003,43.991599999999998,0,47.644500000000001]
["2016-08-31T17:00:56","U05R15","v27 15 P27 U20 M01","Proposed and Standard","PASS",6.92,49.838999999999999,12.302199999999999,5523.17,141.255,0,0,615.745,1146.71,2371.31,151.51499999999999,9962,14.3284,0,0,0,84.692300000000003,0,45.121000000000002,0,0,144.142,0,0,0,0,0,0,0,0,0,0,1.0900000000000001,75.91,1.1000000000000001,0,5.34,0,5.01,12.04,18.79,1.1399999999999999,120.42,83.44,16.986499999999999,5899.64,141.255,0,0,615.745,1151.43,2371.31,151.51499999999999,10347.9,19.784300000000002,0,0,0,84.692300000000003,0,45.121000000000002,0,0,149.59800000000001,0,0,0,0,0,0,0,0,0,0,1.51,82.41,1.1000000000000001,0,5.34,5.01,12.08,18.79,1.1399999999999999,127.38,90.36,"CA Residential 2016, Vers. 1.0","CSE 0.813 EXE",null,"MPCBECC",0,4.0541099999999997,1.61297E-2,0,0,9.1244199999999998E-2,0.15762399999999999,0.30218800000000001,1.3338300000000001E-2,4.6346299999999996,4.0702400000000001,0,4.4396800000000001,1.61297E-2,0,0,9.1244199999999998E-2,0.15833900000000001,0.30218800000000001,1.3338300000000001E-2,5.0209200000000003,4.4558099999999996,0.38628699999999999,0.38557200000000003,5.4639600000000002,7.6582499999999998,{"$nulls":9},12.302199999999999,5523.17,141.255,0,0,0,615.745,1146.71,2371.31,151.51499999999999,9962,14.3284,0,0,0,84.692300000000003,0,45.121000000000002,0,0,144.142,0,0,0,0,0,0,0,0,0,0,1.0900000000000001,75.91,1.1000000000000001,0,5.34,0,5.01,12.04,18.79,1.1399999999999999,120.42,0,4.0541099999999997,1.61297E-2,0,0,0,9.1244199999999998E-2,0.15762399999999999,0.30218800000000001,1.3338300000000001E-2,4.6346299999999996,76.340699999999998,12428.6,141.255,0,0,2615,989.00099999999998,3267.2,327.5,19844.900000000001,63.5443,0,0,0,139.785,0,73.400000000000006,0,0,276.72899999999998,0,0,0,0,0,0,0,0,0,0,5,153.1,1.1000000000000001,0,8.81,21.65,12.26,26.12,2.36,230.4,0,6.7805799999999996,1.61297E-2,0,0,0.41129599999999999,0.118258,0.43522,4.56421E-3,7.7660400000000003,49.838999999999999,0,52.7196]
["2016-08-31T17:00:55","U05R16","v27 16 P27 U20 M01","Proposed and Standard","PASS",4.26,48.064799999999998,461.048,64.611500000000007,141.255,0,0,615.745,982.44600000000003,2371.31,151.51499999999999,4787.93,538.32600000000002,0,0,0,145.16200000000001,0,45.121000000000002,0,0,728.60900000000004,0,0,0,0,0,0,0,0,0,0,39.200000000000003,1.7,1.0900000000000001,0,9.0299999999999994,0,4.9400000000000004,10.72,18.690000000000001,1.1299999999999999,86.5,51.02,482.02300000000002,140.46899999999999,141.255,0,0,615.745,991.84,2371.31,151.51499999999999,4894.1499999999996,562.81700000000001,0,0,0,145.16200000000001,0,45.121000000000002,0,0,753.1,0,0,0,0,0,0,0,0,0,0,41.18,3.98,1.0900000000000001,0,9.0299999999999994,4.9400000000000004,10.81,18.690000000000001,1.1299999999999999,90.85,55.28,"CA Residential 2016, Vers. 1.0","CSE 0.813 EXE",null,"MPCBECC",0,0.101894,1.61297E-2,0,0,9.1244199999999998E-2,0.14171400000000001,0.30218800000000001,1.3338300000000001E-2,0.66650900000000002,0.118024,0,0.249644,1.61297E-2,0,0,9.1244199999999998E-2,0.143568,0.30218800000000001,1.3338300000000001E-2,0.81611299999999998,0.26577400000000001,0.14960399999999999,0.14774999999999999,4.7881099999999996,7.7062200000000001,{"$nulls":9},461.048,64.611500000000007,141.255,0,0,0,615.745,982.44600000000003,2371.31,151.51499999999999,4787.93,538.32600000000002,0,0,0,145.16200000000001,0,45.121000000000002,0,0,728.60900000000004,0,0,0,0,0,0,0,0,0,0,39.200000000000003,1.7,1.0900000000000001,0,9.0299999999999994,0,4.9400000000000004,10.72,18.690000000000001,1.1299999999999999,86.5,0,0.101894,1.61297E-2,0,0,0,9.1244199999999998E-2,0.14171400000000001,0.30218800000000001,1.3338300000000001E-2,0.66650900000000002,696.22199999999998,563.976,141.255,0,0,2615,989.00099999999998,3267.2,327.5,8600.15,580.98900000000003,0,0,0,197.989,0,73.400000000000006,0,0,852.37800000000004,0,0,0,0,0,0,0,0,0,0,43.9,16.04,1.0900000000000001,0,12.31,21.32,12.23,25.97,2.31,135.16999999999999,0,1.1113599999999999,1.61297E-2,0,0,0.41129599999999999,0.118258,0.43522,4.56421E-3,2.0968300000000002,48.064799999999998,0,50.481900000000003]
["2016-08-31T17:01:04","U06R01","v27 01 P69 U15 M01","Proposed and Standard","FAIL",-0.81000099999999997,58.215800000000002,513.24400000000003,0,785.77200000000005,0,0,2033.7,5276.83,12062,433.91399999999999,21105.4,597.702,0,0,0,775.96100000000001,0,287.95400000000001,0,0,1661.62,0,0,0,0,0,0,0,0,0,0,16.71,0,2.4700000000000002,0,18.45,0,6.6,23.79,38.54,1.31,107.87,37.630000000000003,480.80700000000002,4.6427199999999997,785.77200000000005,0,0,2033.7,5307.43,12062,433.91399999999999,21108.2,559.928,0,0,0,775.96100000000001,0,287.95400000000001,0,0,1623.84,0,0,0,0,0,0,0,0,0,0,15.85,0.05,2.4700000000000002,0,18.45,6.6,23.91,38.54,1.31,107.18,36.82,"CA Residential 2016, Vers. 1.0","CSE 0.813 EXE",null,"MPCBECC",1.9675799999999999E-13,0,8.9726299999999995E-2,0,0,0.30136400000000002,0.69186199999999998,1.54311,3.8198599999999999E-2,2.6642600000000001,8.9726299999999995E-2,0,1.68871E-3,8.9726299999999995E-2,0,0,0.30136400000000002,0.70207799999999998,1.54311,3.8198599999999999E-2,2.6761699999999999,9.1414999999999996E-2,1.1904700000000001E-2,1.68871E-3,-0.64377899999999999,-2.1999,{"$nulls":9},513.24400000000003,0,785.77200000000005,0,0,0,2033.7,5276.83,12062,433.91399999999999,21105.4,597.702,0,0,0,775.96100000000001,0,287.95400000000001,0,0,1661.62,0,0,0,0,0,0,0,0,0,0,16.71,0,2.4700000000000002,0,18.45,0,6.6,23.79,38.54,1.31,107.87,1.9675799999999999E-13,0,8.9726299999999995E-2,0,0,0,0.30136400000000002,0.69186199999999998,1.54311,3.8198599999999999E-2,2.6642600000000001,888.24300000000005,0.19209100000000001,785.77200000000005,0,0,5894.96,6547.68,10697.7,540.49900000000002,25355.1,739.25900000000001,0,0,0,1220.78,0,291.12400000000002,0,0,2251.16,0,0,0,0,0,0,0,0,0,0,21.59,0,2.4700000000000002,0,29.02,19.34,27.59,34.31,1.54,135.86000000000001,0,0,8.9726299999999995E-2,0,0,0.92718,0.77117400000000003,1.42503,7.5326799999999999E-3,3.22065,58.215800000000002,0,57.843400000000003]
["2016-08-31T17:01:05","U06R02","v27 02 P69 U15 M01","Proposed and Standard","PASS",2.3199999999999998,54.703899999999997,355.18900000000002,363.27199999999999,785.77200000000005,0,0,2033.7,5376.98,12062,433.91399999999999,21410.799999999999,413.62299999999999,0,0,0,696.60599999999999,0,287.95400000000001,0,0,1398.18,0,0,0,0,0,0,0,0,0,0,11.98,4.63,2.4700000000000002,0,16.64,0,6.61,24.23,38.58,1.31,106.45,35.72,340.613,583.83900000000006,785.77200000000005,0,0,2033.7,5405.36,12062,433.91399999999999,21645.200000000001,396.65,0,0,0,696.60599999999999,0,287.95400000000001,0,0,1381.21,0,0,0,0,0,0,0,0,0,0,11.56,7.37,2.4700000000000002,0,16.64,6.61,24.33,38.58,1.31,108.87,38.04,"CA Residential 2016, Vers. 1.0","CSE 0.813 EXE",null,"MPCBECC",0,0.65815500000000005,8.9726299999999995E-2,0,0,0.30136400000000002,0.72198600000000002,1.54311,3.8198599999999999E-2,3.3525399999999999,0.74788200000000005,0,1.1619699999999999,8.9726299999999995E-2,0,0,0.30136400000000002,0.72809199999999996,1.54311,3.8198599999999999E-2,3.86246,1.2517,0.50992099999999996,0.50381500000000001,2.2228300000000001,6.09884,{"$nulls":9},355.18900000000002,363.27199999999999,785.77200000000005,0,0,0,2033.7,5376.98,12062,433.91399999999999,21410.799999999999,413.62299999999999,0,0,0,696.60599999999999,0,287.95400000000001,0,0,1398.18,0,0,0,0,0,0,0,0,0,0,11.98,4.63,2.4700000000000002,0,16.64,0,6.61,24.23,38.58,1.31,106.45,0,0.65815500000000005,8.9726299999999995E-2,0,0,0,0.30136400000000002,0.72198600000000002,1.54311,3.8198599999999999E-2,3.3525399999999999,1065.97,1159.26,785.77200000000005,0,0,5894.96,6547.68,10697.7,540.49900000000002,26691.9,887.14700000000005,0,0,0,1141.4000000000001,0,291.12400000000002,0,0,2319.67,0,0,0,0,0,0,0,0,0,0,26.52,15.31,2.4700000000000002,0,27.27,19.399999999999999,27.6,34.42,1.54,154.53,0,2.3363999999999998,8.9726299999999995E-2,0,0,0.92718,0.77117400000000003,1.42503,7.5326799999999999E-3,5.5570500000000003,54.703899999999997,0,55.947600000000001]
["2016-08-31T17:00:49","U06R03","v27 03 P69 U15 M01","Proposed and Standard","PASS",1.03,54.773499999999999,155.34399999999999,59.073799999999999,785.77200000000005,0,0,2033.7,5356.62,12062,433.91399999999999,20886.400000000001,180.89099999999999,0,0,0,699.798,0,287.95400000000001,0,0,1168.6400000000001,0,0,0,0,0,0,0,0,0,0,5.28,0.74,2.4700000000000002,0,16.670000000000002,0,6.57,24,38.51,1.3,95.54,25.16,154.197,148.78100000000001,785.77200000000005,0,0,2033.7,5391.15,12062,433.91399999999999,21009.5,179.55500000000001,0,0,0,699.798,0,287.95400000000001,0,0,1167.31,0,0,0,0,0,0,0,0,0,0,5.3,1.75,2.4700000000000002,0,16.670000000000002,6.57,24.13,38.51,1.3,96.7,26.19,"CA Residential 2016, Vers. 1.0","CSE 0.813 EXE",null,"MPCBECC",0,0.15679299999999999,8.9726299999999995E-2,0,0,0.30136400000000002,0.70714200000000005,1.54311,3.8198599999999999E-2,2.8363299999999998,0.24651899999999999,0,0.313224,8.9726299999999995E-2,0,0,0.30136400000000002,0.71533599999999997,1.54311,3.8198599999999999E-2,3.0009600000000001,0.402951,0.16462599999999999,0.15643099999999999,1.1995800000000001,3.9327999999999999,{"$nulls":9},155.34399999999999,59.073799999999999,785.77200000000005,0,0,0,2033.7,5356.62,12062,433.91399999999999,20886.400000000001,180.89099999999999,0,0,0,699.798,0,287.95400000000001,0,0,1168.6400000000001,0,0,0,0,0,0,0,0,0,0,5.28,0.74,2.4700000000000002,0,16.670000000000002,0,6.57,24,38.51,1.3,95.54,0,0.15679299999999999,8.9726299999999995E-2,0,0,0,0.30136400000000002,0.70714200000000005,1.54311,3.8198599999999999E-2,2.8363299999999998,842.375,75.385999999999996,785.77200000000005,0,0,5894.96,6547.68,10697.7,540.49900000000002,25384.400000000001,701.02099999999996,0,0,0,1145.3499999999999,0,291.12400000000002,0,0,2137.4899999999998,0,0,0,0,0,0,0,0,0,0,20.97,1.26,2.4700000000000002,0,27.29,19.239999999999998,27.59,34.29,1.53,134.63999999999999,0,0.24352599999999999,8.9726299999999995E-2,0,0,0.92718,0.77117400000000003,1.42503,7.5326799999999999E-3,3.4641700000000002,54.773499999999999,0,55.438600000000001]
["2016-08-31T17:00:49","U06R04","v27 04 P69 U15 M01","Proposed and Standard","PASS",3.41,52.941400000000002,231.16900000000001,456.05700000000002,785.77200000000005,0,0,2033.7,5424.06,12062,433.91399999999999,21426.6,269.20100000000002,0,0,0,666.51700000000005,0,287.95400000000001,0,0,1223.67,0,0,0,0,0,0,0,0,0,0,7.81,5.33,2.4700000000000002,0,15.94,0,6.62,24.34,38.6,1.31,102.42,31.55,221.58699999999999,795.721,785.77200000000005,0,0,2033.7,5449.85,12062,433.91399999999999,21782.5,258.04199999999997,0,0,0,666.51700000000005,0,287.95400000000001,0,0,1212.51,0,0,0,0,0,0,0,0,0,0,7.54,9.01,2.4700000000000002,0,15.94,6.62,24.44,38.6,1.31,105.93,34.96,"CA Residential 2016, Vers. 1.0","CSE 0.813 EXE",null,"MPCBECC",0,1.37049,8.9726299999999995E-2,0,0,0.30136400000000002,0.73887100000000006,1.54311,3.8198599999999999E-2,4.0817600000000001,1.46021,0,2.2162500000000001,8.9726299999999995E-2,0,0,0.30136400000000002,0.74305100000000002,1.54311,3.8198599999999999E-2,4.9317000000000002,2.3059699999999999,0.84994099999999995,0.84575999999999996,3.31351,9.7539999999999996,{"$nulls":9},231.16900000000001,456.05700000000002,785.77200000000005,0,0,0,2033.7,5424.06,12062,433.91399999999999,21426.6,269.20100000000002,0,0,0,666.51700000000005,0,287.95400000000001,0,0,1223.67,0,0,0,0,0,0,0,0,0,0,7.81,5.33,2.4700000000000002,0,15.94,0,6.62,24.34,38.6,1.31,102.42,0,1.37049,8.9726299999999995E-2,0,0,0,0.30136400000000002,0.73887100000000006,1.54311,3.8198599999999999E-2,4.0817600000000001,803.59299999999996,1807.28,785.77200000000005,0,0,5894.96,6547.68,10697.7,540.49900000000002,27077.5,668.78599999999994,0,0,0,1111.18,0,291.12400000000002,0,0,2071.09,0,0,0,0,0,0,0,0,0,0,20.079999999999998,21.65,2.4700000000000002,0,26.57,19.440000000000001,27.6,34.450000000000003,1.53,153.79,0,4.9297000000000004,8.9726299999999995E-2,0,0,0.92718,0.77117400000000003,1.42503,7.5326799999999999E-3,8.1503499999999995,52.941400000000002,0,54.755699999999997]
["2016-08-31T17:00:45","U06R05","v27 05 P69 U15 M01","Proposed and Standard","PASS",0.86000100000000002,53.314399999999999,128.43,22.068000000000001,785.77200000000005,0,0,2033.7,5380.8,12062,433.91399999999999,20846.599999999999,149.56800000000001,0,0,0,716.42100000000005,0,287.95400000000001,0,0,1153.94,0,0,0,0,0,0,0,0,0,0,4.2300000000000004,0.28000000000000003,2.4700000000000002,0,17.05,0,6.51,24.01,38.39,1.3,94.24,24.03,114.408,121.47499999999999,785.77200000000005,0,0,2033.7,5427.78,12062,433.91399999999999,20979,133.238,0,0,0,716.42100000000005,0,287.95400000000001,0,0,1137.6099999999999,0,0,0,0,0,0,0,0,0,0,3.85,1.52,2.4700000000000002,0,17.05,6.51,24.18,38.39,1.3,95.27,24.89,"CA Residential 2016, Vers. 1.0","CSE 0.813 EXE",null,"MPCBECC",0,5.99757E-2,8.9726299999999995E-2,0,0,0.30136400000000002,0.709982,1.54311,3.8198599999999999E-2,2.7423600000000001,0.149702,0,0.32564300000000002,8.9726299999999995E-2,0,0,0.30136400000000002,0.72127399999999997,1.54311,3.8198599999999999E-2,3.01932,0.41537000000000002,0.27695999999999998,0.26566800000000002,1.08114,3.4552100000000001,{"$nulls":9},128.43,22.068000000000001,785.77200000000005,0,0,0,2033.7,5380.8,12062,433.91399999999999,20846.599999999999,149.56800000000001,0,0,0,716.42100000000005,0,287.95400000000001,0,0,1153.94,0,0,0,0,0,0,0,0,0,0,4.2300000000000004,0.28000000000000003,2.4700000000000002,0,17.05,0,6.51,24.01,38.39,1.3,94.24,0,5.99757E-2,8.9726299999999995E-2,0,0,0,0.30136400000000002,0.709982,1.54311,3.8198599999999999E-2,2.7423600000000001,838.24199999999996,6.2671400000000004,785.77200000000005,0,0,5894.96,6547.68,10697.7,540.49900000000002,25311.200000000001,697.66099999999994,0,0,0,1162.01,0,291.12400000000002,0,0,2150.8000000000002,0,0,0,0,0,0,0,0,0,0,20.52,0.04,2.4700000000000002,0,27.65,19.03,27.56,34.090000000000003,1.52,132.88,0,2.82621E-3,8.9726299999999995E-2,0,0,0.92718,0.77117400000000003,1.42503,7.5326799999999999E-3,3.2234699999999998,53.314399999999999,0,53.897100000000002]
["2016-08-31T17:01:10","U06R06","v27 06 P69 U15 M01","Proposed and Standard","PASS",1.99,58.211300000000001,59.404200000000003,456.99099999999999,785.77200000000005,0,0,2033.7,5494.5,12062,433.91399999999999,21326.2,69.176000000000002,0,0,0,636.71799999999996,0,287.95400000000001,0,0,993.84799999999996,0,0,0,0,0,0,0,0,0,0,2.0299999999999998,5.0999999999999996,2.39,0,15.28,0,6.39,23.9,37.35,1.26,93.7,24.8,54.723999999999997,707.28200000000004,785.77200000000005,0,0,2033.7,5517.33,12062,433.91399999999999,21594.7,63.725900000000003,0,0,0,636.71799999999996,0,287.95400000000001,0,0,988.39800000000002,0,0,0,0,0,0,0,0,0,0,1.88,7.24,2.39,0,15.28,6.39,23.97,37.35,1.26,95.76,26.79,"CA Residential 2016, Vers. 1.0","CSE 0.813 EXE",null,"MPCBECC",0,1.1386400000000001,8.9726299999999995E-2,0,0,0.30136400000000002,0.73446299999999998,1.54311,3.8198599999999999E-2,3.8454999999999999,1.2283599999999999,0,1.5783,8.9726299999999995E-2,0,0,0.30136400000000002,0.738568,1.54311,3.8198599999999999E-2,4.2892700000000001,1.6680299999999999,0.44376900000000002,0.43966499999999997,2.1512199999999999,7.42814,{"$nulls":9},59.404200000000003,456.99099999999999,785.77200000000005,0,0,0,2033.7,5494.5,12062,433.91399999999999,21326.2,69.176000000000002,0,0,0,636.71799999999996,0,287.95400000000001,0,0,993.84799999999996,0,0,0,0,0,0,0,0,0,0,2.0299999999999998,5.0999999999999996,2.39,0,15.28,0,6.39,23.9,37.35,1.26,93.7,0,1.1386400000000001,8.9726299999999995E-2,0,0,0,0.30136400000000002,0.73446299999999998,1.54311,3.8198599999999999E-2,3.8454999999999999,277.27999999999997,1263.29,785.77200000000005,0,0,5894.96,6547.68,10697.7,540.49900000000002,26007.200000000001,230.76,0,0,0,1082.05,0,291.12400000000002,0,0,1603.93,0,0,0,0,0,0,0,0,0,0,6.99,14.17,2.39,0,25.97,18.68,26.93,33.130000000000003,1.5,129.76,0,2.40483,8.9726299999999995E-2,0,0,0.92718,0.77117400000000003,1.42503,7.5326799999999999E-3,5.62547,58.211300000000001,0,59.491]
["2016-08-31T17:00:49","U06R07","v27 07 P69 U15 M01","Proposed and Standard","PASS",2.48,58.813299999999998,8.2829300000000003,231.93,785.77200000000005,0,0,2033.7,5497.75,12062,433.91399999999999,21053.3,9.6451100000000007,0,0,0,626.69500000000005,0,287.95400000000001,0,0,924.29399999999998,0,0,0,0,0,0,0,0,0,0,0.26,3.66,2.48,0,14.76,0,6.72,24.57,38.92,1.33,92.7,21.16,5.4996900000000002,408.411,785.77200000000005,0,0,2033.7,5527.41,12062,433.91399999999999,21256.7,6.4041399999999999,0,0,0,626.69500000000005,0,287.95400000000001,0,0,921.053,0,0,0,0,0,0,0,0,0,0,0.19,6.21,2.48,0,14.76,6.72,24.67,38.92,1.33,95.28,23.64,"CA Residential 2016, Vers. 1.0","CSE 0.813 EXE",null,"MPCBECC",0,0.83066099999999998,8.9726299999999995E-2,0,0,0.30136400000000002,0.73255099999999995,1.54311,3.8198599999999999E-2,3.5356100000000001,0.92038699999999996,0,1.38828,8.9726299999999995E-2,0,0,0.30136400000000002,0.73728700000000003,1.54311,3.8198599999999999E-2,4.0979700000000001,1.47801,0.56235999999999997,0.55762400000000001,2.7078099999999998,10.4907,{"$nulls":9},8.2829300000000003,231.93,785.77200000000005,0,0,0,2033.7,5497.75,12062,433.91399999999999,21053.3,9.6451100000000007,0,0,0,626.69500000000005,0,287.95400000000001,0,0,924.29399999999998,0,0,0,0,0,0,0,0,0,0,0.26,3.66,2.48,0,14.76,0,6.72,24.57,38.92,1.33,92.7,0,0.83066099999999998,8.9726299999999995E-2,0,0,0,0.30136400000000002,0.73255099999999995,1.54311,3.8198599999999999E-2,3.5356100000000001,74.553299999999993,764.65099999999995,785.77200000000005,0,0,5894.96,6547.68,10697.7,540.49900000000002,25305.9,62.043100000000003,0,0,0,1072.78,0,291.12400000000002,0,0,1425.95,0,0,0,0,0,0,0,0,0,0,1.83,12.15,2.48,0,25.26,19.649999999999999,27.62,34.58,1.61,125.18,0,2.50596,8.9726299999999995E-2,0,0,0.92718,0.77117400000000003,1.42503,7.5326799999999999E-3,5.7266000000000004,58.813299999999998,0,60.450099999999999]
["2016-08-31T17:00:49","U06R08","v27 08 P69 U15 M01","Proposed and Standard","PASS",3.37,57.085500000000003,28.008700000000001,1637.5,785.77200000000005,0,0,2033.7,5581.58,12062,433.91399999999999,22562.400000000001,32.616100000000003,0,0,0,610.30799999999999,0,287.95400000000001,0,0,930.87800000000004,0,0,0,0,0,0,0,0,0,0,0.96,13.7,2.4,0,14.66,0,6.45,24.3,37.51,1.28,101.26,31.72,25.542000000000002,2167.4499999999998,785.77200000000005,0,0,2033.7,5600.89,12062,433.91399999999999,23109.200000000001,29.7437,0,0,0,610.30799999999999,0,287.95400000000001,0,0,928.00599999999997,0,0,0,0,0,0,0,0,0,0,0.89,17.14,2.4,0,14.66,6.45,24.36,37.51,1.28,104.69,35.090000000000003,"CA Residential 2016, Vers. 1.0","CSE 0.813 EXE",null,"MPCBECC",0,3.0399400000000001,8.9726299999999995E-2,0,0,0.30136400000000002,0.74937200000000004,1.54311,3.8198599999999999E-2,5.7617099999999999,3.12967,0,3.6819000000000002,8.9726299999999995E-2,0,0,0.30136400000000002,0.75144100000000003,1.54311,3.8198599999999999E-2,6.4057399999999998,3.77162,0.64402199999999998,0.64195400000000002,3.2763499999999999,9.6038800000000002,{"$nulls":9},28.008700000000001,1637.5,785.77200000000005,0,0,0,2033.7,5581.58,12062,433.91399999999999,22562.400000000001,32.616100000000003,0,0,0,610.30799999999999,0,287.95400000000001,0,0,930.87800000000004,0,0,0,0,0,0,0,0,0,0,0.96,13.7,2.4,0,14.66,0,6.45,24.3,37.51,1.28,101.26,0,3.0399400000000001,8.9726299999999995E-2,0,0,0,0.30136400000000002,0.74937200000000004,1.54311,3.8198599999999999E-2,5.7617099999999999,200.43700000000001,4238.05,785.77200000000005,0,0,5894.96,6547.68,10697.7,540.49900000000002,28905.1,166.81,0,0,0,1055.28,0,291.12400000000002,0,0,1513.21,0,0,0,0,0,0,0,0,0,0,5.07,34.58,2.4,0,25.35,18.86,26.98,33.32,1.53,148.09,0,6.4691999999999998,8.9726299999999995E-2,0,0,0.92718,0.77117400000000003,1.42503,7.5326799999999999E-3,9.6898400000000002,57.085500000000003,0,59.019199999999998]
["2016-08-31T17:00:46","U06R09","v27 09 P69 U15 M01","Proposed and Standard","PASS",5.31,54.895800000000001,59.454999999999998,2472.38,785.77200000000005,0,0,2033.7,5561.09,12062,433.91399999999999,23408.3,69.256200000000007,0,0,0,609.06299999999999,0,287.95400000000001,0,0,966.274,0,0,0,0,0,0,0,0,0,0,2.0099999999999998,21.74,2.37,0,14.66,0,6.37,24.11,37.08,1.26,109.6,40.78,53.673999999999999,3175.19,785.77200000000005,0,0,2033.7,5579.9,12062,433.91399999999999,24124.1,62.522100000000002,0,0,0,609.06299999999999,0,287.95400000000001,0,0,959.54,0,0,0,0,0,0,0,0,0,0,1.84,27.22,2.37,0,14.66,6.37,24.16,37.08,1.26,114.96,46.09,"CA Residential 2016, Vers. 1.0","CSE 0.813 EXE",null,"MPCBECC",0,4.5263799999999996,8.9726299999999995E-2,0,0,0.30136400000000002,0.75378900000000004,1.54311,3.8198599999999999E-2,7.2525700000000004,4.6161099999999999,0,5.5484400000000003,8.9726299999999995E-2,0,0,0.30136400000000002,0.75509499999999996,1.54311,3.8198599999999999E-2,8.2759300000000007,5.6381600000000001,1.02336,1.02206,4.66249,11.520899999999999,{"$nulls":9},59.454999999999998,2472.38,785.77200000000005,0,0,0,2033.7,5561.09,12062,433.91399999999999,23408.3,69.256200000000007,0,0,0,609.06299999999999,0,287.95400000000001,0,0,966.274,0,0,0,0,0,0,0,0,0,0,2.0099999999999998,21.74,2.37,0,14.66,0,6.37,24.11,37.08,1.26,109.6,0,4.5263799999999996,8.9726299999999995E-2,0,0,0,0.30136400000000002,0.75378900000000004,1.54311,3.8198599999999999E-2,7.2525700000000004,325.18400000000003,6261.79,785.77200000000005,0,0,5894.96,6547.68,10697.7,540.49900000000002,31053.599999999999,270.70999999999998,0,0,0,1053.72,0,291.12400000000002,0,0,1615.55,0,0,0,0,0,0,0,0,0,0,8.14,55.34,2.37,0,25.36,18.649999999999999,26.78,33,1.51,171.15,0,9.4844899999999992,8.9726299999999995E-2,0,0,0.92718,0.77117400000000003,1.42503,7.5326799999999999E-3,12.7051,54.895800000000001,0,57.580500000000001]
["2016-08-31T17:01:11","U06R10","v27 10 P69 U15 M01","Proposed and Standard","PASS",5.18,53.493899999999996,74.384399999999999,3080.05,785.77200000000005,0,0,2033.7,5569.6,12062,433.91399999999999,24039.4,86.650700000000001,0,0,0,604.34299999999996,0,287.95400000000001,0,0,978.94799999999998,0,0,0,0,0,0,0,0,0,0,2.5,22.37,2.37,0,14.57,0,6.29,24.06,36.92,1.25,110.33,41.81,68.168099999999995,3834.13,785.77200000000005,0,0,2033.7,5585.71,12062,433.91399999999999,24803.4,79.409400000000005,0,0,0,604.34299999999996,0,287.95400000000001,0,0,971.70600000000002,0,0,0,0,0,0,0,0,0,0,2.3199999999999998,27.73,2.37,0,14.57,6.29,24.11,36.92,1.25,115.56,46.99,"CA Residential 2016, Vers. 1.0","CSE 0.813 EXE",null,"MPCBECC",0,4.59598,8.9726299999999995E-2,0,0,0.30136400000000002,0.75456400000000001,1.54311,3.8198599999999999E-2,7.3229499999999996,4.6857100000000003,0,5.5297299999999998,8.9726299999999995E-2,0,0,0.30136400000000002,0.75569699999999995,1.54311,3.8198599999999999E-2,8.2578300000000002,5.6194600000000001,0.93488199999999999,0.93374900000000005,4.5257800000000001,11.0236,{"$nulls":9},74.384399999999999,3080.05,785.77200000000005,0,0,0,2033.7,5569.6,12062,433.91399999999999,24039.4,86.650700000000001,0,0,0,604.34299999999996,0,287.95400000000001,0,0,978.94799999999998,0,0,0,0,0,0,0,0,0,0,2.5,22.37,2.37,0,14.57,0,6.29,24.06,36.92,1.25,110.33,0,4.59598,8.9726299999999995E-2,0,0,0,0.30136400000000002,0.75456400000000001,1.54311,3.8198599999999999E-2,7.3229499999999996,370.08,7899.94,785.77200000000005,0,0,5894.96,6547.68,10697.7,540.49900000000002,32736.7,308.10000000000002,0,0,0,1048.3399999999999,0,291.12400000000002,0,0,1647.57,0,0,0,0,0,0,0,0,0,0,9.26,60.87,2.37,0,25.28,18.45,26.75,32.86,1.49,177.33,0,10.250500000000001,8.9726299999999995E-2,0,0,0.92718,0.77117400000000003,1.42503,7.5326799999999999E-3,13.4712,53.493899999999996,0,56.029699999999998]
["2016-08-31T17:00:50","U06R11","v27 11 P69 U15 M01","Proposed and Standard","PASS",6.06,53.8033,340.18900000000002,5287.27,785.77200000000005,0,0,2033.7,5530.52,12062,433.91399999999999,26473.3,396.19600000000003,0,0,0,615.9,0,287.95400000000001,0,0,1300.05,0,0,0,0,0,0,0,0,0,0,11.55,38.39,2.4700000000000002,0,14.87,0,6.7,24.92,38.71,1.32,138.93,67.28,332.48899999999998,6190.24,785.77200000000005,0,0,2033.7,5543.01,12062,433.91399999999999,27381.1,387.22800000000001,0,0,0,615.9,0,287.95400000000001,0,0,1291.08,0,0,0,0,0,0,0,0,0,0,11.34,44.66,2.4700000000000002,0,14.87,6.7,24.95,38.71,1.32,145.02000000000001,73.34,"CA Residential 2016, Vers. 1.0","CSE 0.813 EXE",null,"MPCBECC",0,5.7566699999999997,8.9726299999999995E-2,0,0,0.30136400000000002,0.75252699999999995,1.54311,3.8198599999999999E-2,8.4816000000000003,5.8464,0,6.6807299999999996,8.9726299999999995E-2,0,0,0.30136400000000002,0.75359500000000001,1.54311,3.8198599999999999E-2,9.4067299999999996,6.7704599999999999,0.92512899999999998,0.92406100000000002,4.1994199999999999,8.2628799999999991,{"$nulls":9},340.18900000000002,5287.27,785.77200000000005,0,0,0,2033.7,5530.52,12062,433.91399999999999,26473.3,396.19600000000003,0,0,0,615.9,0,287.95400000000001,0,0,1300.05,0,0,0,0,0,0,0,0,0,0,11.55,38.39,2.4700000000000002,0,14.87,0,6.7,24.92,38.71,1.32,138.93,0,5.7566699999999997,8.9726299999999995E-2,0,0,0,0.30136400000000002,0.75252699999999995,1.54311,3.8198599999999999E-2,8.4816000000000003,1038.6500000000001,12457.1,785.77200000000005,0,0,5894.96,6547.68,10697.7,540.49900000000002,37962.400000000001,864.495,0,0,0,1058.55,0,291.12400000000002,0,0,2214.17,0,0,0,0,0,0,0,0,0,0,26.02,84.37,2.4700000000000002,0,25.55,19.739999999999998,27.62,34.61,1.57,221.95,0,11.447100000000001,8.9726299999999995E-2,0,0,0.92718,0.77117400000000003,1.42503,7.5326799999999999E-3,14.6678,53.8033,0,56.161799999999999]
["2016-08-31T17:00:49","U06R12","v27 12 P69 U15 M01","Proposed and Standard","PASS",5.84,53.087000000000003,334.22899999999998,1948.16,785.77200000000005,0,0,2033.7,5481.89,12062,433.91399999999999,23079.599999999999,389.19499999999999,0,0,0,647.79700000000003,0,287.95400000000001,0,0,1324.95,0,0,0,0,0,0,0,0,0,0,11.39,21.62,2.4700000000000002,0,15.55,0,6.74,24.74,38.78,1.33,122.62,51.03,325.666,2661.26,785.77200000000005,0,0,2033.7,5501.43,12062,433.91399999999999,23803.7,379.22399999999999,0,0,0,647.79700000000003,0,287.95400000000001,0,0,1314.98,0,0,0,0,0,0,0,0,0,0,11.15,27.7,2.4700000000000002,0,15.55,6.74,24.8,38.78,1.33,128.52000000000001,56.87,"CA Residential 2016, Vers. 1.0","CSE 0.813 EXE",null,"MPCBECC",0,3.9638300000000002,8.9726299999999995E-2,0,0,0.30136400000000002,0.74732100000000001,1.54311,3.8198599999999999E-2,6.6835500000000003,4.0535500000000004,0,4.9398099999999996,8.9726299999999995E-2,0,0,0.30136400000000002,0.74921000000000004,1.54311,3.8198599999999999E-2,7.6614199999999997,5.0295399999999999,0.97787500000000005,0.97598600000000002,4.5907299999999998,10.269,{"$nulls":9},334.22899999999998,1948.16,785.77200000000005,0,0,0,2033.7,5481.89,12062,433.91399999999999,23079.599999999999,389.19499999999999,0,0,0,647.79700000000003,0,287.95400000000001,0,0,1324.95,0,0,0,0,0,0,0,0,0,0,11.39,21.62,2.4700000000000002,0,15.55,0,6.74,24.74,38.78,1.33,122.62,0,3.9638300000000002,8.9726299999999995E-2,0,0,0,0.30136400000000002,0.74732100000000001,1.54311,3.8198599999999999E-2,6.6835500000000003,1029.96,5831.04,785.77200000000005,0,0,5894.96,6547.68,10697.7,540.49900000000002,31327.7,857.13099999999997,0,0,0,1091.3900000000001,0,291.12400000000002,0,0,2239.65,0,0,0,0,0,0,0,0,0,0,25.89,54.47,2.4700000000000002,0,26.21,19.850000000000001,27.63,34.69,1.57,192.78,0,9.2231100000000001,8.9726299999999995E-2,0,0,0.92718,0.77117400000000003,1.42503,7.5326799999999999E-3,12.4438,53.087000000000003,0,55.641399999999997]
["2016-08-31T17:00:28","U06R13","v27 13 P69 U15 M01","Proposed and Standard","PASS",6.99,54.122999999999998,291.34699999999998,5848.89,785.77200000000005,0,0,2033.7,5557.15,12062,433.91399999999999,27012.7,339.31099999999998,0,0,0,604.26199999999994,0,287.95400000000001,0,0,1231.53,0,0,0,0,0,0,0,0,0,0,9.98,40.81,2.4700000000000002,0,14.59,0,6.67,24.91,38.69,1.32,139.44,67.849999999999994,285.15699999999998,6837.03,785.77200000000005,0,0,2033.7,5570.99,12062,433.91399999999999,28008.5,332.10199999999998,0,0,0,604.26199999999994,0,287.95400000000001,0,0,1224.32,0,0,0,0,0,0,0,0,0,0,9.8000000000000007,47.98,2.4700000000000002,0,14.59,6.67,24.95,38.69,1.32,146.47,74.84,"CA Residential 2016, Vers. 1.0","CSE 0.813 EXE",null,"MPCBECC",0,6.5707399999999998,8.9726299999999995E-2,0,0,0.30136400000000002,0.75468500000000005,1.54311,3.8198599999999999E-2,9.2978299999999994,6.6604700000000001,0,7.6775200000000003,8.9726299999999995E-2,0,0,0.30136400000000002,0.755409,1.54311,3.8198599999999999E-2,10.4053,7.7672499999999998,1.1074999999999999,1.1067800000000001,4.79962,9.3399199999999993,{"$nulls":9},291.34699999999998,5848.89,785.77200000000005,0,0,0,2033.7,5557.15,12062,433.91399999999999,27012.7,339.31099999999998,0,0,0,604.26199999999994,0,287.95400000000001,0,0,1231.53,0,0,0,0,0,0,0,0,0,0,9.98,40.81,2.4700000000000002,0,14.59,0,6.67,24.91,38.69,1.32,139.44,0,6.5707399999999998,8.9726299999999995E-2,0,0,0,0.30136400000000002,0.75468500000000005,1.54311,3.8198599999999999E-2,9.2978299999999994,927.52,13616.4,785.77200000000005,0,0,5894.96,6547.68,10697.7,540.49900000000002,39010.5,771.99599999999998,0,0,0,1046.18,0,291.12400000000002,0,0,2109.3000000000002,0,0,0,0,0,0,0,0,0,0,23.39,85.46,2.4700000000000002,0,25.26,19.649999999999999,27.62,34.590000000000003,1.54,219.98,0,12.217599999999999,8.9726299999999995E-2,0,0,0.92718,0.77117400000000003,1.42503,7.5326799999999999E-3,15.4382,54.122999999999998,0,56.851700000000001]
["2016-08-31T17:00:28","U06R14","v27 14 P69 U15 M01","Proposed and Standard","PASS",6.29,54.2896,340.8,4901.38,785.77200000000005,0,0,2033.7,5522.02,12062,433.91399999999999,26079.599999999999,397.32799999999997,0,0,0,623.22699999999998,0,287.95400000000001,0,0,1308.51,0,0,0,0,0,0,0,0,0,0,11.61,34.119999999999997,2.37,0,15.15,0,6.38,24.08,37.020000000000003,1.26,131.99,63.25,322.464,5872.13,785.77200000000005,0,0,2033.7,5539.67,12062,433.91399999999999,27049.599999999999,375.95,0,0,0,623.22699999999998,0,287.95400000000001,0,0,1287.1300000000001,0,0,0,0,0,0,0,0,0,0,11.06,40.96,2.37,0,15.15,6.38,24.13,37.020000000000003,1.26,138.33000000000001,69.540000000000006,"CA Residential 2016, Vers. 1.0","CSE 0.813 EXE",null,"MPCBECC",0,5.9850899999999996,8.9726299999999995E-2,0,0,0.30136400000000002,0.75453300000000001,1.54311,3.8198599999999999E-2,8.7120200000000008,6.0748199999999999,0,7.0342500000000001,8.9726299999999995E-2,0,0,0.30136400000000002,0.75548400000000004,1.54311,3.8198599999999999E-2,9.7621400000000005,7.1239800000000004,1.0501100000000001,1.0491600000000001,4.58324,9.0451599999999992,{"$nulls":9},340.8,4901.38,785.77200000000005,0,0,0,2033.7,5522.02,12062,433.91399999999999,26079.599999999999,397.32799999999997,0,0,0,623.22699999999998,0,287.95400000000001,0,0,1308.51,0,0,0,0,0,0,0,0,0,0,11.61,34.119999999999997,2.37,0,15.15,0,6.38,24.08,37.020000000000003,1.26,131.99,0,5.9850899999999996,8.9726299999999995E-2,0,0,0,0.30136400000000002,0.75453300000000001,1.54311,3.8198599999999999E-2,8.7120200000000008,1031.54,11891,785.77200000000005,0,0,5894.96,6547.68,10697.7,540.49900000000002,37389.199999999997,859.49900000000002,0,0,0,1065.1300000000001,0,291.12400000000002,0,0,2215.7600000000002,0,0,0,0,0,0,0,0,0,0,25.94,75.430000000000007,2.37,0,25.9,18.829999999999998,26.77,33.130000000000003,1.49,209.86,0,11.264099999999999,8.9726299999999995E-2,0,0,0.92718,0.77117400000000003,1.42503,7.5326799999999999E-3,14.4847,54.2896,0,56.897399999999998]
["2016-08-31T17:00:28","U06R15","v27 15 P69 U15 M01","Proposed and Standard","PASS",8.7500099999999996,59.185400000000001,5.24329,16034.9,785.77200000000005,0,0,2033.7,5767.84,12062,433.91399999999999,37123.4,6.1068899999999999,0,0,0,452.49599999999998,0,287.95400000000001,0,0,746.55700000000002,0,0,0,0,0,0,0,0,0,0,0.18,82.85,2.37,0,11.08,0,6.42,24.74,37.11,1.27,166.02,96.48,4.7716700000000003,17538.3,785.77200000000005,0,0,2033.7,5776.38,12062,433.91399999999999,38634.800000000003,5.5575799999999997,0,0,0,452.49599999999998,0,287.95400000000001,0,0,746.00800000000004,0,0,0,0,0,0,0,0,0,0,0.16,91.62,2.37,0,11.08,6.42,24.77,37.11,1.27,174.8,105.23,"CA Residential 2016, Vers. 1.0","CSE 0.813 EXE",null,"MPCBECC",0,11.0398,8.9726299999999995E-2,0,0,0.30136400000000002,0.75804899999999997,1.54311,3.8198599999999999E-2,13.770300000000001,11.1295,0,12.2578,8.9726299999999995E-2,0,0,0.30136400000000002,0.75797000000000003,1.54311,3.8198599999999999E-2,14.988200000000001,12.3475,1.21791,1.2179899999999999,5.0228799999999998,8.3151299999999999,{"$nulls":9},5.24329,16034.9,785.77200000000005,0,0,0,2033.7,5767.84,12062,433.91399999999999,37123.4,6.1068899999999999,0,0,0,452.49599999999998,0,287.95400000000001,0,0,746.55700000000002,0,0,0,0,0,0,0,0,0,0,0.18,82.85,2.37,0,11.08,0,6.42,24.74,37.11,1.27,166.02,0,11.0398,8.9726299999999995E-2,0,0,0,0.30136400000000002,0.75804899999999997,1.54311,3.8198599999999999E-2,13.770300000000001,95.000900000000001,32917.800000000003,785.77200000000005,0,0,5894.96,6547.68,10697.7,540.49900000000002,57479.5,79.076599999999999,0,0,0,889.40899999999999,0,291.12400000000002,0,0,1259.6099999999999,0,0,0,0,0,0,0,0,0,0,2.42,153.05000000000001,2.37,0,21.77,18.93,26.8,33.18,1.51,260.02999999999997,0,16.9299,8.9726299999999995E-2,0,0,0.92718,0.77117400000000003,1.42503,7.5326799999999999E-3,20.150600000000001,59.185400000000001,0,62.315399999999997]
["2016-08-31T17:00:52","U06R16","v27 16 P69 U15 M01","Proposed and Standard","PASS",2.89,55.578099999999999,922.31299999999999,539.154,785.77200000000005,0,0,2033.7,5372.01,12062,433.91399999999999,22148.799999999999,1076.9100000000001,0,0,0,768.83,0,287.95400000000001,0,0,2133.69,0,0,0,0,0,0,0,0,0,0,30.46,5.19,2.36,0,18.559999999999999,0,6.33,23.57,36.909999999999997,1.25,124.63,56.57,890.63599999999997,943.80600000000004,785.77200000000005,0,0,2033.7,5399.13,12062,433.91399999999999,22548.9,1039.92,0,0,0,768.83,0,287.95400000000001,0,0,2096.6999999999998,0,0,0,0,0,0,0,0,0,0,29.56,8.98,2.36,0,18.559999999999999,6.33,23.66,36.909999999999997,1.25,127.61,59.46,"CA Residential 2016, Vers. 1.0","CSE 0.813 EXE",null,"MPCBECC",0,1.0072700000000001,8.9726299999999995E-2,0,0,0.30136400000000002,0.73844100000000001,1.54311,3.8198599999999999E-2,3.7181099999999998,1.097,0,1.69547,8.9726299999999995E-2,0,0,0.30136400000000002,0.74360300000000001,1.54311,3.8198599999999999E-2,4.4114699999999996,1.7851999999999999,0.69335999999999998,0.68819799999999998,2.3352400000000002,4.8604099999999999,{"$nulls":9},922.31299999999999,539.154,785.77200000000005,0,0,0,2033.7,5372.01,12062,433.91399999999999,22148.799999999999,1076.9100000000001,0,0,0,768.83,0,287.95400000000001,0,0,2133.69,0,0,0,0,0,0,0,0,0,0,30.46,5.19,2.36,0,18.559999999999999,0,6.33,23.57,36.909999999999997,1.25,124.63,0,1.0072700000000001,8.9726299999999995E-2,0,0,0,0.30136400000000002,0.73844100000000001,1.54311,3.8198599999999999E-2,3.7181099999999998,1353.48,2658.86,785.77200000000005,0,0,5894.96,6547.68,10697.7,540.49900000000002,28479,1129.46,0,0,0,1211.55,0,291.12400000000002,0,0,2632.13,0,0,0,0,0,0,0,0,0,0,33.17,22.39,2.36,0,29.25,18.649999999999999,26.72,32.99,1.48,167.01,0,3.6081099999999999,8.9726299999999995E-2,0,0,0.92718,0.77117400000000003,1.42503,7.5326799999999999E-3,6.8287599999999999,55.578099999999999,0,56.9071]
["2016-08-31T17:00:19","U07R01","v25 12 P21 U20 R01","Proposed and Standard","PASS",4.04,43.378,179.28899999999999,212.96899999999999,111.69,0,0,505.55700000000002,943.90800000000002,2025.88,119.621,4098.92,208.77500000000001,0,0,0,108.29,0,43.669699999999999,0,0,360.73500000000001,0,0,0,0,0,0,0,0,0,0,20.18,7.39,1.17,0,8.66,0,5.55,13.96,21.58,1.22,79.709999999999994,37.4,189.36,276.12799999999999,111.69,0,0,505.55700000000002,948.78800000000001,2025.88,119.621,4177.03,220.50200000000001,0,0,0,108.29,0,43.669699999999999,0,0,372.46199999999999,0,0,0,0,0,0,0,0,0,0,21.38,10.23,1.17,0,8.66,5.55,14.02,21.58,1.22,83.81,41.44,"CA Residential 2016, Vers. 1.0","CSE 0.813 EXE",null,"MPCBECC",0,0.400474,1.2753799999999999E-2,0,0,7.4915999999999996E-2,0.14868500000000001,0.25846799999999998,1.0530599999999999E-2,0.90582700000000005,0.41322799999999998,0,0.53406799999999999,1.2753799999999999E-2,0,0,7.4915999999999996E-2,0.14984600000000001,0.25846799999999998,1.0530599999999999E-2,1.0405800000000001,0.54682200000000003,0.13475500000000001,0.13359399999999999,4.8920199999999996,9.7490400000000008,{"$nulls":9},179.28899999999999,212.96899999999999,111.69,0,0,0,505.55700000000002,943.90800000000002,2025.88,119.621,4098.92,208.77500000000001,0,0,0,108.29,0,43.669699999999999,0,0,360.73500000000001,0,0,0,0,0,0,0,0,0,0,20.18,7.39,1.17,0,8.66,0,5.55,13.96,21.58,1.22,79.709999999999994,0,0.400474,1.2753799999999999E-2,0,0,0,7.4915999999999996E-2,0.14868500000000001,0.25846799999999998,1.0530599999999999E-2,0.90582700000000005,420.762,1095.06,111.69,0,0,2135,930.00099999999998,2637.81,297.5,7627.83,350.15800000000002,0,0,0,162.852,0,65.400000000000006,0,0,578.41,0,0,0,0,0,0,0,0,0,0,34.94,41.16,1.17,0,13.03,23.83,14.92,28.35,2.86,160.26,0,2.2516400000000001,1.2753799999999999E-2,0,0,0.33579999999999999,0.11074100000000001,0.35138000000000003,4.1461199999999997E-3,3.0664600000000002,43.378,0,45.609200000000001]
["2016-08-31T17:00:19","U07R02","v25 12 P21 U20 R02","Proposed and Standard","FAIL",-1.45,46.398299999999999,163.91900000000001,354.12900000000002,111.69,0,0,505.55700000000002,949.03300000000002,2025.88,119.621,4229.83,190.876,0,0,0,108.29,0,43.669699999999999,0,0,342.83600000000001,0,0,0,0,0,0,0,0,0,0,18.510000000000002,14.55,1.17,0,8.66,0,5.55,14.02,21.58,1.22,85.26,42.89,189.36,276.12799999999999,111.69,0,0,505.55700000000002,948.78800000000001,2025.88,119.621,4177.03,220.50200000000001,0,0,0,108.29,0,43.669699999999999,0,0,372.46199999999999,0,0,0,0,0,0,0,0,0,0,21.38,10.23,1.17,0,8.66,5.55,14.02,21.58,1.22,83.81,41.44,"CA Residential 2016, Vers. 1.0","CSE 0.813 EXE",null,"MPCBECC",0,0.85802800000000001,1.2753799999999999E-2,0,0,7.4915999999999996E-2,0.14945600000000001,0.25846799999999998,1.0530599999999999E-2,1.36415,0.87078199999999994,0,0.53406799999999999,1.2753799999999999E-2,0,0,7.4915999999999996E-2,0.14984600000000001,0.25846799999999998,1.0530599999999999E-2,1.0405800000000001,0.54682200000000003,-0.323571,-0.32396000000000003,-1.73011,-3.4990399999999999,{"$nulls":9},163.91900000000001,354.12900000000002,111.69,0,0,0,505.55700000000002,949.03300000000002,2025.88,119.621,4229.83,190.876,0,0,0,108.29,0,43.669699999999999,0,0,342.83600000000001,0,0,0,0,0,0,0,0,0,0,18.510000000000002,14.55,1.17,0,8.66,0,5.55,14.02,21.58,1.22,85.26,0,0.85802800000000001,1.2753799999999999E-2,0,0,0,7.4915999999999996E-2,0.14945600000000001,0.25846799999999998,1.0530599999999999E-2,1.36415,420.762,1095.06,111.69,0,0,2135,930.00099999999998,2637.81,297.5,7627.83,350.15800000000002,0,0,0,162.852,0,65.400000000000006,0,0,578.41,0,0,0,0,0,0,0,0,0,0,34.94,41.16,1.17,0,13.03,23.83,14.92,28.35,2.86,160.26,0,2.2516400000000001,1.2753799999999999E-2,0,0,0.33579999999999999,0.11074100000000001,0.35138000000000003,4.1461199999999997E-3,3.0664600000000002,46.398299999999999,0,45.609200000000001]
["2016-08-31T17:00:20","U07R03","v25 12 P21 U20 R03","Proposed and Standard","PASS",4.97,42.866500000000002,183.00899999999999,187.26300000000001,111.69,0,0,505.55700000000002,943.36199999999997,2025.88,119.621,4076.38,213.10599999999999,0,0,0,108.29,0,43.669699999999999,0,0,365.06599999999997,0,0,0,0,0,0,0,0,0,0,20.58,6.06,1.17,0,8.66,0,5.55,13.95,21.58,1.22,78.77,36.47,189.35900000000001,276.12400000000002,111.69,0,0,505.55700000000002,948.78800000000001,2025.88,119.621,4177.0200000000004,220.5,0,0,0,108.29,0,43.669699999999999,0,0,372.46,0,0,0,0,0,0,0,0,0,0,21.38,10.23,1.17,0,8.66,5.55,14.02,21.58,1.22,83.81,41.44,"CA Residential 2016, Vers. 1.0","CSE 0.813 EXE",null,"MPCBECC",0,0.321494,1.2753799999999999E-2,0,0,7.4915999999999996E-2,0.148539,0.25846799999999998,1.0530599999999999E-2,0.82670200000000005,0.33424799999999999,0,0.534057,1.2753799999999999E-2,0,0,7.4915999999999996E-2,0.14984600000000001,0.25846799999999998,1.0530599999999999E-2,1.04057,0.54681100000000005,0.213869,0.212563,6.0135899999999998,11.9932,{"$nulls":9},183.00899999999999,187.26300000000001,111.69,0,0,0,505.55700000000002,943.36199999999997,2025.88,119.621,4076.38,213.10599999999999,0,0,0,108.29,0,43.669699999999999,0,0,365.06599999999997,0,0,0,0,0,0,0,0,0,0,20.58,6.06,1.17,0,8.66,0,5.55,13.95,21.58,1.22,78.77,0,0.321494,1.2753799999999999E-2,0,0,0,7.4915999999999996E-2,0.148539,0.25846799999999998,1.0530599999999999E-2,0.82670200000000005,420.762,1095.06,111.69,0,0,2135,930.00099999999998,2637.81,297.5,7627.83,350.15800000000002,0,0,0,162.852,0,65.400000000000006,0,0,578.41,0,0,0,0,0,0,0,0,0,0,34.94,41.16,1.17,0,13.03,23.83,14.92,28.35,2.86,160.26,0,2.2516400000000001,1.2753799999999999E-2,0,0,0.33579999999999999,0.11074100000000001,0.35138000000000003,4.1461199999999997E-3,3.0664600000000002,42.866500000000002,0,45.609200000000001]
["2016-08-31T17:00:43","U07R04","v25 12 P21 U20 R04","Proposed and Standard","FAIL",-0.24000199999999999,45.712600000000002,192.16499999999999,269.25799999999998,111.69,0,0,505.55700000000002,944.84500000000003,2025.88,119.621,4169.0200000000004,223.768,0,0,0,108.29,0,43.669699999999999,0,0,375.72800000000001,0,0,0,0,0,0,0,0,0,0,21.64,10.210000000000001,1.17,0,8.66,0,5.55,13.97,21.58,1.22,84,41.68,189.36,276.12799999999999,111.69,0,0,505.55700000000002,948.78800000000001,2025.88,119.621,4177.03,220.50200000000001,0,0,0,108.29,0,43.669699999999999,0,0,372.46199999999999,0,0,0,0,0,0,0,0,0,0,21.38,10.23,1.17,0,8.66,5.55,14.02,21.58,1.22,83.81,41.44,"CA Residential 2016, Vers. 1.0","CSE 0.813 EXE",null,"MPCBECC",0,0.561056,1.2753799999999999E-2,0,0,7.4915999999999996E-2,0.14885100000000001,0.25846799999999998,1.0530599999999999E-2,1.0665800000000001,0.57381000000000004,0,0.53406799999999999,1.2753799999999999E-2,0,0,7.4915999999999996E-2,0.14984600000000001,0.25846799999999998,1.0530599999999999E-2,1.0405800000000001,0.54682200000000003,-2.5993200000000001E-2,-2.6987899999999999E-2,-0.22670599999999999,-0.57915499999999998,{"$nulls":9},192.16499999999999,269.25799999999998,111.69,0,0,0,505.55700000000002,944.84500000000003,2025.88,119.621,4169.0200000000004,223.768,0,0,0,108.29,0,43.669699999999999,0,0,375.72800000000001,0,0,0,0,0,0,0,0,0,0,21.64,10.210000000000001,1.17,0,8.66,0,5.55,13.97,21.58,1.22,84,0,0.561056,1.2753799999999999E-2,0,0,0,7.4915999999999996E-2,0.14885100000000001,0.25846799999999998,1.0530599999999999E-2,1.0665800000000001,420.762,1095.06,111.69,0,0,2135,930.00099999999998,2637.81,297.5,7627.83,350.15800000000002,0,0,0,162.852,0,65.400000000000006,0,0,578.41,0,0,0,0,0,0,0,0,0,0,34.94,41.16,1.17,0,13.03,23.83,14.92,28.35,2.86,160.26,0,2.2516400000000001,1.2753799999999999E-2,0,0,0.33579999999999999,0.11074100000000001,0.35138000000000003,4.1461199999999997E-3,3.0664600000000002,45.712600000000002,0,45.609200000000001]
["2016-08-31T17:00:20","U07R05","v25 12 P21 U20 R05","Proposed and Standard","PASS",6.86,41.843400000000003,179.28899999999999,212.96899999999999,111.69,0,0,505.55700000000002,943.90800000000002,2025.88,119.621,4098.92,177.005,0,0,0,108.29,0,43.669699999999999,0,0,328.96499999999997,0,0,0,0,0,0,0,0,0,0,17.36,7.39,1.17,0,8.66,0,5.55,13.96,21.58,1.22,76.89,34.58,189.36,276.12799999999999,111.69,0,0,505.55700000000002,948.78800000000001,2025.88,119.621,4177.03,220.50200000000001,0,0,0,108.29,0,43.669699999999999,0,0,372.46199999999999,0,0,0,0,0,0,0,0,0,0,21.38,10.23,1.17,0,8.66,5.55,14.02,21.58,1.22,83.81,41.44,"CA Residential 2016, Vers. 1.0","CSE 0.813 EXE",null,"MPCBECC",0,0.400474,1.2753799999999999E-2,0,0,7.4915999999999996E-2,0.14868500000000001,0.25846799999999998,1.0530599999999999E-2,0.90582700000000005,0.41322799999999998,0,0.53406799999999999,1.2753799999999999E-2,0,0,7.4915999999999996E-2,0.14984600000000001,0.25846799999999998,1.0530599999999999E-2,1.0405800000000001,0.54682200000000003,0.13475500000000001,0.13359399999999999,8.2567699999999995,16.554099999999998,{"$nulls":9},179.28899999999999,212.96899999999999,111.69,0,0,0,505.55700000000002,943.90800000000002,2025.88,119.621,4098.92,177.005,0,0,0,108.29,0,43.669699999999999,0,0,328.96499999999997,0,0,0,0,0,0,0,0,0,0,17.36,7.39,1.17,0,8.66,0,5.55,13.96,21.58,1.22,76.89,0,0.400474,1.2753799999999999E-2,0,0,0,7.4915999999999996E-2,0.14868500000000001,0.25846799999999998,1.0530599999999999E-2,0.90582700000000005,420.762,1095.06,111.69,0,0,2135,930.00099999999998,2637.81,297.5,7627.83,350.15800000000002,0,0,0,162.852,0,65.400000000000006,0,0,578.41,0,0,0,0,0,0,0,0,0,0,34.94,41.16,1.17,0,13.03,23.83,14.92,28.35,2.86,160.26,0,2.2516400000000001,1.2753799999999999E-2,0,0,0.33579999999999999,0.11074100000000001,0.35138000000000003,4.1461199999999997E-3,3.0664600000000002,41.843400000000003,0,45.609200000000001]
["2016-08-31T17:00:23","U07R06","v25 12 P21 U20 R06","Proposed and Standard","PASS",5.05,42.828400000000002,179.28899999999999,194.44,111.69,0,0,505.55700000000002,943.90800000000002,2025.88,119.621,4080.39,208.77500000000001,0,0,0,108.29,0,43.669699999999999,0,0,360.73500000000001,0,0,0,0,0,0,0,0,0,0,20.18,6.38,1.17,0,8.66,0,5.55,13.96,21.58,1.22,78.7,36.39,189.36,276.12799999999999,111.69,0,0,505.55700000000002,948.78800000000001,2025.88,119.621,4177.03,220.50200000000001,0,0,0,108.29,0,43.669699999999999,0,0,372.46199999999999,0,0,0,0,0,0,0,0,0,0,21.38,10.23,1.17,0,8.66,5.55,14.02,21.58,1.22,83.81,41.44,"CA Residential 2016, Vers. 1.0","CSE 0.813 EXE",null,"MPCBECC",0,0.33946599999999999,1.2753799999999999E-2,0,0,7.4915999999999996E-2,0.14868500000000001,0.25846799999999998,1.0530599999999999E-2,0.84481899999999999,0.35221999999999998,0,0.53406799999999999,1.2753799999999999E-2,0,0,7.4915999999999996E-2,0.14984600000000001,0.25846799999999998,1.0530599999999999E-2,1.0405800000000001,0.54682200000000003,0.19576299999999999,0.194602,6.0971299999999999,12.186299999999999,{"$nulls":9},179.28899999999999,194.44,111.69,0,0,0,505.55700000000002,943.90800000000002,2025.88,119.621,4080.39,208.77500000000001,0,0,0,108.29,0,43.669699999999999,0,0,360.73500000000001,0,0,0,0,0,0,0,0,0,0,20.18,6.38,1.17,0,8.66,0,5.55,13.96,21.58,1.22,78.7,0,0.33946599999999999,1.2753799999999999E-2,0,0,0,7.4915999999999996E-2,0.14868500000000001,0.25846799999999998,1.0530599999999999E-2,0.84481899999999999,420.762,1095.06,111.69,0,0,2135,930.00099999999998,2637.81,297.5,7627.83,350.15800000000002,0,0,0,162.852,0,65.400000000000006,0,0,578.41,0,0,0,0,0,0,0,0,0,0,34.94,41.16,1.17,0,13.03,23.83,14.92,28.35,2.86,160.26,0,2.2516400000000001,1.2753799999999999E-2,0,0,0.33579999999999999,0.11074100000000001,0.35138000000000003,4.1461199999999997E-3,3.0664600000000002,42.828400000000002,0,45.609200000000001]
["2016-08-31T17:00:26","U07R07","v25 12 P21 U20 R07","Proposed and Standard","FAIL",-0.40000200000000002,45.816000000000003,179.44,236.42500000000001,111.69,0,0,505.55700000000002,947.69799999999998,2025.88,119.621,4126.3100000000004,208.95099999999999,0,0,0,108.29,0,43.669699999999999,0,0,360.91,0,0,0,0,0,0,0,0,0,0,20.2,11.81,1.17,0,8.66,0,5.55,14,21.58,1.22,84.19,41.84,189.36,276.12799999999999,111.69,0,0,505.55700000000002,948.78800000000001,2025.88,119.621,4177.03,220.50200000000001,0,0,0,108.29,0,43.669699999999999,0,0,372.46199999999999,0,0,0,0,0,0,0,0,0,0,21.38,10.23,1.17,0,8.66,5.55,14.02,21.58,1.22,83.81,41.44,"CA Residential 2016, Vers. 1.0","CSE 0.813 EXE",null,"MPCBECC",0,0.72642799999999996,1.2753799999999999E-2,0,0,7.4915999999999996E-2,0.149446,0.25846799999999998,1.0530599999999999E-2,1.23254,0.73918200000000001,0,0.53406799999999999,1.2753799999999999E-2,0,0,7.4915999999999996E-2,0.14984600000000001,0.25846799999999998,1.0530599999999999E-2,1.0405800000000001,0.54682200000000003,-0.19195999999999999,-0.19236,-0.45341199999999998,-0.96525499999999997,{"$nulls":9},179.44,236.42500000000001,111.69,0,0,0,505.55700000000002,947.69799999999998,2025.88,119.621,4126.3100000000004,208.95099999999999,0,0,0,108.29,0,43.669699999999999,0,0,360.91,0,0,0,0,0,0,0,0,0,0,20.2,11.81,1.17,0,8.66,0,5.55,14,21.58,1.22,84.19,0,0.72642799999999996,1.2753799999999999E-2,0,0,0,7.4915999999999996E-2,0.149446,0.25846799999999998,1.0530599999999999E-2,1.23254,420.762,1095.06,111.69,0,0,2135,930.00099999999998,2637.81,297.5,7627.83,350.15800000000002,0,0,0,162.852,0,65.400000000000006,0,0,578.41,0,0,0,0,0,0,0,0,0,0,34.94,41.16,1.17,0,13.03,23.83,14.92,28.35,2.86,160.26,0,2.2516400000000001,1.2753799999999999E-2,0,0,0.33579999999999999,0.11074100000000001,0.35138000000000003,4.1461199999999997E-3,3.0664600000000002,45.816000000000003,0,45.609200000000001]
["2016-08-31T17:00:25","U07R08","v25 12 P21 U20 R08","Proposed and Standard","PASS",4.62,43.062399999999997,175.71600000000001,209.62200000000001,111.69,0,0,505.55700000000002,943.89099999999996,2025.88,119.621,4091.98,204.614,0,0,0,108.29,0,43.669699999999999,0,0,356.57400000000001,0,0,0,0,0,0,0,0,0,0,19.78,7.21,1.17,0,8.66,0,5.55,13.96,21.58,1.22,79.13,36.82,189.36,276.12799999999999,111.69,0,0,505.55700000000002,948.78800000000001,2025.88,119.621,4177.03,220.50200000000001,0,0,0,108.29,0,43.669699999999999,0,0,372.46199999999999,0,0,0,0,0,0,0,0,0,0,21.38,10.23,1.17,0,8.66,5.55,14.02,21.58,1.22,83.81,41.44,"CA Residential 2016, Vers. 1.0","CSE 0.813 EXE",null,"MPCBECC",0,0.38943100000000003,1.2753799999999999E-2,0,0,7.4915999999999996E-2,0.14868600000000001,0.25846799999999998,1.0530599999999999E-2,0.89478500000000005,0.40218399999999999,0,0.53406799999999999,1.2753799999999999E-2,0,0,7.4915999999999996E-2,0.14984600000000001,0.25846799999999998,1.0530599999999999E-2,1.0405800000000001,0.54682200000000003,0.14579700000000001,0.14463699999999999,5.58406,11.1486,{"$nulls":9},175.71600000000001,209.62200000000001,111.69,0,0,0,505.55700000000002,943.89099999999996,2025.88,119.621,4091.98,204.614,0,0,0,108.29,0,43.669699999999999,0,0,356.57400000000001,0,0,0,0,0,0,0,0,0,0,19.78,7.21,1.17,0,8.66,0,5.55,13.96,21.58,1.22,79.13,0,0.38943100000000003,1.2753799999999999E-2,0,0,0,7.4915999999999996E-2,0.14868600000000001,0.25846799999999998,1.0530599999999999E-2,0.89478500000000005,420.762,1095.06,111.69,0,0,2135,930.00099999999998,2637.81,297.5,7627.83,350.15800000000002,0,0,0,162.852,0,65.400000000000006,0,0,578.41,0,0,0,0,0,0,0,0,0,0,34.94,41.16,1.17,0,13.03,23.83,14.92,28.35,2.86,160.26,0,2.2516400000000001,1.2753799999999999E-2,0,0,0.33579999999999999,0.11074100000000001,0.35138000000000003,4.1461199999999997E-3,3.0664600000000002,43.062399999999997,0,45.609200000000001]
["2016-08-31T17:00:25","U07R09","v25 12 P21 U20 R09","Proposed and Standard","PASS",8.41,40.994399999999999,156.64699999999999,177.34,111.69,0,0,505.55700000000002,943.28700000000003,2025.88,119.621,4040.03,182.40899999999999,0,0,0,108.29,0,43.669699999999999,0,0,334.36900000000003,0,0,0,0,0,0,0,0,0,0,17.63,5.57,1.17,0,8.66,0,5.55,13.95,21.58,1.22,75.33,33.03,189.36,276.12799999999999,111.69,0,0,505.55700000000002,948.78800000000001,2025.88,119.621,4177.03,220.50200000000001,0,0,0,108.29,0,43.669699999999999,0,0,372.46199999999999,0,0,0,0,0,0,0,0,0,0,21.38,10.23,1.17,0,8.66,5.55,14.02,21.58,1.22,83.81,41.44,"CA Residential 2016, Vers. 1.0","CSE 0.813 EXE",null,"MPCBECC",0,0.29513600000000001,1.2753799999999999E-2,0,0,7.4915999999999996E-2,0.14852599999999999,0.25846799999999998,1.0530599999999999E-2,0.80033100000000001,0.30789,0,0.53406799999999999,1.2753799999999999E-2,0,0,7.4915999999999996E-2,0.14984600000000001,0.25846799999999998,1.0530599999999999E-2,1.0405800000000001,0.54682200000000003,0.24025199999999999,0.23893200000000001,10.1181,20.2944,{"$nulls":9},156.64699999999999,177.34,111.69,0,0,0,505.55700000000002,943.28700000000003,2025.88,119.621,4040.03,182.40899999999999,0,0,0,108.29,0,43.669699999999999,0,0,334.36900000000003,0,0,0,0,0,0,0,0,0,0,17.63,5.57,1.17,0,8.66,0,5.55,13.95,21.58,1.22,75.33,0,0.29513600000000001,1.2753799999999999E-2,0,0,0,7.4915999999999996E-2,0.14852599999999999,0.25846799999999998,1.0530599999999999E-2,0.80033100000000001,420.76799999999997,1095.07,111.69,0,0,2135,930.00099999999998,2637.81,297.5,7627.85,350.16300000000001,0,0,0,162.852,0,65.400000000000006,0,0,578.41499999999996,0,0,0,0,0,0,0,0,0,0,34.94,41.16,1.17,0,13.03,23.83,14.92,28.35,2.86,160.26,0,2.2516600000000002,1.2753799999999999E-2,0,0,0.33579999999999999,0.11074100000000001,0.35138000000000003,4.1461199999999997E-3,3.0664799999999999,40.994399999999999,0,45.609200000000001]
["2016-08-31T17:00:45","U07R10","v25 12 P21 U20 R10","Proposed and Standard","PASS",5.58,42.539900000000003,173.22300000000001,196.733,111.69,0,0,505.55700000000002,943.75800000000004,2025.88,119.621,4076.47,201.71100000000001,0,0,0,108.29,0,43.669699999999999,0,0,353.67099999999999,0,0,0,0,0,0,0,0,0,0,19.510000000000002,6.52,1.17,0,8.66,0,5.55,13.96,21.58,1.22,78.17,35.86,189.36,276.12799999999999,111.69,0,0,505.55700000000002,948.78800000000001,2025.88,119.621,4177.03,220.50200000000001,0,0,0,108.29,0,43.669699999999999,0,0,372.46199999999999,0,0,0,0,0,0,0,0,0,0,21.38,10.23,1.17,0,8.66,5.55,14.02,21.58,1.22,83.81,41.44,"CA Residential 2016, Vers. 1.0","CSE 0.813 EXE",null,"MPCBECC",0,0.34767599999999999,1.2753799999999999E-2,0,0,7.4915999999999996E-2,0.148588,0.25846799999999998,1.0530599999999999E-2,0.85293200000000002,0.360429,0,0.53406799999999999,1.2753799999999999E-2,0,0,7.4915999999999996E-2,0.14984600000000001,0.25846799999999998,1.0530599999999999E-2,1.0405800000000001,0.54682200000000003,0.18765100000000001,0.186392,6.7295100000000003,13.465199999999999,{"$nulls":9},173.22300000000001,196.733,111.69,0,0,0,505.55700000000002,943.75800000000004,2025.88,119.621,4076.47,201.71100000000001,0,0,0,108.29,0,43.669699999999999,0,0,353.67099999999999,0,0,0,0,0,0,0,0,0,0,19.510000000000002,6.52,1.17,0,8.66,0,5.55,13.96,21.58,1.22,78.17,0,0.34767599999999999,1.2753799999999999E-2,0,0,0,7.4915999999999996E-2,0.148588,0.25846799999999998,1.0530599999999999E-2,0.85293200000000002,420.762,1095.06,111.69,0,0,2135,930.00099999999998,2637.81,297.5,7627.83,350.15800000000002,0,0,0,162.852,0,65.400000000000006,0,0,578.41,0,0,0,0,0,0,0,0,0,0,34.94,41.16,1.17,0,13.03,23.83,14.92,28.35,2.86,160.26,0,2.2516400000000001,1.2753799999999999E-2,0,0,0.33579999999999999,0.11074100000000001,0.35138000000000003,4.1461199999999997E-3,3.0664600000000002,42.539900000000003,0,45.609200000000001]
["2016-08-31T17:00:25","U08R01","v27 12 P21 U20 R01","Proposed and Standard","PASS",4.04,43.378,179.28899999999999,212.96899999999999,111.69,0,0,505.55700000000002,943.90800000000002,2025.88,119.621,4098.92,208.77500000000001,0,0,0,108.29,0,43.669699999999999,0,0,360.73500000000001,0,0,0,0,0,0,0,0,0,0,20.18,7.39,1.17,0,8.66,0,5.55,13.96,21.58,1.22,79.709999999999994,37.4,189.36,276.12799999999999,111.69,0,0,505.55700000000002,948.78800000000001,2025.88,119.621,4177.03,220.50200000000001,0,0,0,108.29,0,43.669699999999999,0,0,372.46199999999999,0,0,0,0,0,0,0,0,0,0,21.38,10.23,1.17,0,8.66,5.55,14.02,21.58,1.22,83.81,41.44,"CA Residential 2016, Vers. 1.0","CSE 0.813 EXE",null,"MPCBECC",0,0.400474,1.2753799999999999E-2,0,0,7.4915999999999996E-2,0.14868500000000001,0.25846799999999998,1.0530599999999999E-2,0.90582700000000005,0.41322799999999998,0,0.53406799999999999,1.2753799999999999E-2,0,0,7.4915999999999996E-2,0.14984600000000001,0.25846799999999998,1.0530599999999999E-2,1.0405800000000001,0.54682200000000003,0.13475500000000001,0.13359399999999999,4.8920199999999996,9.7490400000000008,{"$nulls":9},179.28899999999999,212.96899999999999,111.69,0,0,0,505.55700000000002,943.90800000000002,2025.88,119.621,4098.92,208.77500000000001,0,0,0,108.29,0,43.669699999999999,0,0,360.73500000000001,0,0,0,0,0,0,0,0,0,0,20.18,7.39,1.17,0,8.66,0,5.55,13.96,21.58,1.22,79.709999999999994,0,0.400474,1.2753799999999999E-2,0,0,0,7.4915999999999996E-2,0.14868500000000001,0.25846799999999998,1.0530599999999999E-2,0.90582700000000005,420.762,1095.06,111.69,0,0,2135,930.00099999999998,2637.81,297.5,7627.83,350.15800000000002,0,0,0,162.852,0,65.400000000000006,0,0,578.41,0,0,0,0,0,0,0,0,0,0,34.94,41.16,1.17,0,13.03,23.83,14.92,28.35,2.86,160.26,0,2.2516400000000001,1.2753799999999999E-2,0,0,0.33579999999999999,0.11074100000000001,0.35138000000000003,4.1461199999999997E-3,3.0664600000000002,43.378,0,45.609200000000001]
["2016-08-31T17:00:20","U08R02","v27 12 P21 U20 R02","Proposed and Standard","PASS",3.98,43.410600000000002,179.28899999999999,212.96899999999999,111.69,0,0,505.55700000000002,943.90800000000002,2025.88,119.621,4098.92,208.77500000000001,0,0,0,109.068,0,43.669699999999999,0,0,361.51299999999998,0,0,0,0,0,0,0,0,0,0,20.18,7.39,1.17,0,8.7200000000000006,0,5.55,13.96,21.58,1.22,79.77,37.46,189.36,276.12799999999999,111.69,0,0,505.55700000000002,948.78800000000001,2025.88,119.621,4177.03,220.50200000000001,0,0,0,108.29,0,43.669699999999999,0,0,372.46199999999999,0,0,0,0,0,0,0,0,0,0,21.38,10.23,1.17,0,8.66,5.55,14.02,21.58,1.22,83.81,41.44,"CA Residential 2016, Vers. 1.0","CSE 0.813 EXE",null,"MPCBECC",0,0.400474,1.2753799999999999E-2,0,0,7.4915999999999996E-2,0.14868500000000001,0.25846799999999998,1.0530599999999999E-2,0.90582700000000005,0.41322799999999998,0,0.53406799999999999,1.2753799999999999E-2,0,0,7.4915999999999996E-2,0.14984600000000001,0.25846799999999998,1.0530599999999999E-2,1.0405800000000001,0.54682200000000003,0.13475500000000001,0.13359399999999999,4.82043,9.6042500000000004,{"$nulls":9},179.28899999999999,212.96899999999999,111.69,0,0,0,505.55700000000002,943.90800000000002,2025.88,119.621,4098.92,208.77500000000001,0,0,0,109.068,0,43.669699999999999,0,0,361.51299999999998,0,0,0,0,0,0,0,0,0,0,20.18,7.39,1.17,0,8.7200000000000006,0,5.55,13.96,21.58,1.22,79.77,0,0.400474,1.2753799999999999E-2,0,0,0,7.4915999999999996E-2,0.14868500000000001,0.25846799999999998,1.0530599999999999E-2,0.90582700000000005,420.762,1095.06,111.69,0,0,2135,930.00099999999998,2637.81,297.5,7627.83,350.15800000000002,0,0,0,162.852,0,65.400000000000006,0,0,578.41,0,0,0,0,0,0,0,0,0,0,34.94,41.16,1.17,0,13.03,23.83,14.92,28.35,2.86,160.26,0,2.2516400000000001,1.2753799999999999E-2,0,0,0.33579999999999999,0.11074100000000001,0.35138000000000003,4.1461199999999997E-3,3.0664600000000002,43.410600000000002,0,45.609200000000001]
["2016-08-31T17:00:24","U08R03","v27 12 P21 U20 R03","Proposed and Standard","PASS",3.82,43.497700000000002,179.28899999999999,212.96899999999999,111.69,0,0,505.55700000000002,943.90800000000002,2025.88,119.621,4098.92,208.77500000000001,0,0,0,110.997,0,43.669699999999999,0,0,363.44200000000001,0,0,0,0,0,0,0,0,0,0,20.18,7.39,1.17,0,8.8800000000000008,0,5.55,13.96,21.58,1.22,79.930000000000007,37.619999999999997,189.36,276.12799999999999,111.69,0,0,505.55700000000002,948.78800000000001,2025.88,119.621,4177.03,220.50200000000001,0,0,0,108.29,0,43.669699999999999,0,0,372.46199999999999,0,0,0,0,0,0,0,0,0,0,21.38,10.23,1.17,0,8.66,5.55,14.02,21.58,1.22,83.81,41.44,"CA Residential 2016, Vers. 1.0","CSE 0.813 EXE",null,"MPCBECC",0,0.400474,1.2753799999999999E-2,0,0,7.4915999999999996E-2,0.14868500000000001,0.25846799999999998,1.0530599999999999E-2,0.90582700000000005,0.41322799999999998,0,0.53406799999999999,1.2753799999999999E-2,0,0,7.4915999999999996E-2,0.14984600000000001,0.25846799999999998,1.0530599999999999E-2,1.0405800000000001,0.54682200000000003,0.13475500000000001,0.13359399999999999,4.6295200000000003,9.2181499999999996,{"$nulls":9},179.28899999999999,212.96899999999999,111.69,0,0,0,505.55700000000002,943.90800000000002,2025.88,119.621,4098.92,208.77500000000001,0,0,0,110.997,0,43.669699999999999,0,0,363.44200000000001,0,0,0,0,0,0,0,0,0,0,20.18,7.39,1.17,0,8.8800000000000008,0,5.55,13.96,21.58,1.22,79.930000000000007,0,0.400474,1.2753799999999999E-2,0,0,0,7.4915999999999996E-2,0.14868500000000001,0.25846799999999998,1.0530599999999999E-2,0.90582700000000005,420.762,1095.06,111.69,0,0,2135,930.00099999999998,2637.81,297.5,7627.83,350.15800000000002,0,0,0,162.852,0,65.400000000000006,0,0,578.41,0,0,0,0,0,0,0,0,0,0,34.94,41.16,1.17,0,13.03,23.83,14.92,28.35,2.86,160.26,0,2.2516400000000001,1.2753799999999999E-2,0,0,0.33579999999999999,0.11074100000000001,0.35138000000000003,4.1461199999999997E-3,3.0664600000000002,43.497700000000002,0,45.609200000000001]
["2016-08-31T17:00:44","U08R04","v27 12 P21 U20 R04","Proposed and Standard","PASS",3.36,43.748100000000001,179.28899999999999,212.96899999999999,111.69,0,0,505.55700000000002,943.90800000000002,2025.88,119.621,4098.92,208.77500000000001,0,0,0,116.84,0,43.669699999999999,0,0,369.28500000000003,0,0,0,0,0,0,0,0,0,0,20.18,7.39,1.17,0,9.34,0,5.55,13.96,21.58,1.22,80.39,38.08,189.36,276.12799999999999,111.69,0,0,505.55700000000002,948.78800000000001,2025.88,119.621,4177.03,220.50200000000001,0,0,0,108.29,0,43.669699999999999,0,0,372.46199999999999,0,0,0,0,0,0,0,0,0,0,21.38,10.23,1.17,0,8.66,5.55,14.02,21.58,1.22,83.81,41.44,"CA Residential 2016, Vers. 1.0","CSE 0.813 EXE",null,"MPCBECC",0,0.400474,1.2753799999999999E-2,0,0,7.4915999999999996E-2,0.14868500000000001,0.25846799999999998,1.0530599999999999E-2,0.90582700000000005,0.41322799999999998,0,0.53406799999999999,1.2753799999999999E-2,0,0,7.4915999999999996E-2,0.14984600000000001,0.25846799999999998,1.0530599999999999E-2,1.0405800000000001,0.54682200000000003,0.13475500000000001,0.13359399999999999,4.08066,8.1081099999999999,{"$nulls":9},179.28899999999999,212.96899999999999,111.69,0,0,0,505.55700000000002,943.90800000000002,2025.88,119.621,4098.92,208.77500000000001,0,0,0,116.84,0,43.669699999999999,0,0,369.28500000000003,0,0,0,0,0,0,0,0,0,0,20.18,7.39,1.17,0,9.34,0,5.55,13.96,21.58,1.22,80.39,0,0.400474,1.2753799999999999E-2,0,0,0,7.4915999999999996E-2,0.14868500000000001,0.25846799999999998,1.0530599999999999E-2,0.90582700000000005,420.762,1095.06,111.69,0,0,2135,930.00099999999998,2637.81,297.5,7627.83,350.15800000000002,0,0,0,162.852,0,65.400000000000006,0,0,578.41,0,0,0,0,0,0,0,0,0,0,34.94,41.16,1.17,0,13.03,23.83,14.92,28.35,2.86,160.26,0,2.2516400000000001,1.2753799999999999E-2,0,0,0.33579999999999999,0.11074100000000001,0.35138000000000003,4.1461199999999997E-3,3.0664600000000002,43.748100000000001,0,45.609200000000001]
["2016-08-31T17:00:25","U08R05","v27 12 P21 U20 R05","Proposed and Standard","PASS",1.23,44.907200000000003,179.28899999999999,212.96899999999999,111.69,0,0,505.55700000000002,943.90800000000002,2025.88,119.621,4098.92,208.77500000000001,0,0,0,144.03800000000001,0,43.669699999999999,0,0,396.483,0,0,0,0,0,0,0,0,0,0,20.18,7.39,1.17,0,11.47,0,5.55,13.96,21.58,1.22,82.52,40.21,189.36,276.12799999999999,111.69,0,0,505.55700000000002,948.78800000000001,2025.88,119.621,4177.03,220.50200000000001,0,0,0,108.29,0,43.669699999999999,0,0,372.46199999999999,0,0,0,0,0,0,0,0,0,0,21.38,10.23,1.17,0,8.66,5.55,14.02,21.58,1.22,83.81,41.44,"CA Residential 2016, Vers. 1.0","CSE 0.813 EXE",null,"MPCBECC",0,0.400474,1.2753799999999999E-2,0,0,7.4915999999999996E-2,0.14868500000000001,0.25846799999999998,1.0530599999999999E-2,0.90582700000000005,0.41322799999999998,0,0.53406799999999999,1.2753799999999999E-2,0,0,7.4915999999999996E-2,0.14984600000000001,0.25846799999999998,1.0530599999999999E-2,1.0405800000000001,0.54682200000000003,0.13475500000000001,0.13359399999999999,1.5391999999999999,2.9681500000000001,{"$nulls":9},179.28899999999999,212.96899999999999,111.69,0,0,0,505.55700000000002,943.90800000000002,2025.88,119.621,4098.92,208.77500000000001,0,0,0,144.03800000000001,0,43.669699999999999,0,0,396.483,0,0,0,0,0,0,0,0,0,0,20.18,7.39,1.17,0,11.47,0,5.55,13.96,21.58,1.22,82.52,0,0.400474,1.2753799999999999E-2,0,0,0,7.4915999999999996E-2,0.14868500000000001,0.25846799999999998,1.0530599999999999E-2,0.90582700000000005,420.762,1095.06,111.69,0,0,2135,930.00099999999998,2637.81,297.5,7627.83,350.15800000000002,0,0,0,162.852,0,65.400000000000006,0,0,578.41,0,0,0,0,0,0,0,0,0,0,34.94,41.16,1.17,0,13.03,23.83,14.92,28.35,2.86,160.26,0,2.2516400000000001,1.2753799999999999E-2,0,0,0.33579999999999999,0.11074100000000001,0.35138000000000003,4.1461199999999997E-3,3.0664600000000002,44.907200000000003,0,45.609200000000001]
["2016-08-31T17:00:26","U08R06","v27 12 P21 U20 R06","Proposed and Standard","FAIL",-4.7300000000000004,48.150599999999997,179.28899999999999,212.96899999999999,111.69,0,0,505.55700000000002,943.90800000000002,2025.88,119.621,4098.92,208.77500000000001,0,0,0,219.922,0,43.669699999999999,0,0,472.36599999999999,0,0,0,0,0,0,0,0,0,0,20.18,7.39,1.17,0,17.43,0,5.55,13.96,21.58,1.22,88.48,46.17,189.36,276.12799999999999,111.69,0,0,505.55700000000002,948.78800000000001,2025.88,119.621,4177.03,220.50200000000001,0,0,0,108.29,0,43.669699999999999,0,0,372.46199999999999,0,0,0,0,0,0,0,0,0,0,21.38,10.23,1.17,0,8.66,5.55,14.02,21.58,1.22,83.81,41.44,"CA Residential 2016, Vers. 1.0","CSE 0.813 EXE",null,"MPCBECC",0,0.400474,1.2753799999999999E-2,0,0,7.4915999999999996E-2,0.14868500000000001,0.25846799999999998,1.0530599999999999E-2,0.90582700000000005,0.41322799999999998,0,0.53406799999999999,1.2753799999999999E-2,0,0,7.4915999999999996E-2,0.14984600000000001,0.25846799999999998,1.0530599999999999E-2,1.0405800000000001,0.54682200000000003,0.13475500000000001,0.13359399999999999,-5.5721299999999996,-11.414099999999999,{"$nulls":9},179.28899999999999,212.96899999999999,111.69,0,0,0,505.55700000000002,943.90800000000002,2025.88,119.621,4098.92,208.77500000000001,0,0,0,219.922,0,43.669699999999999,0,0,472.36599999999999,0,0,0,0,0,0,0,0,0,0,20.18,7.39,1.17,0,17.43,0,5.55,13.96,21.58,1.22,88.48,0,0.400474,1.2753799999999999E-2,0,0,0,7.4915999999999996E-2,0.14868500000000001,0.25846799999999998,1.0530599999999999E-2,0.90582700000000005,420.762,1095.06,111.69,0,0,2135,930.00099999999998,2637.81,297.5,7627.83,350.15800000000002,0,0,0,162.852,0,65.400000000000006,0,0,578.41,0,0,0,0,0,0,0,0,0,0,34.94,41.16,1.17,0,13.03,23.83,14.92,28.35,2.86,160.26,0,2.2516400000000001,1.2753799999999999E-2,0,0,0.33579999999999999,0.11074100000000001,0.35138000000000003,4.1461199999999997E-3,3.0664600000000002,48.150599999999997,0,45.609200000000001]
["2016-08-31T17:00:36","U08R07","v27 12 P21 U20 R07","Proposed and Standard","FAIL",-16.91,55.628700000000002,179.28899999999999,212.96899999999999,111.69,0,2828,505.55700000000002,943.90800000000002,2025.88,119.621,6926.91,208.77500000000001,0,0,0,0,0,43.669699999999999,0,0,252.44499999999999,0,0,0,0,0,0,0,0,0,0,20.18,7.39,1.17,0,29.61,0,5.55,13.96,21.58,1.22,100.66,58.35,189.36,276.12799999999999,111.69,0,0,505.55700000000002,948.78800000000001,2025.88,119.621,4177.03,220.50200000000001,0,0,0,108.29,0,43.669699999999999,0,0,372.46199999999999,0,0,0,0,0,0,0,0,0,0,21.38,10.23,1.17,0,8.66,5.55,14.02,21.58,1.22,83.81,41.44,"CA Residential 2016, Vers. 1.0","CSE 0.813 EXE",null,"MPCBECC",0,0.400474,1.2753799999999999E-2,0,0.26594299999999998,7.4915999999999996E-2,0.14868500000000001,0.25846799999999998,1.0530599999999999E-2,1.17177,0.67917099999999997,0,0.53406799999999999,1.2753799999999999E-2,0,0,7.4915999999999996E-2,0.14984600000000001,0.25846799999999998,1.0530599999999999E-2,1.0405800000000001,0.54682200000000003,-0.131188,-0.13234899999999999,-20.105,-40.805999999999997,{"$nulls":9},179.28899999999999,212.96899999999999,111.69,0,2828,0,505.55700000000002,943.90800000000002,2025.88,119.621,6926.91,208.77500000000001,0,0,0,0,0,43.669699999999999,0,0,252.44499999999999,0,0,0,0,0,0,0,0,0,0,20.18,7.39,1.17,0,29.61,0,5.55,13.96,21.58,1.22,100.66,0,0.400474,1.2753799999999999E-2,0,0.26594299999999998,0,7.4915999999999996E-2,0.14868500000000001,0.25846799999999998,1.0530599999999999E-2,1.17177,419.964,1096.8499999999999,111.69,0,2655.69,2135,930.00099999999998,2637.81,297.5,10284.5,349.49299999999999,0,0,0,0,0,65.400000000000006,0,0,414.89299999999997,0,0,0,0,0,0,0,0,0,0,34.869999999999997,41.2,1.17,0,27.53,23.83,14.92,28.35,2.86,174.73,0,2.2534100000000001,1.2753799999999999E-2,0,0.20327500000000001,0.33579999999999999,0.11074100000000001,0.35138000000000003,4.1461199999999997E-3,3.2715100000000001,55.628700000000002,0,46.316699999999997]
["2016-08-31T17:00:35","U08R08","v27 12 P21 U20 R08","Proposed and Standard","PASS",1.61,45.360599999999998,181.23,208.952,111.69,0,1130.92,505.55700000000002,938.48299999999995,2025.88,119.621,5222.33,211.035,0,0,0,0,0,43.669699999999999,0,0,254.70500000000001,0,0,0,0,0,0,0,0,0,0,20.399999999999999,7.2,1.17,0,11.06,0,5.55,13.9,21.58,1.22,82.08,39.83,189.36,276.12799999999999,111.69,0,0,505.55700000000002,948.78800000000001,2025.88,119.621,4177.03,220.50200000000001,0,0,0,108.29,0,43.669699999999999,0,0,372.46199999999999,0,0,0,0,0,0,0,0,0,0,21.38,10.23,1.17,0,8.66,5.55,14.02,21.58,1.22,83.81,41.44,"CA Residential 2016, Vers. 1.0","CSE 0.813 EXE",null,"MPCBECC",0,0.38859700000000003,1.2753799999999999E-2,0,5.3186299999999999E-2,7.4915999999999996E-2,0.14812400000000001,0.25846799999999998,1.0530599999999999E-2,0.94657500000000006,0.45453700000000002,0,0.53406799999999999,1.2753799999999999E-2,0,0,7.4915999999999996E-2,0.14984600000000001,0.25846799999999998,1.0530599999999999E-2,1.0405800000000001,0.54682200000000003,9.4007300000000002E-2,9.2284900000000003E-2,2.0642,3.8851399999999998,{"$nulls":9},181.23,208.952,111.69,0,1130.92,0,505.55700000000002,938.48299999999995,2025.88,119.621,5222.33,211.035,0,0,0,0,0,43.669699999999999,0,0,254.70500000000001,0,0,0,0,0,0,0,0,0,0,20.399999999999999,7.2,1.17,0,11.06,0,5.55,13.9,21.58,1.22,82.08,0,0.38859700000000003,1.2753799999999999E-2,0,5.3186299999999999E-2,0,7.4915999999999996E-2,0.14812400000000001,0.25846799999999998,1.0530599999999999E-2,0.94657500000000006,419.964,1096.8499999999999,111.69,0,2655.69,2135,930.00099999999998,2637.81,297.5,10284.5,349.49299999999999,0,0,0,0,0,65.400000000000006,0,0,414.89299999999997,0,0,0,0,0,0,0,0,0,0,34.869999999999997,41.2,1.17,0,27.53,23.83,14.92,28.35,2.86,174.73,0,2.2534100000000001,1.2753799999999999E-2,0,0.20327500000000001,0.33579999999999999,0.11074100000000001,0.35138000000000003,4.1461199999999997E-3,3.2715100000000001,45.360599999999998,0,46.316699999999997]
["2016-08-31T17:00:32","U08R09","v27 12 P21 U20 R09","Proposed and Standard","PASS",4.04,43.378,179.28899999999999,212.96899999999999,111.69,0,0,505.55700000000002,943.90800000000002,2025.88,119.621,4098.92,208.77500000000001,0,0,0,108.29,0,43.669699999999999,0,0,360.73500000000001,0,0,0,0,0,0,0,0,0,0,20.18,7.39,1.17,0,8.66,0,5.55,13.96,21.58,1.22,79.709999999999994,37.4,189.36,276.12799999999999,111.69,0,0,505.55700000000002,948.78800000000001,2025.88,119.621,4177.03,220.50200000000001,0,0,0,108.29,0,43.669699999999999,0,0,372.46199999999999,0,0,0,0,0,0,0,0,0,0,21.38,10.23,1.17,0,8.66,5.55,14.02,21.58,1.22,83.81,41.44,"CA Residential 2016, Vers. 1.0","CSE 0.813 EXE",null,"MPCBECC",0,0.400474,1.2753799999999999E-2,0,0,7.4915999999999996E-2,0.14868500000000001,0.25846799999999998,1.0530599999999999E-2,0.90582700000000005,0.41322799999999998,0,0.53406799999999999,1.2753799999999999E-2,0,0,7.4915999999999996E-2,0.14984600000000001,0.25846799999999998,1.0530599999999999E-2,1.0405800000000001,0.54682200000000003,0.13475500000000001,0.13359399999999999,4.8920199999999996,9.7490400000000008,{"$nulls":9},179.28899999999999,212.96899999999999,111.69,0,0,0,505.55700000000002,943.90800000000002,2025.88,119.621,4098.92,208.77500000000001,0,0,0,108.29,0,43.669699999999999,0,0,360.73500000000001,0,0,0,0,0,0,0,0,0,0,20.18,7.39,1.17,0,8.66,0,5.55,13.96,21.58,1.22,79.709999999999994,0,0.400474,1.2753799999999999E-2,0,0,0,7.4915999999999996E-2,0.14868500000000001,0.25846799999999998,1.0530599999999999E-2,0.90582700000000005,420.762,1095.06,111.69,0,0,2135,930.00099999999998,2637.81,297.5,7627.83,350.15800000000002,0,0,0,162.852,0,65.400000000000006,0,0,578.41,0,0,0,0,0,0,0,0,0,0,34.94,41.16,1.17,0,13.03,23.83,14.92,28.35,2.86,160.26,0,2.2516400000000001,1.2753799999999999E-2,0,0,0.33579999999999999,0.11074100000000001,0.35138000000000003,4.1461199999999997E-3,3.0664600000000002,43.378,0,45.609200000000001]
["2016-08-31T17:00:58","U08R10","v27 12 P21 U20 R10","Proposed and Standard","PASS",4.04,43.378,179.28899999999999,212.96899999999999,111.69,0,0,505.55700000000002,943.90800000000002,2025.88,119.621,4098.92,208.77500000000001,0,0,0,108.29,0,43.669699999999999,0,0,360.73500000000001,0,0,0,0,0,0,0,0,0,0,20.18,7.39,1.17,0,8.66,0,5.55,13.96,21.58,1.22,79.709999999999994,37.4,189.36,276.12799999999999,111.69,0,0,505.55700000000002,948.78800000000001,2025.88,119.621,4177.03,220.50200000000001,0,0,0,108.29,0,43.669699999999999,0,0,372.46199999999999,0,0,0,0,0,0,0,0,0,0,21.38,10.23,1.17,0,8.66,5.55,14.02,21.58,1.22,83.81,41.44,"CA Residential 2016, Vers. 1.0","CSE 0.813 EXE",null,"MPCBECC",0,0.400474,1.2753799999999999E-2,0,0,7.4915999999999996E-2,0.14868500000000001,0.25846799999999998,1.0530599999999999E-2,0.90582700000000005,0.41322799999999998,0,0.53406799999999999,1.2753799999999999E-2,0,0,7.4915999999999996E-2,0.14984600000000001,0.25846799999999998,1.0530599999999999E-2,1.0405800000000001,0.54682200000000003,0.13475500000000001,0.13359399999999999,4.8920199999999996,9.7490400000000008,{"$nulls":9},179.28899999999999,212.96899999999999,111.69,0,0,0,505.55700000000002,943.90800000000002,2025.88,119.621,4098.92,208.77500000000001,0,0,0,108.29,0,43.669699999999999,0,0,360.73500000000001,0,0,0,0,0,0,0,0,0,0,20.18,7.39,1.17,0,8.66,0,5.55,13.96,21.58,1.22,79.709999999999994,0,0.400474,1.2753799999999999E-2,0,0,0,7.4915999999999996E-2,0.14868500000000001,0.25846799999999998,1.0530599999999999E-2,0.90582700000000005,420.762,1095.06,111.69,0,0,2135,930.00099999999998,2637.81,297.5,7627.83,350.15800000000002,0,0,0,162.852,0,65.400000000000006,0,0,578.41,0,0,0,0,0,0,0,0,0,0,34.94,41.16,1.17,0,13.03,23.83,14.92,28.35,2.86,160.26,0,2.2516400000000001,1.2753799999999999E-2,0,0,0.33579999999999999,0.11074100000000001,0.35138000000000003,4.1461199999999997E-3,3.0664600000000002,43.378,0,45.609200000000001]
["2016-08-31T17:00:36","U09R01","v27 12 S21 G20 R01","Proposed and Standard","FAIL",-1.21,46.273099999999999,191.06100000000001,300.60500000000002,111.69,0,0,505.55700000000002,949.47699999999998,2025.88,119.621,4203.8900000000003,222.482,0,0,0,108.29,0,43.669699999999999,0,0,374.44200000000001,0,0,0,0,0,0,0,0,0,0,21.59,11.23,1.17,0,8.66,0,5.55,14.03,21.58,1.22,85.03,42.65,189.36,276.12799999999999,111.69,0,0,505.55700000000002,948.78800000000001,2025.88,119.621,4177.03,220.50200000000001,0,0,0,108.29,0,43.669699999999999,0,0,372.46199999999999,0,0,0,0,0,0,0,0,0,0,21.38,10.23,1.17,0,8.66,5.55,14.02,21.58,1.22,83.81,41.44,"CA Residential 2016, Vers. 1.0","CSE 0.813 EXE",null,"MPCBECC",0,0.57200899999999999,1.2753799999999999E-2,0,0,7.4915999999999996E-2,0.14990899999999999,0.25846799999999998,1.0530599999999999E-2,1.0785899999999999,0.58476300000000003,0,0.53406799999999999,1.2753799999999999E-2,0,0,7.4915999999999996E-2,0.14984600000000001,0.25846799999999998,1.0530599999999999E-2,1.0405800000000001,0.54682200000000003,-3.8003700000000001E-2,-3.7941099999999998E-2,-1.4556800000000001,-2.91988,{"$nulls":9},191.06100000000001,300.60500000000002,111.69,0,0,0,505.55700000000002,949.47699999999998,2025.88,119.621,4203.8900000000003,222.482,0,0,0,108.29,0,43.669699999999999,0,0,374.44200000000001,0,0,0,0,0,0,0,0,0,0,21.59,11.23,1.17,0,8.66,0,5.55,14.03,21.58,1.22,85.03,0,0.57200899999999999,1.2753799999999999E-2,0,0,0,7.4915999999999996E-2,0.14990899999999999,0.25846799999999998,1.0530599999999999E-2,1.0785899999999999,420.762,1095.06,111.69,0,0,2135,930.00099999999998,2637.81,297.5,7627.83,350.15800000000002,0,0,0,162.852,0,65.400000000000006,0,0,578.41,0,0,0,0,0,0,0,0,0,0,34.94,41.16,1.17,0,13.03,23.83,14.92,28.35,2.86,160.26,0,2.2516400000000001,1.2753799999999999E-2,0,0,0.33579999999999999,0.11074100000000001,0.35138000000000003,4.1461199999999997E-3,3.0664600000000002,46.273099999999999,0,45.609200000000001]
["2016-08-31T17:00:38","U09R02/N","v27 12 S21 G20 R02","Proposed and Standard","PASS",0,45.609200000000001,189.36,276.12799999999999,111.69,0,0,505.55700000000002,948.78800000000001,2025.88,119.621,4177.03,220.50200000000001,0,0,0,108.29,0,43.669699999999999,0,0,372.46199999999999,0,0,0,0,0,0,0,0,0,0,21.38,10.23,1.17,0,8.66,0,5.55,14.02,21.58,1.22,83.81,41.44,189.36,276.12799999999999,111.69,0,0,505.55700000000002,948.78800000000001,2025.88,119.621,4177.03,220.50200000000001,0,0,0,108.29,0,43.669699999999999,0,0,372.46199999999999,0,0,0,0,0,0,0,0,0,0,21.38,10.23,1.17,0,8.66,5.55,14.02,21.58,1.22,83.81,41.44,"CA Residential 2016, Vers. 1.0","CSE 0.813 EXE",null,"MPCBECC",0,0.53406799999999999,1.2753799999999999E-2,0,0,7.4915999999999996E-2,0.14984600000000001,0.25846799999999998,1.0530599999999999E-2,1.0405800000000001,0.54682200000000003,0,0.53406799999999999,1.2753799999999999E-2,0,0,7.4915999999999996E-2,0.14984600000000001,0.25846799999999998,1.0530599999999999E-2,1.0405800000000001,0.54682200000000003,0,0,0,0,{"$nulls":9},189.36,276.12799999999999,111.69,0,0,0,505.55700000000002,948.78800000000001,2025.88,119.621,4177.03,220.50200000000001,0,0,0,108.29,0,43.669699999999999,0,0,372.46199999999999,0,0,0,0,0,0,0,0,0,0,21.38,10.23,1.17,0,8.66,0,5.55,14.02,21.58,1.22,83.81,0,0.53406799999999999,1.2753799999999999E-2,0,0,0,7.4915999999999996E-2,0.14984600000000001,0.25846799999999998,1.0530599999999999E-2,1.0405800000000001,420.762,1095.06,111.69,0,0,2135,930.00099999999998,2637.81,297.5,7627.83,350.15800000000002,0,0,0,162.852,0,65.400000000000006,0,0,578.41,0,0,0,0,0,0,0,0,0,0,34.94,41.16,1.17,0,13.03,23.83,14.92,28.35,2.86,160.26,0,2.2516400000000001,1.2753799999999999E-2,0,0,0.33579999999999999,0.11074100000000001,0.35138000000000003,4.1461199999999997E-3,3.0664600000000002,45.609200000000001,0,45.609200000000001]
["2016-08-31T17:00:38","U09R02/E","v27 12 S21 G20 R02","Proposed and Standard","PASS",0,45.609200000000001,189.36,276.12799999999999,111.69,0,0,505.55700000000002,948.78800000000001,2025.88,119.621,4177.03,220.50200000000001,0,0,0,108.29,0,43.669699999999999,0,0,372.46199999999999,0,0,0,0,0,0,0,0,0,0,21.38,10.23,1.17,0,8.66,0,5.55,14.02,21.58,1.22,83.81,41.44,189.36,276.12799999999999,111.69,0,0,505.55700000000002,948.78800000000001,2025.88,119.621,4177.03,220.50200000000001,0,0,0,108.29,0,43.669699999999999,0,0,372.46199999999999,0,0,0,0,0,0,0,0,0,0,21.38,10.23,1.17,0,8.66,5.55,14.02,21.58,1.22,83.81,41.44,"CA Residential 2016, Vers. 1.0","CSE 0.813 EXE",null,"MPCBECC",0,0.53407000000000004,1.2753799999999999E-2,0,0,7.4915999999999996E-2,0.14984600000000001,0.25846799999999998,1.0530599999999999E-2,1.0405800000000001,0.54682399999999998,0,0.53406799999999999,1.2753799999999999E-2,0,0,7.4915999999999996E-2,0.14984600000000001,0.25846799999999998,1.0530599999999999E-2,1.0405800000000001,0.54682200000000003,-2.02656E-6,-2.02656E-6,0,0,{"$nulls":9},189.36,276.12799999999999,111.69,0,0,0,505.55700000000002,948.78800000000001,2025.88,119.621,4177.03,220.50200000000001,0,0,0,108.29,0,43.669699999999999,0,0,372.46199999999999,0,0,0,0,0,0,0,0,0,0,21.38,10.23,1.17,0,8.66,0,5.55,14.02,21.58,1.22,83.81,0,0.53407000000000004,1.2753799999999999E-2,0,0,0,7.4915999999999996E-2,0.14984600000000001,0.25846799999999998,1.0530599999999999E-2,1.0405800000000001,420.762,1095.06,111.69,0,0,2135,930.00099999999998,2637.81,297.5,7627.83,350.15800000000002,0,0,0,162.852,0,65.400000000000006,0,0,578.41,0,0,0,0,0,0,0,0,0,0,34.94,41.16,1.17,0,13.03,23.83,14.92,28.35,2.86,160.26,0,2.2516400000000001,1.2753799999999999E-2,0,0,0.33579999999999999,0.11074100000000001,0.35138000000000003,4.1461199999999997E-3,3.0664600000000002,45.609200000000001,0,45.609200000000001]
["2016-08-31T17:00:38","U09R02/S","v27 12 S21 G20 R02","Proposed and Standard","PASS",0,45.609200000000001,189.36,276.12799999999999,111.69,0,0,505.55700000000002,948.78800000000001,2025.88,119.621,4177.03,220.50200000000001,0,0,0,108.29,0,43.669699999999999,0,0,372.46199999999999,0,0,0,0,0,0,0,0,0,0,21.38,10.23,1.17,0,8.66,0,5.55,14.02,21.58,1.22,83.81,41.44,189.36,276.12799999999999,111.69,0,0,505.55700000000002,948.78800000000001,2025.88,119.621,4177.03,220.50200000000001,0,0,0,108.29,0,43.669699999999999,0,0,372.46199999999999,0,0,0,0,0,0,0,0,0,0,21.38,10.23,1.17,0,8.66,5.55,14.02,21.58,1.22,83.81,41.44,"CA Residential 2016, Vers. 1.0","CSE 0.813 EXE",null,"MPCBECC",0,0.53407000000000004,1.2753799999999999E-2,0,0,7.4915999999999996E-2,0.14984600000000001,0.25846799999999998,1.0530599999999999E-2,1.0405800000000001,0.54682399999999998,0,0.53406799999999999,1.2753799999999999E-2,0,0,7.4915999999999996E-2,0.14984600000000001,0.25846799999999998,1.0530599999999999E-2,1.0405800000000001,0.54682200000000003,-2.02656E-6,-1.9669499999999999E-6,0,0,{"$nulls":9},189.36,276.12799999999999,111.69,0,0,0,505.55700000000002,948.78800000000001,2025.88,119.621,4177.03,220.50200000000001,0,0,0,108.29,0,43.669699999999999,0,0,372.46199999999999,0,0,0,0,0,0,0,0,0,0,21.38,10.23,1.17,0,8.66,0,5.55,14.02,21.58,1.22,83.81,0,0.53407000000000004,1.2753799999999999E-2,0,0,0,7.4915999999999996E-2,0.14984600000000001,0.25846799999999998,1.0530599999999999E-2,1.0405800000000001,420.762,1095.06,111.69,0,0,2135,930.00099999999998,2637.81,297.5,7627.83,350.15800000000002,0,0,0,162.852,0,65.400000000000006,0,0,578.41,0,0,0,0,0,0,0,0,0,0,34.94,41.16,1.17,0,13.03,23.83,14.92,28.35,2.86,160.26,0,2.2516400000000001,1.2753799999999999E-2,0,0,0.33579999999999999,0.11074100000000001,0.35138000000000003,4.1461199999999997E-3,3.0664600000000002,45.609200000000001,0,45.609200000000001]
["2016-08-31T17:00:38","U09R02/W","v27 12 S21 G20 R02","Proposed and Standard","PASS",0,45.609200000000001,189.36,276.12799999999999,111.69,0,0,505.55700000000002,948.78800000000001,2025.88,119.621,4177.03,220.50200000000001,0,0,0,108.29,0,43.669699999999999,0,0,372.46100000000001,0,0,0,0,0,0,0,0,0,0,21.38,10.23,1.17,0,8.66,0,5.55,14.02,21.58,1.22,83.81,41.44,189.36,276.12799999999999,111.69,0,0,505.55700000000002,948.78800000000001,2025.88,119.621,4177.03,220.50200000000001,0,0,0,108.29,0,43.669699999999999,0,0,372.46199999999999,0,0,0,0,0,0,0,0,0,0,21.38,10.23,1.17,0,8.66,5.55,14.02,21.58,1.22,83.81,41.44,"CA Residential 2016, Vers. 1.0","CSE 0.813 EXE",null,"MPCBECC",0,0.53407000000000004,1.2753799999999999E-2,0,0,7.4915999999999996E-2,0.14984600000000001,0.25846799999999998,1.0530599999999999E-2,1.0405800000000001,0.54682399999999998,0,0.53406799999999999,1.2753799999999999E-2,0,0,7.4915999999999996E-2,0.14984600000000001,0.25846799999999998,1.0530599999999999E-2,1.0405800000000001,0.54682200000000003,-2.02656E-6,-1.9669499999999999E-6,0,0,{"$nulls":9},189.36,276.12799999999999,111.69,0,0,0,505.55700000000002,948.78800000000001,2025.88,119.621,4177.03,220.50200000000001,0,0,0,108.29,0,43.669699999999999,0,0,372.46100000000001,0,0,0,0,0,0,0,0,0,0,21.38,10.23,1.17,0,8.66,0,5.55,14.02,21.58,1.22,83.81,0,0.53407000000000004,1.2753799999999999E-2,0,0,0,7.4915999999999996E-2,0.14984600000000001,0.25846799999999998,1.0530599999999999E-2,1.0405800000000001,420.762,1095.06,111.69,0,0,2135,930.00099999999998,2637.81,297.5,7627.83,350.15800000000002,0,0,0,162.852,0,65.400000000000006,0,0,578.41,0,0,0,0,0,0,0,0,0,0,34.94,41.16,1.17,0,13.03,23.83,14.92,28.35,2.86,160.26,0,2.2516400000000001,1.2753799999999999E-2,0,0,0.33579999999999999,0.11074100000000001,0.35138000000000003,4.1461199999999997E-3,3.0664600000000002,45.609200000000001,0,45.609200000000001]
["2016-08-31T17:00:36","U09R06","v27 12 P21 U20 R06","Proposed and Standard","FAIL",-1.06,46.175199999999997,186.35900000000001,301.09300000000002,111.69,0,0,505.55700000000002,948.19,2025.88,119.621,4198.3900000000003,217.00700000000001,0,0,0,108.29,0,43.669699999999999,0,0,368.96699999999998,0,0,0,0,0,0,0,0,0,0,21.04,11.63,1.17,0,8.66,0,5.55,14,21.58,1.22,84.85,42.5,189.36,276.12799999999999,111.69,0,0,505.55700000000002,948.78800000000001,2025.88,119.621,4177.03,220.50200000000001,0,0,0,108.29,0,43.669699999999999,0,0,372.46199999999999,0,0,0,0,0,0,0,0,0,0,21.38,10.23,1.17,0,8.66,5.55,14.02,21.58,1.22,83.81,41.44,"CA Residential 2016, Vers. 1.0","CSE 0.813 EXE",null,"MPCBECC",0,0.62011000000000005,1.2753799999999999E-2,0,0,7.4915999999999996E-2,0.14912600000000001,0.25846799999999998,1.0530599999999999E-2,1.1258999999999999,0.63286399999999998,0,0.53406799999999999,1.2753799999999999E-2,0,0,7.4915999999999996E-2,0.14984600000000001,0.25846799999999998,1.0530599999999999E-2,1.0405800000000001,0.54682200000000003,-8.5321400000000006E-2,-8.6041900000000004E-2,-1.2408999999999999,-2.5579200000000002,{"$nulls":9},186.35900000000001,301.09300000000002,111.69,0,0,0,505.55700000000002,948.19,2025.88,119.621,4198.3900000000003,217.00700000000001,0,0,0,108.29,0,43.669699999999999,0,0,368.96699999999998,0,0,0,0,0,0,0,0,0,0,21.04,11.63,1.17,0,8.66,0,5.55,14,21.58,1.22,84.85,0,0.62011000000000005,1.2753799999999999E-2,0,0,0,7.4915999999999996E-2,0.14912600000000001,0.25846799999999998,1.0530599999999999E-2,1.1258999999999999,420.762,1095.06,111.69,0,0,2135,930.00099999999998,2637.81,297.5,7627.83,350.15800000000002,0,0,0,162.852,0,65.400000000000006,0,0,578.41,0,0,0,0,0,0,0,0,0,0,34.94,41.16,1.17,0,13.03,23.83,14.92,28.35,2.86,160.26,0,2.2516400000000001,1.2753799999999999E-2,0,0,0.33579999999999999,0.11074100000000001,0.35138000000000003,4.1461199999999997E-3,3.0664600000000002,46.175199999999997,0,45.609200000000001]
["2016-08-31T17:01:02","U09R07/N","v27 12 P21 U20 R07","Proposed and Standard","FAIL",4.04,47.078499999999998,179.28899999999999,212.96899999999999,111.69,0,0,505.55700000000002,943.90800000000002,2025.88,119.621,4098.92,208.77500000000001,0,0,0,108.29,0,43.669699999999999,0,0,360.73500000000001,0,0,0,0,0,0,0,0,0,0,20.18,7.39,1.17,0,8.66,0,5.55,13.96,21.58,1.22,79.709999999999994,37.4,189.36,276.12799999999999,111.69,0,0,505.55700000000002,948.78800000000001,2025.88,119.621,4177.03,220.50200000000001,0,0,0,108.29,0,43.669699999999999,0,0,372.46199999999999,0,0,0,0,0,0,0,0,0,0,21.38,10.23,1.17,0,8.66,5.55,14.02,21.58,1.22,83.81,41.44,"CA Residential 2016, Vers. 1.0","CSE 0.813 EXE",null,"MPCBECC",0,0.400474,1.2753799999999999E-2,0,0,7.4915999999999996E-2,0.14868500000000001,0.25846799999999998,1.0530599999999999E-2,0.90582700000000005,0.41322799999999998,0,0.53406799999999999,1.2753799999999999E-2,0,0,7.4915999999999996E-2,0.14984600000000001,0.25846799999999998,1.0530599999999999E-2,1.0405800000000001,0.54682200000000003,0.13475500000000001,0.13359399999999999,-3.2215799999999999,-6.49132,{"$nulls":9},179.28899999999999,212.96899999999999,111.69,0,0,0,505.55700000000002,943.90800000000002,2025.88,119.621,4098.92,208.77500000000001,0,0,0,108.29,0,43.669699999999999,0,0,360.73500000000001,0,0,0,0,0,0,0,0,0,0,20.18,7.39,1.17,0,8.66,0,5.55,13.96,21.58,1.22,79.709999999999994,0,0.400474,1.2753799999999999E-2,0,0,0,7.4915999999999996E-2,0.14868500000000001,0.25846799999999998,1.0530599999999999E-2,0.90582700000000005,420.762,1095.06,111.69,0,0,2135,930.00099999999998,2637.81,297.5,7627.83,350.15800000000002,0,0,0,162.852,0,65.400000000000006,0,0,578.41,0,0,0,0,0,0,0,0,0,0,34.94,41.16,1.17,0,13.03,23.83,14.92,28.35,2.86,160.26,0,2.2516400000000001,1.2753799999999999E-2,0,0,0.33579999999999999,0.11074100000000001,0.35138000000000003,4.1461199999999997E-3,3.0664600000000002,47.078499999999998,0,45.609200000000001]
["2016-08-31T17:01:02","U09R07/E","v27 12 P21 U20 R07","Proposed and Standard","FAIL",-2.69,47.078499999999998,193.905,325.42899999999997,111.69,0,0,505.55700000000002,950.81500000000005,2025.88,119.621,4232.8999999999996,225.79400000000001,0,0,0,108.29,0,43.669699999999999,0,0,377.75400000000002,0,0,0,0,0,0,0,0,0,0,21.92,12.38,1.17,0,8.66,0,5.55,14.03,21.58,1.22,86.51,44.13,189.36,276.12799999999999,111.69,0,0,505.55700000000002,948.78800000000001,2025.88,119.621,4177.03,220.50200000000001,0,0,0,108.29,0,43.669699999999999,0,0,372.46199999999999,0,0,0,0,0,0,0,0,0,0,21.38,10.23,1.17,0,8.66,5.55,14.02,21.58,1.22,83.81,41.44,"CA Residential 2016, Vers. 1.0","CSE 0.813 EXE",null,"MPCBECC",0,0.62439199999999995,1.2753799999999999E-2,0,0,7.4915999999999996E-2,0.14954500000000001,0.25846799999999998,1.0530599999999999E-2,1.1306,0.63714599999999999,0,0.53406799999999999,1.2753799999999999E-2,0,0,7.4915999999999996E-2,0.14984600000000001,0.25846799999999998,1.0530599999999999E-2,1.0405800000000001,0.54682200000000003,-9.0022599999999994E-2,-9.0323799999999996E-2,-3.2215799999999999,-6.49132,{"$nulls":9},193.905,325.42899999999997,111.69,0,0,0,505.55700000000002,950.81500000000005,2025.88,119.621,4232.8999999999996,225.79400000000001,0,0,0,108.29,0,43.669699999999999,0,0,377.75400000000002,0,0,0,0,0,0,0,0,0,0,21.92,12.38,1.17,0,8.66,0,5.55,14.03,21.58,1.22,86.51,0,0.62439199999999995,1.2753799999999999E-2,0,0,0,7.4915999999999996E-2,0.14954500000000001,0.25846799999999998,1.0530599999999999E-2,1.1306,420.762,1095.06,111.69,0,0,2135,930.00099999999998,2637.81,297.5,7627.83,350.15800000000002,0,0,0,162.852,0,65.400000000000006,0,0,578.41,0,0,0,0,0,0,0,0,0,0,34.94,41.16,1.17,0,13.03,23.83,14.92,28.35,2.86,160.26,0,2.2516400000000001,1.2753799999999999E-2,0,0,0.33579999999999999,0.11074100000000001,0.35138000000000003,4.1461199999999997E-3,3.0664600000000002,47.078499999999998,0,45.609200000000001]
["2016-08-31T17:01:02","U09R07/S","v27 12 P21 U20 R07","Proposed and Standard","FAIL",3.42,47.078499999999998,199.595,185.517,111.69,0,0,505.55700000000002,948.476,2025.88,119.621,4096.34,232.42,0,0,0,108.29,0,43.669699999999999,0,0,384.38,0,0,0,0,0,0,0,0,0,0,22.46,5.73,1.17,0,8.66,0,5.55,14.02,21.58,1.22,80.39,38.020000000000003,189.36,276.12799999999999,111.69,0,0,505.55700000000002,948.78800000000001,2025.88,119.621,4177.03,220.50200000000001,0,0,0,108.29,0,43.669699999999999,0,0,372.46199999999999,0,0,0,0,0,0,0,0,0,0,21.38,10.23,1.17,0,8.66,5.55,14.02,21.58,1.22,83.81,41.44,"CA Residential 2016, Vers. 1.0","CSE 0.813 EXE",null,"MPCBECC",0,0.26966600000000002,1.2753799999999999E-2,0,0,7.4915999999999996E-2,0.150005,0.25846799999999998,1.0530599999999999E-2,0.77634000000000003,0.28242,0,0.53406799999999999,1.2753799999999999E-2,0,0,7.4915999999999996E-2,0.14984600000000001,0.25846799999999998,1.0530599999999999E-2,1.0405800000000001,0.54682200000000003,0.26424199999999998,0.26440200000000003,-3.2215799999999999,-6.49132,{"$nulls":9},199.595,185.517,111.69,0,0,0,505.55700000000002,948.476,2025.88,119.621,4096.34,232.42,0,0,0,108.29,0,43.669699999999999,0,0,384.38,0,0,0,0,0,0,0,0,0,0,22.46,5.73,1.17,0,8.66,0,5.55,14.02,21.58,1.22,80.39,0,0.26966600000000002,1.2753799999999999E-2,0,0,0,7.4915999999999996E-2,0.150005,0.25846799999999998,1.0530599999999999E-2,0.77634000000000003,420.762,1095.06,111.69,0,0,2135,930.00099999999998,2637.81,297.5,7627.83,350.15800000000002,0,0,0,162.852,0,65.400000000000006,0,0,578.41,0,0,0,0,0,0,0,0,0,0,34.94,41.16,1.17,0,13.03,23.83,14.92,28.35,2.86,160.26,0,2.2516400000000001,1.2753799999999999E-2,0,0,0.33579999999999999,0.11074100000000001,0.35138000000000003,4.1461199999999997E-3,3.0664600000000002,47.078499999999998,0,45.609200000000001]
["2016-08-31T17:01:02","U09R07/W","v27 12 P21 U20 R07","Proposed and Standard","FAIL",-1.61,47.078499999999998,191.11799999999999,312.15600000000001,111.69,0,0,505.55700000000002,948.68700000000001,2025.88,119.621,4214.71,222.548,0,0,0,108.29,0,43.669699999999999,0,0,374.50799999999998,0,0,0,0,0,0,0,0,0,0,21.63,11.59,1.17,0,8.66,0,5.55,14.03,21.58,1.22,85.43,43.05,189.36,276.12799999999999,111.69,0,0,505.55700000000002,948.78800000000001,2025.88,119.621,4177.03,220.50200000000001,0,0,0,108.29,0,43.669699999999999,0,0,372.46199999999999,0,0,0,0,0,0,0,0,0,0,21.38,10.23,1.17,0,8.66,5.55,14.02,21.58,1.22,83.81,41.44,"CA Residential 2016, Vers. 1.0","CSE 0.813 EXE",null,"MPCBECC",0,0.59460000000000002,1.2753799999999999E-2,0,0,7.4915999999999996E-2,0.15038799999999999,0.25846799999999998,1.0530599999999999E-2,1.1016600000000001,0.60735300000000003,0,0.53406799999999999,1.2753799999999999E-2,0,0,7.4915999999999996E-2,0.14984600000000001,0.25846799999999998,1.0530599999999999E-2,1.0405800000000001,0.54682200000000003,-6.1073200000000001E-2,-6.0531700000000001E-2,-3.2215799999999999,-6.49132,{"$nulls":9},191.11799999999999,312.15600000000001,111.69,0,0,0,505.55700000000002,948.68700000000001,2025.88,119.621,4214.71,222.548,0,0,0,108.29,0,43.669699999999999,0,0,374.50799999999998,0,0,0,0,0,0,0,0,0,0,21.63,11.59,1.17,0,8.66,0,5.55,14.03,21.58,1.22,85.43,0,0.59460000000000002,1.2753799999999999E-2,0,0,0,7.4915999999999996E-2,0.15038799999999999,0.25846799999999998,1.0530599999999999E-2,1.1016600000000001,420.762,1095.06,111.69,0,0,2135,930.00099999999998,2637.81,297.5,7627.83,350.15800000000002,0,0,0,162.852,0,65.400000000000006,0,0,578.41,0,0,0,0,0,0,0,0,0,0,34.94,41.16,1.17,0,13.03,23.83,14.92,28.35,2.86,160.26,0,2.2516400000000001,1.2753799999999999E-2,0,0,0.33579999999999999,0.11074100000000001,0.35138000000000003,4.1461199999999997E-3,3.0664600000000002,47.078499999999998,0,45.609200000000001]
["2016-08-31T17:00:42","U10R01","v27 12 P69 U15 M01","Proposed and Standard","FAIL",-4.4400000000000004,57.537599999999998,334.22899999999998,1948.16,785.77200000000005,0,0,2033.7,5481.89,12062,433.91399999999999,23079.599999999999,389.19499999999999,0,0,0,1075.79,0,287.95400000000001,0,0,1752.94,0,0,0,0,0,0,0,0,0,0,11.39,21.62,2.4700000000000002,0,25.83,0,6.74,24.74,38.78,1.33,132.9,61.31,325.666,2661.26,785.77200000000005,0,0,2033.7,5501.43,12062,433.91399999999999,23803.7,379.22399999999999,0,0,0,647.79700000000003,0,287.95400000000001,0,0,1314.98,0,0,0,0,0,0,0,0,0,0,11.15,27.7,2.4700000000000002,0,15.55,6.74,24.8,38.78,1.33,128.52000000000001,56.87,"CA Residential 2016, Vers. 1.0","CSE 0.813 EXE",null,"MPCBECC",0,3.9638300000000002,8.9726299999999995E-2,0,0,0.30136400000000002,0.74732100000000001,1.54311,3.8198599999999999E-2,6.6835500000000003,4.0535500000000004,0,4.9398099999999996,8.9726299999999995E-2,0,0,0.30136400000000002,0.74921000000000004,1.54311,3.8198599999999999E-2,7.6614199999999997,5.0295399999999999,0.97787500000000005,0.97598600000000002,-3.40802,-7.8072800000000004,{"$nulls":9},334.22899999999998,1948.16,785.77200000000005,0,0,0,2033.7,5481.89,12062,433.91399999999999,23079.599999999999,389.19499999999999,0,0,0,1075.79,0,287.95400000000001,0,0,1752.94,0,0,0,0,0,0,0,0,0,0,11.39,21.62,2.4700000000000002,0,25.83,0,6.74,24.74,38.78,1.33,132.9,0,3.9638300000000002,8.9726299999999995E-2,0,0,0,0.30136400000000002,0.74732100000000001,1.54311,3.8198599999999999E-2,6.6835500000000003,1029.96,5831.04,785.77200000000005,0,0,5894.96,6547.68,10697.7,540.49900000000002,31327.7,857.13099999999997,0,0,0,1091.3900000000001,0,291.12400000000002,0,0,2239.65,0,0,0,0,0,0,0,0,0,0,25.89,54.47,2.4700000000000002,0,26.21,19.850000000000001,27.63,34.69,1.57,192.78,0,9.2231100000000001,8.9726299999999995E-2,0,0,0.92718,0.77117400000000003,1.42503,7.5326799999999999E-3,12.4438,57.537599999999998,0,55.641399999999997]
["2016-08-31T17:00:43","U10R02","v27 12 P69 U15 M01","Proposed and Standard","FAIL",-4.4400000000000004,57.537599999999998,334.22899999999998,1948.16,785.77200000000005,0,0,2033.7,5481.89,12062,433.91399999999999,23079.599999999999,389.19499999999999,0,0,0,1075.79,0,287.95400000000001,0,0,1752.94,0,0,0,0,0,0,0,0,0,0,11.39,21.62,2.4700000000000002,0,25.83,0,6.74,24.74,38.78,1.33,132.9,61.31,325.666,2661.26,785.77200000000005,0,0,2033.7,5501.43,12062,433.91399999999999,23803.7,379.22399999999999,0,0,0,647.79700000000003,0,287.95400000000001,0,0,1314.98,0,0,0,0,0,0,0,0,0,0,11.15,27.7,2.4700000000000002,0,15.55,6.74,24.8,38.78,1.33,128.52000000000001,56.87,"CA Residential 2016, Vers. 1.0","CSE 0.813 EXE",null,"MPCBECC",0,3.9638300000000002,8.9726299999999995E-2,0,0,0.30136400000000002,0.74732100000000001,1.54311,3.8198599999999999E-2,6.6835500000000003,4.0535500000000004,0,4.9398099999999996,8.9726299999999995E-2,0,0,0.30136400000000002,0.74921000000000004,1.54311,3.8198599999999999E-2,7.6614199999999997,5.0295399999999999,0.97787500000000005,0.97598600000000002,-3.40802,-7.8072800000000004,{"$nulls":9},334.22899999999998,1948.16,785.77200000000005,0,0,0,2033.7,5481.89,12062,433.91399999999999,23079.599999999999,389.19499999999999,0,0,0,1075.79,0,287.95400000000001,0,0,1752.94,0,0,0,0,0,0,0,0,0,0,11.39,21.62,2.4700000000000002,0,25.83,0,6.74,24.74,38.78,1.33,132.9,0,3.9638300000000002,8.9726299999999995E-2,0,0,0,0.30136400000000002,0.74732100000000001,1.54311,3.8198599999999999E-2,6.6835500000000003,1029.96,5831.04,785.77200000000005,0,0,5894.96,6547.68,10697.7,540.49900000000002,31327.7,857.13099999999997,0,0,0,1091.3900000000001,0,291.12400000000002,0,0,2239.65,0,0,0,0,0,0,0,0,0,0,25.89,54.47,2.4700000000000002,0,26.21,19.850000000000001,27.63,34.69,1.57,192.78,0,9.2231100000000001,8.9726299999999995E-2,0,0,0.92718,0.77117400000000003,1.42503,7.5326799999999999E-3,12.4438,57.537599999999998,0,55.641399999999997]
["2016-08-31T17:00:47","U10R03","v27 12 P69 U15 M01","Proposed and Standard","FAIL",-11.19,60.46,334.22899999999998,1948.16,785.77200000000005,0,0,2033.7,5481.89,12062,433.91399999999999,23079.599999999999,389.19499999999999,0,0,0,1366.07,0,287.95400000000001,0,0,2043.22,0,0,0,0,0,0,0,0,0,0,11.39,21.62,2.4700000000000002,0,32.58,0,6.74,24.74,38.78,1.33,139.65,68.06,325.666,2661.26,785.77200000000005,0,0,2033.7,5501.43,12062,433.91399999999999,23803.7,379.22399999999999,0,0,0,647.79700000000003,0,287.95400000000001,0,0,1314.98,0,0,0,0,0,0,0,0,0,0,11.15,27.7,2.4700000000000002,0,15.55,6.74,24.8,38.78,1.33,128.52000000000001,56.87,"CA Residential 2016, Vers. 1.0","CSE 0.813 EXE",null,"MPCBECC",0,3.9638300000000002,8.9726299999999995E-2,0,0,0.30136400000000002,0.74732100000000001,1.54311,3.8198599999999999E-2,6.6835500000000003,4.0535500000000004,0,4.9398099999999996,8.9726299999999995E-2,0,0,0.30136400000000002,0.74921000000000004,1.54311,3.8198599999999999E-2,7.6614199999999997,5.0295399999999999,0.97787500000000005,0.97598600000000002,-8.6601300000000005,-19.676500000000001,{"$nulls":9},334.22899999999998,1948.16,785.77200000000005,0,0,0,2033.7,5481.89,12062,433.91399999999999,23079.599999999999,389.19499999999999,0,0,0,1366.07,0,287.95400000000001,0,0,2043.22,0,0,0,0,0,0,0,0,0,0,11.39,21.62,2.4700000000000002,0,32.58,0,6.74,24.74,38.78,1.33,139.65,0,3.9638300000000002,8.9726299999999995E-2,0,0,0,0.30136400000000002,0.74732100000000001,1.54311,3.8198599999999999E-2,6.6835500000000003,1029.96,5831.04,785.77200000000005,0,0,5894.96,6547.68,10697.7,540.49900000000002,31327.7,857.13099999999997,0,0,0,1091.3900000000001,0,291.12400000000002,0,0,2239.65,0,0,0,0,0,0,0,0,0,0,25.89,54.47,2.4700000000000002,0,26.21,19.850000000000001,27.63,34.69,1.57,192.78,0,9.2231100000000001,8.9726299999999995E-2,0,0,0.92718,0.77117400000000003,1.42503,7.5326799999999999E-3,12.4438,60.46,0,55.641399999999997]
["2016-08-31T17:00:46","U10R04","v27 12 P69 U15 M01","Proposed and Standard","PASS",5.84,55.473300000000002,334.22899999999998,1948.16,785.77200000000005,0,0,2033.7,5481.89,12062,433.91399999999999,23079.599999999999,389.19499999999999,0,0,0,831.06799999999998,0,287.95400000000001,0,0,1508.22,0,0,0,0,0,0,0,0,0,0,11.39,21.62,2.4700000000000002,0,19.88,0,6.74,24.74,38.78,1.33,126.95,55.36,325.666,2661.26,785.77200000000005,0,0,2033.7,5501.43,12062,433.91399999999999,23803.7,379.22399999999999,0,0,0,831.06799999999998,0,287.95400000000001,0,0,1498.25,0,0,0,0,0,0,0,0,0,0,11.15,27.7,2.4700000000000002,0,19.88,6.74,24.8,38.78,1.33,132.85,61.2,"CA Residential 2016, Vers. 1.0","CSE 0.813 EXE",null,"MPCBECC",0,3.9638300000000002,8.9726299999999995E-2,0,0,0.30136400000000002,0.74732100000000001,1.54311,3.8198599999999999E-2,6.6835500000000003,4.0535500000000004,0,4.9398099999999996,8.9726299999999995E-2,0,0,0.30136400000000002,0.74921000000000004,1.54311,3.8198599999999999E-2,7.6614199999999997,5.0295399999999999,0.97787500000000005,0.97598600000000002,4.4411100000000001,9.5424799999999994,{"$nulls":9},334.22899999999998,1948.16,785.77200000000005,0,0,0,2033.7,5481.89,12062,433.91399999999999,23079.599999999999,389.19499999999999,0,0,0,831.06799999999998,0,287.95400000000001,0,0,1508.22,0,0,0,0,0,0,0,0,0,0,11.39,21.62,2.4700000000000002,0,19.88,0,6.74,24.74,38.78,1.33,126.95,0,3.9638300000000002,8.9726299999999995E-2,0,0,0,0.30136400000000002,0.74732100000000001,1.54311,3.8198599999999999E-2,6.6835500000000003,1029.96,5831.04,785.77200000000005,0,0,5894.96,6547.68,10697.7,540.49900000000002,31327.7,857.13099999999997,0,0,0,1053.81,0,291.12400000000002,0,0,2202.06,0,0,0,0,0,0,0,0,0,0,25.89,54.47,2.4700000000000002,0,25.23,19.850000000000001,27.63,34.69,1.57,191.8,0,9.2231100000000001,8.9726299999999995E-2,0,0,0.92718,0.77117400000000003,1.42503,7.5326799999999999E-3,12.4438,55.473300000000002,0,58.051400000000001]
["2016-08-31T17:00:47","U10R05","v27 12 P69 U15 M01","Proposed and Standard","PASS",5.84,54.5974,334.22899999999998,1948.16,785.77200000000005,0,594.08600000000001,2033.7,5481.89,12062,433.91399999999999,23673.7,389.19499999999999,0,0,0,1032.97,0,287.95400000000001,0,0,1710.12,0,0,0,0,0,0,0,0,0,0,11.39,21.62,2.4700000000000002,0,26.54,0,6.74,24.74,38.78,1.33,133.61000000000001,62.02,325.666,2661.26,785.77200000000005,0,594.08600000000001,2033.7,5501.43,12062,433.91399999999999,24397.8,379.22399999999999,0,0,0,1032.97,0,287.95400000000001,0,0,1700.15,0,0,0,0,0,0,0,0,0,0,11.15,27.7,2.4700000000000002,0,26.54,6.74,24.8,38.78,1.33,139.51,67.86,"CA Residential 2016, Vers. 1.0","CSE 0.813 EXE",null,"MPCBECC",0,3.9638300000000002,8.9726299999999995E-2,0,6.7837900000000007E-2,0.30136400000000002,0.74732100000000001,1.54311,3.8198599999999999E-2,6.7513899999999998,4.1213899999999999,0,4.9398099999999996,8.9726299999999995E-2,0,6.7837900000000007E-2,0.30136400000000002,0.74921000000000004,1.54311,3.8198599999999999E-2,7.72926,5.0973800000000002,0.97787500000000005,0.97598600000000002,4.2290799999999997,8.60595,{"$nulls":9},334.22899999999998,1948.16,785.77200000000005,0,594.08600000000001,0,2033.7,5481.89,12062,433.91399999999999,23673.7,389.19499999999999,0,0,0,1032.97,0,287.95400000000001,0,0,1710.12,0,0,0,0,0,0,0,0,0,0,11.39,21.62,2.4700000000000002,0,26.54,0,6.74,24.74,38.78,1.33,133.61000000000001,0,3.9638300000000002,8.9726299999999995E-2,0,6.7837900000000007E-2,0,0.30136400000000002,0.74732100000000001,1.54311,3.8198599999999999E-2,6.7513899999999998,1029.96,5831.04,785.77200000000005,0,594.08600000000001,5894.96,6547.68,10697.7,540.49900000000002,31921.7,857.13099999999997,0,0,0,1325.73,0,291.12400000000002,0,0,2473.98,0,0,0,0,0,0,0,0,0,0,25.89,54.47,2.4700000000000002,0,33.54,19.850000000000001,27.63,34.69,1.57,200.11,0,9.2231100000000001,8.9726299999999995E-2,0,6.7837900000000007E-2,0.92718,0.77117400000000003,1.42503,7.5326799999999999E-3,12.5116,54.5974,0,57.008299999999998]
["2016-08-31T17:01:10","U10R06","v27 12 P69 U15 M01","Proposed and Standard","PASS",1.0900000000000001,56.538400000000003,334.22899999999998,1948.16,785.77200000000005,0,594.08600000000001,2033.7,5481.89,12062,433.91399999999999,23673.7,389.19499999999999,0,0,0,1230.67,0,287.95400000000001,0,0,1907.82,0,0,0,0,0,0,0,0,0,0,11.39,21.62,2.4700000000000002,0,31.29,0,6.74,24.74,38.78,1.33,138.36000000000001,66.77,325.666,2661.26,785.77200000000005,0,594.08600000000001,2033.7,5501.43,12062,433.91399999999999,24397.8,379.22399999999999,0,0,0,1032.97,0,287.95400000000001,0,0,1700.15,0,0,0,0,0,0,0,0,0,0,11.15,27.7,2.4700000000000002,0,26.54,6.74,24.8,38.78,1.33,139.51,67.86,"CA Residential 2016, Vers. 1.0","CSE 0.813 EXE",null,"MPCBECC",0,3.9638300000000002,8.9726299999999995E-2,0,6.7837900000000007E-2,0.30136400000000002,0.74732100000000001,1.54311,3.8198599999999999E-2,6.7513899999999998,4.1213899999999999,0,4.9398099999999996,8.9726299999999995E-2,0,6.7837900000000007E-2,0.30136400000000002,0.74921000000000004,1.54311,3.8198599999999999E-2,7.72926,5.0973800000000002,0.97787500000000005,0.97598600000000002,0.82430899999999996,1.6062399999999999,{"$nulls":9},334.22899999999998,1948.16,785.77200000000005,0,594.08600000000001,0,2033.7,5481.89,12062,433.91399999999999,23673.7,389.19499999999999,0,0,0,1230.67,0,287.95400000000001,0,0,1907.82,0,0,0,0,0,0,0,0,0,0,11.39,21.62,2.4700000000000002,0,31.29,0,6.74,24.74,38.78,1.33,138.36000000000001,0,3.9638300000000002,8.9726299999999995E-2,0,6.7837900000000007E-2,0,0.30136400000000002,0.74732100000000001,1.54311,3.8198599999999999E-2,6.7513899999999998,1029.96,5831.04,785.77200000000005,0,594.08600000000001,5894.96,6547.68,10697.7,540.49900000000002,31921.7,857.13099999999997,0,0,0,1325.73,0,291.12400000000002,0,0,2473.98,0,0,0,0,0,0,0,0,0,0,25.89,54.47,2.4700000000000002,0,33.54,19.850000000000001,27.63,34.69,1.57,200.11,0,9.2231100000000001,8.9726299999999995E-2,0,6.7837900000000007E-2,0.92718,0.77117400000000003,1.42503,7.5326799999999999E-3,12.5116,56.538400000000003,0,57.008299999999998]
["2016-08-31T17:00:46","U10R07","v27 12 P69 U15 M01","Proposed and Standard","PASS",5.84,54.658499999999997,334.22899999999998,1948.16,785.77200000000005,0,0,2033.7,5481.89,12062,433.91399999999999,23079.599999999999,389.19499999999999,0,0,0,681.08900000000006,0,287.95400000000001,0,0,1358.24,0,0,0,0,0,0,0,0,0,0,11.39,21.62,2.4700000000000002,0,16.34,0,6.74,24.74,38.78,1.33,123.41,51.82,325.666,2661.26,785.77200000000005,0,0,2033.7,5501.43,12062,433.91399999999999,23803.7,379.22399999999999,0,0,0,681.08900000000006,0,287.95400000000001,0,0,1348.27,0,0,0,0,0,0,0,0,0,0,11.15,27.7,2.4700000000000002,0,16.34,6.74,24.8,38.78,1.33,129.31,57.66,"CA Residential 2016, Vers. 1.0","CSE 0.813 EXE",null,"MPCBECC",0,3.9638300000000002,8.9726299999999995E-2,0,0,0.30136400000000002,0.74732100000000001,1.54311,3.8198599999999999E-2,6.6835500000000003,4.0535500000000004,0,4.9398099999999996,8.9726299999999995E-2,0,0,0.30136400000000002,0.74921000000000004,1.54311,3.8198599999999999E-2,7.6614199999999997,5.0295399999999999,0.97787500000000005,0.97598600000000002,4.5626800000000003,10.128299999999999,{"$nulls":9},334.22899999999998,1948.16,785.77200000000005,0,0,0,2033.7,5481.89,12062,433.91399999999999,23079.599999999999,389.19499999999999,0,0,0,681.08900000000006,0,287.95400000000001,0,0,1358.24,0,0,0,0,0,0,0,0,0,0,11.39,21.62,2.4700000000000002,0,16.34,0,6.74,24.74,38.78,1.33,123.41,0,3.9638300000000002,8.9726299999999995E-2,0,0,0,0.30136400000000002,0.74732100000000001,1.54311,3.8198599999999999E-2,6.6835500000000003,1029.96,5831.04,785.77200000000005,0,0,5894.96,6547.68,10697.7,540.49900000000002,31327.7,857.13099999999997,0,0,0,992.93100000000004,0,291.12400000000002,0,0,2141.19,0,0,0,0,0,0,0,0,0,0,25.89,54.47,2.4700000000000002,0,23.82,19.850000000000001,27.63,34.69,1.57,190.39,0,9.2231100000000001,8.9726299999999995E-2,0,0,0.92718,0.77117400000000003,1.42503,7.5326799999999999E-3,12.4438,54.658499999999997,0,57.271700000000003]
["2016-08-31T17:00:46","U10R08","v27 12 P69 U15 M01","Proposed and Standard","PASS",5.84,53.665700000000001,334.22899999999998,1948.16,785.77200000000005,0,594.08600000000001,2033.7,5481.89,12062,433.91399999999999,23673.7,389.19499999999999,0,0,0,895.19600000000003,0,287.95400000000001,0,0,1572.35,0,0,0,0,0,0,0,0,0,0,11.39,21.62,2.4700000000000002,0,23.28,0,6.74,24.74,38.78,1.33,130.35,58.76,325.666,2661.26,785.77200000000005,0,594.08600000000001,2033.7,5501.43,12062,433.91399999999999,24397.8,379.22399999999999,0,0,0,895.19600000000003,0,287.95400000000001,0,0,1562.37,0,0,0,0,0,0,0,0,0,0,11.15,27.7,2.4700000000000002,0,23.28,6.74,24.8,38.78,1.33,136.25,64.599999999999994,"CA Residential 2016, Vers. 1.0","CSE 0.813 EXE",null,"MPCBECC",0,3.9638300000000002,8.9726299999999995E-2,0,6.7837900000000007E-2,0.30136400000000002,0.74732100000000001,1.54311,3.8198599999999999E-2,6.7513899999999998,4.1213899999999999,0,4.9398099999999996,8.9726299999999995E-2,0,6.7837900000000007E-2,0.30136400000000002,0.74921000000000004,1.54311,3.8198599999999999E-2,7.72926,5.0973800000000002,0.97787500000000005,0.97598600000000002,4.3302699999999996,9.0402400000000007,{"$nulls":9},334.22899999999998,1948.16,785.77200000000005,0,594.08600000000001,0,2033.7,5481.89,12062,433.91399999999999,23673.7,389.19499999999999,0,0,0,895.19600000000003,0,287.95400000000001,0,0,1572.35,0,0,0,0,0,0,0,0,0,0,11.39,21.62,2.4700000000000002,0,23.28,0,6.74,24.74,38.78,1.33,130.35,0,3.9638300000000002,8.9726299999999995E-2,0,6.7837900000000007E-2,0,0.30136400000000002,0.74732100000000001,1.54311,3.8198599999999999E-2,6.7513899999999998,1029.96,5831.04,785.77200000000005,0,594.08600000000001,5894.96,6547.68,10697.7,540.49900000000002,31921.7,857.13099999999997,0,0,0,1288.5,0,291.12400000000002,0,0,2436.75,0,0,0,0,0,0,0,0,0,0,25.89,54.47,2.4700000000000002,0,32.700000000000003,19.850000000000001,27.63,34.69,1.57,199.27,0,9.2231100000000001,8.9726299999999995E-2,0,6.7837900000000007E-2,0.92718,0.77117400000000003,1.42503,7.5326799999999999E-3,12.5116,53.665700000000001,0,56.094700000000003]
["2016-08-31T17:00:46","U10R09","v27 12 P69 U15 M01","Proposed and Standard","PASS",5.16,55.132599999999996,334.22899999999998,1948.16,785.77200000000005,0,0,2033.7,5481.89,12062,433.91399999999999,23079.599999999999,389.19499999999999,0,0,0,946.64300000000003,0,287.95400000000001,0,0,1623.79,0,0,0,0,0,0,0,0,0,0,11.39,21.62,2.4700000000000002,0,22.66,0,6.74,24.74,38.78,1.33,129.72999999999999,58.14,325.666,2661.26,785.77200000000005,0,0,2033.7,5501.43,12062,433.91399999999999,23803.7,379.22399999999999,0,0,0,918.17200000000003,0,287.95400000000001,0,0,1585.35,0,0,0,0,0,0,0,0,0,0,11.15,27.7,2.4700000000000002,0,21.98,6.74,24.8,38.78,1.33,134.94999999999999,63.3,"CA Residential 2016, Vers. 1.0","CSE 0.813 EXE",null,"MPCBECC",0,3.9638300000000002,8.9726299999999995E-2,0,0,0.30136400000000002,0.74732100000000001,1.54311,3.8198599999999999E-2,6.6835500000000003,4.0535500000000004,0,4.9398099999999996,8.9726299999999995E-2,0,0,0.30136400000000002,0.74921000000000004,1.54311,3.8198599999999999E-2,7.6614199999999997,5.0295399999999999,0.97787500000000005,0.97598600000000002,3.8681000000000001,8.1516599999999997,{"$nulls":9},334.22899999999998,1948.16,785.77200000000005,0,0,0,2033.7,5481.89,12062,433.91399999999999,23079.599999999999,389.19499999999999,0,0,0,946.64300000000003,0,287.95400000000001,0,0,1623.79,0,0,0,0,0,0,0,0,0,0,11.39,21.62,2.4700000000000002,0,22.66,0,6.74,24.74,38.78,1.33,129.72999999999999,0,3.9638300000000002,8.9726299999999995E-2,0,0,0,0.30136400000000002,0.74732100000000001,1.54311,3.8198599999999999E-2,6.6835500000000003,1029.96,5831.04,785.77200000000005,0,0,5894.96,6547.68,10697.7,540.49900000000002,31327.7,857.13099999999997,0,0,0,1177.2,0,291.12400000000002,0,0,2325.4499999999998,0,0,0,0,0,0,0,0,0,0,25.89,54.47,2.4700000000000002,0,28.2,19.850000000000001,27.63,34.69,1.57,194.77,0,9.2231100000000001,8.9726299999999995E-2,0,0,0.92718,0.77117400000000003,1.42503,7.5326799999999999E-3,12.4438,55.132599999999996,0,57.350999999999999]
["2016-08-31T17:01:10","U10R10","v27 12 P69 U15 M01","Proposed and Standard","PASS",5.1700100000000004,54.196599999999997,334.22899999999998,1948.16,785.77200000000005,0,594.08600000000001,2033.7,5481.89,12062,433.91399999999999,23673.7,389.19499999999999,0,0,0,1166.0999999999999,0,287.95400000000001,0,0,1843.25,0,0,0,0,0,0,0,0,0,0,11.39,21.62,2.4700000000000002,0,29.73,0,6.74,24.74,38.78,1.33,136.80000000000001,65.209999999999994,325.666,2661.26,785.77200000000005,0,594.08600000000001,2033.7,5501.43,12062,433.91399999999999,24397.8,379.22399999999999,0,0,0,1137.6300000000001,0,287.95400000000001,0,0,1804.81,0,0,0,0,0,0,0,0,0,0,11.15,27.7,2.4700000000000002,0,29.06,6.74,24.8,38.78,1.33,142.03,70.38,"CA Residential 2016, Vers. 1.0","CSE 0.813 EXE",null,"MPCBECC",0,3.9638300000000002,8.9726299999999995E-2,0,6.7837900000000007E-2,0.30136400000000002,0.74732100000000001,1.54311,3.8198599999999999E-2,6.7513899999999998,4.1213899999999999,0,4.9398099999999996,8.9726299999999995E-2,0,6.7837900000000007E-2,0.30136400000000002,0.74921000000000004,1.54311,3.8198599999999999E-2,7.72926,5.0973800000000002,0.97787500000000005,0.97598600000000002,3.6823199999999998,7.3458399999999999,{"$nulls":9},334.22899999999998,1948.16,785.77200000000005,0,594.08600000000001,0,2033.7,5481.89,12062,433.91399999999999,23673.7,389.19499999999999,0,0,0,1166.0999999999999,0,287.95400000000001,0,0,1843.25,0,0,0,0,0,0,0,0,0,0,11.39,21.62,2.4700000000000002,0,29.73,0,6.74,24.74,38.78,1.33,136.80000000000001,0,3.9638300000000002,8.9726299999999995E-2,0,6.7837900000000007E-2,0,0.30136400000000002,0.74732100000000001,1.54311,3.8198599999999999E-2,6.7513899999999998,1029.96,5831.04,785.77200000000005,0,594.08600000000001,5894.96,6547.68,10697.7,540.49900000000002,31921.7,857.13099999999997,0,0,0,1472.76,0,291.12400000000002,0,0,2621.02,0,0,0,0,0,0,0,0,0,0,25.89,54.47,2.4700000000000002,0,37.08,19.850000000000001,27.63,34.69,1.57,203.65,0,9.2231100000000001,8.9726299999999995E-2,0,6.7837900000000007E-2,0.92718,0.77117400000000003,1.42503,7.5326799999999999E-3,12.5116,54.196599999999997,0,56.268599999999999]
["2016-08-31T17:00:35","U11R01","v25 12 P21 U20 R01","Proposed and Standard","PASS",4.04,43.378,179.28899999999999,212.96899999999999,111.69,0,0,505.55700000000002,943.90800000000002,2025.88,119.621,4098.92,208.77500000000001,0,0,0,108.29,0,43.669699999999999,0,0,360.73500000000001,0,0,0,0,0,0,0,0,0,0,20.18,7.39,1.17,0,8.66,0,5.55,13.96,21.58,1.22,79.709999999999994,37.4,189.36,276.12799999999999,111.69,0,0,505.55700000000002,948.78800000000001,2025.88,119.621,4177.03,220.50200000000001,0,0,0,108.29,0,43.669699999999999,0,0,372.46199999999999,0,0,0,0,0,0,0,0,0,0,21.38,10.23,1.17,0,8.66,5.55,14.02,21.58,1.22,83.81,41.44,"CA Residential 2016, Vers. 1.0","CSE 0.813 EXE",null,"MPCBECC",0,0.400474,1.2753799999999999E-2,0,0,7.4915999999999996E-2,0.14868500000000001,0.25846799999999998,1.0530599999999999E-2,0.90582700000000005,0.41322799999999998,0,0.53406799999999999,1.2753799999999999E-2,0,0,7.4915999999999996E-2,0.14984600000000001,0.25846799999999998,1.0530599999999999E-2,1.0405800000000001,0.54682200000000003,0.13475500000000001,0.13359399999999999,4.8920199999999996,9.7490400000000008,{"$nulls":9},179.28899999999999,212.96899999999999,111.69,0,0,0,505.55700000000002,943.90800000000002,2025.88,119.621,4098.92,208.77500000000001,0,0,0,108.29,0,43.669699999999999,0,0,360.73500000000001,0,0,0,0,0,0,0,0,0,0,20.18,7.39,1.17,0,8.66,0,5.55,13.96,21.58,1.22,79.709999999999994,0,0.400474,1.2753799999999999E-2,0,0,0,7.4915999999999996E-2,0.14868500000000001,0.25846799999999998,1.0530599999999999E-2,0.90582700000000005,420.762,1095.06,111.69,0,0,2135,930.00099999999998,2637.81,297.5,7627.83,350.15800000000002,0,0,0,162.852,0,65.400000000000006,0,0,578.41,0,0,0,0,0,0,0,0,0,0,34.94,41.16,1.17,0,13.03,23.83,14.92,28.35,2.86,160.26,0,2.2516400000000001,1.2753799999999999E-2,0,0,0.33579999999999999,0.11074100000000001,0.35138000000000003,4.1461199999999997E-3,3.0664600000000002,43.378,0,45.609200000000001]
["2016-08-31T17:00:34","U11R02","v25 12 P21 U20 R02","Proposed and Standard","PASS",4.95,45.7682,180.268,209.738,111.69,0,0,505.55700000000002,2016.12,2025.88,119.621,5168.87,0,0,0,0,0,0,0,0,0,0,20.991499999999998,0,0,0,10.829000000000001,0,0,0,0,31.820499999999999,37.54,7.22,1.17,0,16.95,0,5.55,22.62,21.58,1.22,113.85,62.88,190.35599999999999,272.22899999999998,111.69,0,0,505.55700000000002,2021.01,2025.88,119.621,5246.34,0,0,0,0,0,0,0,0,0,0,22.1661,0,0,0,10.829000000000001,0,0,0,0,32.995199999999997,39.659999999999997,10.050000000000001,1.17,0,16.95,5.55,22.68,21.58,1.22,118.86,67.83,"CA Residential 2016, Vers. 1.0","CSE 0.813 EXE",null,"MPCBECC",0,0.38973799999999997,1.2753799999999999E-2,0,0,7.4915999999999996E-2,0.29206700000000002,0.25846799999999998,1.0530599999999999E-2,1.03847,0.40249200000000002,0,0.52325200000000005,1.2753799999999999E-2,0,0,7.4915999999999996E-2,0.29323100000000002,0.25846799999999998,1.0530599999999999E-2,1.1731499999999999,0.53600599999999998,0.13467799999999999,0.13351399999999999,4.2150400000000001,7.2976599999999996,{"$nulls":9},180.268,209.738,111.69,0,0,0,505.55700000000002,2016.12,2025.88,119.621,5168.87,0,0,0,0,0,0,0,0,0,0,20.991499999999998,0,0,0,10.829000000000001,0,0,0,0,31.820499999999999,37.54,7.22,1.17,0,16.95,0,5.55,22.62,21.58,1.22,113.85,0,0.38973799999999997,1.2753799999999999E-2,0,0,0,7.4915999999999996E-2,0.29206700000000002,0.25846799999999998,1.0530599999999999E-2,1.03847,427.78,1054.75,111.69,0,0,2135,2349,2531,297.5,8906.7199999999993,0,0,0,0,0,0,0,0,0,0,35.599800000000002,0,0,0,16.2852,0,0,0,0,51.885100000000001,64.64,40.19,1.17,0,25.48,23.83,25.03,27.2,2.86,210.4,0,2.20757,1.2753799999999999E-2,0,0,0.33579999999999999,0.299765,0.33715200000000001,4.1461199999999997E-3,3.19719,45.7682,0,47.782200000000003]
["2016-08-31T17:00:33","U11R03","v25 12 P21 U20 R03","Proposed and Standard","FAIL",-13.56,53.777299999999997,179.029,213.31,111.69,0,2555.89,505.55700000000002,944.49,2025.88,119.621,6655.47,208.471,0,0,0,0,0,43.669699999999999,0,0,252.14099999999999,0,0,0,0,0,0,0,0,0,0,20.149999999999999,7.41,1.17,0,26.27,0,5.55,13.96,21.58,1.22,97.31,55,189.36,276.12799999999999,111.69,0,0,505.55700000000002,948.78800000000001,2025.88,119.621,4177.03,220.50200000000001,0,0,0,108.29,0,43.669699999999999,0,0,372.46199999999999,0,0,0,0,0,0,0,0,0,0,21.38,10.23,1.17,0,8.66,5.55,14.02,21.58,1.22,83.81,41.44,"CA Residential 2016, Vers. 1.0","CSE 0.813 EXE",null,"MPCBECC",0,0.40151300000000001,1.2753799999999999E-2,0,0.22148200000000001,7.4915999999999996E-2,0.148724,0.25846799999999998,1.0530599999999999E-2,1.12839,0.63574799999999998,0,0.53406799999999999,1.2753799999999999E-2,0,0,7.4915999999999996E-2,0.14984600000000001,0.25846799999999998,1.0530599999999999E-2,1.0405800000000001,0.54682200000000003,-8.7804800000000002E-2,-8.8926599999999995E-2,-16.107900000000001,-32.722000000000001,{"$nulls":9},179.029,213.31,111.69,0,2555.89,0,505.55700000000002,944.49,2025.88,119.621,6655.47,208.471,0,0,0,0,0,43.669699999999999,0,0,252.14099999999999,0,0,0,0,0,0,0,0,0,0,20.149999999999999,7.41,1.17,0,26.27,0,5.55,13.96,21.58,1.22,97.31,0,0.40151300000000001,1.2753799999999999E-2,0,0.22148200000000001,0,7.4915999999999996E-2,0.148724,0.25846799999999998,1.0530599999999999E-2,1.12839,419.964,1096.8499999999999,111.69,0,2655.69,2135,930.00099999999998,2637.81,297.5,10284.5,349.49299999999999,0,0,0,0,0,65.400000000000006,0,0,414.89299999999997,0,0,0,0,0,0,0,0,0,0,34.869999999999997,41.2,1.17,0,27.53,23.83,14.92,28.35,2.86,174.73,0,2.2534100000000001,1.2753799999999999E-2,0,0.20327500000000001,0.33579999999999999,0.11074100000000001,0.35138000000000003,4.1461199999999997E-3,3.2715100000000001,53.777299999999997,0,46.316699999999997]
["2016-08-31T17:00:33","U11R04","v25 12 P21 U20 R04","Proposed and Standard","FAIL",-4.32,56.7577,180.00899999999999,210.066,111.69,0,2555.89,505.55700000000002,2016.7,2025.88,119.621,7725.41,0,0,0,0,0,0,0,0,0,0,20.961300000000001,0,0,0,0,0,0,0,0,20.961300000000001,37.479999999999997,7.23,1.17,0,26.27,0,5.55,22.63,21.58,1.22,123.13,72.150000000000006,190.35599999999999,272.22899999999998,111.69,0,0,505.55700000000002,2021.01,2025.88,119.621,5246.34,0,0,0,0,0,0,0,0,0,0,22.1661,0,0,0,10.829000000000001,0,0,0,0,32.995199999999997,39.659999999999997,10.050000000000001,1.17,0,16.95,5.55,22.68,21.58,1.22,118.86,67.83,"CA Residential 2016, Vers. 1.0","CSE 0.813 EXE",null,"MPCBECC",0,0.390706,1.2753799999999999E-2,0,0.22148200000000001,7.4915999999999996E-2,0.29210599999999998,0.25846799999999998,1.0530599999999999E-2,1.2609600000000001,0.624942,0,0.52325200000000005,1.2753799999999999E-2,0,0,7.4915999999999996E-2,0.29323100000000002,0.25846799999999998,1.0530599999999999E-2,1.1731499999999999,0.53600599999999998,-8.7811200000000006E-2,-8.8935600000000004E-2,-3.59246,-6.3688599999999997,{"$nulls":9},180.00899999999999,210.066,111.69,0,2555.89,0,505.55700000000002,2016.7,2025.88,119.621,7725.41,0,0,0,0,0,0,0,0,0,0,20.961300000000001,0,0,0,0,0,0,0,0,20.961300000000001,37.479999999999997,7.23,1.17,0,26.27,0,5.55,22.63,21.58,1.22,123.13,0,0.390706,1.2753799999999999E-2,0,0.22148200000000001,0,7.4915999999999996E-2,0.29210599999999998,0.25846799999999998,1.0530599999999999E-2,1.2609600000000001,426.97899999999998,1056.53,111.69,0,2655.7,2135,2349,2531,297.5,11563.4,0,0,0,0,0,0,0,0,0,0,35.533099999999997,0,0,0,0,0,0,0,0,35.533099999999997,64.52,40.229999999999997,1.17,0,27.53,23.83,25.03,27.2,2.86,212.37,0,2.2093600000000002,1.2753799999999999E-2,0,0.20327500000000001,0.33579999999999999,0.299765,0.33715200000000001,4.1461199999999997E-3,3.40225,56.7577,0,54.789499999999997]
["2016-08-31T17:00:33","U11R05","v25 12 P21 U20 R05","Proposed and Standard","PASS",1.61,45.360599999999998,181.23,208.952,111.69,0,1130.92,505.55700000000002,938.48299999999995,2025.88,119.621,5222.33,211.035,0,0,0,0,0,43.669699999999999,0,0,254.70500000000001,0,0,0,0,0,0,0,0,0,0,20.399999999999999,7.2,1.17,0,11.06,0,5.55,13.9,21.58,1.22,82.08,39.83,189.36,276.12799999999999,111.69,0,0,505.55700000000002,948.78800000000001,2025.88,119.621,4177.03,220.50200000000001,0,0,0,108.29,0,43.669699999999999,0,0,372.46199999999999,0,0,0,0,0,0,0,0,0,0,21.38,10.23,1.17,0,8.66,5.55,14.02,21.58,1.22,83.81,41.44,"CA Residential 2016, Vers. 1.0","CSE 0.813 EXE",null,"MPCBECC",0,0.38859700000000003,1.2753799999999999E-2,0,5.3186299999999999E-2,7.4915999999999996E-2,0.14812400000000001,0.25846799999999998,1.0530599999999999E-2,0.94657500000000006,0.45453700000000002,0,0.53406799999999999,1.2753799999999999E-2,0,0,7.4915999999999996E-2,0.14984600000000001,0.25846799999999998,1.0530599999999999E-2,1.0405800000000001,0.54682200000000003,9.4007300000000002E-2,9.2284900000000003E-2,2.0642,3.8851399999999998,{"$nulls":9},181.23,208.952,111.69,0,1130.92,0,505.55700000000002,938.48299999999995,2025.88,119.621,5222.33,211.035,0,0,0,0,0,43.669699999999999,0,0,254.70500000000001,0,0,0,0,0,0,0,0,0,0,20.399999999999999,7.2,1.17,0,11.06,0,5.55,13.9,21.58,1.22,82.08,0,0.38859700000000003,1.2753799999999999E-2,0,5.3186299999999999E-2,0,7.4915999999999996E-2,0.14812400000000001,0.25846799999999998,1.0530599999999999E-2,0.94657500000000006,419.964,1096.8499999999999,111.69,0,2655.69,2135,930.00099999999998,2637.81,297.5,10284.5,349.49299999999999,0,0,0,0,0,65.400000000000006,0,0,414.89299999999997,0,0,0,0,0,0,0,0,0,0,34.869999999999997,41.2,1.17,0,27.53,23.83,14.92,28.35,2.86,174.73,0,2.2534100000000001,1.2753799999999999E-2,0,0.20327500000000001,0.33579999999999999,0.11074100000000001,0.35138000000000003,4.1461199999999997E-3,3.2715100000000001,45.360599999999998,0,46.316699999999997]
["2016-08-31T17:00:32","U11R06","v25 12 P21 U20 R06","Proposed and Standard","PASS",10.63,49.834200000000003,182.215,205.81100000000001,111.69,0,1130.93,505.55700000000002,2010.69,2025.88,119.621,6292.39,0,0,0,0,0,0,0,0,0,0,21.2182,0,0,0,0,0,0,0,0,21.2182,37.94,7.03,1.17,0,11.06,0,5.55,22.56,21.58,1.22,108.11,57.2,190.35599999999999,272.22899999999998,111.69,0,0,505.55700000000002,2021.01,2025.88,119.621,5246.34,0,0,0,0,0,0,0,0,0,0,22.1661,0,0,0,10.829000000000001,0,0,0,0,32.995199999999997,39.659999999999997,10.050000000000001,1.17,0,16.95,5.55,22.68,21.58,1.22,118.86,67.83,"CA Residential 2016, Vers. 1.0","CSE 0.813 EXE",null,"MPCBECC",0,0.378108,1.2753799999999999E-2,0,5.3186700000000003E-2,7.4915999999999996E-2,0.29150599999999999,0.25846799999999998,1.0530599999999999E-2,1.0794699999999999,0.44404900000000003,0,0.52325200000000005,1.2753799999999999E-2,0,0,7.4915999999999996E-2,0.29323100000000002,0.25846799999999998,1.0530599999999999E-2,1.1731499999999999,0.53600599999999998,9.3682199999999993E-2,9.1956999999999997E-2,9.0442499999999999,15.6715,{"$nulls":9},182.215,205.81100000000001,111.69,0,1130.93,0,505.55700000000002,2010.69,2025.88,119.621,6292.39,0,0,0,0,0,0,0,0,0,0,21.2182,0,0,0,0,0,0,0,0,21.2182,37.94,7.03,1.17,0,11.06,0,5.55,22.56,21.58,1.22,108.11,0,0.378108,1.2753799999999999E-2,0,5.3186700000000003E-2,0,7.4915999999999996E-2,0.29150599999999999,0.25846799999999998,1.0530599999999999E-2,1.0794699999999999,426.97899999999998,1056.53,111.69,0,2655.7,2135,2349,2531,297.5,11563.4,0,0,0,0,0,0,0,0,0,0,35.533099999999997,0,0,0,0,0,0,0,0,35.533099999999997,64.52,40.229999999999997,1.17,0,27.53,23.83,25.03,27.2,2.86,212.37,0,2.2093600000000002,1.2753799999999999E-2,0,0.20327500000000001,0.33579999999999999,0.299765,0.33715200000000001,4.1461199999999997E-3,3.40225,49.834200000000003,0,54.789499999999997]
["2016-08-31T17:00:32","U11R07","v25 12 P21 U20 R07","Proposed and Standard","PASS",4.75,43.258499999999998,2082.31,202.53299999999999,111.69,0,0,505.55700000000002,946.505,2025.88,119.621,5994.1,0,0,0,0,108.29,0,43.669699999999999,0,0,151.96,0,0,0,0,0,0,0,0,0,0,18.55,6.9,1.17,0,8.66,0,5.55,13.98,21.58,1.22,77.61,35.28,2238.8200000000002,276.16500000000002,111.69,0,0,505.55700000000002,951.41,2025.88,119.621,6229.15,0,0,0,0,108.29,0,43.669699999999999,0,0,151.96,0,0,0,0,0,0,0,0,0,0,19.97,10.23,1.17,0,8.66,5.55,14.04,21.58,1.22,82.42,40.03,"CA Residential 2016, Vers. 1.0","CSE 0.813 EXE",null,"MPCBECC",0,0.36092999999999997,1.2753799999999999E-2,0,0,7.4915999999999996E-2,0.14865100000000001,0.25846799999999998,1.0530599999999999E-2,0.86624999999999996,0.37368400000000002,0,0.53406900000000002,1.2753799999999999E-2,0,0,7.4915999999999996E-2,0.14984600000000001,0.25846799999999998,1.0530599999999999E-2,1.0405800000000001,0.54682200000000003,0.17433399999999999,0.17313799999999999,5.83596,11.866099999999999,{"$nulls":9},2082.31,202.53299999999999,111.69,0,0,0,505.55700000000002,946.505,2025.88,119.621,5994.1,0,0,0,0,108.29,0,43.669699999999999,0,0,151.96,0,0,0,0,0,0,0,0,0,0,18.55,6.9,1.17,0,8.66,0,5.55,13.98,21.58,1.22,77.61,0,0.36092999999999997,1.2753799999999999E-2,0,0,0,7.4915999999999996E-2,0.14865100000000001,0.25846799999999998,1.0530599999999999E-2,0.86624999999999996,3690.89,1095.0899999999999,111.69,0,0,2135,930.00099999999998,2637.81,297.5,10898,0,0,0,0,162.852,0,65.400000000000006,0,0,228.25200000000001,0,0,0,0,0,0,0,0,0,0,32.94,41.16,1.17,0,13.03,23.83,14.92,28.35,2.86,158.26,0,2.2516400000000001,1.2753799999999999E-2,0,0,0.33579999999999999,0.11074100000000001,0.35138000000000003,4.1461199999999997E-3,3.0664600000000002,43.258499999999998,0,45.939500000000002]
["2016-08-31T17:00:34","U11R08","v25 12 P21 U20 R08","Proposed and Standard","PASS",4.75,44.363399999999999,2091.65,199.37799999999999,111.69,0,0,505.55700000000002,2018.72,2025.88,119.621,7072.5,0,0,0,0,0,0,0,0,0,0,0,0,0,0,10.829000000000001,0,0,0,0,10.829000000000001,18.63,6.73,1.17,0,16.95,0,5.55,22.64,21.58,1.22,94.47,43.48,2248.63,272.25599999999997,111.69,0,0,505.55700000000002,2023.63,2025.88,119.621,7307.27,0,0,0,0,0,0,0,0,0,0,0,0,0,0,10.829000000000001,0,0,0,0,10.829000000000001,20.059999999999999,10.050000000000001,1.17,0,16.95,5.55,22.7,21.58,1.22,99.28,48.23,"CA Residential 2016, Vers. 1.0","CSE 0.813 EXE",null,"MPCBECC",0,0.35071600000000003,1.2753799999999999E-2,0,0,7.4915999999999996E-2,0.29203400000000002,0.25846799999999998,1.0530599999999999E-2,0.99941800000000003,0.36347000000000002,0,0.52325299999999997,1.2753799999999999E-2,0,0,7.4915999999999996E-2,0.29323100000000002,0.25846799999999998,1.0530599999999999E-2,1.1731499999999999,0.53600599999999998,0.173733,0.17253599999999999,4.8448799999999999,9.8486399999999996,{"$nulls":9},2091.65,199.37799999999999,111.69,0,0,0,505.55700000000002,2018.72,2025.88,119.621,7072.5,0,0,0,0,0,0,0,0,0,0,0,0,0,0,10.829000000000001,0,0,0,0,10.829000000000001,18.63,6.73,1.17,0,16.95,0,5.55,22.64,21.58,1.22,94.47,0,0.35071600000000003,1.2753799999999999E-2,0,0,0,7.4915999999999996E-2,0.29203400000000002,0.25846799999999998,1.0530599999999999E-2,0.99941800000000003,3743.38,1054.78,111.69,0,0,2135,2349,2531,297.5,12222.3,0,0,0,0,0,0,0,0,0,0,0,0,0,0,16.2852,0,0,0,0,16.2852,33.409999999999997,40.19,1.17,0,25.48,23.83,25.03,27.2,2.86,179.17,0,2.20757,1.2753799999999999E-2,0,0,0.33579999999999999,0.299765,0.33715200000000001,4.1461199999999997E-3,3.19719,44.363399999999999,0,46.622199999999999]
["2016-08-31T17:00:34","U11R09","v25 12 P21 U20 R09","Proposed and Standard","PASS",2.36,45.267299999999999,2103.04,198.74199999999999,111.69,0,1130.6500000000001,505.55700000000002,941.09799999999996,2025.88,119.621,7136.28,0,0,0,0,0,0,43.669699999999999,0,0,43.669699999999999,0,0,0,0,0,0,0,0,0,0,18.73,6.71,1.17,0,11.06,0,5.55,13.93,21.58,1.22,79.95,37.67,2238.8200000000002,276.16500000000002,111.69,0,0,505.55700000000002,951.41,2025.88,119.621,6229.15,0,0,0,0,108.29,0,43.669699999999999,0,0,151.96,0,0,0,0,0,0,0,0,0,0,19.97,10.23,1.17,0,8.66,5.55,14.04,21.58,1.22,82.42,40.03,"CA Residential 2016, Vers. 1.0","CSE 0.813 EXE",null,"MPCBECC",0,0.34998299999999999,1.2753799999999999E-2,0,5.3185700000000002E-2,7.4915999999999996E-2,0.148091,0.25846799999999998,1.0530599999999999E-2,0.90792799999999996,0.41592200000000001,0,0.53406900000000002,1.2753799999999999E-2,0,0,7.4915999999999996E-2,0.14984600000000001,0.25846799999999998,1.0530599999999999E-2,1.0405800000000001,0.54682200000000003,0.132655,0.13089999999999999,2.9968499999999998,5.8955799999999998,{"$nulls":9},2103.04,198.74199999999999,111.69,0,1130.6500000000001,0,505.55700000000002,941.09799999999996,2025.88,119.621,7136.28,0,0,0,0,0,0,43.669699999999999,0,0,43.669699999999999,0,0,0,0,0,0,0,0,0,0,18.73,6.71,1.17,0,11.06,0,5.55,13.93,21.58,1.22,79.95,0,0.34998299999999999,1.2753799999999999E-2,0,5.3185700000000002E-2,0,7.4915999999999996E-2,0.148091,0.25846799999999998,1.0530599999999999E-2,0.90792799999999996,3684.68,1096.8800000000001,111.69,0,2655.67,2135,930.00099999999998,2637.81,297.5,13549.2,0,0,0,0,0,0,65.400000000000006,0,0,65.400000000000006,0,0,0,0,0,0,0,0,0,0,32.880000000000003,41.2,1.17,0,27.53,23.83,14.92,28.35,2.86,172.74,0,2.2534100000000001,1.2753799999999999E-2,0,0.20327500000000001,0.33579999999999999,0.11074100000000001,0.35138000000000003,4.1461199999999997E-3,3.2715100000000001,45.267299999999999,0,46.665799999999997]
["2016-08-31T17:00:33","U11R10","v25 12 P21 U20 R10","Proposed and Standard","PASS",10.63,48.863100000000003,2112.36,195.67,111.69,0,1130.6600000000001,505.55700000000002,2013.31,2025.88,119.621,8214.75,0,0,0,0,0,0,0,0,0,0,0,0,0,0,0,0,0,0,0,0,18.82,6.55,1.17,0,11.06,0,5.55,22.59,21.58,1.22,88.54,37.6,2248.63,272.25599999999997,111.69,0,0,505.55700000000002,2023.63,2025.88,119.621,7307.27,0,0,0,0,0,0,0,0,0,0,0,0,0,0,10.829000000000001,0,0,0,0,10.829000000000001,20.059999999999999,10.050000000000001,1.17,0,16.95,5.55,22.7,21.58,1.22,99.28,48.23,"CA Residential 2016, Vers. 1.0","CSE 0.813 EXE",null,"MPCBECC",0,0.33998899999999999,1.2753799999999999E-2,0,5.31861E-2,7.4915999999999996E-2,0.29147400000000001,0.25846799999999998,1.0530599999999999E-2,1.04132,0.40592899999999998,0,0.52325299999999997,1.2753799999999999E-2,0,0,7.4915999999999996E-2,0.29323100000000002,0.25846799999999998,1.0530599999999999E-2,1.1731499999999999,0.53600599999999998,0.13183500000000001,0.130078,10.8179,22.040199999999999,{"$nulls":9},2112.36,195.67,111.69,0,1130.6600000000001,0,505.55700000000002,2013.31,2025.88,119.621,8214.75,0,0,0,0,0,0,0,0,0,0,0,0,0,0,0,0,0,0,0,0,18.82,6.55,1.17,0,11.06,0,5.55,22.59,21.58,1.22,88.54,0,0.33998899999999999,1.2753799999999999E-2,0,5.31861E-2,0,7.4915999999999996E-2,0.29147400000000001,0.25846799999999998,1.0530599999999999E-2,1.04132,3737.17,1056.55,111.69,0,2655.68,2135,2349,2531,297.5,14873.6,0,0,0,0,0,0,0,0,0,0,0,0,0,0,0,0,0,0,0,0,33.35,40.229999999999997,1.17,0,27.53,23.83,25.03,27.2,2.86,181.2,0,2.2093600000000002,1.2753799999999999E-2,0,0.20327500000000001,0.33579999999999999,0.299765,0.33715200000000001,4.1461199999999997E-3,3.40225,48.863100000000003,0,54.790300000000002]
["2016-08-31T17:00:06","U12R01","v27 E New Construction","Proposed and Standard","FAIL",-191.57,138.08500000000001,362.798,3032.15,97.236000000000004,0,0,355.303,782.95,2025.88,84.538300000000007,6740.86,439.36099999999999,0,0,0,157.20699999999999,0,43.669699999999999,0,0,640.23800000000006,0,0,0,0,0,0,0,0,0,0,61.74,156.72999999999999,1.48,0,18.34,0,5.69,17.7,31.47,1.25,294.39999999999998,238.29,129.09800000000001,224.947,97.236000000000004,0,0,355.303,778.43600000000004,2025.88,84.538300000000007,3695.44,150.32900000000001,0,0,0,104.508,0,43.669699999999999,0,0,298.50700000000001,0,0,0,0,0,0,0,0,0,0,21.24,11.81,1.48,0,12.19,5.69,17.600000000000001,31.47,1.25,102.73,46.72,"CA Residential 2016, Vers. 1.0","CSE 0.813 EXE",null,"MPCBECC",0,5.6989599999999996,1.11033E-2,0,0,5.2650500000000003E-2,0.119451,0.25846799999999998,7.44212E-3,6.1480800000000002,5.7100600000000004,0,0.42153200000000002,1.11033E-2,0,0,5.2650500000000003E-2,0.11767900000000001,0.25846799999999998,7.44212E-3,0.86887499999999995,0.43263499999999999,-5.2792000000000003,-5.2774299999999998,-186.57599999999999,-410.03899999999999,{"$nulls":9},362.798,3032.15,97.236000000000004,0,0,0,355.303,782.95,2025.88,84.538300000000007,6740.86,439.36099999999999,0,0,0,157.20699999999999,0,43.669699999999999,0,0,640.23800000000006,0,0,0,0,0,0,0,0,0,0,61.74,156.72999999999999,1.48,0,18.34,0,5.69,17.7,31.47,1.25,294.39999999999998,0,5.6989599999999996,1.11033E-2,0,0,0,5.2650500000000003E-2,0.119451,0.25846799999999998,7.44212E-3,6.1480800000000002,261.45999999999998,910.25400000000002,97.236000000000004,0,0,1607,930.00099999999998,2037.2,264.5,6107.65,217.58699999999999,0,0,0,159.21199999999999,0,65.400000000000006,0,0,442.19799999999998,0,0,0,0,0,0,0,0,0,0,31.67,45.53,1.48,0,18.57,26.16,21.76,31.93,3.7,180.8,0,1.6559999999999999,1.11033E-2,0,0,0.25275399999999998,0.11074100000000001,0.27137299999999998,3.6862100000000001E-3,2.30566,138.08500000000001,0,48.184399999999997]
["2016-08-31T17:00:08","U12R02","v27 E Add/Alt","Proposed and Standard","PASS",0,0,352.95499999999998,3104.4,0,0,0,355.303,783.59199999999998,2025.88,84.538300000000007,6706.67,427.44099999999997,0,0,0,157.20699999999999,0,43.669699999999999,0,0,628.31700000000001,0,0,0,0,0,0,0,0,0,0,60.09,162.55000000000001,0,0,18.34,0,5.69,17.71,31.47,1.25,297.10000000000002,240.98,352.95499999999998,3104.4,0,0,0,355.303,783.59199999999998,2025.88,84.538300000000007,6706.67,427.44099999999997,0,0,0,157.20699999999999,0,43.669699999999999,0,0,628.31700000000001,0,0,0,0,0,0,0,0,0,0,60.09,162.55000000000001,0,0,18.34,5.69,17.71,31.47,1.25,297.10000000000002,240.98,"CA Residential 2016, Vers. 1.0","CSE 0.813 EXE",null,"MPCBECC",0,5.9353600000000002,0,0,0,5.2650500000000003E-2,0.119435,0.25846799999999998,7.44212E-3,6.3733500000000003,5.9353600000000002,0,5.9353600000000002,0,0,0,5.2650500000000003E-2,0.119435,0.25846799999999998,7.44212E-3,6.3733500000000003,5.9353600000000002,0,0,0,0]
["2016-08-31T17:00:23","U12R03","v27 EA","Proposed and Standard","FAIL",-3.36,0,379.42700000000002,3026.54,0,0,0,395.20800000000003,783.40099999999995,2025.88,96.498500000000007,6706.96,457.65300000000002,0,0,0,158.54900000000001,0,43.669699999999999,0,0,659.87099999999998,0,0,0,0,0,0,0,0,0,0,55.69,138.63999999999999,0,0,15.99,0,5.47,15.31,27.21,1.24,259.55,210.32,372.97300000000001,2973.06,0,0,0,395.20800000000003,783.45600000000002,2025.88,96.498500000000007,6647.07,450.13799999999998,0,0,0,158.54900000000001,0,43.669699999999999,0,0,652.35599999999999,0,0,0,0,0,0,0,0,0,0,54.78,136.19,0,0,15.99,5.47,15.31,27.21,1.24,256.19,206.96,"CA Residential 2016, Vers. 1.0","CSE 0.813 EXE",null,"MPCBECC",0,5.8392200000000001,0,0,0,5.8563799999999999E-2,0.119352,0.25846799999999998,8.4950000000000008E-3,6.2840999999999996,5.8392200000000001,0,5.7310999999999996,0,0,0,5.8563799999999999E-2,0.119352,0.25846799999999998,8.4950000000000008E-3,6.17598,5.7310999999999996,-0.108123,-0.108123,-1.3115300000000001,-1.6234999999999999]
["2016-08-31T17:00:44","U12R04","v27 EAA R38 U1.28","Proposed and Standard","PASS",22.32,0,348.827,2416.5500000000002,0,0,0,395.20800000000003,782.30200000000002,2025.88,96.498500000000007,6065.27,420.59199999999998,0,0,0,158.54900000000001,0,43.669699999999999,0,0,622.81100000000004,0,0,0,0,0,0,0,0,0,0,51.15,117.5,0,0,15.99,0,5.47,15.3,27.21,1.24,233.86,184.64,372.97300000000001,2973.06,0,0,0,395.20800000000003,783.45600000000002,2025.88,96.498500000000007,6647.07,450.13799999999998,0,0,0,158.54900000000001,0,43.669699999999999,0,0,652.35599999999999,0,0,0,0,0,0,0,0,0,0,54.78,136.19,0,0,15.99,5.47,15.31,27.21,1.24,256.19,206.96,"CA Residential 2016, Vers. 1.0","CSE 0.813 EXE",null,"MPCBECC",0,5.0465999999999998,0,0,0,5.8563799999999999E-2,0.11924999999999999,0.25846799999999998,8.4950000000000008E-3,5.4913800000000004,5.0465999999999998,0,5.7310999999999996,0,0,0,5.8563799999999999E-2,0.119352,0.25846799999999998,8.4950000000000008E-3,6.17598,5.7310999999999996,0.68459700000000001,0.68449499999999996,8.7161899999999992,10.784700000000001]
["2016-08-31T17:00:27","U12R05","v27 EAA R38V U41","Proposed and Standard","PASS",23.46,0,321.78800000000001,1726.6,0,0,0,395.20800000000003,780.4,2025.88,96.498500000000007,5346.37,387.846,0,0,0,158.54900000000001,0,43.669699999999999,0,0,590.06500000000005,0,0,0,0,0,0,0,0,0,0,47.12,87.53,0,0,15.99,0,5.47,15.27,27.21,1.24,199.83,150.63999999999999,344.774,2277.04,0,0,0,395.20800000000003,781.95600000000002,2025.88,96.498500000000007,5921.36,415.98700000000002,0,0,0,158.54900000000001,0,43.669699999999999,0,0,618.20600000000002,0,0,0,0,0,0,0,0,0,0,50.58,107.53,0,0,15.99,5.47,15.29,27.21,1.24,223.31,174.1,"CA Residential 2016, Vers. 1.0","CSE 0.813 EXE",null,"MPCBECC",0,3.7418200000000001,0,0,0,5.8563799999999999E-2,0.11885900000000001,0.25846799999999998,8.4950000000000008E-3,4.18621,3.7418200000000001,0,4.5141900000000001,0,0,0,5.8563799999999999E-2,0.119043,0.25846799999999998,8.4950000000000008E-3,4.9587599999999998,4.5141900000000001,0.77255200000000002,0.77236800000000005,10.5145,13.475]
["2016-08-31T17:00:25","U12R06","v27 EAA R38V U41V","Proposed and Standard","PASS",23.46,0,321.78800000000001,1726.6,0,0,0,395.20800000000003,780.4,2025.88,96.498500000000007,5346.37,387.846,0,0,0,158.54900000000001,0,43.669699999999999,0,0,590.06500000000005,0,0,0,0,0,0,0,0,0,0,47.12,87.53,0,0,15.99,0,5.47,15.27,27.21,1.24,199.83,150.63999999999999,344.774,2277.04,0,0,0,395.20800000000003,781.95600000000002,2025.88,96.498500000000007,5921.36,415.98700000000002,0,0,0,158.54900000000001,0,43.669699999999999,0,0,618.20600000000002,0,0,0,0,0,0,0,0,0,0,50.58,107.53,0,0,15.99,5.47,15.29,27.21,1.24,223.31,174.1,"CA Residential 2016, Vers. 1.0","CSE 0.813 EXE",null,"MPCBECC",0,3.7418200000000001,0,0,0,5.8563799999999999E-2,0.11885900000000001,0.25846799999999998,8.4950000000000008E-3,4.18621,3.7418200000000001,0,4.5141900000000001,0,0,0,5.8563799999999999E-2,0.119043,0.25846799999999998,8.4950000000000008E-3,4.9587599999999998,4.5141900000000001,0.77255200000000002,0.77236800000000005,10.5145,13.475]
["2016-08-31T17:00:27","U12R07","v27 EAA R38V U40","Proposed and Standard","PASS",24.2,0,321.59500000000003,1704.66,0,0,0,395.20800000000003,780.30200000000002,2025.88,96.498500000000007,5324.14,387.613,0,0,0,158.54900000000001,0,43.669699999999999,0,0,589.83199999999999,0,0,0,0,0,0,0,0,0,0,47.09,86.82,0,0,15.99,0,5.47,15.27,27.21,1.24,199.09,149.9,344.774,2277.04,0,0,0,395.20800000000003,781.95600000000002,2025.88,96.498500000000007,5921.36,415.98700000000002,0,0,0,158.54900000000001,0,43.669699999999999,0,0,618.20600000000002,0,0,0,0,0,0,0,0,0,0,50.58,107.53,0,0,15.99,5.47,15.29,27.21,1.24,223.31,174.1,"CA Residential 2016, Vers. 1.0","CSE 0.813 EXE",null,"MPCBECC",0,3.7126399999999999,0,0,0,5.8563799999999999E-2,0.118836,0.25846799999999998,8.4950000000000008E-3,4.157,3.7126399999999999,0,4.5141900000000001,0,0,0,5.8563799999999999E-2,0.119043,0.25846799999999998,8.4950000000000008E-3,4.9587599999999998,4.5141900000000001,0.80175700000000005,0.80154999999999998,10.8459,13.9001]
["2016-08-31T17:00:48","U12R08","v27 EAA R38V U40V","Proposed and Standard","PASS",57.06,0,321.59500000000003,1704.66,0,0,0,395.20800000000003,780.30200000000002,2025.88,96.498500000000007,5324.14,387.613,0,0,0,158.54900000000001,0,43.669699999999999,0,0,589.83199999999999,0,0,0,0,0,0,0,0,0,0,47.09,86.82,0,0,15.99,0,5.47,15.27,27.21,1.24,199.09,149.9,372.97300000000001,2973.06,0,0,0,395.20800000000003,783.45600000000002,2025.88,96.498500000000007,6647.07,450.13799999999998,0,0,0,158.54900000000001,0,43.669699999999999,0,0,652.35599999999999,0,0,0,0,0,0,0,0,0,0,54.78,136.19,0,0,15.99,5.47,15.31,27.21,1.24,256.19,206.96,"CA Residential 2016, Vers. 1.0","CSE 0.813 EXE",null,"MPCBECC",0,3.7126399999999999,0,0,0,5.8563799999999999E-2,0.118836,0.25846799999999998,8.4950000000000008E-3,4.157,3.7126399999999999,0,5.7310999999999996,0,0,0,5.8563799999999999E-2,0.119352,0.25846799999999998,8.4950000000000008E-3,6.17598,5.7310999999999996,2.0189699999999999,2.0184600000000001,22.2881,27.570599999999999]
["2016-08-31T17:00:27","U12R09","v27 EAA R38V U39","Proposed and Standard","PASS",25.01,0,321.42,1684.67,0,0,0,395.20800000000003,780.20799999999997,2025.88,96.498500000000007,5303.89,387.40100000000001,0,0,0,158.54900000000001,0,43.669699999999999,0,0,589.62,0,0,0,0,0,0,0,0,0,0,47.06,86.04,0,0,15.99,0,5.47,15.27,27.21,1.24,198.28,149.09,344.774,2277.04,0,0,0,395.20800000000003,781.95600000000002,2025.88,96.498500000000007,5921.36,415.98700000000002,0,0,0,158.54900000000001,0,43.669699999999999,0,0,618.20600000000002,0,0,0,0,0,0,0,0,0,0,50.58,107.53,0,0,15.99,5.47,15.29,27.21,1.24,223.31,174.1,"CA Residential 2016, Vers. 1.0","CSE 0.813 EXE",null,"MPCBECC",0,3.6792099999999999,0,0,0,5.8563799999999999E-2,0.11881899999999999,0.25846799999999998,8.4950000000000008E-3,4.1235499999999998,3.6792099999999999,0,4.5141900000000001,0,0,0,5.8563799999999999E-2,0.119043,0.25846799999999998,8.4950000000000008E-3,4.9587599999999998,4.5141900000000001,0.83520799999999995,0.83498499999999998,11.208600000000001,14.3653]
["2016-08-31T17:00:25","U12R10","v27 EAA R38V U39V","Proposed and Standard","PASS",57.87,0,321.42,1684.67,0,0,0,395.20800000000003,780.20799999999997,2025.88,96.498500000000007,5303.89,387.40100000000001,0,0,0,158.54900000000001,0,43.669699999999999,0,0,589.62,0,0,0,0,0,0,0,0,0,0,47.06,86.04,0,0,15.99,0,5.47,15.27,27.21,1.24,198.28,149.09,372.97300000000001,2973.06,0,0,0,395.20800000000003,783.45600000000002,2025.88,96.498500000000007,6647.07,450.13799999999998,0,0,0,158.54900000000001,0,43.669699999999999,0,0,652.35599999999999,0,0,0,0,0,0,0,0,0,0,54.78,136.19,0,0,15.99,5.47,15.31,27.21,1.24,256.19,206.96,"CA Residential 2016, Vers. 1.0","CSE 0.813 EXE",null,"MPCBECC",0,3.6792099999999999,0,0,0,5.8563799999999999E-2,0.11881899999999999,0.25846799999999998,8.4950000000000008E-3,4.1235499999999998,3.6792099999999999,0,5.7310999999999996,0,0,0,5.8563799999999999E-2,0.119352,0.25846799999999998,8.4950000000000008E-3,6.17598,5.7310999999999996,2.0524200000000001,2.0518900000000002,22.604299999999999,27.9619]
["2016-08-31T17:00:31","U13R01","v27 EAA R38V R11","Proposed and Standard","PASS",22.06,0,245.38200000000001,2012.79,0,0,0,395.20800000000003,785.596,2025.88,96.498500000000007,5561.35,295.31299999999999,0,0,0,158.54900000000001,0,43.669699999999999,0,0,497.53199999999998,0,0,0,0,0,0,0,0,0,0,36.04,96.39,0,0,15.99,0,5.47,15.33,27.21,1.24,197.67,148.41999999999999,270.13799999999998,2573.0500000000002,0,0,0,395.20800000000003,786.83199999999999,2025.88,96.498500000000007,6147.61,325.59800000000001,0,0,0,158.54900000000001,0,43.669699999999999,0,0,527.81700000000001,0,0,0,0,0,0,0,0,0,0,39.76,114.73,0,0,15.99,5.47,15.35,27.21,1.24,219.75,170.48,"CA Residential 2016, Vers. 1.0","CSE 0.813 EXE",null,"MPCBECC",0,4.1247499999999997,0,0,0,5.8563799999999999E-2,0.11919399999999999,0.25846799999999998,8.4950000000000008E-3,4.5694699999999999,4.1247499999999997,0,4.8068200000000001,0,0,0,5.8563799999999999E-2,0.11935900000000001,0.25846799999999998,8.4950000000000008E-3,5.2517100000000001,4.8068200000000001,0.68223800000000001,0.68207200000000001,10.047800000000001,12.9399]
["2016-08-31T17:00:31","U13R02","v27 EAA R38V R11V","Proposed and Standard","PASS",22.06,0,245.38200000000001,2012.79,0,0,0,395.20800000000003,785.596,2025.88,96.498500000000007,5561.35,295.31299999999999,0,0,0,158.54900000000001,0,43.669699999999999,0,0,497.53199999999998,0,0,0,0,0,0,0,0,0,0,36.04,96.39,0,0,15.99,0,5.47,15.33,27.21,1.24,197.67,148.41999999999999,270.13799999999998,2573.0500000000002,0,0,0,395.20800000000003,786.83199999999999,2025.88,96.498500000000007,6147.61,325.59800000000001,0,0,0,158.54900000000001,0,43.669699999999999,0,0,527.81700000000001,0,0,0,0,0,0,0,0,0,0,39.76,114.73,0,0,15.99,5.47,15.35,27.21,1.24,219.75,170.48,"CA Residential 2016, Vers. 1.0","CSE 0.813 EXE",null,"MPCBECC",0,4.1247499999999997,0,0,0,5.8563799999999999E-2,0.11919399999999999,0.25846799999999998,8.4950000000000008E-3,4.5694699999999999,4.1247499999999997,0,4.8068200000000001,0,0,0,5.8563799999999999E-2,0.11935900000000001,0.25846799999999998,8.4950000000000008E-3,5.2517100000000001,4.8068200000000001,0.68223800000000001,0.68207200000000001,10.047800000000001,12.9399]
["2016-08-31T17:00:31","U13R03","v27 EAA R38V R13","Proposed and Standard","PASS",24.31,0,239.03299999999999,1997.1,0,0,0,395.20800000000003,785.85900000000004,2025.88,96.498500000000007,5539.58,287.625,0,0,0,158.54900000000001,0,43.669699999999999,0,0,489.84300000000002,0,0,0,0,0,0,0,0,0,0,35.11,95.07,0,0,15.99,0,5.47,15.34,27.21,1.24,195.43,146.16999999999999,270.13799999999998,2573.0500000000002,0,0,0,395.20800000000003,786.83199999999999,2025.88,96.498500000000007,6147.61,325.59800000000001,0,0,0,158.54900000000001,0,43.669699999999999,0,0,527.81700000000001,0,0,0,0,0,0,0,0,0,0,39.76,114.73,0,0,15.99,5.47,15.35,27.21,1.24,219.75,170.48,"CA Residential 2016, Vers. 1.0","CSE 0.813 EXE",null,"MPCBECC",0,4.0682299999999998,0,0,0,5.8563799999999999E-2,0.119212,0.25846799999999998,8.4950000000000008E-3,4.5129700000000001,4.0682299999999998,0,4.8068200000000001,0,0,0,5.8563799999999999E-2,0.11935900000000001,0.25846799999999998,8.4950000000000008E-3,5.2517100000000001,4.8068200000000001,0.73873100000000003,0.73858400000000002,11.0671,14.2597]
["2016-08-31T17:00:55","U13R04","v27 EAA R38V R13V","Proposed and Standard","PASS",60.79,0,239.03299999999999,1997.1,0,0,0,395.20800000000003,785.85900000000004,2025.88,96.498500000000007,5539.58,287.625,0,0,0,158.54900000000001,0,43.669699999999999,0,0,489.84300000000002,0,0,0,0,0,0,0,0,0,0,35.11,95.07,0,0,15.99,0,5.47,15.34,27.21,1.24,195.43,146.16999999999999,372.97300000000001,2973.06,0,0,0,395.20800000000003,783.45600000000002,2025.88,96.498500000000007,6647.07,450.13799999999998,0,0,0,158.54900000000001,0,43.669699999999999,0,0,652.35599999999999,0,0,0,0,0,0,0,0,0,0,54.78,136.19,0,0,15.99,5.47,15.31,27.21,1.24,256.19,206.96,"CA Residential 2016, Vers. 1.0","CSE 0.813 EXE",null,"MPCBECC",0,4.0682299999999998,0,0,0,5.8563799999999999E-2,0.119212,0.25846799999999998,8.4950000000000008E-3,4.5129700000000001,4.0682299999999998,0,5.7310999999999996,0,0,0,5.8563799999999999E-2,0.119352,0.25846799999999998,8.4950000000000008E-3,6.17598,5.7310999999999996,1.663,1.66286,23.716799999999999,29.372800000000002]
["2016-08-31T17:00:30","U13R05","v27 EAA R38V HVAC Worse","Proposed and Standard","FAIL",-14.33,0,318.80599999999998,1741.33,0,0,0,395.20800000000003,782.32,2025.88,96.498500000000007,5360.05,375.45499999999998,0,0,0,158.54900000000001,0,43.669699999999999,0,0,577.67399999999998,0,0,0,0,0,0,0,0,0,0,45.74,83.79,0,0,15.99,0,5.47,15.3,27.21,1.24,194.74,145.52000000000001,338.142,1468.52,0,0,0,395.20800000000003,783.49699999999996,2025.88,96.498500000000007,5107.74,393.75299999999999,0,0,0,158.54900000000001,0,43.669699999999999,0,0,595.971,0,0,0,0,0,0,0,0,0,0,48.05,67.150000000000006,0,0,15.99,5.47,15.31,27.21,1.24,180.42,131.19,"CA Residential 2016, Vers. 1.0","CSE 0.813 EXE",null,"MPCBECC",0,3.5987200000000001,0,0,0,5.8563799999999999E-2,0.119226,0.25846799999999998,8.4950000000000008E-3,4.0434799999999997,3.5987200000000001,0,2.82917,0,0,0,5.8563799999999999E-2,0.119325,0.25846799999999998,8.4950000000000008E-3,3.2740200000000002,2.82917,-0.76945399999999997,-0.76955300000000004,-7.9370399999999997,-10.9231]
["2016-08-31T17:00:31","U13R06","v27 EAA R38V HVAC WorseV","Proposed and Standard","FAIL",-14.33,0,318.80599999999998,1741.33,0,0,0,395.20800000000003,782.32,2025.88,96.498500000000007,5360.05,375.45499999999998,0,0,0,158.54900000000001,0,43.669699999999999,0,0,577.67399999999998,0,0,0,0,0,0,0,0,0,0,45.74,83.79,0,0,15.99,0,5.47,15.3,27.21,1.24,194.74,145.52000000000001,338.142,1468.52,0,0,0,395.20800000000003,783.49699999999996,2025.88,96.498500000000007,5107.74,393.75299999999999,0,0,0,158.54900000000001,0,43.669699999999999,0,0,595.971,0,0,0,0,0,0,0,0,0,0,48.05,67.150000000000006,0,0,15.99,5.47,15.31,27.21,1.24,180.42,131.19,"CA Residential 2016, Vers. 1.0","CSE 0.813 EXE",null,"MPCBECC",0,3.5987200000000001,0,0,0,5.8563799999999999E-2,0.119226,0.25846799999999998,8.4950000000000008E-3,4.0434799999999997,3.5987200000000001,0,2.82917,0,0,0,5.8563799999999999E-2,0.119325,0.25846799999999998,8.4950000000000008E-3,3.2740200000000002,2.82917,-0.76945399999999997,-0.76955300000000004,-7.9370399999999997,-10.9231]
["2016-08-31T17:00:31","U13R07","v27 EAA R38V HVAC Equal","Proposed and Standard","PASS",12.45,0,313.46699999999998,1201.3399999999999,0,0,0,395.20800000000003,782.31799999999998,2025.88,96.498500000000007,4814.71,365.01900000000001,0,0,0,158.54900000000001,0,43.669699999999999,0,0,567.23800000000006,0,0,0,0,0,0,0,0,0,0,44.51,58.24,0,0,15.99,0,5.47,15.3,27.21,1.24,167.96,118.74,338.142,1468.52,0,0,0,395.20800000000003,783.49699999999996,2025.88,96.498500000000007,5107.74,393.75299999999999,0,0,0,158.54900000000001,0,43.669699999999999,0,0,595.971,0,0,0,0,0,0,0,0,0,0,48.05,67.150000000000006,0,0,15.99,5.47,15.31,27.21,1.24,180.42,131.19,"CA Residential 2016, Vers. 1.0","CSE 0.813 EXE",null,"MPCBECC",0,2.5088599999999999,0,0,0,5.8563799999999999E-2,0.11922000000000001,0.25846799999999998,8.4950000000000008E-3,2.9536099999999998,2.5088599999999999,0,2.82917,0,0,0,5.8563799999999999E-2,0.119325,0.25846799999999998,8.4950000000000008E-3,3.2740200000000002,2.82917,0.32041500000000001,0.32030900000000001,6.9061000000000003,9.4900500000000001]
["2016-08-31T17:00:54","U13R08","v27 EAA R38V HVAC EqualV","Proposed and Standard","PASS",88.22,0,313.46699999999998,1201.3399999999999,0,0,0,395.20800000000003,782.31799999999998,2025.88,96.498500000000007,4814.71,365.01900000000001,0,0,0,158.54900000000001,0,43.669699999999999,0,0,567.23800000000006,0,0,0,0,0,0,0,0,0,0,44.51,58.24,0,0,15.99,0,5.47,15.3,27.21,1.24,167.96,118.74,372.97300000000001,2973.06,0,0,0,395.20800000000003,783.45600000000002,2025.88,96.498500000000007,6647.07,450.13799999999998,0,0,0,158.54900000000001,0,43.669699999999999,0,0,652.35599999999999,0,0,0,0,0,0,0,0,0,0,54.78,136.19,0,0,15.99,5.47,15.31,27.21,1.24,256.19,206.96,"CA Residential 2016, Vers. 1.0","CSE 0.813 EXE",null,"MPCBECC",0,2.5088599999999999,0,0,0,5.8563799999999999E-2,0.11922000000000001,0.25846799999999998,8.4950000000000008E-3,2.9536099999999998,2.5088599999999999,0,5.7310999999999996,0,0,0,5.8563799999999999E-2,0.119352,0.25846799999999998,8.4950000000000008E-3,6.17598,5.7310999999999996,3.2223700000000002,3.2222400000000002,34.439300000000003,42.626600000000003]
["2016-08-31T17:00:31","U13R09","v27 EAA R38V HVAC Better","Proposed and Standard","PASS",30.96,0,174.87200000000001,960.94100000000003,0,0,0,395.20800000000003,782.31,2025.88,96.498500000000007,4435.71,317.99299999999999,0,0,0,158.54900000000001,0,43.669699999999999,0,0,520.21199999999999,0,0,0,0,0,0,0,0,0,0,37.659999999999997,46.58,0,0,15.99,0,5.47,15.3,27.21,1.24,149.44999999999999,100.23,338.142,1468.52,0,0,0,395.20800000000003,783.49699999999996,2025.88,96.498500000000007,5107.74,393.75299999999999,0,0,0,158.54900000000001,0,43.669699999999999,0,0,595.971,0,0,0,0,0,0,0,0,0,0,48.05,67.150000000000006,0,0,15.99,5.47,15.31,27.21,1.24,180.42,131.19,"CA Residential 2016, Vers. 1.0","CSE 0.813 EXE",null,"MPCBECC",0,2.0061800000000001,0,0,0,5.8563799999999999E-2,0.11919200000000001,0.25846799999999998,8.4950000000000008E-3,2.4508899999999998,2.0061800000000001,0,2.82917,0,0,0,5.8563799999999999E-2,0.119325,0.25846799999999998,8.4950000000000008E-3,3.2740200000000002,2.82917,0.82312799999999997,0.82299500000000003,17.165500000000002,23.599399999999999]
["2016-08-31T17:00:32","U13R10","v27 EAA R38V HVAC BetterV","Proposed and Standard","PASS",106.73,0,174.87200000000001,960.94100000000003,0,0,0,395.20800000000003,782.31,2025.88,96.498500000000007,4435.71,317.99299999999999,0,0,0,158.54900000000001,0,43.669699999999999,0,0,520.21199999999999,0,0,0,0,0,0,0,0,0,0,37.659999999999997,46.58,0,0,15.99,0,5.47,15.3,27.21,1.24,149.44999999999999,100.23,372.97300000000001,2973.06,0,0,0,395.20800000000003,783.45600000000002,2025.88,96.498500000000007,6647.07,450.13799999999998,0,0,0,158.54900000000001,0,43.669699999999999,0,0,652.35599999999999,0,0,0,0,0,0,0,0,0,0,54.78,136.19,0,0,15.99,5.47,15.31,27.21,1.24,256.19,206.96,"CA Residential 2016, Vers. 1.0","CSE 0.813 EXE",null,"MPCBECC",0,2.0061800000000001,0,0,0,5.8563799999999999E-2,0.11919200000000001,0.25846799999999998,8.4950000000000008E-3,2.4508899999999998,2.0061800000000001,0,5.7310999999999996,0,0,0,5.8563799999999999E-2,0.119352,0.25846799999999998,8.4950000000000008E-3,6.17598,5.7310999999999996,3.7250800000000002,3.72492,41.664400000000001,51.570399999999999]
["2016-08-30T13:44:49","U13R10","v27 EAA R38V HVAC BetterV","Proposed and Standard","PASS",106.73,0,174.87200000000001,960.94100000000003,0,0,0,395.20800000000003,782.31,2025.88,96.498500000000007,4435.71,317.99299999999999,0,0,0,158.54900000000001,0,43.669699999999999,0,0,520.21199999999999,0,0,0,0,0,0,0,0,0,0,37.659999999999997,46.58,0,0,15.99,0,5.47,15.3,27.21,1.24,149.44999999999999,100.23,372.97300000000001,2973.06,0,0,0,395.20800000000003,783.45600000000002,2025.88,96.498500000000007,6647.07,450.13799999999998,0,0,0,158.54900000000001,0,43.669699999999999,0,0,652.35599999999999,0,0,0,0,0,0,0,0,0,0,54.78,136.19,0,0,15.99,5.47,15.31,27.21,1.24,256.19,206.96,"CA Residential 2016, Vers. 1.0","CSE 0.813 EXE",null,"MPCBECC",0,2.0061800000000001,0,0,0,5.8563799999999999E-2,0.11919200000000001,0.25846799999999998,8.4950000000000008E-3,2.4508899999999998,2.0061800000000001,0,5.7310999999999996,0,0,0,5.8563799999999999E-2,0.119352,0.25846799999999998,8.4950000000000008E-3,6.17598,5.7310999999999996,3.7250800000000002,3.72492,41.664400000000001,51.570399999999999]

{"sheet":"ReferenceLookups","index":5,"n_rows":1310,"n_cols":15,"rows_kept":1310,"cut":false,"hidden":false,"merged":[]}
["This tab should not be modified. Contains reference lookup data that drive rest of spreadsheet",{"$nulls":10},"Filename","Filename","Filename"]
["These are preset to match the format of the CBECC-Res AnalysisResults.csv file as of 11/18/2013 with PV Credit Column Added",{"$nulls":10},"Without","Without","Column"]
[{"$nulls":11},"Path","Extension"]
["ReferenceFile ","IA","If the column for the file name is changed, column L of this tab must be updated",{"$nulls":8},{"$f":"TRIM(RIGHT(SUBSTITUTE(IF(Reference!B4=\"\",Reference!CO4,Reference!B4),\"\\\",REPT(\" \",100)),100))","v":"U01R01"},{"$f":"TRIM(LEFT(SUBSTITUTE(L4,\".\",REPT(\" \",100)),100))","v":"U01R01"},{"$f":"IF(LEFT(RIGHT(M4,2),1)<>\"/\",RIGHT(M4,6),INDEX(CandidateFileArray,MATCH(RIGHT(M4,8),CandidateFileList,0),2))","v":"U01R01"},"Column N may need to be modified for different software. "]
["Reference",{"$f":"\"'\"&A5&\"'!\"&\"$A$1:$\"&ReferenceFile&\"$1000\"","v":"'Reference'!$A$1:$IA$1000"},null,null,"Array that includes all data that needs to be searched in results",{"$nulls":6},{"$f":"TRIM(RIGHT(SUBSTITUTE(IF(Reference!B5=\"\",Reference!CO5,Reference!B5),\"\\\",REPT(\" \",100)),100))","v":"U01R02"},{"$f":"TRIM(LEFT(SUBSTITUTE(L5,\".\",REPT(\" \",100)),100))","v":"U01R02"},"U01R02","to return just the filename such as T01R01."]
[{"$f":"A5&\"FileName\"","v":"ReferenceFileName"},{"$f":"\"'\"&A5&\"Lookups'!\"&\"$N$1:$N$1000\"","v":"'ReferenceLookups'!$N$1:$N$1000"},null,null,"Column that includes only the file name (eg T02R01)",{"$nulls":6},{"$f":"TRIM(RIGHT(SUBSTITUTE(IF(Reference!B6=\"\",Reference!CO6,Reference!B6),\"\\\",REPT(\" \",100)),100))","v":"U01R03"},"U01R03","U01R03","The filename must be in the same row as in the Reference tab"]
[{"$nulls":11},{"$f":"TRIM(RIGHT(SUBSTITUTE(IF(Reference!B7=\"\",Reference!CO7,Reference!B7),\"\\\",REPT(\" \",100)),100))","v":"U01R04"},"U01R04","U01R04",{"$f":"IF(LEFT(RIGHT(Reference!CO7,2),1)<>\"/\",\"\",RIGHT(Reference!CO7,6))","v":""}]
[null,"Column",{"$nulls":9},{"$f":"TRIM(RIGHT(SUBSTITUTE(IF(Reference!B8=\"\",Reference!CO8,Reference!B8),\"\\\",REPT(\" \",100)),100))","v":"U01R05"},"U01R05","U01R05","Column L removes path name if present"]
[null,"Number",{"$nulls":9},{"$f":"TRIM(RIGHT(SUBSTITUTE(IF(Reference!B9=\"\",Reference!CO9,Reference!B9),\"\\\",REPT(\" \",100)),100))","v":"U01R06"},"U01R06","U01R06","Column M removes extension if present"]
["Proposed",{"$nulls":10},{"$f":"TRIM(RIGHT(SUBSTITUTE(IF(Reference!B10=\"\",Reference!CO10,Reference!B10),\"\\\",REPT(\" \",100)),100))","v":"U01R07"},"U01R07","U01R07","Column N removes /N,/E,/W,/S and replaces with filename if present"]
[{"$f":"A5&A10&\"SpcHeat\"","v":"ReferenceProposedSpcHeat"},38,{"$nulls":9},{"$f":"TRIM(RIGHT(SUBSTITUTE(IF(Reference!B11=\"\",Reference!CO11,Reference!B11),\"\\\",REPT(\" \",100)),100))","v":"U01R08"},"U01R08","U01R08"]
[{"$f":"A5&A10&\"SpcCool\"","v":"ReferenceProposedSpcCool"},39,{"$nulls":9},{"$f":"TRIM(RIGHT(SUBSTITUTE(IF(Reference!B12=\"\",Reference!CO12,Reference!B12),\"\\\",REPT(\" \",100)),100))","v":"U01R09"},"U01R09","U01R09"]
[{"$f":"A5&A10&\"IAQVent\"","v":"ReferenceProposedIAQVent"},40,{"$nulls":9},{"$f":"TRIM(RIGHT(SUBSTITUTE(IF(Reference!B13=\"\",Reference!CO13,Reference!B13),\"\\\",REPT(\" \",100)),100))","v":"U01R10"},"U01R10","U01R10"]
[{"$f":"A5&A10&\"OtherHVAC\"","v":"ReferenceProposedOtherHVAC"},41,{"$nulls":9},{"$f":"TRIM(RIGHT(SUBSTITUTE(IF(Reference!B14=\"\",Reference!CO14,Reference!B14),\"\\\",REPT(\" \",100)),100))","v":"U01R11"},"U01R11","U01R11"]
[{"$f":"A5&A10&\"WtrHeat\"","v":"ReferenceProposedWtrHeat"},42,{"$nulls":9},{"$f":"TRIM(RIGHT(SUBSTITUTE(IF(Reference!B15=\"\",Reference!CO15,Reference!B15),\"\\\",REPT(\" \",100)),100))","v":"U01R12"},"U01R12","U01R12"]
[{"$f":"A5&A10&\"Solar\"","v":"ReferenceProposedSolar"},43,null,null,"Software does not have this value, so point to 0 column for now",{"$nulls":6},{"$f":"TRIM(RIGHT(SUBSTITUTE(IF(Reference!B16=\"\",Reference!CO16,Reference!B16),\"\\\",REPT(\" \",100)),100))","v":"U01R13"},"U01R13","U01R13"]
[{"$f":"A5&A10&\"Total\"","v":"ReferenceProposedTotal"},49,{"$nulls":9},{"$f":"TRIM(RIGHT(SUBSTITUTE(IF(Reference!B17=\"\",Reference!CO17,Reference!B17),\"\\\",REPT(\" \",100)),100))","v":"U01R14"},"U01R14","U01R14"]
["ReferenceProposedEDR",7,{"$nulls":9},{"$f":"TRIM(RIGHT(SUBSTITUTE(IF(Reference!B18=\"\",Reference!CO18,Reference!B18),\"\\\",REPT(\" \",100)),100))","v":"U01R15"},"U01R15","U01R15"]
["Standard",{"$nulls":10},{"$f":"TRIM(RIGHT(SUBSTITUTE(IF(Reference!B19=\"\",Reference!CO19,Reference!B19),\"\\\",REPT(\" \",100)),100))","v":"U01R16"},"U01R16","U01R16"]
[{"$f":"A5&A19&\"SpcHeat\"","v":"ReferenceStandardSpcHeat"},80,{"$nulls":9},{"$f":"TRIM(RIGHT(SUBSTITUTE(IF(Reference!B20=\"\",Reference!CO20,Reference!B20),\"\\\",REPT(\" \",100)),100))","v":"U02R01"},"U02R01","U02R01"]
[{"$f":"A5&A19&\"SpcCool\"","v":"ReferenceStandardSpcCool"},81,{"$nulls":9},{"$f":"TRIM(RIGHT(SUBSTITUTE(IF(Reference!B21=\"\",Reference!CO21,Reference!B21),\"\\\",REPT(\" \",100)),100))","v":"U02R02"},"U02R02","U02R02"]
[{"$f":"A5&A19&\"IAQVent\"","v":"ReferenceStandardIAQVent"},82,{"$nulls":9},{"$f":"TRIM(RIGHT(SUBSTITUTE(IF(Reference!B22=\"\",Reference!CO22,Reference!B22),\"\\\",REPT(\" \",100)),100))","v":"U02R03"},"U02R03","U02R03"]
[{"$f":"A5&A19&\"OtherHVAC\"","v":"ReferenceStandardOtherHVAC"},83,{"$nulls":9},{"$f":"TRIM(RIGHT(SUBSTITUTE(IF(Reference!B23=\"\",Reference!CO23,Reference!B23),\"\\\",REPT(\" \",100)),100))","v":"U02R04"},"U02R04","U02R04"]
[{"$f":"A5&A19&\"WtrHeat\"","v":"ReferenceStandardWtrHeat"},84,{"$nulls":9},{"$f":"TRIM(RIGHT(SUBSTITUTE(IF(Reference!B24=\"\",Reference!CO24,Reference!B24),\"\\\",REPT(\" \",100)),100))","v":"U02R05"},"U02R05","U02R05"]
[{"$f":"A5&A19&\"Solar\"","v":"ReferenceStandardSolar"},0,null,null,"Software does not have this value, so point to 0 column for now",{"$nulls":6},{"$f":"TRIM(RIGHT(SUBSTITUTE(IF(Reference!B25=\"\",Reference!CO25,Reference!B25),\"\\\",REPT(\" \",100)),100))","v":"U02R06"},"U02R06","U02R06"]
[{"$f":"A5&A19&\"Total\"","v":"ReferenceStandardTotal"},90,{"$nulls":9},{"$f":"TRIM(RIGHT(SUBSTITUTE(IF(Reference!B26=\"\",Reference!CO26,Reference!B26),\"\\\",REPT(\" \",100)),100))","v":"U02R07"},"U02R07","U02R07"]
["ReferenceStandardEDR",235,{"$nulls":9},{"$f":"TRIM(RIGHT(SUBSTITUTE(IF(Reference!B27=\"\",Reference!CO27,Reference!B27),\"\\\",REPT(\" \",100)),100))","v":"U02R08"},"U02R08","U02R08"]
[{"$nulls":11},{"$f":"TRIM(RIGHT(SUBSTITUTE(IF(Reference!B28=\"\",Reference!CO28,Reference!B28),\"\\\",REPT(\" \",100)),100))","v":"U02R09"},"U02R09","U02R09"]
["ReferenceFileArray","From","To",{"$nulls":8},{"$f":"TRIM(RIGHT(SUBSTITUTE(IF(Reference!B29=\"\",Reference!CO29,Reference!B29),\"\\\",REPT(\" \",100)),100))","v":"U02R10"},"U02R10","U02R10"]
[null,"U09R02/N","U09R05",null,"The T09 multiple orientation run case only uses 4 input files.",{"$nulls":6},{"$f":"TRIM(RIGHT(SUBSTITUTE(IF(Reference!B30=\"\",Reference!CO30,Reference!B30),\"\\\",REPT(\" \",100)),100))","v":"U02R11"},"U02R11","U02R11"]
[null,"U09R02/E","U09R02",null,"The data in this table is used to map the 4 file names into the T09 names",{"$nulls":6},{"$f":"TRIM(RIGHT(SUBSTITUTE(IF(Reference!B31=\"\",Reference!CO31,Reference!B31),\"\\\",REPT(\" \",100)),100))","v":"U02R12"},"U02R12","U02R12"]
[null,"U09R02/S","U09R03",{"$nulls":8},{"$f":"TRIM(RIGHT(SUBSTITUTE(IF(Reference!B32=\"\",Reference!CO32,Reference!B32),\"\\\",REPT(\" \",100)),100))","v":"U02R13"},"U02R13","U02R13"]
[null,"U09R02/W","U09R04",null,"Reorded in v18 to make east facing first map to work with CBECC-Res",{"$nulls":6},{"$f":"TRIM(RIGHT(SUBSTITUTE(IF(Reference!B33=\"\",Reference!CO33,Reference!B33),\"\\\",REPT(\" \",100)),100))","v":"U02R14"},"U02R14","U02R14"]
[null,"U09R07/N","U09R10",{"$nulls":8},{"$f":"TRIM(RIGHT(SUBSTITUTE(IF(Reference!B34=\"\",Reference!CO34,Reference!B34),\"\\\",REPT(\" \",100)),100))","v":"U02R15"},"U02R15","U02R15"]
[null,"U09R07/E","U09R07",{"$nulls":8},{"$f":"TRIM(RIGHT(SUBSTITUTE(IF(Reference!B35=\"\",Reference!CO35,Reference!B35),\"\\\",REPT(\" \",100)),100))","v":"U02R16"},"U02R16","U02R16"]
[null,"U09R07/S","U09R08",{"$nulls":8},{"$f":"TRIM(RIGHT(SUBSTITUTE(IF(Reference!B36=\"\",Reference!CO36,Reference!B36),\"\\\",REPT(\" \",100)),100))","v":"U03R01"},"U03R01","U03R01"]
[null,"U09R07/W","U09R09",{"$nulls":8},{"$f":"TRIM(RIGHT(SUBSTITUTE(IF(Reference!B37=\"\",Reference!CO37,Reference!B37),\"\\\",REPT(\" \",100)),100))","v":"U03R02"},"U03R02","U03R02"]
[{"$nulls":11},{"$f":"TRIM(RIGHT(SUBSTITUTE(IF(Reference!B38=\"\",Reference!CO38,Reference!B38),\"\\\",REPT(\" \",100)),100))","v":"U03R03"},"U03R03","U03R03"]
[{"$nulls":11},{"$f":"TRIM(RIGHT(SUBSTITUTE(IF(Reference!B39=\"\",Reference!CO39,Reference!B39),\"\\\",REPT(\" \",100)),100))","v":"U03R04"},"U03R04","U03R04"]
[{"$nulls":11},{"$f":"TRIM(RIGHT(SUBSTITUTE(IF(Reference!B40=\"\",Reference!CO40,Reference!B40),\"\\\",REPT(\" \",100)),100))","v":"U03R05"},"U03R05","U03R05"]
[{"$nulls":11},{"$f":"TRIM(RIGHT(SUBSTITUTE(IF(Reference!B41=\"\",Reference!CO41,Reference!B41),\"\\\",REPT(\" \",100)),100))","v":"U03R06"},"U03R06","U03R06"]
[{"$nulls":11},{"$f":"TRIM(RIGHT(SUBSTITUTE(IF(Reference!B42=\"\",Reference!CO42,Reference!B42),\"\\\",REPT(\" \",100)),100))","v":"U03R07"},"U03R07","U03R07"]
[{"$nulls":11},{"$f":"TRIM(RIGHT(SUBSTITUTE(IF(Reference!B43=\"\",Reference!CO43,Reference!B43),\"\\\",REPT(\" \",100)),100))","v":"U03R08"},"U03R08","U03R08"]
[{"$nulls":11},{"$f":"TRIM(RIGHT(SUBSTITUTE(IF(Reference!B44=\"\",Reference!CO44,Reference!B44),\"\\\",REPT(\" \",100)),100))","v":"U03R09"},"U03R09","U03R09"]
[{"$nulls":11},{"$f":"TRIM(RIGHT(SUBSTITUTE(IF(Reference!B45=\"\",Reference!CO45,Reference!B45),\"\\\",REPT(\" \",100)),100))","v":"U03R10"},"U03R10","U03R10"]
[{"$nulls":11},{"$f":"TRIM(RIGHT(SUBSTITUTE(IF(Reference!B46=\"\",Reference!CO46,Reference!B46),\"\\\",REPT(\" \",100)),100))","v":"U03R11"},"U03R11","U03R11"]
[{"$nulls":11},{"$f":"TRIM(RIGHT(SUBSTITUTE(IF(Reference!B47=\"\",Reference!CO47,Reference!B47),\"\\\",REPT(\" \",100)),100))","v":"U03R12"},"U03R12","U03R12"]
[{"$nulls":11},{"$f":"TRIM(RIGHT(SUBSTITUTE(IF(Reference!B48=\"\",Reference!CO48,Reference!B48),\"\\\",REPT(\" \",100)),100))","v":"U03R13"},"U03R13","U03R13"]
[{"$nulls":11},{"$f":"TRIM(RIGHT(SUBSTITUTE(IF(Reference!B49=\"\",Reference!CO49,Reference!B49),\"\\\",REPT(\" \",100)),100))","v":"U03R14"},"U03R14","U03R14"]
[{"$nulls":11},{"$f":"TRIM(RIGHT(SUBSTITUTE(IF(Reference!B50=\"\",Reference!CO50,Reference!B50),\"\\\",REPT(\" \",100)),100))","v":"U03R15"},"U03R15","U03R15"]
[{"$nulls":11},{"$f":"TRIM(RIGHT(SUBSTITUTE(IF(Reference!B51=\"\",Reference!CO51,Reference!B51),\"\\\",REPT(\" \",100)),100))","v":"U03R16"},"U03R16","U03R16"]
[{"$nulls":11},{"$f":"TRIM(RIGHT(SUBSTITUTE(IF(Reference!B52=\"\",Reference!CO52,Reference!B52),\"\\\",REPT(\" \",100)),100))","v":"U04R01"},"U04R01","U04R01"]
[{"$nulls":11},{"$f":"TRIM(RIGHT(SUBSTITUTE(IF(Reference!B53=\"\",Reference!CO53,Reference!B53),\"\\\",REPT(\" \",100)),100))","v":"U04R02"},"U04R02","U04R02"]
[{"$nulls":11},{"$f":"TRIM(RIGHT(SUBSTITUTE(IF(Reference!B54=\"\",Reference!CO54,Reference!B54),\"\\\",REPT(\" \",100)),100))","v":"U04R03"},"U04R03","U04R03"]
[{"$nulls":11},{"$f":"TRIM(RIGHT(SUBSTITUTE(IF(Reference!B55=\"\",Reference!CO55,Reference!B55),\"\\\",REPT(\" \",100)),100))","v":"U04R04"},"U04R04","U04R04"]
[{"$nulls":11},{"$f":"TRIM(RIGHT(SUBSTITUTE(IF(Reference!B56=\"\",Reference!CO56,Reference!B56),\"\\\",REPT(\" \",100)),100))","v":"U04R05"},"U04R05","U04R05"]
[{"$nulls":11},{"$f":"TRIM(RIGHT(SUBSTITUTE(IF(Reference!B57=\"\",Reference!CO57,Reference!B57),\"\\\",REPT(\" \",100)),100))","v":"U04R06"},"U04R06","U04R06"]
[{"$nulls":11},{"$f":"TRIM(RIGHT(SUBSTITUTE(IF(Reference!B58=\"\",Reference!CO58,Reference!B58),\"\\\",REPT(\" \",100)),100))","v":"U04R07"},"U04R07","U04R07"]
[{"$nulls":11},{"$f":"TRIM(RIGHT(SUBSTITUTE(IF(Reference!B59=\"\",Reference!CO59,Reference!B59),\"\\\",REPT(\" \",100)),100))","v":"U04R08"},"U04R08","U04R08"]
[{"$nulls":11},{"$f":"TRIM(RIGHT(SUBSTITUTE(IF(Reference!B60=\"\",Reference!CO60,Reference!B60),\"\\\",REPT(\" \",100)),100))","v":"U04R09"},"U04R09","U04R09"]
[{"$nulls":11},{"$f":"TRIM(RIGHT(SUBSTITUTE(IF(Reference!B61=\"\",Reference!CO61,Reference!B61),\"\\\",REPT(\" \",100)),100))","v":"U04R10"},"U04R10","U04R10"]
[{"$nulls":11},{"$f":"TRIM(RIGHT(SUBSTITUTE(IF(Reference!B62=\"\",Reference!CO62,Reference!B62),\"\\\",REPT(\" \",100)),100))","v":"U04R11"},"U04R11","U04R11"]
[{"$nulls":11},{"$f":"TRIM(RIGHT(SUBSTITUTE(IF(Reference!B63=\"\",Reference!CO63,Reference!B63),\"\\\",REPT(\" \",100)),100))","v":"U04R12"},"U04R12","U04R12"]
[{"$nulls":11},{"$f":"TRIM(RIGHT(SUBSTITUTE(IF(Reference!B64=\"\",Reference!CO64,Reference!B64),\"\\\",REPT(\" \",100)),100))","v":"U04R13"},"U04R13","U04R13"]
[{"$nulls":11},{"$f":"TRIM(RIGHT(SUBSTITUTE(IF(Reference!B65=\"\",Reference!CO65,Reference!B65),\"\\\",REPT(\" \",100)),100))","v":"U04R14"},"U04R14","U04R14"]
[{"$nulls":11},{"$f":"TRIM(RIGHT(SUBSTITUTE(IF(Reference!B66=\"\",Reference!CO66,Reference!B66),\"\\\",REPT(\" \",100)),100))","v":"U04R15"},"U04R15","U04R15"]
[{"$nulls":11},{"$f":"TRIM(RIGHT(SUBSTITUTE(IF(Reference!B67=\"\",Reference!CO67,Reference!B67),\"\\\",REPT(\" \",100)),100))","v":"U04R16"},"U04R16","U04R16"]
[{"$nulls":11},{"$f":"TRIM(RIGHT(SUBSTITUTE(IF(Reference!B68=\"\",Reference!CO68,Reference!B68),\"\\\",REPT(\" \",100)),100))","v":"U05R01"},"U05R01",{"$f":"IF(LEFT(RIGHT(M68,2),1)<>\"/\",RIGHT(M68,6),INDEX(CandidateFileArray,MATCH(RIGHT(M68,8),CandidateFileList,0),2))","v":"U05R01"}]
[{"$nulls":11},{"$f":"TRIM(RIGHT(SUBSTITUTE(IF(Reference!B69=\"\",Reference!CO69,Reference!B69),\"\\\",REPT(\" \",100)),100))","v":"U05R02"},{"$f":"TRIM(LEFT(SUBSTITUTE(L69,\".\",REPT(\" \",100)),100))","v":"U05R02"},"U05R02"]
[{"$nulls":11},{"$f":"TRIM(RIGHT(SUBSTITUTE(IF(Reference!B70=\"\",Reference!CO70,Reference!B70),\"\\\",REPT(\" \",100)),100))","v":"U05R03"},"U05R03","U05R03"]
[{"$nulls":11},{"$f":"TRIM(RIGHT(SUBSTITUTE(IF(Reference!B71=\"\",Reference!CO71,Reference!B71),\"\\\",REPT(\" \",100)),100))","v":"U05R04"},"U05R04","U05R04"]
[{"$nulls":11},{"$f":"TRIM(RIGHT(SUBSTITUTE(IF(Reference!B72=\"\",Reference!CO72,Reference!B72),\"\\\",REPT(\" \",100)),100))","v":"U05R05"},"U05R05","U05R05"]
[{"$nulls":11},{"$f":"TRIM(RIGHT(SUBSTITUTE(IF(Reference!B73=\"\",Reference!CO73,Reference!B73),\"\\\",REPT(\" \",100)),100))","v":"U05R06"},"U05R06","U05R06"]
[{"$nulls":11},{"$f":"TRIM(RIGHT(SUBSTITUTE(IF(Reference!B74=\"\",Reference!CO74,Reference!B74),\"\\\",REPT(\" \",100)),100))","v":"U05R07"},"U05R07","U05R07"]
[{"$nulls":11},{"$f":"TRIM(RIGHT(SUBSTITUTE(IF(Reference!B75=\"\",Reference!CO75,Reference!B75),\"\\\",REPT(\" \",100)),100))","v":"U05R08"},"U05R08","U05R08"]
[{"$nulls":11},{"$f":"TRIM(RIGHT(SUBSTITUTE(IF(Reference!B76=\"\",Reference!CO76,Reference!B76),\"\\\",REPT(\" \",100)),100))","v":"U05R09"},"U05R09","U05R09"]
[{"$nulls":11},{"$f":"TRIM(RIGHT(SUBSTITUTE(IF(Reference!B77=\"\",Reference!CO77,Reference!B77),\"\\\",REPT(\" \",100)),100))","v":"U05R10"},"U05R10","U05R10"]
[{"$nulls":11},{"$f":"TRIM(RIGHT(SUBSTITUTE(IF(Reference!B78=\"\",Reference!CO78,Reference!B78),\"\\\",REPT(\" \",100)),100))","v":"U05R11"},"U05R11","U05R11"]
[{"$nulls":11},{"$f":"TRIM(RIGHT(SUBSTITUTE(IF(Reference!B79=\"\",Reference!CO79,Reference!B79),\"\\\",REPT(\" \",100)),100))","v":"U05R12"},"U05R12","U05R12"]
[{"$nulls":11},{"$f":"TRIM(RIGHT(SUBSTITUTE(IF(Reference!B80=\"\",Reference!CO80,Reference!B80),\"\\\",REPT(\" \",100)),100))","v":"U05R13"},"U05R13","U05R13"]
[{"$nulls":11},{"$f":"TRIM(RIGHT(SUBSTITUTE(IF(Reference!B81=\"\",Reference!CO81,Reference!B81),\"\\\",REPT(\" \",100)),100))","v":"U05R14"},"U05R14","U05R14"]
[{"$nulls":11},{"$f":"TRIM(RIGHT(SUBSTITUTE(IF(Reference!B82=\"\",Reference!CO82,Reference!B82),\"\\\",REPT(\" \",100)),100))","v":"U05R15"},"U05R15","U05R15"]
[{"$nulls":11},{"$f":"TRIM(RIGHT(SUBSTITUTE(IF(Reference!B83=\"\",Reference!CO83,Reference!B83),\"\\\",REPT(\" \",100)),100))","v":"U05R16"},"U05R16","U05R16"]
[{"$nulls":11},{"$f":"TRIM(RIGHT(SUBSTITUTE(IF(Reference!B84=\"\",Reference!CO84,Reference!B84),\"\\\",REPT(\" \",100)),100))","v":"U06R01"},"U06R01","U06R01"]
[{"$nulls":11},{"$f":"TRIM(RIGHT(SUBSTITUTE(IF(Reference!B85=\"\",Reference!CO85,Reference!B85),\"\\\",REPT(\" \",100)),100))","v":"U06R02"},"U06R02","U06R02"]
[{"$nulls":11},{"$f":"TRIM(RIGHT(SUBSTITUTE(IF(Reference!B86=\"\",Reference!CO86,Reference!B86),\"\\\",REPT(\" \",100)),100))","v":"U06R03"},"U06R03","U06R03"]
[{"$nulls":11},{"$f":"TRIM(RIGHT(SUBSTITUTE(IF(Reference!B87=\"\",Reference!CO87,Reference!B87),\"\\\",REPT(\" \",100)),100))","v":"U06R04"},"U06R04","U06R04"]
[{"$nulls":11},{"$f":"TRIM(RIGHT(SUBSTITUTE(IF(Reference!B88=\"\",Reference!CO88,Reference!B88),\"\\\",REPT(\" \",100)),100))","v":"U06R05"},"U06R05","U06R05"]
[{"$nulls":11},{"$f":"TRIM(RIGHT(SUBSTITUTE(IF(Reference!B89=\"\",Reference!CO89,Reference!B89),\"\\\",REPT(\" \",100)),100))","v":"U06R06"},"U06R06","U06R06"]
[{"$nulls":11},{"$f":"TRIM(RIGHT(SUBSTITUTE(IF(Reference!B90=\"\",Reference!CO90,Reference!B90),\"\\\",REPT(\" \",100)),100))","v":"U06R07"},"U06R07","U06R07"]
[{"$nulls":11},{"$f":"TRIM(RIGHT(SUBSTITUTE(IF(Reference!B91=\"\",Reference!CO91,Reference!B91),\"\\\",REPT(\" \",100)),100))","v":"U06R08"},"U06R08","U06R08"]
[{"$nulls":11},{"$f":"TRIM(RIGHT(SUBSTITUTE(IF(Reference!B92=\"\",Reference!CO92,Reference!B92),\"\\\",REPT(\" \",100)),100))","v":"U06R09"},"U06R09","U06R09"]
[{"$nulls":11},{"$f":"TRIM(RIGHT(SUBSTITUTE(IF(Reference!B93=\"\",Reference!CO93,Reference!B93),\"\\\",REPT(\" \",100)),100))","v":"U06R10"},"U06R10","U06R10"]
[{"$nulls":11},{"$f":"TRIM(RIGHT(SUBSTITUTE(IF(Reference!B94=\"\",Reference!CO94,Reference!B94),\"\\\",REPT(\" \",100)),100))","v":"U06R11"},"U06R11","U06R11"]
[{"$nulls":11},{"$f":"TRIM(RIGHT(SUBSTITUTE(IF(Reference!B95=\"\",Reference!CO95,Reference!B95),\"\\\",REPT(\" \",100)),100))","v":"U06R12"},"U06R12","U06R12"]
[{"$nulls":11},{"$f":"TRIM(RIGHT(SUBSTITUTE(IF(Reference!B96=\"\",Reference!CO96,Reference!B96),\"\\\",REPT(\" \",100)),100))","v":"U06R13"},"U06R13","U06R13"]
[{"$nulls":11},{"$f":"TRIM(RIGHT(SUBSTITUTE(IF(Reference!B97=\"\",Reference!CO97,Reference!B97),\"\\\",REPT(\" \",100)),100))","v":"U06R14"},"U06R14","U06R14"]
[{"$nulls":11},{"$f":"TRIM(RIGHT(SUBSTITUTE(IF(Reference!B98=\"\",Reference!CO98,Reference!B98),\"\\\",REPT(\" \",100)),100))","v":"U06R15"},"U06R15","U06R15"]
[{"$nulls":11},{"$f":"TRIM(RIGHT(SUBSTITUTE(IF(Reference!B99=\"\",Reference!CO99,Reference!B99),\"\\\",REPT(\" \",100)),100))","v":"U06R16"},"U06R16","U06R16"]
[{"$nulls":11},{"$f":"TRIM(RIGHT(SUBSTITUTE(IF(Reference!B100=\"\",Reference!CO100,Reference!B100),\"\\\",REPT(\" \",100)),100))","v":"U07R01"},"U07R01","U07R01"]
[{"$nulls":11},{"$f":"TRIM(RIGHT(SUBSTITUTE(IF(Reference!B101=\"\",Reference!CO101,Reference!B101),\"\\\",REPT(\" \",100)),100))","v":"U07R02"},"U07R02","U07R02"]
[{"$nulls":11},{"$f":"TRIM(RIGHT(SUBSTITUTE(IF(Reference!B102=\"\",Reference!CO102,Reference!B102),\"\\\",REPT(\" \",100)),100))","v":"U07R03"},"U07R03","U07R03"]
[{"$nulls":11},{"$f":"TRIM(RIGHT(SUBSTITUTE(IF(Reference!B103=\"\",Reference!CO103,Reference!B103),\"\\\",REPT(\" \",100)),100))","v":"U07R04"},"U07R04","U07R04"]
[{"$nulls":11},{"$f":"TRIM(RIGHT(SUBSTITUTE(IF(Reference!B104=\"\",Reference!CO104,Reference!B104),\"\\\",REPT(\" \",100)),100))","v":"U07R05"},"U07R05","U07R05"]
[{"$nulls":11},{"$f":"TRIM(RIGHT(SUBSTITUTE(IF(Reference!B105=\"\",Reference!CO105,Reference!B105),\"\\\",REPT(\" \",100)),100))","v":"U07R06"},"U07R06","U07R06"]
[{"$nulls":11},{"$f":"TRIM(RIGHT(SUBSTITUTE(IF(Reference!B106=\"\",Reference!CO106,Reference!B106),\"\\\",REPT(\" \",100)),100))","v":"U07R07"},"U07R07","U07R07"]
[{"$nulls":11},{"$f":"TRIM(RIGHT(SUBSTITUTE(IF(Reference!B107=\"\",Reference!CO107,Reference!B107),\"\\\",REPT(\" \",100)),100))","v":"U07R08"},"U07R08","U07R08"]
[{"$nulls":11},{"$f":"TRIM(RIGHT(SUBSTITUTE(IF(Reference!B108=\"\",Reference!CO108,Reference!B108),\"\\\",REPT(\" \",100)),100))","v":"U07R09"},"U07R09","U07R09"]
[{"$nulls":11},{"$f":"TRIM(RIGHT(SUBSTITUTE(IF(Reference!B109=\"\",Reference!CO109,Reference!B109),\"\\\",REPT(\" \",100)),100))","v":"U07R10"},"U07R10","U07R10"]
[{"$nulls":11},{"$f":"TRIM(RIGHT(SUBSTITUTE(IF(Reference!B110=\"\",Reference!CO110,Reference!B110),\"\\\",REPT(\" \",100)),100))","v":"U08R01"},"U08R01","U08R01"]
[{"$nulls":11},{"$f":"TRIM(RIGHT(SUBSTITUTE(IF(Reference!B111=\"\",Reference!CO111,Reference!B111),\"\\\",REPT(\" \",100)),100))","v":"U08R02"},"U08R02","U08R02"]
[{"$nulls":11},{"$f":"TRIM(RIGHT(SUBSTITUTE(IF(Reference!B112=\"\",Reference!CO112,Reference!B112),\"\\\",REPT(\" \",100)),100))","v":"U08R03"},"U08R03","U08R03"]
[{"$nulls":11},{"$f":"TRIM(RIGHT(SUBSTITUTE(IF(Reference!B113=\"\",Reference!CO113,Reference!B113),\"\\\",REPT(\" \",100)),100))","v":"U08R04"},"U08R04","U08R04"]
[{"$nulls":11},{"$f":"TRIM(RIGHT(SUBSTITUTE(IF(Reference!B114=\"\",Reference!CO114,Reference!B114),\"\\\",REPT(\" \",100)),100))","v":"U08R05"},"U08R05","U08R05"]
[{"$nulls":11},{"$f":"TRIM(RIGHT(SUBSTITUTE(IF(Reference!B115=\"\",Reference!CO115,Reference!B115),\"\\\",REPT(\" \",100)),100))","v":"U08R06"},"U08R06","U08R06"]
[{"$nulls":11},{"$f":"TRIM(RIGHT(SUBSTITUTE(IF(Reference!B116=\"\",Reference!CO116,Reference!B116),\"\\\",REPT(\" \",100)),100))","v":"U08R07"},"U08R07","U08R07"]
[{"$nulls":11},{"$f":"TRIM(RIGHT(SUBSTITUTE(IF(Reference!B117=\"\",Reference!CO117,Reference!B117),\"\\\",REPT(\" \",100)),100))","v":"U08R08"},"U08R08","U08R08"]
[{"$nulls":11},{"$f":"TRIM(RIGHT(SUBSTITUTE(IF(Reference!B118=\"\",Reference!CO118,Reference!B118),\"\\\",REPT(\" \",100)),100))","v":"U08R09"},"U08R09","U08R09"]
[{"$nulls":11},{"$f":"TRIM(RIGHT(SUBSTITUTE(IF(Reference!B119=\"\",Reference!CO119,Reference!B119),\"\\\",REPT(\" \",100)),100))","v":"U08R10"},"U08R10","U08R10"]
[{"$nulls":11},{"$f":"TRIM(RIGHT(SUBSTITUTE(IF(Reference!B120=\"\",Reference!CO120,Reference!B120),\"\\\",REPT(\" \",100)),100))","v":"U09R01"},"U09R01","U09R01"]
[{"$nulls":11},{"$f":"TRIM(RIGHT(SUBSTITUTE(IF(Reference!B121=\"\",Reference!CO121,Reference!B121),\"\\\",REPT(\" \",100)),100))","v":"U09R02/N"},"U09R02/N","U09R05"]
[{"$nulls":11},{"$f":"TRIM(RIGHT(SUBSTITUTE(IF(Reference!B122=\"\",Reference!CO122,Reference!B122),\"\\\",REPT(\" \",100)),100))","v":"U09R02/E"},"U09R02/E","U09R02"]
[{"$nulls":11},{"$f":"TRIM(RIGHT(SUBSTITUTE(IF(Reference!B123=\"\",Reference!CO123,Reference!B123),\"\\\",REPT(\" \",100)),100))","v":"U09R02/S"},"U09R02/S","U09R03"]
[{"$nulls":11},{"$f":"TRIM(RIGHT(SUBSTITUTE(IF(Reference!B124=\"\",Reference!CO124,Reference!B124),\"\\\",REPT(\" \",100)),100))","v":"U09R02/W"},"U09R02/W","U09R04"]
[{"$nulls":11},{"$f":"TRIM(RIGHT(SUBSTITUTE(IF(Reference!B125=\"\",Reference!CO125,Reference!B125),\"\\\",REPT(\" \",100)),100))","v":"U09R06"},"U09R06","U09R06"]
[{"$nulls":11},{"$f":"TRIM(RIGHT(SUBSTITUTE(IF(Reference!B126=\"\",Reference!CO126,Reference!B126),\"\\\",REPT(\" \",100)),100))","v":"U09R07/N"},"U09R07/N","U09R10"]
[{"$nulls":11},{"$f":"TRIM(RIGHT(SUBSTITUTE(IF(Reference!B127=\"\",Reference!CO127,Reference!B127),\"\\\",REPT(\" \",100)),100))","v":"U09R07/E"},"U09R07/E","U09R07"]
[{"$nulls":11},{"$f":"TRIM(RIGHT(SUBSTITUTE(IF(Reference!B128=\"\",Reference!CO128,Reference!B128),\"\\\",REPT(\" \",100)),100))","v":"U09R07/S"},"U09R07/S","U09R08"]
[{"$nulls":11},{"$f":"TRIM(RIGHT(SUBSTITUTE(IF(Reference!B129=\"\",Reference!CO129,Reference!B129),\"\\\",REPT(\" \",100)),100))","v":"U09R07/W"},"U09R07/W","U09R09"]
[{"$nulls":11},{"$f":"TRIM(RIGHT(SUBSTITUTE(IF(Reference!B130=\"\",Reference!CO130,Reference!B130),\"\\\",REPT(\" \",100)),100))","v":"U10R01"},"U10R01","U10R01"]
[{"$nulls":11},{"$f":"TRIM(RIGHT(SUBSTITUTE(IF(Reference!B131=\"\",Reference!CO131,Reference!B131),\"\\\",REPT(\" \",100)),100))","v":"U10R02"},"U10R02","U10R02"]
[{"$nulls":11},{"$f":"TRIM(RIGHT(SUBSTITUTE(IF(Reference!B132=\"\",Reference!CO132,Reference!B132),\"\\\",REPT(\" \",100)),100))","v":"U10R03"},"U10R03",{"$f":"IF(LEFT(RIGHT(M132,2),1)<>\"/\",RIGHT(M132,6),INDEX(CandidateFileArray,MATCH(RIGHT(M132,8),CandidateFileList,0),2))","v":"U10R03"}]
[{"$nulls":11},{"$f":"TRIM(RIGHT(SUBSTITUTE(IF(Reference!B133=\"\",Reference!CO133,Reference!B133),\"\\\",REPT(\" \",100)),100))","v":"U10R04"},{"$f":"TRIM(LEFT(SUBSTITUTE(L133,\".\",REPT(\" \",100)),100))","v":"U10R04"},"U10R04"]
[{"$nulls":11},{"$f":"TRIM(RIGHT(SUBSTITUTE(IF(Reference!B134=\"\",Reference!CO134,Reference!B134),\"\\\",REPT(\" \",100)),100))","v":"U10R05"},"U10R05","U10R05"]
[{"$nulls":11},{"$f":"TRIM(RIGHT(SUBSTITUTE(IF(Reference!B135=\"\",Reference!CO135,Reference!B135),\"\\\",REPT(\" \",100)),100))","v":"U10R06"},"U10R06","U10R06"]
[{"$nulls":11},{"$f":"TRIM(RIGHT(SUBSTITUTE(IF(Reference!B136=\"\",Reference!CO136,Reference!B136),\"\\\",REPT(\" \",100)),100))","v":"U10R07"},"U10R07","U10R07"]
[{"$nulls":11},{"$f":"TRIM(RIGHT(SUBSTITUTE(IF(Reference!B137=\"\",Reference!CO137,Reference!B137),\"\\\",REPT(\" \",100)),100))","v":"U10R08"},"U10R08","U10R08"]
[{"$nulls":11},{"$f":"TRIM(RIGHT(SUBSTITUTE(IF(Reference!B138=\"\",Reference!CO138,Reference!B138),\"\\\",REPT(\" \",100)),100))","v":"U10R09"},"U10R09","U10R09"]
[{"$nulls":11},{"$f":"TRIM(RIGHT(SUBSTITUTE(IF(Reference!B139=\"\",Reference!CO139,Reference!B139),\"\\\",REPT(\" \",100)),100))","v":"U10R10"},"U10R10","U10R10"]
[{"$nulls":11},{"$f":"TRIM(RIGHT(SUBSTITUTE(IF(Reference!B140=\"\",Reference!CO140,Reference!B140),\"\\\",REPT(\" \",100)),100))","v":"U11R01"},"U11R01","U11R01"]
[{"$nulls":11},{"$f":"TRIM(RIGHT(SUBSTITUTE(IF(Reference!B141=\"\",Reference!CO141,Reference!B141),\"\\\",REPT(\" \",100)),100))","v":"U11R02"},"U11R02","U11R02"]
[{"$nulls":11},{"$f":"TRIM(RIGHT(SUBSTITUTE(IF(Reference!B142=\"\",Reference!CO142,Reference!B142),\"\\\",REPT(\" \",100)),100))","v":"U11R03"},"U11R03","U11R03"]
[{"$nulls":11},{"$f":"TRIM(RIGHT(SUBSTITUTE(IF(Reference!B143=\"\",Reference!CO143,Reference!B143),\"\\\",REPT(\" \",100)),100))","v":"U11R04"},"U11R04","U11R04"]
[{"$nulls":11},{"$f":"TRIM(RIGHT(SUBSTITUTE(IF(Reference!B144=\"\",Reference!CO144,Reference!B144),\"\\\",REPT(\" \",100)),100))","v":"U11R05"},"U11R05","U11R05"]
[{"$nulls":11},{"$f":"TRIM(RIGHT(SUBSTITUTE(IF(Reference!B145=\"\",Reference!CO145,Reference!B145),\"\\\",REPT(\" \",100)),100))","v":"U11R06"},"U11R06","U11R06"]
[{"$nulls":11},{"$f":"TRIM(RIGHT(SUBSTITUTE(IF(Reference!B146=\"\",Reference!CO146,Reference!B146),\"\\\",REPT(\" \",100)),100))","v":"U11R07"},"U11R07","U11R07"]
[{"$nulls":11},{"$f":"TRIM(RIGHT(SUBSTITUTE(IF(Reference!B147=\"\",Reference!CO147,Reference!B147),\"\\\",REPT(\" \",100)),100))","v":"U11R08"},"U11R08","U11R08"]
[{"$nulls":11},{"$f":"TRIM(RIGHT(SUBSTITUTE(IF(Reference!B148=\"\",Reference!CO148,Reference!B148),\"\\\",REPT(\" \",100)),100))","v":"U11R09"},"U11R09","U11R09"]
[{"$nulls":11},{"$f":"TRIM(RIGHT(SUBSTITUTE(IF(Reference!B149=\"\",Reference!CO149,Reference!B149),\"\\\",REPT(\" \",100)),100))","v":"U11R10"},"U11R10","U11R10"]
[{"$nulls":11},{"$f":"TRIM(RIGHT(SUBSTITUTE(IF(Reference!B150=\"\",Reference!CO150,Reference!B150),\"\\\",REPT(\" \",100)),100))","v":"U12R01"},"U12R01","U12R01"]
[{"$nulls":11},{"$f":"TRIM(RIGHT(SUBSTITUTE(IF(Reference!B151=\"\",Reference!CO151,Reference!B151),\"\\\",REPT(\" \",100)),100))","v":"U12R02"},"U12R02","U12R02"]
[{"$nulls":11},{"$f":"TRIM(RIGHT(SUBSTITUTE(IF(Reference!B152=\"\",Reference!CO152,Reference!B152),\"\\\",REPT(\" \",100)),100))","v":"U12R03"},"U12R03","U12R03"]
[{"$nulls":11},{"$f":"TRIM(RIGHT(SUBSTITUTE(IF(Reference!B153=\"\",Reference!CO153,Reference!B153),\"\\\",REPT(\" \",100)),100))","v":"U12R04"},"U12R04","U12R04"]
[{"$nulls":11},{"$f":"TRIM(RIGHT(SUBSTITUTE(IF(Reference!B154=\"\",Reference!CO154,Reference!B154),\"\\\",REPT(\" \",100)),100))","v":"U12R05"},"U12R05","U12R05"]
[{"$nulls":11},{"$f":"TRIM(RIGHT(SUBSTITUTE(IF(Reference!B155=\"\",Reference!CO155,Reference!B155),\"\\\",REPT(\" \",100)),100))","v":"U12R06"},"U12R06","U12R06"]
[{"$nulls":11},{"$f":"TRIM(RIGHT(SUBSTITUTE(IF(Reference!B156=\"\",Reference!CO156,Reference!B156),\"\\\",REPT(\" \",100)),100))","v":"U12R07"},"U12R07","U12R07"]
[{"$nulls":11},{"$f":"TRIM(RIGHT(SUBSTITUTE(IF(Reference!B157=\"\",Reference!CO157,Reference!B157),\"\\\",REPT(\" \",100)),100))","v":"U12R08"},"U12R08","U12R08"]
[{"$nulls":11},{"$f":"TRIM(RIGHT(SUBSTITUTE(IF(Reference!B158=\"\",Reference!CO158,Reference!B158),\"\\\",REPT(\" \",100)),100))","v":"U12R09"},"U12R09","U12R09"]
[{"$nulls":11},{"$f":"TRIM(RIGHT(SUBSTITUTE(IF(Reference!B159=\"\",Reference!CO159,Reference!B159),\"\\\",REPT(\" \",100)),100))","v":"U12R10"},"U12R10","U12R10"]
[{"$nulls":11},{"$f":"TRIM(RIGHT(SUBSTITUTE(IF(Reference!B160=\"\",Reference!CO160,Reference!B160),\"\\\",REPT(\" \",100)),100))","v":"U13R01"},"U13R01","U13R01"]
[{"$nulls":11},{"$f":"TRIM(RIGHT(SUBSTITUTE(IF(Reference!B161=\"\",Reference!CO161,Reference!B161),\"\\\",REPT(\" \",100)),100))","v":"U13R02"},"U13R02","U13R02"]
[{"$nulls":11},{"$f":"TRIM(RIGHT(SUBSTITUTE(IF(Reference!B162=\"\",Reference!CO162,Reference!B162),\"\\\",REPT(\" \",100)),100))","v":"U13R03"},"U13R03","U13R03"]
[{"$nulls":11},{"$f":"TRIM(RIGHT(SUBSTITUTE(IF(Reference!B163=\"\",Reference!CO163,Reference!B163),\"\\\",REPT(\" \",100)),100))","v":"U13R04"},"U13R04","U13R04"]
[{"$nulls":11},{"$f":"TRIM(RIGHT(SUBSTITUTE(IF(Reference!B164=\"\",Reference!CO164,Reference!B164),\"\\\",REPT(\" \",100)),100))","v":"U13R05"},"U13R05","U13R05"]
[{"$nulls":11},{"$f":"TRIM(RIGHT(SUBSTITUTE(IF(Reference!B165=\"\",Reference!CO165,Reference!B165),\"\\\",REPT(\" \",100)),100))","v":"U13R06"},"U13R06","U13R06"]
[{"$nulls":11},{"$f":"TRIM(RIGHT(SUBSTITUTE(IF(Reference!B166=\"\",Reference!CO166,Reference!B166),\"\\\",REPT(\" \",100)),100))","v":"U13R07"},"U13R07","U13R07"]
[{"$nulls":11},{"$f":"TRIM(RIGHT(SUBSTITUTE(IF(Reference!B167=\"\",Reference!CO167,Reference!B167),\"\\\",REPT(\" \",100)),100))","v":"U13R08"},"U13R08","U13R08"]
[{"$nulls":11},{"$f":"TRIM(RIGHT(SUBSTITUTE(IF(Reference!B168=\"\",Reference!CO168,Reference!B168),\"\\\",REPT(\" \",100)),100))","v":"U13R09"},"U13R09","U13R09"]
[{"$nulls":11},{"$f":"TRIM(RIGHT(SUBSTITUTE(IF(Reference!B169=\"\",Reference!CO169,Reference!B169),\"\\\",REPT(\" \",100)),100))","v":"U13R10"},"U13R10","U13R10"]
[{"$nulls":11},{"$f":"TRIM(RIGHT(SUBSTITUTE(IF(Reference!B170=\"\",Reference!CO170,Reference!B170),\"\\\",REPT(\" \",100)),100))","v":"U13R10"},"U13R10","U13R10"]
[{"$nulls":11},{"$f":"TRIM(RIGHT(SUBSTITUTE(IF(Reference!B171=\"\",Reference!CO171,Reference!B171),\"\\\",REPT(\" \",100)),100))","v":""},"",""]
[{"$nulls":11},{"$f":"TRIM(RIGHT(SUBSTITUTE(IF(Reference!B172=\"\",Reference!CO172,Reference!B172),\"\\\",REPT(\" \",100)),100))","v":""},"",""]
[{"$nulls":11},{"$f":"TRIM(RIGHT(SUBSTITUTE(IF(Reference!B173=\"\",Reference!CO173,Reference!B173),\"\\\",REPT(\" \",100)),100))","v":""},"",""]
[{"$nulls":11},{"$f":"TRIM(RIGHT(SUBSTITUTE(IF(Reference!B174=\"\",Reference!CO174,Reference!B174),\"\\\",REPT(\" \",100)),100))","v":""},"",""]
[{"$nulls":11},{"$f":"TRIM(RIGHT(SUBSTITUTE(IF(Reference!B175=\"\",Reference!CO175,Reference!B175),\"\\\",REPT(\" \",100)),100))","v":""},"",""]
[{"$nulls":11},{"$f":"TRIM(RIGHT(SUBSTITUTE(IF(Reference!B176=\"\",Reference!CO176,Reference!B176),\"\\\",REPT(\" \",100)),100))","v":""},"",""]
[{"$nulls":11},{"$f":"TRIM(RIGHT(SUBSTITUTE(IF(Reference!B177=\"\",Reference!CO177,Reference!B177),\"\\\",REPT(\" \",100)),100))","v":""},"",""]
[{"$nulls":11},{"$f":"TRIM(RIGHT(SUBSTITUTE(IF(Reference!B178=\"\",Reference!CO178,Reference!B178),\"\\\",REPT(\" \",100)),100))","v":""},"",""]
[{"$nulls":11},{"$f":"TRIM(RIGHT(SUBSTITUTE(IF(Reference!B179=\"\",Reference!CO179,Reference!B179),\"\\\",REPT(\" \",100)),100))","v":""},"",""]
[{"$nulls":11},{"$f":"TRIM(RIGHT(SUBSTITUTE(IF(Reference!B180=\"\",Reference!CO180,Reference!B180),\"\\\",REPT(\" \",100)),100))","v":""},"",""]
[{"$nulls":11},{"$f":"TRIM(RIGHT(SUBSTITUTE(IF(Reference!B181=\"\",Reference!CO181,Reference!B181),\"\\\",REPT(\" \",100)),100))","v":""},"",""]
[{"$nulls":11},{"$f":"TRIM(RIGHT(SUBSTITUTE(IF(Reference!B182=\"\",Reference!CO182,Reference!B182),\"\\\",REPT(\" \",100)),100))","v":""},"",""]
[{"$nulls":11},{"$f":"TRIM(RIGHT(SUBSTITUTE(IF(Reference!B183=\"\",Reference!CO183,Reference!B183),\"\\\",REPT(\" \",100)),100))","v":""},"",""]
[{"$nulls":11},{"$f":"TRIM(RIGHT(SUBSTITUTE(IF(Reference!B184=\"\",Reference!CO184,Reference!B184),\"\\\",REPT(\" \",100)),100))","v":""},"",""]
[{"$nulls":11},{"$f":"TRIM(RIGHT(SUBSTITUTE(IF(Reference!B185=\"\",Reference!CO185,Reference!B185),\"\\\",REPT(\" \",100)),100))","v":""},"",""]
[{"$nulls":11},{"$f":"TRIM(RIGHT(SUBSTITUTE(IF(Reference!B186=\"\",Reference!CO186,Reference!B186),\"\\\",REPT(\" \",100)),100))","v":""},"",""]
[{"$nulls":11},{"$f":"TRIM(RIGHT(SUBSTITUTE(IF(Reference!B187=\"\",Reference!CO187,Reference!B187),\"\\\",REPT(\" \",100)),100))","v":""},"",""]
[{"$nulls":11},{"$f":"TRIM(RIGHT(SUBSTITUTE(Reference!CO188,\"\\\",REPT(\" \",100)),100))","v":""},"",""]
[{"$nulls":11},{"$f":"TRIM(RIGHT(SUBSTITUTE(Reference!CO189,\"\\\",REPT(\" \",100)),100))","v":""},"",""]
[{"$nulls":11},{"$f":"TRIM(RIGHT(SUBSTITUTE(Reference!CO190,\"\\\",REPT(\" \",100)),100))","v":""},"",""]
[{"$nulls":11},{"$f":"TRIM(RIGHT(SUBSTITUTE(Reference!CO191,\"\\\",REPT(\" \",100)),100))","v":""},"",""]
[{"$nulls":11},{"$f":"TRIM(RIGHT(SUBSTITUTE(Reference!CO192,\"\\\",REPT(\" \",100)),100))","v":""},"",""]
[{"$nulls":11},{"$f":"TRIM(RIGHT(SUBSTITUTE(Reference!CO193,\"\\\",REPT(\" \",100)),100))","v":""},"",""]
[{"$nulls":11},{"$f":"TRIM(RIGHT(SUBSTITUTE(Reference!CO194,\"\\\",REPT(\" \",100)),100))","v":""},"",""]
[{"$nulls":11},{"$f":"TRIM(RIGHT(SUBSTITUTE(Reference!CO195,\"\\\",REPT(\" \",100)),100))","v":""},"",""]
[{"$nulls":11},{"$f":"TRIM(RIGHT(SUBSTITUTE(Reference!CO196,\"\\\",REPT(\" \",100)),100))","v":""},"",{"$f":"IF(LEFT(RIGHT(M196,2),1)<>\"/\",RIGHT(M196,6),INDEX(CandidateFileArray,MATCH(RIGHT(M196,8),CandidateFileList,0),2))","v":""}]
[{"$nulls":11},{"$f":"TRIM(RIGHT(SUBSTITUTE(Reference!CO197,\"\\\",REPT(\" \",100)),100))","v":""},{"$f":"TRIM(LEFT(SUBSTITUTE(L197,\".\",REPT(\" \",100)),100))","v":""},""]
[{"$nulls":11},{"$f":"TRIM(RIGHT(SUBSTITUTE(Reference!CO198,\"\\\",REPT(\" \",100)),100))","v":""},"",""]
[{"$nulls":11},{"$f":"TRIM(RIGHT(SUBSTITUTE(Reference!CO199,\"\\\",REPT(\" \",100)),100))","v":""},"",""]
[{"$nulls":11},{"$f":"TRIM(RIGHT(SUBSTITUTE(Reference!CO200,\"\\\",REPT(\" \",100)),100))","v":""},"",""]
[{"$nulls":11},{"$f":"TRIM(RIGHT(SUBSTITUTE(Reference!CO201,\"\\\",REPT(\" \",100)),100))","v":""},"",""]
[{"$nulls":11},{"$f":"TRIM(RIGHT(SUBSTITUTE(Reference!CO202,\"\\\",REPT(\" \",100)),100))","v":""},"",""]
[{"$nulls":11},{"$f":"TRIM(RIGHT(SUBSTITUTE(Reference!CO203,\"\\\",REPT(\" \",100)),100))","v":""},"",""]
[{"$nulls":11},{"$f":"TRIM(RIGHT(SUBSTITUTE(Reference!CO204,\"\\\",REPT(\" \",100)),100))","v":""},"",""]
[{"$nulls":11},{"$f":"TRIM(RIGHT(SUBSTITUTE(Reference!CO205,\"\\\",REPT(\" \",100)),100))","v":""},"",""]
[{"$nulls":11},{"$f":"TRIM(RIGHT(SUBSTITUTE(Reference!CO206,\"\\\",REPT(\" \",100)),100))","v":""},"",""]
[{"$nulls":11},{"$f":"TRIM(RIGHT(SUBSTITUTE(Reference!CO207,\"\\\",REPT(\" \",100)),100))","v":""},"",""]
[{"$nulls":11},{"$f":"TRIM(RIGHT(SUBSTITUTE(Reference!CO208,\"\\\",REPT(\" \",100)),100))","v":""},"",""]
[{"$nulls":11},{"$f":"TRIM(RIGHT(SUBSTITUTE(Reference!CO209,\"\\\",REPT(\" \",100)),100))","v":""},"",""]
[{"$nulls":11},{"$f":"TRIM(RIGHT(SUBSTITUTE(Reference!CO210,\"\\\",REPT(\" \",100)),100))","v":""},"",""]
[{"$nulls":11},{"$f":"TRIM(RIGHT(SUBSTITUTE(Reference!CO211,\"\\\",REPT(\" \",100)),100))","v":""},"",""]
[{"$nulls":11},{"$f":"TRIM(RIGHT(SUBSTITUTE(Reference!CO212,\"\\\",REPT(\" \",100)),100))","v":""},"",""]
[{"$nulls":11},{"$f":"TRIM(RIGHT(SUBSTITUTE(Reference!CO213,\"\\\",REPT(\" \",100)),100))","v":""},"",""]
[{"$nulls":11},{"$f":"TRIM(RIGHT(SUBSTITUTE(Reference!CO214,\"\\\",REPT(\" \",100)),100))","v":""},"",""]
[{"$nulls":11},{"$f":"TRIM(RIGHT(SUBSTITUTE(Reference!CO215,\"\\\",REPT(\" \",100)),100))","v":""},"",""]
[{"$nulls":11},{"$f":"TRIM(RIGHT(SUBSTITUTE(Reference!CO216,\"\\\",REPT(\" \",100)),100))","v":""},"",""]
[{"$nulls":11},{"$f":"TRIM(RIGHT(SUBSTITUTE(Reference!CO217,\"\\\",REPT(\" \",100)),100))","v":""},"",""]
[{"$nulls":11},{"$f":"TRIM(RIGHT(SUBSTITUTE(Reference!CO218,\"\\\",REPT(\" \",100)),100))","v":""},"",""]
[{"$nulls":11},{"$f":"TRIM(RIGHT(SUBSTITUTE(Reference!CO219,\"\\\",REPT(\" \",100)),100))","v":""},"",""]
[{"$nulls":11},{"$f":"TRIM(RIGHT(SUBSTITUTE(Reference!CO220,\"\\\",REPT(\" \",100)),100))","v":""},"",""]
[{"$nulls":11},{"$f":"TRIM(RIGHT(SUBSTITUTE(Reference!CO221,\"\\\",REPT(\" \",100)),100))","v":""},"",""]
[{"$nulls":11},{"$f":"TRIM(RIGHT(SUBSTITUTE(Reference!CO222,\"\\\",REPT(\" \",100)),100))","v":""},"",""]
[{"$nulls":11},{"$f":"TRIM(RIGHT(SUBSTITUTE(Reference!CO223,\"\\\",REPT(\" \",100)),100))","v":""},"",""]
[{"$nulls":11},{"$f":"TRIM(RIGHT(SUBSTITUTE(Reference!CO224,\"\\\",REPT(\" \",100)),100))","v":""},"",""]
[{"$nulls":11},{"$f":"TRIM(RIGHT(SUBSTITUTE(Reference!CO225,\"\\\",REPT(\" \",100)),100))","v":""},"",""]
[{"$nulls":11},{"$f":"TRIM(RIGHT(SUBSTITUTE(Reference!CO226,\"\\\",REPT(\" \",100)),100))","v":""},"",""]
[{"$nulls":11},{"$f":"TRIM(RIGHT(SUBSTITUTE(Reference!CO227,\"\\\",REPT(\" \",100)),100))","v":""},"",""]
[{"$nulls":11},{"$f":"TRIM(RIGHT(SUBSTITUTE(Reference!CO228,\"\\\",REPT(\" \",100)),100))","v":""},"",""]
[{"$nulls":11},{"$f":"TRIM(RIGHT(SUBSTITUTE(Reference!CO229,\"\\\",REPT(\" \",100)),100))","v":""},"",""]
[{"$nulls":11},{"$f":"TRIM(RIGHT(SUBSTITUTE(Reference!CO230,\"\\\",REPT(\" \",100)),100))","v":""},"",""]
[{"$nulls":11},{"$f":"TRIM(RIGHT(SUBSTITUTE(Reference!CO231,\"\\\",REPT(\" \",100)),100))","v":""},"",""]
[{"$nulls":11},{"$f":"TRIM(RIGHT(SUBSTITUTE(Reference!CO232,\"\\\",REPT(\" \",100)),100))","v":""},"",""]
[{"$nulls":11},{"$f":"TRIM(RIGHT(SUBSTITUTE(Reference!CO233,\"\\\",REPT(\" \",100)),100))","v":""},"",""]
[{"$nulls":11},{"$f":"TRIM(RIGHT(SUBSTITUTE(Reference!CO234,\"\\\",REPT(\" \",100)),100))","v":""},"",""]
[{"$nulls":11},{"$f":"TRIM(RIGHT(SUBSTITUTE(Reference!CO235,\"\\\",REPT(\" \",100)),100))","v":""},"",""]
[{"$nulls":11},{"$f":"TRIM(RIGHT(SUBSTITUTE(Reference!CO236,\"\\\",REPT(\" \",100)),100))","v":""},"",""]
[{"$nulls":11},{"$f":"TRIM(RIGHT(SUBSTITUTE(Reference!CO237,\"\\\",REPT(\" \",100)),100))","v":""},"",""]
[{"$nulls":11},{"$f":"TRIM(RIGHT(SUBSTITUTE(Reference!CO238,\"\\\",REPT(\" \",100)),100))","v":""},"",""]
[{"$nulls":11},{"$f":"TRIM(RIGHT(SUBSTITUTE(Reference!CO239,\"\\\",REPT(\" \",100)),100))","v":""},"",""]
[{"$nulls":11},{"$f":"TRIM(RIGHT(SUBSTITUTE(Reference!CO240,\"\\\",REPT(\" \",100)),100))","v":""},"",""]
[{"$nulls":11},{"$f":"TRIM(RIGHT(SUBSTITUTE(Reference!CO241,\"\\\",REPT(\" \",100)),100))","v":""},"",""]
[{"$nulls":11},{"$f":"TRIM(RIGHT(SUBSTITUTE(Reference!CO242,\"\\\",REPT(\" \",100)),100))","v":""},"",""]
[{"$nulls":11},{"$f":"TRIM(RIGHT(SUBSTITUTE(Reference!CO243,\"\\\",REPT(\" \",100)),100))","v":""},"",""]
[{"$nulls":11},{"$f":"TRIM(RIGHT(SUBSTITUTE(Reference!CO244,\"\\\",REPT(\" \",100)),100))","v":""},"",""]
[{"$nulls":11},{"$f":"TRIM(RIGHT(SUBSTITUTE(Reference!CO245,\"\\\",REPT(\" \",100)),100))","v":""},"",""]
[{"$nulls":11},{"$f":"TRIM(RIGHT(SUBSTITUTE(Reference!CO246,\"\\\",REPT(\" \",100)),100))","v":""},"",""]
[{"$nulls":11},{"$f":"TRIM(RIGHT(SUBSTITUTE(Reference!CO247,\"\\\",REPT(\" \",100)),100))","v":""},"",""]
[{"$nulls":11},{"$f":"TRIM(RIGHT(SUBSTITUTE(Reference!CO248,\"\\\",REPT(\" \",100)),100))","v":""},"",""]
[{"$nulls":11},{"$f":"TRIM(RIGHT(SUBSTITUTE(Reference!CO249,\"\\\",REPT(\" \",100)),100))","v":""},"",""]
[{"$nulls":11},{"$f":"TRIM(RIGHT(SUBSTITUTE(Reference!CO250,\"\\\",REPT(\" \",100)),100))","v":""},"",""]
[{"$nulls":11},{"$f":"TRIM(RIGHT(SUBSTITUTE(Reference!CO251,\"\\\",REPT(\" \",100)),100))","v":""},"",""]
[{"$nulls":11},{"$f":"TRIM(RIGHT(SUBSTITUTE(Reference!CO252,\"\\\",REPT(\" \",100)),100))","v":""},"",""]
[{"$nulls":11},{"$f":"TRIM(RIGHT(SUBSTITUTE(Reference!CO253,\"\\\",REPT(\" \",100)),100))","v":""},"",""]
[{"$nulls":11},{"$f":"TRIM(RIGHT(SUBSTITUTE(Reference!CO254,\"\\\",REPT(\" \",100)),100))","v":""},"",""]
[{"$nulls":11},{"$f":"TRIM(RIGHT(SUBSTITUTE(Reference!CO255,\"\\\",REPT(\" \",100)),100))","v":""},"",""]
[{"$nulls":11},{"$f":"TRIM(RIGHT(SUBSTITUTE(Reference!CO256,\"\\\",REPT(\" \",100)),100))","v":""},"",""]
[{"$nulls":11},{"$f":"TRIM(RIGHT(SUBSTITUTE(Reference!CO257,\"\\\",REPT(\" \",100)),100))","v":""},"",""]
[{"$nulls":11},{"$f":"TRIM(RIGHT(SUBSTITUTE(Reference!CO258,\"\\\",REPT(\" \",100)),100))","v":""},"",""]
[{"$nulls":11},{"$f":"TRIM(RIGHT(SUBSTITUTE(Reference!CO259,\"\\\",REPT(\" \",100)),100))","v":""},"",""]
[{"$nulls":11},{"$f":"TRIM(RIGHT(SUBSTITUTE(Reference!CO260,\"\\\",REPT(\" \",100)),100))","v":""},"",{"$f":"IF(LEFT(RIGHT(M260,2),1)<>\"/\",RIGHT(M260,6),INDEX(CandidateFileArray,MATCH(RIGHT(M260,8),CandidateFileList,0),2))","v":""}]
[{"$nulls":11},{"$f":"TRIM(RIGHT(SUBSTITUTE(Reference!CO261,\"\\\",REPT(\" \",100)),100))","v":""},{"$f":"TRIM(LEFT(SUBSTITUTE(L261,\".\",REPT(\" \",100)),100))","v":""},""]
[{"$nulls":11},{"$f":"TRIM(RIGHT(SUBSTITUTE(Reference!CO262,\"\\\",REPT(\" \",100)),100))","v":""},"",""]
[{"$nulls":11},{"$f":"TRIM(RIGHT(SUBSTITUTE(Reference!CO263,\"\\\",REPT(\" \",100)),100))","v":""},"",""]
[{"$nulls":11},{"$f":"TRIM(RIGHT(SUBSTITUTE(Reference!CO264,\"\\\",REPT(\" \",100)),100))","v":""},"",""]
[{"$nulls":11},{"$f":"TRIM(RIGHT(SUBSTITUTE(Reference!CO265,\"\\\",REPT(\" \",100)),100))","v":""},"",""]
[{"$nulls":11},{"$f":"TRIM(RIGHT(SUBSTITUTE(Reference!CO266,\"\\\",REPT(\" \",100)),100))","v":""},"",""]
[{"$nulls":11},{"$f":"TRIM(RIGHT(SUBSTITUTE(Reference!CO267,\"\\\",REPT(\" \",100)),100))","v":""},"",""]
[{"$nulls":11},{"$f":"TRIM(RIGHT(SUBSTITUTE(Reference!CO268,\"\\\",REPT(\" \",100)),100))","v":""},"",""]
[{"$nulls":11},{"$f":"TRIM(RIGHT(SUBSTITUTE(Reference!CO269,\"\\\",REPT(\" \",100)),100))","v":""},"",""]
[{"$nulls":11},{"$f":"TRIM(RIGHT(SUBSTITUTE(Reference!CO270,\"\\\",REPT(\" \",100)),100))","v":""},"",""]
[{"$nulls":11},{"$f":"TRIM(RIGHT(SUBSTITUTE(Reference!CO271,\"\\\",REPT(\" \",100)),100))","v":""},"",""]
[{"$nulls":11},{"$f":"TRIM(RIGHT(SUBSTITUTE(Reference!CO272,\"\\\",REPT(\" \",100)),100))","v":""},"",""]
[{"$nulls":11},{"$f":"TRIM(RIGHT(SUBSTITUTE(Reference!CO273,\"\\\",REPT(\" \",100)),100))","v":""},"",""]
[{"$nulls":11},{"$f":"TRIM(RIGHT(SUBSTITUTE(Reference!CO274,\"\\\",REPT(\" \",100)),100))","v":""},"",""]
[{"$nulls":11},{"$f":"TRIM(RIGHT(SUBSTITUTE(Reference!CO275,\"\\\",REPT(\" \",100)),100))","v":""},"",""]
[{"$nulls":11},{"$f":"TRIM(RIGHT(SUBSTITUTE(Reference!CO276,\"\\\",REPT(\" \",100)),100))","v":""},"",""]
[{"$nulls":11},{"$f":"TRIM(RIGHT(SUBSTITUTE(Reference!CO277,\"\\\",REPT(\" \",100)),100))","v":""},"",""]
[{"$nulls":11},{"$f":"TRIM(RIGHT(SUBSTITUTE(Reference!CO278,\"\\\",REPT(\" \",100)),100))","v":""},"",""]
[{"$nulls":11},{"$f":"TRIM(RIGHT(SUBSTITUTE(Reference!CO279,\"\\\",REPT(\" \",100)),100))","v":""},"",""]
[{"$nulls":11},{"$f":"TRIM(RIGHT(SUBSTITUTE(Reference!CO280,\"\\\",REPT(\" \",100)),100))","v":""},"",""]
[{"$nulls":11},{"$f":"TRIM(RIGHT(SUBSTITUTE(Reference!CO281,\"\\\",REPT(\" \",100)),100))","v":""},"",""]
[{"$nulls":11},{"$f":"TRIM(RIGHT(SUBSTITUTE(Reference!CO282,\"\\\",REPT(\" \",100)),100))","v":""},"",""]
[{"$nulls":11},{"$f":"TRIM(RIGHT(SUBSTITUTE(Reference!CO283,\"\\\",REPT(\" \",100)),100))","v":""},"",""]
[{"$nulls":11},{"$f":"TRIM(RIGHT(SUBSTITUTE(Reference!CO284,\"\\\",REPT(\" \",100)),100))","v":""},"",""]
[{"$nulls":11},{"$f":"TRIM(RIGHT(SUBSTITUTE(Reference!CO285,\"\\\",REPT(\" \",100)),100))","v":""},"",""]
[{"$nulls":11},{"$f":"TRIM(RIGHT(SUBSTITUTE(Reference!CO286,\"\\\",REPT(\" \",100)),100))","v":""},"",""]
[{"$nulls":11},{"$f":"TRIM(RIGHT(SUBSTITUTE(Reference!CO287,\"\\\",REPT(\" \",100)),100))","v":""},"",""]
[{"$nulls":11},{"$f":"TRIM(RIGHT(SUBSTITUTE(Reference!CO288,\"\\\",REPT(\" \",100)),100))","v":""},"",""]
[{"$nulls":11},{"$f":"TRIM(RIGHT(SUBSTITUTE(Reference!CO289,\"\\\",REPT(\" \",100)),100))","v":""},"",""]
[{"$nulls":11},{"$f":"TRIM(RIGHT(SUBSTITUTE(Reference!CO290,\"\\\",REPT(\" \",100)),100))","v":""},"",""]
[{"$nulls":11},{"$f":"TRIM(RIGHT(SUBSTITUTE(Reference!CO291,\"\\\",REPT(\" \",100)),100))","v":""},"",""]
[{"$nulls":11},{"$f":"TRIM(RIGHT(SUBSTITUTE(Reference!CO292,\"\\\",REPT(\" \",100)),100))","v":""},"",""]
[{"$nulls":11},{"$f":"TRIM(RIGHT(SUBSTITUTE(Reference!CO293,\"\\\",REPT(\" \",100)),100))","v":""},"",""]
[{"$nulls":11},{"$f":"TRIM(RIGHT(SUBSTITUTE(Reference!CO294,\"\\\",REPT(\" \",100)),100))","v":""},"",""]
[{"$nulls":11},{"$f":"TRIM(RIGHT(SUBSTITUTE(Reference!CO295,\"\\\",REPT(\" \",100)),100))","v":""},"",""]
[{"$nulls":11},{"$f":"TRIM(RIGHT(SUBSTITUTE(Reference!CO296,\"\\\",REPT(\" \",100)),100))","v":""},"",""]
[{"$nulls":11},{"$f":"TRIM(RIGHT(SUBSTITUTE(Reference!CO297,\"\\\",REPT(\" \",100)),100))","v":""},"",""]
[{"$nulls":11},{"$f":"TRIM(RIGHT(SUBSTITUTE(Reference!CO298,\"\\\",REPT(\" \",100)),100))","v":""},"",""]
[{"$nulls":11},{"$f":"TRIM(RIGHT(SUBSTITUTE(Reference!CO299,\"\\\",REPT(\" \",100)),100))","v":""},"",""]
[{"$nulls":11},{"$f":"TRIM(RIGHT(SUBSTITUTE(Reference!CO300,\"\\\",REPT(\" \",100)),100))","v":""},"",""]
[{"$nulls":11},{"$f":"TRIM(RIGHT(SUBSTITUTE(Reference!CO301,\"\\\",REPT(\" \",100)),100))","v":""},"",""]
[{"$nulls":11},{"$f":"TRIM(RIGHT(SUBSTITUTE(Reference!CO302,\"\\\",REPT(\" \",100)),100))","v":""},"",""]
[{"$nulls":11},{"$f":"TRIM(RIGHT(SUBSTITUTE(Reference!CO303,\"\\\",REPT(\" \",100)),100))","v":""},"",""]
[{"$nulls":11},{"$f":"TRIM(RIGHT(SUBSTITUTE(Reference!CO304,\"\\\",REPT(\" \",100)),100))","v":""},"",""]
[{"$nulls":11},{"$f":"TRIM(RIGHT(SUBSTITUTE(Reference!CO305,\"\\\",REPT(\" \",100)),100))","v":""},"",""]
[{"$nulls":11},{"$f":"TRIM(RIGHT(SUBSTITUTE(Reference!CO306,\"\\\",REPT(\" \",100)),100))","v":""},"",""]
[{"$nulls":11},{"$f":"TRIM(RIGHT(SUBSTITUTE(Reference!CO307,\"\\\",REPT(\" \",100)),100))","v":""},"",""]
[{"$nulls":11},{"$f":"TRIM(RIGHT(SUBSTITUTE(Reference!CO308,\"\\\",REPT(\" \",100)),100))","v":""},"",""]
[{"$nulls":11},{"$f":"TRIM(RIGHT(SUBSTITUTE(Reference!CO309,\"\\\",REPT(\" \",100)),100))","v":""},"",""]
[{"$nulls":11},{"$f":"TRIM(RIGHT(SUBSTITUTE(Reference!CO310,\"\\\",REPT(\" \",100)),100))","v":""},"",""]
[{"$nulls":11},{"$f":"TRIM(RIGHT(SUBSTITUTE(Reference!CO311,\"\\\",REPT(\" \",100)),100))","v":""},"",""]
[{"$nulls":11},{"$f":"TRIM(RIGHT(SUBSTITUTE(Reference!CO312,\"\\\",REPT(\" \",100)),100))","v":""},"",""]
[{"$nulls":11},{"$f":"TRIM(RIGHT(SUBSTITUTE(Reference!CO313,\"\\\",REPT(\" \",100)),100))","v":""},"",""]
[{"$nulls":11},{"$f":"TRIM(RIGHT(SUBSTITUTE(Reference!CO314,\"\\\",REPT(\" \",100)),100))","v":""},"",""]
[{"$nulls":11},{"$f":"TRIM(RIGHT(SUBSTITUTE(Reference!CO315,\"\\\",REPT(\" \",100)),100))","v":""},"",""]
[{"$nulls":11},{"$f":"TRIM(RIGHT(SUBSTITUTE(Reference!CO316,\"\\\",REPT(\" \",100)),100))","v":""},"",""]
[{"$nulls":11},{"$f":"TRIM(RIGHT(SUBSTITUTE(Reference!CO317,\"\\\",REPT(\" \",100)),100))","v":""},"",""]
[{"$nulls":11},{"$f":"TRIM(RIGHT(SUBSTITUTE(Reference!CO318,\"\\\",REPT(\" \",100)),100))","v":""},"",""]
[{"$nulls":11},{"$f":"TRIM(RIGHT(SUBSTITUTE(Reference!CO319,\"\\\",REPT(\" \",100)),100))","v":""},"",""]
[{"$nulls":11},{"$f":"TRIM(RIGHT(SUBSTITUTE(Reference!CO320,\"\\\",REPT(\" \",100)),100))","v":""},"",""]
[{"$nulls":11},{"$f":"TRIM(RIGHT(SUBSTITUTE(Reference!CO321,\"\\\",REPT(\" \",100)),100))","v":""},"",""]
[{"$nulls":11},{"$f":"TRIM(RIGHT(SUBSTITUTE(Reference!CO322,\"\\\",REPT(\" \",100)),100))","v":""},"",""]
[{"$nulls":11},{"$f":"TRIM(RIGHT(SUBSTITUTE(Reference!CO323,\"\\\",REPT(\" \",100)),100))","v":""},"",""]
[{"$nulls":11},{"$f":"TRIM(RIGHT(SUBSTITUTE(Reference!CO324,\"\\\",REPT(\" \",100)),100))","v":""},"",{"$f":"IF(LEFT(RIGHT(M324,2),1)<>\"/\",RIGHT(M324,6),INDEX(CandidateFileArray,MATCH(RIGHT(M324,8),CandidateFileList,0),2))","v":""}]
[{"$nulls":11},{"$f":"TRIM(RIGHT(SUBSTITUTE(Reference!CO325,\"\\\",REPT(\" \",100)),100))","v":""},{"$f":"TRIM(LEFT(SUBSTITUTE(L325,\".\",REPT(\" \",100)),100))","v":""},""]
[{"$nulls":11},{"$f":"TRIM(RIGHT(SUBSTITUTE(Reference!CO326,\"\\\",REPT(\" \",100)),100))","v":""},"",""]
[{"$nulls":11},{"$f":"TRIM(RIGHT(SUBSTITUTE(Reference!CO327,\"\\\",REPT(\" \",100)),100))","v":""},"",""]
[{"$nulls":11},{"$f":"TRIM(RIGHT(SUBSTITUTE(Reference!CO328,\"\\\",REPT(\" \",100)),100))","v":""},"",""]
[{"$nulls":11},{"$f":"TRIM(RIGHT(SUBSTITUTE(Reference!CO329,\"\\\",REPT(\" \",100)),100))","v":""},"",""]
[{"$nulls":11},{"$f":"TRIM(RIGHT(SUBSTITUTE(Reference!CO330,\"\\\",REPT(\" \",100)),100))","v":""},"",""]
[{"$nulls":11},{"$f":"TRIM(RIGHT(SUBSTITUTE(Reference!CO331,\"\\\",REPT(\" \",100)),100))","v":""},"",""]
[{"$nulls":11},{"$f":"TRIM(RIGHT(SUBSTITUTE(Reference!CO332,\"\\\",REPT(\" \",100)),100))","v":""},"",""]
[{"$nulls":11},{"$f":"TRIM(RIGHT(SUBSTITUTE(Reference!CO333,\"\\\",REPT(\" \",100)),100))","v":""},"",""]
[{"$nulls":11},{"$f":"TRIM(RIGHT(SUBSTITUTE(Reference!CO334,\"\\\",REPT(\" \",100)),100))","v":""},"",""]
[{"$nulls":11},{"$f":"TRIM(RIGHT(SUBSTITUTE(Reference!CO335,\"\\\",REPT(\" \",100)),100))","v":""},"",""]
[{"$nulls":11},{"$f":"TRIM(RIGHT(SUBSTITUTE(Reference!CO336,\"\\\",REPT(\" \",100)),100))","v":""},"",""]
[{"$nulls":11},{"$f":"TRIM(RIGHT(SUBSTITUTE(Reference!CO337,\"\\\",REPT(\" \",100)),100))","v":""},"",""]
[{"$nulls":11},{"$f":"TRIM(RIGHT(SUBSTITUTE(Reference!CO338,\"\\\",REPT(\" \",100)),100))","v":""},"",""]
[{"$nulls":11},{"$f":"TRIM(RIGHT(SUBSTITUTE(Reference!CO339,\"\\\",REPT(\" \",100)),100))","v":""},"",""]
[{"$nulls":11},{"$f":"TRIM(RIGHT(SUBSTITUTE(Reference!CO340,\"\\\",REPT(\" \",100)),100))","v":""},"",""]
[{"$nulls":11},{"$f":"TRIM(RIGHT(SUBSTITUTE(Reference!CO341,\"\\\",REPT(\" \",100)),100))","v":""},"",""]
[{"$nulls":11},{"$f":"TRIM(RIGHT(SUBSTITUTE(Reference!CO342,\"\\\",REPT(\" \",100)),100))","v":""},"",""]
[{"$nulls":11},{"$f":"TRIM(RIGHT(SUBSTITUTE(Reference!CO343,\"\\\",REPT(\" \",100)),100))","v":""},"",""]
[{"$nulls":11},{"$f":"TRIM(RIGHT(SUBSTITUTE(Reference!CO344,\"\\\",REPT(\" \",100)),100))","v":""},"",""]
[{"$nulls":11},{"$f":"TRIM(RIGHT(SUBSTITUTE(Reference!CO345,\"\\\",REPT(\" \",100)),100))","v":""},"",""]
[{"$nulls":11},{"$f":"TRIM(RIGHT(SUBSTITUTE(Reference!CO346,\"\\\",REPT(\" \",100)),100))","v":""},"",""]
[{"$nulls":11},{"$f":"TRIM(RIGHT(SUBSTITUTE(Reference!CO347,\"\\\",REPT(\" \",100)),100))","v":""},"",""]
[{"$nulls":11},{"$f":"TRIM(RIGHT(SUBSTITUTE(Reference!CO348,\"\\\",REPT(\" \",100)),100))","v":""},"",""]
[{"$nulls":11},{"$f":"TRIM(RIGHT(SUBSTITUTE(Reference!CO349,\"\\\",REPT(\" \",100)),100))","v":""},"",""]
[{"$nulls":11},{"$f":"TRIM(RIGHT(SUBSTITUTE(Reference!CO350,\"\\\",REPT(\" \",100)),100))","v":""},"",""]
[{"$nulls":11},{"$f":"TRIM(RIGHT(SUBSTITUTE(Reference!CO351,\"\\\",REPT(\" \",100)),100))","v":""},"",""]
[{"$nulls":11},{"$f":"TRIM(RIGHT(SUBSTITUTE(Reference!CO352,\"\\\",REPT(\" \",100)),100))","v":""},"",""]
[{"$nulls":11},{"$f":"TRIM(RIGHT(SUBSTITUTE(Reference!CO353,\"\\\",REPT(\" \",100)),100))","v":""},"",""]
[{"$nulls":11},{"$f":"TRIM(RIGHT(SUBSTITUTE(Reference!CO354,\"\\\",REPT(\" \",100)),100))","v":""},"",""]
[{"$nulls":11},{"$f":"TRIM(RIGHT(SUBSTITUTE(Reference!CO355,\"\\\",REPT(\" \",100)),100))","v":""},"",""]
[{"$nulls":11},{"$f":"TRIM(RIGHT(SUBSTITUTE(Reference!CO356,\"\\\",REPT(\" \",100)),100))","v":""},"",""]
[{"$nulls":11},{"$f":"TRIM(RIGHT(SUBSTITUTE(Reference!CO357,\"\\\",REPT(\" \",100)),100))","v":""},"",""]
[{"$nulls":11},{"$f":"TRIM(RIGHT(SUBSTITUTE(Reference!CO358,\"\\\",REPT(\" \",100)),100))","v":""},"",""]
[{"$nulls":11},{"$f":"TRIM(RIGHT(SUBSTITUTE(Reference!CO359,\"\\\",REPT(\" \",100)),100))","v":""},"",""]
[{"$nulls":11},{"$f":"TRIM(RIGHT(SUBSTITUTE(Reference!CO360,\"\\\",REPT(\" \",100)),100))","v":""},"",""]
[{"$nulls":11},{"$f":"TRIM(RIGHT(SUBSTITUTE(Reference!CO361,\"\\\",REPT(\" \",100)),100))","v":""},"",""]
[{"$nulls":11},{"$f":"TRIM(RIGHT(SUBSTITUTE(Reference!CO362,\"\\\",REPT(\" \",100)),100))","v":""},"",""]
[{"$nulls":11},{"$f":"TRIM(RIGHT(SUBSTITUTE(Reference!CO363,\"\\\",REPT(\" \",100)),100))","v":""},"",""]
[{"$nulls":11},{"$f":"TRIM(RIGHT(SUBSTITUTE(Reference!CO364,\"\\\",REPT(\" \",100)),100))","v":""},"",""]
[{"$nulls":11},{"$f":"TRIM(RIGHT(SUBSTITUTE(Reference!CO365,\"\\\",REPT(\" \",100)),100))","v":""},"",""]
[{"$nulls":11},{"$f":"TRIM(RIGHT(SUBSTITUTE(Reference!CO366,\"\\\",REPT(\" \",100)),100))","v":""},"",""]
[{"$nulls":11},{"$f":"TRIM(RIGHT(SUBSTITUTE(Reference!CO367,\"\\\",REPT(\" \",100)),100))","v":""},"",""]
[{"$nulls":11},{"$f":"TRIM(RIGHT(SUBSTITUTE(Reference!CO368,\"\\\",REPT(\" \",100)),100))","v":""},"",""]
[{"$nulls":11},{"$f":"TRIM(RIGHT(SUBSTITUTE(Reference!CO369,\"\\\",REPT(\" \",100)),100))","v":""},"",""]
[{"$nulls":11},{"$f":"TRIM(RIGHT(SUBSTITUTE(Reference!CO370,\"\\\",REPT(\" \",100)),100))","v":""},"",""]
[{"$nulls":11},{"$f":"TRIM(RIGHT(SUBSTITUTE(Reference!CO371,\"\\\",REPT(\" \",100)),100))","v":""},"",""]
[{"$nulls":11},{"$f":"TRIM(RIGHT(SUBSTITUTE(Reference!CO372,\"\\\",REPT(\" \",100)),100))","v":""},"",""]
[{"$nulls":11},{"$f":"TRIM(RIGHT(SUBSTITUTE(Reference!CO373,\"\\\",REPT(\" \",100)),100))","v":""},"",""]
[{"$nulls":11},{"$f":"TRIM(RIGHT(SUBSTITUTE(Reference!CO374,\"\\\",REPT(\" \",100)),100))","v":""},"",""]
[{"$nulls":11},{"$f":"TRIM(RIGHT(SUBSTITUTE(Reference!CO375,\"\\\",REPT(\" \",100)),100))","v":""},"",""]
[{"$nulls":11},{"$f":"TRIM(RIGHT(SUBSTITUTE(Reference!CO376,\"\\\",REPT(\" \",100)),100))","v":""},"",""]
[{"$nulls":11},{"$f":"TRIM(RIGHT(SUBSTITUTE(Reference!CO377,\"\\\",REPT(\" \",100)),100))","v":""},"",""]
[{"$nulls":11},{"$f":"TRIM(RIGHT(SUBSTITUTE(Reference!CO378,\"\\\",REPT(\" \",100)),100))","v":""},"",""]
[{"$nulls":11},{"$f":"TRIM(RIGHT(SUBSTITUTE(Reference!CO379,\"\\\",REPT(\" \",100)),100))","v":""},"",""]
[{"$nulls":11},{"$f":"TRIM(RIGHT(SUBSTITUTE(Reference!CO380,\"\\\",REPT(\" \",100)),100))","v":""},"",""]
[{"$nulls":11},{"$f":"TRIM(RIGHT(SUBSTITUTE(Reference!CO381,\"\\\",REPT(\" \",100)),100))","v":""},"",""]
[{"$nulls":11},{"$f":"TRIM(RIGHT(SUBSTITUTE(Reference!CO382,\"\\\",REPT(\" \",100)),100))","v":""},"",""]
[{"$nulls":11},{"$f":"TRIM(RIGHT(SUBSTITUTE(Reference!CO383,\"\\\",REPT(\" \",100)),100))","v":""},"",""]
[{"$nulls":11},{"$f":"TRIM(RIGHT(SUBSTITUTE(Reference!CO384,\"\\\",REPT(\" \",100)),100))","v":""},"",""]
[{"$nulls":11},{"$f":"TRIM(RIGHT(SUBSTITUTE(Reference!CO385,\"\\\",REPT(\" \",100)),100))","v":""},"",""]
[{"$nulls":11},{"$f":"TRIM(RIGHT(SUBSTITUTE(Reference!CO386,\"\\\",REPT(\" \",100)),100))","v":""},"",""]
[{"$nulls":11},{"$f":"TRIM(RIGHT(SUBSTITUTE(Reference!CO387,\"\\\",REPT(\" \",100)),100))","v":""},"",""]
[{"$nulls":11},{"$f":"TRIM(RIGHT(SUBSTITUTE(Reference!CO388,\"\\\",REPT(\" \",100)),100))","v":""},"",{"$f":"IF(LEFT(RIGHT(M388,2),1)<>\"/\",RIGHT(M388,6),INDEX(CandidateFileArray,MATCH(RIGHT(M388,8),CandidateFileList,0),2))","v":""}]
[{"$nulls":11},{"$f":"TRIM(RIGHT(SUBSTITUTE(Reference!CO389,\"\\\",REPT(\" \",100)),100))","v":""},{"$f":"TRIM(LEFT(SUBSTITUTE(L389,\".\",REPT(\" \",100)),100))","v":""},""]
[{"$nulls":11},{"$f":"TRIM(RIGHT(SUBSTITUTE(Reference!CO390,\"\\\",REPT(\" \",100)),100))","v":""},"",""]
[{"$nulls":11},{"$f":"TRIM(RIGHT(SUBSTITUTE(Reference!CO391,\"\\\",REPT(\" \",100)),100))","v":""},"",""]
[{"$nulls":11},{"$f":"TRIM(RIGHT(SUBSTITUTE(Reference!CO392,\"\\\",REPT(\" \",100)),100))","v":""},"",""]
[{"$nulls":11},{"$f":"TRIM(RIGHT(SUBSTITUTE(Reference!CO393,\"\\\",REPT(\" \",100)),100))","v":""},"",""]
[{"$nulls":11},{"$f":"TRIM(RIGHT(SUBSTITUTE(Reference!CO394,\"\\\",REPT(\" \",100)),100))","v":""},"",""]
[{"$nulls":11},{"$f":"TRIM(RIGHT(SUBSTITUTE(Reference!CO395,\"\\\",REPT(\" \",100)),100))","v":""},"",""]
[{"$nulls":11},{"$f":"TRIM(RIGHT(SUBSTITUTE(Reference!CO396,\"\\\",REPT(\" \",100)),100))","v":""},"",""]
[{"$nulls":11},{"$f":"TRIM(RIGHT(SUBSTITUTE(Reference!CO397,\"\\\",REPT(\" \",100)),100))","v":""},"",""]
[{"$nulls":11},{"$f":"TRIM(RIGHT(SUBSTITUTE(Reference!CO398,\"\\\",REPT(\" \",100)),100))","v":""},"",""]
[{"$nulls":11},{"$f":"TRIM(RIGHT(SUBSTITUTE(Reference!CO399,\"\\\",REPT(\" \",100)),100))","v":""},"",""]
[{"$nulls":11},{"$f":"TRIM(RIGHT(SUBSTITUTE(Reference!CO400,\"\\\",REPT(\" \",100)),100))","v":""},"",""]
[{"$nulls":11},{"$f":"TRIM(RIGHT(SUBSTITUTE(Reference!CO401,\"\\\",REPT(\" \",100)),100))","v":""},"",""]
[{"$nulls":11},{"$f":"TRIM(RIGHT(SUBSTITUTE(Reference!CO402,\"\\\",REPT(\" \",100)),100))","v":""},"",""]
[{"$nulls":11},{"$f":"TRIM(RIGHT(SUBSTITUTE(Reference!CO403,\"\\\",REPT(\" \",100)),100))","v":""},"",""]
[{"$nulls":11},{"$f":"TRIM(RIGHT(SUBSTITUTE(Reference!CO404,\"\\\",REPT(\" \",100)),100))","v":""},"",""]
[{"$nulls":11},{"$f":"TRIM(RIGHT(SUBSTITUTE(Reference!CO405,\"\\\",REPT(\" \",100)),100))","v":""},"",""]
[{"$nulls":11},{"$f":"TRIM(RIGHT(SUBSTITUTE(Reference!CO406,\"\\\",REPT(\" \",100)),100))","v":""},"",""]
[{"$nulls":11},{"$f":"TRIM(RIGHT(SUBSTITUTE(Reference!CO407,\"\\\",REPT(\" \",100)),100))","v":""},"",""]
[{"$nulls":11},{"$f":"TRIM(RIGHT(SUBSTITUTE(Reference!CO408,\"\\\",REPT(\" \",100)),100))","v":""},"",""]
[{"$nulls":11},{"$f":"TRIM(RIGHT(SUBSTITUTE(Reference!CO409,\"\\\",REPT(\" \",100)),100))","v":""},"",""]
[{"$nulls":11},{"$f":"TRIM(RIGHT(SUBSTITUTE(Reference!CO410,\"\\\",REPT(\" \",100)),100))","v":""},"",""]
[{"$nulls":11},{"$f":"TRIM(RIGHT(SUBSTITUTE(Reference!CO411,\"\\\",REPT(\" \",100)),100))","v":""},"",""]
[{"$nulls":11},{"$f":"TRIM(RIGHT(SUBSTITUTE(Reference!CO412,\"\\\",REPT(\" \",100)),100))","v":""},"",""]
[{"$nulls":11},{"$f":"TRIM(RIGHT(SUBSTITUTE(Reference!CO413,\"\\\",REPT(\" \",100)),100))","v":""},"",""]
[{"$nulls":11},{"$f":"TRIM(RIGHT(SUBSTITUTE(Reference!CO414,\"\\\",REPT(\" \",100)),100))","v":""},"",""]
[{"$nulls":11},{"$f":"TRIM(RIGHT(SUBSTITUTE(Reference!CO415,\"\\\",REPT(\" \",100)),100))","v":""},"",""]
[{"$nulls":11},{"$f":"TRIM(RIGHT(SUBSTITUTE(Reference!CO416,\"\\\",REPT(\" \",100)),100))","v":""},"",""]
[{"$nulls":11},{"$f":"TRIM(RIGHT(SUBSTITUTE(Reference!CO417,\"\\\",REPT(\" \",100)),100))","v":""},"",""]
[{"$nulls":11},{"$f":"TRIM(RIGHT(SUBSTITUTE(Reference!CO418,\"\\\",REPT(\" \",100)),100))","v":""},"",""]
[{"$nulls":11},{"$f":"TRIM(RIGHT(SUBSTITUTE(Reference!CO419,\"\\\",REPT(\" \",100)),100))","v":""},"",""]
[{"$nulls":11},{"$f":"TRIM(RIGHT(SUBSTITUTE(Reference!CO420,\"\\\",REPT(\" \",100)),100))","v":""},"",""]
[{"$nulls":11},{"$f":"TRIM(RIGHT(SUBSTITUTE(Reference!CO421,\"\\\",REPT(\" \",100)),100))","v":""},"",""]
[{"$nulls":11},{"$f":"TRIM(RIGHT(SUBSTITUTE(Reference!CO422,\"\\\",REPT(\" \",100)),100))","v":""},"",""]
[{"$nulls":11},{"$f":"TRIM(RIGHT(SUBSTITUTE(Reference!CO423,\"\\\",REPT(\" \",100)),100))","v":""},"",""]
[{"$nulls":11},{"$f":"TRIM(RIGHT(SUBSTITUTE(Reference!CO424,\"\\\",REPT(\" \",100)),100))","v":""},"",""]
[{"$nulls":11},{"$f":"TRIM(RIGHT(SUBSTITUTE(Reference!CO425,\"\\\",REPT(\" \",100)),100))","v":""},"",""]
[{"$nulls":11},{"$f":"TRIM(RIGHT(SUBSTITUTE(Reference!CO426,\"\\\",REPT(\" \",100)),100))","v":""},"",""]
[{"$nulls":11},{"$f":"TRIM(RIGHT(SUBSTITUTE(Reference!CO427,\"\\\",REPT(\" \",100)),100))","v":""},"",""]
[{"$nulls":11},{"$f":"TRIM(RIGHT(SUBSTITUTE(Reference!CO428,\"\\\",REPT(\" \",100)),100))","v":""},"",""]
[{"$nulls":11},{"$f":"TRIM(RIGHT(SUBSTITUTE(Reference!CO429,\"\\\",REPT(\" \",100)),100))","v":""},"",""]
[{"$nulls":11},{"$f":"TRIM(RIGHT(SUBSTITUTE(Reference!CO430,\"\\\",REPT(\" \",100)),100))","v":""},"",""]
[{"$nulls":11},{"$f":"TRIM(RIGHT(SUBSTITUTE(Reference!CO431,\"\\\",REPT(\" \",100)),100))","v":""},"",""]
[{"$nulls":11},{"$f":"TRIM(RIGHT(SUBSTITUTE(Reference!CO432,\"\\\",REPT(\" \",100)),100))","v":""},"",""]
[{"$nulls":11},{"$f":"TRIM(RIGHT(SUBSTITUTE(Reference!CO433,\"\\\",REPT(\" \",100)),100))","v":""},"",""]
[{"$nulls":11},{"$f":"TRIM(RIGHT(SUBSTITUTE(Reference!CO434,\"\\\",REPT(\" \",100)),100))","v":""},"",""]
[{"$nulls":11},{"$f":"TRIM(RIGHT(SUBSTITUTE(Reference!CO435,\"\\\",REPT(\" \",100)),100))","v":""},"",""]
[{"$nulls":11},{"$f":"TRIM(RIGHT(SUBSTITUTE(Reference!CO436,\"\\\",REPT(\" \",100)),100))","v":""},"",""]
[{"$nulls":11},{"$f":"TRIM(RIGHT(SUBSTITUTE(Reference!CO437,\"\\\",REPT(\" \",100)),100))","v":""},"",""]
[{"$nulls":11},{"$f":"TRIM(RIGHT(SUBSTITUTE(Reference!CO438,\"\\\",REPT(\" \",100)),100))","v":""},"",""]
[{"$nulls":11},{"$f":"TRIM(RIGHT(SUBSTITUTE(Reference!CO439,\"\\\",REPT(\" \",100)),100))","v":""},"",""]
[{"$nulls":11},{"$f":"TRIM(RIGHT(SUBSTITUTE(Reference!CO440,\"\\\",REPT(\" \",100)),100))","v":""},"",""]
[{"$nulls":11},{"$f":"TRIM(RIGHT(SUBSTITUTE(Reference!CO441,\"\\\",REPT(\" \",100)),100))","v":""},"",""]
[{"$nulls":11},{"$f":"TRIM(RIGHT(SUBSTITUTE(Reference!CO442,\"\\\",REPT(\" \",100)),100))","v":""},"",""]
[{"$nulls":11},{"$f":"TRIM(RIGHT(SUBSTITUTE(Reference!CO443,\"\\\",REPT(\" \",100)),100))","v":""},"",""]
[{"$nulls":11},{"$f":"TRIM(RIGHT(SUBSTITUTE(Reference!CO444,\"\\\",REPT(\" \",100)),100))","v":""},"",""]
[{"$nulls":11},{"$f":"TRIM(RIGHT(SUBSTITUTE(Reference!CO445,\"\\\",REPT(\" \",100)),100))","v":""},"",""]
[{"$nulls":11},{"$f":"TRIM(RIGHT(SUBSTITUTE(Reference!CO446,\"\\\",REPT(\" \",100)),100))","v":""},"",""]
[{"$nulls":11},{"$f":"TRIM(RIGHT(SUBSTITUTE(Reference!CO447,\"\\\",REPT(\" \",100)),100))","v":""},"",""]
[{"$nulls":11},{"$f":"TRIM(RIGHT(SUBSTITUTE(Reference!CO448,\"\\\",REPT(\" \",100)),100))","v":""},"",""]
[{"$nulls":11},{"$f":"TRIM(RIGHT(SUBSTITUTE(Reference!CO449,\"\\\",REPT(\" \",100)),100))","v":""},"",""]
[{"$nulls":11},{"$f":"TRIM(RIGHT(SUBSTITUTE(Reference!CO450,\"\\\",REPT(\" \",100)),100))","v":""},"",""]
[{"$nulls":11},{"$f":"TRIM(RIGHT(SUBSTITUTE(Reference!CO451,\"\\\",REPT(\" \",100)),100))","v":""},"",""]
[{"$nulls":11},{"$f":"TRIM(RIGHT(SUBSTITUTE(Reference!CO452,\"\\\",REPT(\" \",100)),100))","v":""},"",{"$f":"IF(LEFT(RIGHT(M452,2),1)<>\"/\",RIGHT(M452,6),INDEX(CandidateFileArray,MATCH(RIGHT(M452,8),CandidateFileList,0),2))","v":""}]
[{"$nulls":11},{"$f":"TRIM(RIGHT(SUBSTITUTE(Reference!CO453,\"\\\",REPT(\" \",100)),100))","v":""},{"$f":"TRIM(LEFT(SUBSTITUTE(L453,\".\",REPT(\" \",100)),100))","v":""},""]
[{"$nulls":11},{"$f":"TRIM(RIGHT(SUBSTITUTE(Reference!CO454,\"\\\",REPT(\" \",100)),100))","v":""},"",""]
[{"$nulls":11},{"$f":"TRIM(RIGHT(SUBSTITUTE(Reference!CO455,\"\\\",REPT(\" \",100)),100))","v":""},"",""]
[{"$nulls":11},{"$f":"TRIM(RIGHT(SUBSTITUTE(Reference!CO456,\"\\\",REPT(\" \",100)),100))","v":""},"",""]
[{"$nulls":11},{"$f":"TRIM(RIGHT(SUBSTITUTE(Reference!CO457,\"\\\",REPT(\" \",100)),100))","v":""},"",""]
[{"$nulls":11},{"$f":"TRIM(RIGHT(SUBSTITUTE(Reference!CO458,\"\\\",REPT(\" \",100)),100))","v":""},"",""]
[{"$nulls":11},{"$f":"TRIM(RIGHT(SUBSTITUTE(Reference!CO459,\"\\\",REPT(\" \",100)),100))","v":""},"",""]
[{"$nulls":11},{"$f":"TRIM(RIGHT(SUBSTITUTE(Reference!CO460,\"\\\",REPT(\" \",100)),100))","v":""},"",""]
[{"$nulls":11},{"$f":"TRIM(RIGHT(SUBSTITUTE(Reference!CO461,\"\\\",REPT(\" \",100)),100))","v":""},"",""]
[{"$nulls":11},{"$f":"TRIM(RIGHT(SUBSTITUTE(Reference!CO462,\"\\\",REPT(\" \",100)),100))","v":""},"",""]
[{"$nulls":11},{"$f":"TRIM(RIGHT(SUBSTITUTE(Reference!CO463,\"\\\",REPT(\" \",100)),100))","v":""},"",""]
[{"$nulls":11},{"$f":"TRIM(RIGHT(SUBSTITUTE(Reference!CO464,\"\\\",REPT(\" \",100)),100))","v":""},"",""]
[{"$nulls":11},{"$f":"TRIM(RIGHT(SUBSTITUTE(Reference!CO465,\"\\\",REPT(\" \",100)),100))","v":""},"",""]
[{"$nulls":11},{"$f":"TRIM(RIGHT(SUBSTITUTE(Reference!CO466,\"\\\",REPT(\" \",100)),100))","v":""},"",""]
[{"$nulls":11},{"$f":"TRIM(RIGHT(SUBSTITUTE(Reference!CO467,\"\\\",REPT(\" \",100)),100))","v":""},"",""]
[{"$nulls":11},{"$f":"TRIM(RIGHT(SUBSTITUTE(Reference!CO468,\"\\\",REPT(\" \",100)),100))","v":""},"",""]
[{"$nulls":11},{"$f":"TRIM(RIGHT(SUBSTITUTE(Reference!CO469,\"\\\",REPT(\" \",100)),100))","v":""},"",""]
[{"$nulls":11},{"$f":"TRIM(RIGHT(SUBSTITUTE(Reference!CO470,\"\\\",REPT(\" \",100)),100))","v":""},"",""]
[{"$nulls":11},{"$f":"TRIM(RIGHT(SUBSTITUTE(Reference!CO471,\"\\\",REPT(\" \",100)),100))","v":""},"",""]
[{"$nulls":11},{"$f":"TRIM(RIGHT(SUBSTITUTE(Reference!CO472,\"\\\",REPT(\" \",100)),100))","v":""},"",""]
[{"$nulls":11},{"$f":"TRIM(RIGHT(SUBSTITUTE(Reference!CO473,\"\\\",REPT(\" \",100)),100))","v":""},"",""]
[{"$nulls":11},{"$f":"TRIM(RIGHT(SUBSTITUTE(Reference!CO474,\"\\\",REPT(\" \",100)),100))","v":""},"",""]
[{"$nulls":11},{"$f":"TRIM(RIGHT(SUBSTITUTE(Reference!CO475,\"\\\",REPT(\" \",100)),100))","v":""},"",""]
[{"$nulls":11},{"$f":"TRIM(RIGHT(SUBSTITUTE(Reference!CO476,\"\\\",REPT(\" \",100)),100))","v":""},"",""]
[{"$nulls":11},{"$f":"TRIM(RIGHT(SUBSTITUTE(Reference!CO477,\"\\\",REPT(\" \",100)),100))","v":""},"",""]
[{"$nulls":11},{"$f":"TRIM(RIGHT(SUBSTITUTE(Reference!CO478,\"\\\",REPT(\" \",100)),100))","v":""},"",""]
[{"$nulls":11},{"$f":"TRIM(RIGHT(SUBSTITUTE(Reference!CO479,\"\\\",REPT(\" \",100)),100))","v":""},"",""]
[{"$nulls":11},{"$f":"TRIM(RIGHT(SUBSTITUTE(Reference!CO480,\"\\\",REPT(\" \",100)),100))","v":""},"",""]
[{"$nulls":11},{"$f":"TRIM(RIGHT(SUBSTITUTE(Reference!CO481,\"\\\",REPT(\" \",100)),100))","v":""},"",""]
[{"$nulls":11},{"$f":"TRIM(RIGHT(SUBSTITUTE(Reference!CO482,\"\\\",REPT(\" \",100)),100))","v":""},"",""]
[{"$nulls":11},{"$f":"TRIM(RIGHT(SUBSTITUTE(Reference!CO483,\"\\\",REPT(\" \",100)),100))","v":""},"",""]
[{"$nulls":11},{"$f":"TRIM(RIGHT(SUBSTITUTE(Reference!CO484,\"\\\",REPT(\" \",100)),100))","v":""},"",""]
[{"$nulls":11},{"$f":"TRIM(RIGHT(SUBSTITUTE(Reference!CO485,\"\\\",REPT(\" \",100)),100))","v":""},"",""]
[{"$nulls":11},{"$f":"TRIM(RIGHT(SUBSTITUTE(Reference!CO486,\"\\\",REPT(\" \",100)),100))","v":""},"",""]
[{"$nulls":11},{"$f":"TRIM(RIGHT(SUBSTITUTE(Reference!CO487,\"\\\",REPT(\" \",100)),100))","v":""},"",""]
[{"$nulls":11},{"$f":"TRIM(RIGHT(SUBSTITUTE(Reference!CO488,\"\\\",REPT(\" \",100)),100))","v":""},"",""]
[{"$nulls":11},{"$f":"TRIM(RIGHT(SUBSTITUTE(Reference!CO489,\"\\\",REPT(\" \",100)),100))","v":""},"",""]
[{"$nulls":11},{"$f":"TRIM(RIGHT(SUBSTITUTE(Reference!CO490,\"\\\",REPT(\" \",100)),100))","v":""},"",""]
[{"$nulls":11},{"$f":"TRIM(RIGHT(SUBSTITUTE(Reference!CO491,\"\\\",REPT(\" \",100)),100))","v":""},"",""]
[{"$nulls":11},{"$f":"TRIM(RIGHT(SUBSTITUTE(Reference!CO492,\"\\\",REPT(\" \",100)),100))","v":""},"",""]
[{"$nulls":11},{"$f":"TRIM(RIGHT(SUBSTITUTE(Reference!CO493,\"\\\",REPT(\" \",100)),100))","v":""},"",""]
[{"$nulls":11},{"$f":"TRIM(RIGHT(SUBSTITUTE(Reference!CO494,\"\\\",REPT(\" \",100)),100))","v":""},"",""]
[{"$nulls":11},{"$f":"TRIM(RIGHT(SUBSTITUTE(Reference!CO495,\"\\\",REPT(\" \",100)),100))","v":""},"",""]
[{"$nulls":11},{"$f":"TRIM(RIGHT(SUBSTITUTE(Reference!CO496,\"\\\",REPT(\" \",100)),100))","v":""},"",""]
[{"$nulls":11},{"$f":"TRIM(RIGHT(SUBSTITUTE(Reference!CO497,\"\\\",REPT(\" \",100)),100))","v":""},"",""]
[{"$nulls":11},{"$f":"TRIM(RIGHT(SUBSTITUTE(Reference!CO498,\"\\\",REPT(\" \",100)),100))","v":""},"",""]
[{"$nulls":11},{"$f":"TRIM(RIGHT(SUBSTITUTE(Reference!CO499,\"\\\",REPT(\" \",100)),100))","v":""},"",""]
[{"$nulls":11},{"$f":"TRIM(RIGHT(SUBSTITUTE(Reference!CO500,\"\\\",REPT(\" \",100)),100))","v":""},"",""]
[{"$nulls":11},{"$f":"TRIM(RIGHT(SUBSTITUTE(Reference!CO501,\"\\\",REPT(\" \",100)),100))","v":""},"",""]
[{"$nulls":11},{"$f":"TRIM(RIGHT(SUBSTITUTE(Reference!CO502,\"\\\",REPT(\" \",100)),100))","v":""},"",""]
[{"$nulls":11},{"$f":"TRIM(RIGHT(SUBSTITUTE(Reference!CO503,\"\\\",REPT(\" \",100)),100))","v":""},"",""]
[{"$nulls":11},{"$f":"TRIM(RIGHT(SUBSTITUTE(Reference!CO504,\"\\\",REPT(\" \",100)),100))","v":""},"",""]
[{"$nulls":11},{"$f":"TRIM(RIGHT(SUBSTITUTE(Reference!CO505,\"\\\",REPT(\" \",100)),100))","v":""},"",""]
[{"$nulls":11},{"$f":"TRIM(RIGHT(SUBSTITUTE(Reference!CO506,\"\\\",REPT(\" \",100)),100))","v":""},"",""]
[{"$nulls":11},{"$f":"TRIM(RIGHT(SUBSTITUTE(Reference!CO507,\"\\\",REPT(\" \",100)),100))","v":""},"",""]
[{"$nulls":11},{"$f":"TRIM(RIGHT(SUBSTITUTE(Reference!CO508,\"\\\",REPT(\" \",100)),100))","v":""},"",""]
[{"$nulls":11},{"$f":"TRIM(RIGHT(SUBSTITUTE(Reference!CO509,\"\\\",REPT(\" \",100)),100))","v":""},"",""]
[{"$nulls":11},{"$f":"TRIM(RIGHT(SUBSTITUTE(Reference!CO510,\"\\\",REPT(\" \",100)),100))","v":""},"",""]
[{"$nulls":11},{"$f":"TRIM(RIGHT(SUBSTITUTE(Reference!CO511,\"\\\",REPT(\" \",100)),100))","v":""},"",""]
[{"$nulls":11},{"$f":"TRIM(RIGHT(SUBSTITUTE(Reference!CO512,\"\\\",REPT(\" \",100)),100))","v":""},"",""]
[{"$nulls":11},{"$f":"TRIM(RIGHT(SUBSTITUTE(Reference!CO513,\"\\\",REPT(\" \",100)),100))","v":""},"",""]
[{"$nulls":11},{"$f":"TRIM(RIGHT(SUBSTITUTE(Reference!CO514,\"\\\",REPT(\" \",100)),100))","v":""},"",""]
[{"$nulls":11},{"$f":"TRIM(RIGHT(SUBSTITUTE(Reference!CO515,\"\\\",REPT(\" \",100)),100))","v":""},"",""]
[{"$nulls":11},{"$f":"TRIM(RIGHT(SUBSTITUTE(Reference!CO516,\"\\\",REPT(\" \",100)),100))","v":""},"",{"$f":"IF(LEFT(RIGHT(M516,2),1)<>\"/\",RIGHT(M516,6),INDEX(CandidateFileArray,MATCH(RIGHT(M516,8),CandidateFileList,0),2))","v":""}]
[{"$nulls":11},{"$f":"TRIM(RIGHT(SUBSTITUTE(Reference!CO517,\"\\\",REPT(\" \",100)),100))","v":""},{"$f":"TRIM(LEFT(SUBSTITUTE(L517,\".\",REPT(\" \",100)),100))","v":""},""]
[{"$nulls":11},{"$f":"TRIM(RIGHT(SUBSTITUTE(Reference!CO518,\"\\\",REPT(\" \",100)),100))","v":""},"",""]
[{"$nulls":11},{"$f":"TRIM(RIGHT(SUBSTITUTE(Reference!CO519,\"\\\",REPT(\" \",100)),100))","v":""},"",""]
[{"$nulls":11},{"$f":"TRIM(RIGHT(SUBSTITUTE(Reference!CO520,\"\\\",REPT(\" \",100)),100))","v":""},"",""]
[{"$nulls":11},{"$f":"TRIM(RIGHT(SUBSTITUTE(Reference!CO521,\"\\\",REPT(\" \",100)),100))","v":""},"",""]
[{"$nulls":11},{"$f":"TRIM(RIGHT(SUBSTITUTE(Reference!CO522,\"\\\",REPT(\" \",100)),100))","v":""},"",""]
[{"$nulls":11},{"$f":"TRIM(RIGHT(SUBSTITUTE(Reference!CO523,\"\\\",REPT(\" \",100)),100))","v":""},"",""]
[{"$nulls":11},{"$f":"TRIM(RIGHT(SUBSTITUTE(Reference!CO524,\"\\\",REPT(\" \",100)),100))","v":""},"",""]
[{"$nulls":11},{"$f":"TRIM(RIGHT(SUBSTITUTE(Reference!CO525,\"\\\",REPT(\" \",100)),100))","v":""},"",""]
[{"$nulls":11},{"$f":"TRIM(RIGHT(SUBSTITUTE(Reference!CO526,\"\\\",REPT(\" \",100)),100))","v":""},"",""]
[{"$nulls":11},{"$f":"TRIM(RIGHT(SUBSTITUTE(Reference!CO527,\"\\\",REPT(\" \",100)),100))","v":""},"",""]
[{"$nulls":11},{"$f":"TRIM(RIGHT(SUBSTITUTE(Reference!CO528,\"\\\",REPT(\" \",100)),100))","v":""},"",""]
[{"$nulls":11},{"$f":"TRIM(RIGHT(SUBSTITUTE(Reference!CO529,\"\\\",REPT(\" \",100)),100))","v":""},"",""]
[{"$nulls":11},{"$f":"TRIM(RIGHT(SUBSTITUTE(Reference!CO530,\"\\\",REPT(\" \",100)),100))","v":""},"",""]
[{"$nulls":11},{"$f":"TRIM(RIGHT(SUBSTITUTE(Reference!CO531,\"\\\",REPT(\" \",100)),100))","v":""},"",""]
[{"$nulls":11},{"$f":"TRIM(RIGHT(SUBSTITUTE(Reference!CO532,\"\\\",REPT(\" \",100)),100))","v":""},"",""]
[{"$nulls":11},{"$f":"TRIM(RIGHT(SUBSTITUTE(Reference!CO533,\"\\\",REPT(\" \",100)),100))","v":""},"",""]
[{"$nulls":11},{"$f":"TRIM(RIGHT(SUBSTITUTE(Reference!CO534,\"\\\",REPT(\" \",100)),100))","v":""},"",""]
[{"$nulls":11},{"$f":"TRIM(RIGHT(SUBSTITUTE(Reference!CO535,\"\\\",REPT(\" \",100)),100))","v":""},"",""]
[{"$nulls":11},{"$f":"TRIM(RIGHT(SUBSTITUTE(Reference!CO536,\"\\\",REPT(\" \",100)),100))","v":""},"",""]
[{"$nulls":11},{"$f":"TRIM(RIGHT(SUBSTITUTE(Reference!CO537,\"\\\",REPT(\" \",100)),100))","v":""},"",""]
[{"$nulls":11},{"$f":"TRIM(RIGHT(SUBSTITUTE(Reference!CO538,\"\\\",REPT(\" \",100)),100))","v":""},"",""]
[{"$nulls":11},{"$f":"TRIM(RIGHT(SUBSTITUTE(Reference!CO539,\"\\\",REPT(\" \",100)),100))","v":""},"",""]
[{"$nulls":11},{"$f":"TRIM(RIGHT(SUBSTITUTE(Reference!CO540,\"\\\",REPT(\" \",100)),100))","v":""},"",""]
[{"$nulls":11},{"$f":"TRIM(RIGHT(SUBSTITUTE(Reference!CO541,\"\\\",REPT(\" \",100)),100))","v":""},"",""]
[{"$nulls":11},{"$f":"TRIM(RIGHT(SUBSTITUTE(Reference!CO542,\"\\\",REPT(\" \",100)),100))","v":""},"",""]
[{"$nulls":11},{"$f":"TRIM(RIGHT(SUBSTITUTE(Reference!CO543,\"\\\",REPT(\" \",100)),100))","v":""},"",""]
[{"$nulls":11},{"$f":"TRIM(RIGHT(SUBSTITUTE(Reference!CO544,\"\\\",REPT(\" \",100)),100))","v":""},"",""]
[{"$nulls":11},{"$f":"TRIM(RIGHT(SUBSTITUTE(Reference!CO545,\"\\\",REPT(\" \",100)),100))","v":""},"",""]
[{"$nulls":11},{"$f":"TRIM(RIGHT(SUBSTITUTE(Reference!CO546,\"\\\",REPT(\" \",100)),100))","v":""},"",""]
[{"$nulls":11},{"$f":"TRIM(RIGHT(SUBSTITUTE(Reference!CO547,\"\\\",REPT(\" \",100)),100))","v":""},"",""]
[{"$nulls":11},{"$f":"TRIM(RIGHT(SUBSTITUTE(Reference!CO548,\"\\\",REPT(\" \",100)),100))","v":""},"",""]
[{"$nulls":11},{"$f":"TRIM(RIGHT(SUBSTITUTE(Reference!CO549,\"\\\",REPT(\" \",100)),100))","v":""},"",""]
[{"$nulls":11},{"$f":"TRIM(RIGHT(SUBSTITUTE(Reference!CO550,\"\\\",REPT(\" \",100)),100))","v":""},"",""]
[{"$nulls":11},{"$f":"TRIM(RIGHT(SUBSTITUTE(Reference!CO551,\"\\\",REPT(\" \",100)),100))","v":""},"",""]
[{"$nulls":11},{"$f":"TRIM(RIGHT(SUBSTITUTE(Reference!CO552,\"\\\",REPT(\" \",100)),100))","v":""},"",""]
[{"$nulls":11},{"$f":"TRIM(RIGHT(SUBSTITUTE(Reference!CO553,\"\\\",REPT(\" \",100)),100))","v":""},"",""]
[{"$nulls":11},{"$f":"TRIM(RIGHT(SUBSTITUTE(Reference!CO554,\"\\\",REPT(\" \",100)),100))","v":""},"",""]
[{"$nulls":11},{"$f":"TRIM(RIGHT(SUBSTITUTE(Reference!CO555,\"\\\",REPT(\" \",100)),100))","v":""},"",""]
[{"$nulls":11},{"$f":"TRIM(RIGHT(SUBSTITUTE(Reference!CO556,\"\\\",REPT(\" \",100)),100))","v":""},"",""]
[{"$nulls":11},{"$f":"TRIM(RIGHT(SUBSTITUTE(Reference!CO557,\"\\\",REPT(\" \",100)),100))","v":""},"",""]
[{"$nulls":11},{"$f":"TRIM(RIGHT(SUBSTITUTE(Reference!CO558,\"\\\",REPT(\" \",100)),100))","v":""},"",""]
[{"$nulls":11},{"$f":"TRIM(RIGHT(SUBSTITUTE(Reference!CO559,\"\\\",REPT(\" \",100)),100))","v":""},"",""]
[{"$nulls":11},{"$f":"TRIM(RIGHT(SUBSTITUTE(Reference!CO560,\"\\\",REPT(\" \",100)),100))","v":""},"",""]
[{"$nulls":11},{"$f":"TRIM(RIGHT(SUBSTITUTE(Reference!CO561,\"\\\",REPT(\" \",100)),100))","v":""},"",""]
[{"$nulls":11},{"$f":"TRIM(RIGHT(SUBSTITUTE(Reference!CO562,\"\\\",REPT(\" \",100)),100))","v":""},"",""]
[{"$nulls":11},{"$f":"TRIM(RIGHT(SUBSTITUTE(Reference!CO563,\"\\\",REPT(\" \",100)),100))","v":""},"",""]
[{"$nulls":11},{"$f":"TRIM(RIGHT(SUBSTITUTE(Reference!CO564,\"\\\",REPT(\" \",100)),100))","v":""},"",""]
[{"$nulls":11},{"$f":"TRIM(RIGHT(SUBSTITUTE(Reference!CO565,\"\\\",REPT(\" \",100)),100))","v":""},"",""]
[{"$nulls":11},{"$f":"TRIM(RIGHT(SUBSTITUTE(Reference!CO566,\"\\\",REPT(\" \",100)),100))","v":""},"",""]
[{"$nulls":11},{"$f":"TRIM(RIGHT(SUBSTITUTE(Reference!CO567,\"\\\",REPT(\" \",100)),100))","v":""},"",""]
[{"$nulls":11},{"$f":"TRIM(RIGHT(SUBSTITUTE(Reference!CO568,\"\\\",REPT(\" \",100)),100))","v":""},"",""]
[{"$nulls":11},{"$f":"TRIM(RIGHT(SUBSTITUTE(Reference!CO569,\"\\\",REPT(\" \",100)),100))","v":""},"",""]
[{"$nulls":11},{"$f":"TRIM(RIGHT(SUBSTITUTE(Reference!CO570,\"\\\",REPT(\" \",100)),100))","v":""},"",""]
[{"$nulls":11},{"$f":"TRIM(RIGHT(SUBSTITUTE(Reference!CO571,\"\\\",REPT(\" \",100)),100))","v":""},"",""]
[{"$nulls":11},{"$f":"TRIM(RIGHT(SUBSTITUTE(Reference!CO572,\"\\\",REPT(\" \",100)),100))","v":""},"",""]
[{"$nulls":11},{"$f":"TRIM(RIGHT(SUBSTITUTE(Reference!CO573,\"\\\",REPT(\" \",100)),100))","v":""},"",""]
[{"$nulls":11},{"$f":"TRIM(RIGHT(SUBSTITUTE(Reference!CO574,\"\\\",REPT(\" \",100)),100))","v":""},"",""]
[{"$nulls":11},{"$f":"TRIM(RIGHT(SUBSTITUTE(Reference!CO575,\"\\\",REPT(\" \",100)),100))","v":""},"",""]
[{"$nulls":11},{"$f":"TRIM(RIGHT(SUBSTITUTE(Reference!CO576,\"\\\",REPT(\" \",100)),100))","v":""},"",""]
[{"$nulls":11},{"$f":"TRIM(RIGHT(SUBSTITUTE(Reference!CO577,\"\\\",REPT(\" \",100)),100))","v":""},"",""]
[{"$nulls":11},{"$f":"TRIM(RIGHT(SUBSTITUTE(Reference!CO578,\"\\\",REPT(\" \",100)),100))","v":""},"",""]
[{"$nulls":11},{"$f":"TRIM(RIGHT(SUBSTITUTE(Reference!CO579,\"\\\",REPT(\" \",100)),100))","v":""},"",""]
[{"$nulls":11},{"$f":"TRIM(RIGHT(SUBSTITUTE(Reference!CO580,\"\\\",REPT(\" \",100)),100))","v":""},"",{"$f":"IF(LEFT(RIGHT(M580,2),1)<>\"/\",RIGHT(M580,6),INDEX(CandidateFileArray,MATCH(RIGHT(M580,8),CandidateFileList,0),2))","v":""}]
[{"$nulls":11},{"$f":"TRIM(RIGHT(SUBSTITUTE(Reference!CO581,\"\\\",REPT(\" \",100)),100))","v":""},{"$f":"TRIM(LEFT(SUBSTITUTE(L581,\".\",REPT(\" \",100)),100))","v":""},""]
[{"$nulls":11},{"$f":"TRIM(RIGHT(SUBSTITUTE(Reference!CO582,\"\\\",REPT(\" \",100)),100))","v":""},"",""]
[{"$nulls":11},{"$f":"TRIM(RIGHT(SUBSTITUTE(Reference!CO583,\"\\\",REPT(\" \",100)),100))","v":""},"",""]
[{"$nulls":11},{"$f":"TRIM(RIGHT(SUBSTITUTE(Reference!CO584,\"\\\",REPT(\" \",100)),100))","v":""},"",""]
[{"$nulls":11},{"$f":"TRIM(RIGHT(SUBSTITUTE(Reference!CO585,\"\\\",REPT(\" \",100)),100))","v":""},"",""]
[{"$nulls":11},{"$f":"TRIM(RIGHT(SUBSTITUTE(Reference!CO586,\"\\\",REPT(\" \",100)),100))","v":""},"",""]
[{"$nulls":11},{"$f":"TRIM(RIGHT(SUBSTITUTE(Reference!CO587,\"\\\",REPT(\" \",100)),100))","v":""},"",""]
[{"$nulls":11},{"$f":"TRIM(RIGHT(SUBSTITUTE(Reference!CO588,\"\\\",REPT(\" \",100)),100))","v":""},"",""]
[{"$nulls":11},{"$f":"TRIM(RIGHT(SUBSTITUTE(Reference!CO589,\"\\\",REPT(\" \",100)),100))","v":""},"",""]
[{"$nulls":11},{"$f":"TRIM(RIGHT(SUBSTITUTE(Reference!CO590,\"\\\",REPT(\" \",100)),100))","v":""},"",""]
[{"$nulls":11},{"$f":"TRIM(RIGHT(SUBSTITUTE(Reference!CO591,\"\\\",REPT(\" \",100)),100))","v":""},"",""]
[{"$nulls":11},{"$f":"TRIM(RIGHT(SUBSTITUTE(Reference!CO592,\"\\\",REPT(\" \",100)),100))","v":""},"",""]
[{"$nulls":11},{"$f":"TRIM(RIGHT(SUBSTITUTE(Reference!CO593,\"\\\",REPT(\" \",100)),100))","v":""},"",""]
[{"$nulls":11},{"$f":"TRIM(RIGHT(SUBSTITUTE(Reference!CO594,\"\\\",REPT(\" \",100)),100))","v":""},"",""]
[{"$nulls":11},{"$f":"TRIM(RIGHT(SUBSTITUTE(Reference!CO595,\"\\\",REPT(\" \",100)),100))","v":""},"",""]
[{"$nulls":11},{"$f":"TRIM(RIGHT(SUBSTITUTE(Reference!CO596,\"\\\",REPT(\" \",100)),100))","v":""},"",""]
[{"$nulls":11},{"$f":"TRIM(RIGHT(SUBSTITUTE(Reference!CO597,\"\\\",REPT(\" \",100)),100))","v":""},"",""]
[{"$nulls":11},{"$f":"TRIM(RIGHT(SUBSTITUTE(Reference!CO598,\"\\\",REPT(\" \",100)),100))","v":""},"",""]
[{"$nulls":11},{"$f":"TRIM(RIGHT(SUBSTITUTE(Reference!CO599,\"\\\",REPT(\" \",100)),100))","v":""},"",""]
[{"$nulls":11},{"$f":"TRIM(RIGHT(SUBSTITUTE(Reference!CO600,\"\\\",REPT(\" \",100)),100))","v":""},"",""]
[{"$nulls":11},{"$f":"TRIM(RIGHT(SUBSTITUTE(Reference!CO601,\"\\\",REPT(\" \",100)),100))","v":""},"",""]
[{"$nulls":11},{"$f":"TRIM(RIGHT(SUBSTITUTE(Reference!CO602,\"\\\",REPT(\" \",100)),100))","v":""},"",""]
[{"$nulls":11},{"$f":"TRIM(RIGHT(SUBSTITUTE(Reference!CO603,\"\\\",REPT(\" \",100)),100))","v":""},"",""]
[{"$nulls":11},{"$f":"TRIM(RIGHT(SUBSTITUTE(Reference!CO604,\"\\\",REPT(\" \",100)),100))","v":""},"",""]
[{"$nulls":11},{"$f":"TRIM(RIGHT(SUBSTITUTE(Reference!CO605,\"\\\",REPT(\" \",100)),100))","v":""},"",""]
[{"$nulls":11},{"$f":"TRIM(RIGHT(SUBSTITUTE(Reference!CO606,\"\\\",REPT(\" \",100)),100))","v":""},"",""]
[{"$nulls":11},{"$f":"TRIM(RIGHT(SUBSTITUTE(Reference!CO607,\"\\\",REPT(\" \",100)),100))","v":""},"",""]
[{"$nulls":11},{"$f":"TRIM(RIGHT(SUBSTITUTE(Reference!CO608,\"\\\",REPT(\" \",100)),100))","v":""},"",""]
[{"$nulls":11},{"$f":"TRIM(RIGHT(SUBSTITUTE(Reference!CO609,\"\\\",REPT(\" \",100)),100))","v":""},"",""]
[{"$nulls":11},{"$f":"TRIM(RIGHT(SUBSTITUTE(Reference!CO610,\"\\\",REPT(\" \",100)),100))","v":""},"",""]
[{"$nulls":11},{"$f":"TRIM(RIGHT(SUBSTITUTE(Reference!CO611,\"\\\",REPT(\" \",100)),100))","v":""},"",""]
[{"$nulls":11},{"$f":"TRIM(RIGHT(SUBSTITUTE(Reference!CO612,\"\\\",REPT(\" \",100)),100))","v":""},"",""]
[{"$nulls":11},{"$f":"TRIM(RIGHT(SUBSTITUTE(Reference!CO613,\"\\\",REPT(\" \",100)),100))","v":""},"",""]
[{"$nulls":11},{"$f":"TRIM(RIGHT(SUBSTITUTE(Reference!CO614,\"\\\",REPT(\" \",100)),100))","v":""},"",""]
[{"$nulls":11},{"$f":"TRIM(RIGHT(SUBSTITUTE(Reference!CO615,\"\\\",REPT(\" \",100)),100))","v":""},"",""]
[{"$nulls":11},{"$f":"TRIM(RIGHT(SUBSTITUTE(Reference!CO616,\"\\\",REPT(\" \",100)),100))","v":""},"",""]
[{"$nulls":11},{"$f":"TRIM(RIGHT(SUBSTITUTE(Reference!CO617,\"\\\",REPT(\" \",100)),100))","v":""},"",""]
[{"$nulls":11},{"$f":"TRIM(RIGHT(SUBSTITUTE(Reference!CO618,\"\\\",REPT(\" \",100)),100))","v":""},"",""]
[{"$nulls":11},{"$f":"TRIM(RIGHT(SUBSTITUTE(Reference!CO619,\"\\\",REPT(\" \",100)),100))","v":""},"",""]
[{"$nulls":11},{"$f":"TRIM(RIGHT(SUBSTITUTE(Reference!CO620,\"\\\",REPT(\" \",100)),100))","v":""},"",""]
[{"$nulls":11},{"$f":"TRIM(RIGHT(SUBSTITUTE(Reference!CO621,\"\\\",REPT(\" \",100)),100))","v":""},"",""]
[{"$nulls":11},{"$f":"TRIM(RIGHT(SUBSTITUTE(Reference!CO622,\"\\\",REPT(\" \",100)),100))","v":""},"",""]
[{"$nulls":11},{"$f":"TRIM(RIGHT(SUBSTITUTE(Reference!CO623,\"\\\",REPT(\" \",100)),100))","v":""},"",""]
[{"$nulls":11},{"$f":"TRIM(RIGHT(SUBSTITUTE(Reference!CO624,\"\\\",REPT(\" \",100)),100))","v":""},"",""]
[{"$nulls":11},{"$f":"TRIM(RIGHT(SUBSTITUTE(Reference!CO625,\"\\\",REPT(\" \",100)),100))","v":""},"",""]
[{"$nulls":11},{"$f":"TRIM(RIGHT(SUBSTITUTE(Reference!CO626,\"\\\",REPT(\" \",100)),100))","v":""},"",""]
[{"$nulls":11},{"$f":"TRIM(RIGHT(SUBSTITUTE(Reference!CO627,\"\\\",REPT(\" \",100)),100))","v":""},"",""]
[{"$nulls":11},{"$f":"TRIM(RIGHT(SUBSTITUTE(Reference!CO628,\"\\\",REPT(\" \",100)),100))","v":""},"",""]
[{"$nulls":11},{"$f":"TRIM(RIGHT(SUBSTITUTE(Reference!CO629,\"\\\",REPT(\" \",100)),100))","v":""},"",""]
[{"$nulls":11},{"$f":"TRIM(RIGHT(SUBSTITUTE(Reference!CO630,\"\\\",REPT(\" \",100)),100))","v":""},"",""]
[{"$nulls":11},{"$f":"TRIM(RIGHT(SUBSTITUTE(Reference!CO631,\"\\\",REPT(\" \",100)),100))","v":""},"",""]
[{"$nulls":11},{"$f":"TRIM(RIGHT(SUBSTITUTE(Reference!CO632,\"\\\",REPT(\" \",100)),100))","v":""},"",""]
[{"$nulls":11},{"$f":"TRIM(RIGHT(SUBSTITUTE(Reference!CO633,\"\\\",REPT(\" \",100)),100))","v":""},"",""]
[{"$nulls":11},{"$f":"TRIM(RIGHT(SUBSTITUTE(Reference!CO634,\"\\\",REPT(\" \",100)),100))","v":""},"",""]
[{"$nulls":11},{"$f":"TRIM(RIGHT(SUBSTITUTE(Reference!CO635,\"\\\",REPT(\" \",100)),100))","v":""},"",""]
[{"$nulls":11},{"$f":"TRIM(RIGHT(SUBSTITUTE(Reference!CO636,\"\\\",REPT(\" \",100)),100))","v":""},"",""]
[{"$nulls":11},{"$f":"TRIM(RIGHT(SUBSTITUTE(Reference!CO637,\"\\\",REPT(\" \",100)),100))","v":""},"",""]
[{"$nulls":11},{"$f":"TRIM(RIGHT(SUBSTITUTE(Reference!CO638,\"\\\",REPT(\" \",100)),100))","v":""},"",""]
[{"$nulls":11},{"$f":"TRIM(RIGHT(SUBSTITUTE(Reference!CO639,\"\\\",REPT(\" \",100)),100))","v":""},"",""]
[{"$nulls":11},{"$f":"TRIM(RIGHT(SUBSTITUTE(Reference!CO640,\"\\\",REPT(\" \",100)),100))","v":""},"",""]
[{"$nulls":11},{"$f":"TRIM(RIGHT(SUBSTITUTE(Reference!CO641,\"\\\",REPT(\" \",100)),100))","v":""},"",""]
[{"$nulls":11},{"$f":"TRIM(RIGHT(SUBSTITUTE(Reference!CO642,\"\\\",REPT(\" \",100)),100))","v":""},"",""]
[{"$nulls":11},{"$f":"TRIM(RIGHT(SUBSTITUTE(Reference!CO643,\"\\\",REPT(\" \",100)),100))","v":""},"",""]
[{"$nulls":11},{"$f":"TRIM(RIGHT(SUBSTITUTE(Reference!CO644,\"\\\",REPT(\" \",100)),100))","v":""},"",{"$f":"IF(LEFT(RIGHT(M644,2),1)<>\"/\",RIGHT(M644,6),INDEX(CandidateFileArray,MATCH(RIGHT(M644,8),CandidateFileList,0),2))","v":""}]
[{"$nulls":11},{"$f":"TRIM(RIGHT(SUBSTITUTE(Reference!CO645,\"\\\",REPT(\" \",100)),100))","v":""},{"$f":"TRIM(LEFT(SUBSTITUTE(L645,\".\",REPT(\" \",100)),100))","v":""},""]
[{"$nulls":11},{"$f":"TRIM(RIGHT(SUBSTITUTE(Reference!CO646,\"\\\",REPT(\" \",100)),100))","v":""},"",""]
[{"$nulls":11},{"$f":"TRIM(RIGHT(SUBSTITUTE(Reference!CO647,\"\\\",REPT(\" \",100)),100))","v":""},"",""]
[{"$nulls":11},{"$f":"TRIM(RIGHT(SUBSTITUTE(Reference!CO648,\"\\\",REPT(\" \",100)),100))","v":""},"",""]
[{"$nulls":11},{"$f":"TRIM(RIGHT(SUBSTITUTE(Reference!CO649,\"\\\",REPT(\" \",100)),100))","v":""},"",""]
[{"$nulls":11},{"$f":"TRIM(RIGHT(SUBSTITUTE(Reference!CO650,\"\\\",REPT(\" \",100)),100))","v":""},"",""]
[{"$nulls":11},{"$f":"TRIM(RIGHT(SUBSTITUTE(Reference!CO651,\"\\\",REPT(\" \",100)),100))","v":""},"",""]
[{"$nulls":11},{"$f":"TRIM(RIGHT(SUBSTITUTE(Reference!CO652,\"\\\",REPT(\" \",100)),100))","v":""},"",""]
[{"$nulls":11},{"$f":"TRIM(RIGHT(SUBSTITUTE(Reference!CO653,\"\\\",REPT(\" \",100)),100))","v":""},"",""]
[{"$nulls":11},{"$f":"TRIM(RIGHT(SUBSTITUTE(Reference!CO654,\"\\\",REPT(\" \",100)),100))","v":""},"",""]
[{"$nulls":11},{"$f":"TRIM(RIGHT(SUBSTITUTE(Reference!CO655,\"\\\",REPT(\" \",100)),100))","v":""},"",""]
[{"$nulls":11},{"$f":"TRIM(RIGHT(SUBSTITUTE(Reference!CO656,\"\\\",REPT(\" \",100)),100))","v":""},"",""]
[{"$nulls":11},{"$f":"TRIM(RIGHT(SUBSTITUTE(Reference!CO657,\"\\\",REPT(\" \",100)),100))","v":""},"",""]
[{"$nulls":11},{"$f":"TRIM(RIGHT(SUBSTITUTE(Reference!CO658,\"\\\",REPT(\" \",100)),100))","v":""},"",""]
[{"$nulls":11},{"$f":"TRIM(RIGHT(SUBSTITUTE(Reference!CO659,\"\\\",REPT(\" \",100)),100))","v":""},"",""]
[{"$nulls":11},{"$f":"TRIM(RIGHT(SUBSTITUTE(Reference!CO660,\"\\\",REPT(\" \",100)),100))","v":""},"",""]
[{"$nulls":11},{"$f":"TRIM(RIGHT(SUBSTITUTE(Reference!CO661,\"\\\",REPT(\" \",100)),100))","v":""},"",""]
[{"$nulls":11},{"$f":"TRIM(RIGHT(SUBSTITUTE(Reference!CO662,\"\\\",REPT(\" \",100)),100))","v":""},"",""]
[{"$nulls":11},{"$f":"TRIM(RIGHT(SUBSTITUTE(Reference!CO663,\"\\\",REPT(\" \",100)),100))","v":""},"",""]
[{"$nulls":11},{"$f":"TRIM(RIGHT(SUBSTITUTE(Reference!CO664,\"\\\",REPT(\" \",100)),100))","v":""},"",""]
[{"$nulls":11},{"$f":"TRIM(RIGHT(SUBSTITUTE(Reference!CO665,\"\\\",REPT(\" \",100)),100))","v":""},"",""]
[{"$nulls":11},{"$f":"TRIM(RIGHT(SUBSTITUTE(Reference!CO666,\"\\\",REPT(\" \",100)),100))","v":""},"",""]
[{"$nulls":11},{"$f":"TRIM(RIGHT(SUBSTITUTE(Reference!CO667,\"\\\",REPT(\" \",100)),100))","v":""},"",""]
[{"$nulls":11},{"$f":"TRIM(RIGHT(SUBSTITUTE(Reference!CO668,\"\\\",REPT(\" \",100)),100))","v":""},"",""]
[{"$nulls":11},{"$f":"TRIM(RIGHT(SUBSTITUTE(Reference!CO669,\"\\\",REPT(\" \",100)),100))","v":""},"",""]
[{"$nulls":11},{"$f":"TRIM(RIGHT(SUBSTITUTE(Reference!CO670,\"\\\",REPT(\" \",100)),100))","v":""},"",""]
[{"$nulls":11},{"$f":"TRIM(RIGHT(SUBSTITUTE(Reference!CO671,\"\\\",REPT(\" \",100)),100))","v":""},"",""]
[{"$nulls":11},{"$f":"TRIM(RIGHT(SUBSTITUTE(Reference!CO672,\"\\\",REPT(\" \",100)),100))","v":""},"",""]
[{"$nulls":11},{"$f":"TRIM(RIGHT(SUBSTITUTE(Reference!CO673,\"\\\",REPT(\" \",100)),100))","v":""},"",""]
[{"$nulls":11},{"$f":"TRIM(RIGHT(SUBSTITUTE(Reference!CO674,\"\\\",REPT(\" \",100)),100))","v":""},"",""]
[{"$nulls":11},{"$f":"TRIM(RIGHT(SUBSTITUTE(Reference!CO675,\"\\\",REPT(\" \",100)),100))","v":""},"",""]
[{"$nulls":11},{"$f":"TRIM(RIGHT(SUBSTITUTE(Reference!CO676,\"\\\",REPT(\" \",100)),100))","v":""},"",""]
[{"$nulls":11},{"$f":"TRIM(RIGHT(SUBSTITUTE(Reference!CO677,\"\\\",REPT(\" \",100)),100))","v":""},"",""]
[{"$nulls":11},{"$f":"TRIM(RIGHT(SUBSTITUTE(Reference!CO678,\"\\\",REPT(\" \",100)),100))","v":""},"",""]
[{"$nulls":11},{"$f":"TRIM(RIGHT(SUBSTITUTE(Reference!CO679,\"\\\",REPT(\" \",100)),100))","v":""},"",""]
[{"$nulls":11},{"$f":"TRIM(RIGHT(SUBSTITUTE(Reference!CO680,\"\\\",REPT(\" \",100)),100))","v":""},"",""]
[{"$nulls":11},{"$f":"TRIM(RIGHT(SUBSTITUTE(Reference!CO681,\"\\\",REPT(\" \",100)),100))","v":""},"",""]
[{"$nulls":11},{"$f":"TRIM(RIGHT(SUBSTITUTE(Reference!CO682,\"\\\",REPT(\" \",100)),100))","v":""},"",""]
[{"$nulls":11},{"$f":"TRIM(RIGHT(SUBSTITUTE(Reference!CO683,\"\\\",REPT(\" \",100)),100))","v":""},"",""]
[{"$nulls":11},{"$f":"TRIM(RIGHT(SUBSTITUTE(Reference!CO684,\"\\\",REPT(\" \",100)),100))","v":""},"",""]
[{"$nulls":11},{"$f":"TRIM(RIGHT(SUBSTITUTE(Reference!CO685,\"\\\",REPT(\" \",100)),100))","v":""},"",""]
[{"$nulls":11},{"$f":"TRIM(RIGHT(SUBSTITUTE(Reference!CO686,\"\\\",REPT(\" \",100)),100))","v":""},"",""]
[{"$nulls":11},{"$f":"TRIM(RIGHT(SUBSTITUTE(Reference!CO687,\"\\\",REPT(\" \",100)),100))","v":""},"",""]
[{"$nulls":11},{"$f":"TRIM(RIGHT(SUBSTITUTE(Reference!CO688,\"\\\",REPT(\" \",100)),100))","v":""},"",""]
[{"$nulls":11},{"$f":"TRIM(RIGHT(SUBSTITUTE(Reference!CO689,\"\\\",REPT(\" \",100)),100))","v":""},"",""]
[{"$nulls":11},{"$f":"TRIM(RIGHT(SUBSTITUTE(Reference!CO690,\"\\\",REPT(\" \",100)),100))","v":""},"",""]
[{"$nulls":11},{"$f":"TRIM(RIGHT(SUBSTITUTE(Reference!CO691,\"\\\",REPT(\" \",100)),100))","v":""},"",""]
[{"$nulls":11},{"$f":"TRIM(RIGHT(SUBSTITUTE(Reference!CO692,\"\\\",REPT(\" \",100)),100))","v":""},"",""]
[{"$nulls":11},{"$f":"TRIM(RIGHT(SUBSTITUTE(Reference!CO693,\"\\\",REPT(\" \",100)),100))","v":""},"",""]
[{"$nulls":11},{"$f":"TRIM(RIGHT(SUBSTITUTE(Reference!CO694,\"\\\",REPT(\" \",100)),100))","v":""},"",""]
[{"$nulls":11},{"$f":"TRIM(RIGHT(SUBSTITUTE(Reference!CO695,\"\\\",REPT(\" \",100)),100))","v":""},"",""]
[{"$nulls":11},{"$f":"TRIM(RIGHT(SUBSTITUTE(Reference!CO696,\"\\\",REPT(\" \",100)),100))","v":""},"",""]
[{"$nulls":11},{"$f":"TRIM(RIGHT(SUBSTITUTE(Reference!CO697,\"\\\",REPT(\" \",100)),100))","v":""},"",""]
[{"$nulls":11},{"$f":"TRIM(RIGHT(SUBSTITUTE(Reference!CO698,\"\\\",REPT(\" \",100)),100))","v":""},"",""]
[{"$nulls":11},{"$f":"TRIM(RIGHT(SUBSTITUTE(Reference!CO699,\"\\\",REPT(\" \",100)),100))","v":""},"",""]
[{"$nulls":11},{"$f":"TRIM(RIGHT(SUBSTITUTE(Reference!CO700,\"\\\",REPT(\" \",100)),100))","v":""},"",""]
[{"$nulls":11},{"$f":"TRIM(RIGHT(SUBSTITUTE(Reference!CO701,\"\\\",REPT(\" \",100)),100))","v":""},"",""]
[{"$nulls":11},{"$f":"TRIM(RIGHT(SUBSTITUTE(Reference!CO702,\"\\\",REPT(\" \",100)),100))","v":""},"",""]
[{"$nulls":11},{"$f":"TRIM(RIGHT(SUBSTITUTE(Reference!CO703,\"\\\",REPT(\" \",100)),100))","v":""},"",""]
[{"$nulls":11},{"$f":"TRIM(RIGHT(SUBSTITUTE(Reference!CO704,\"\\\",REPT(\" \",100)),100))","v":""},"",""]
[{"$nulls":11},{"$f":"TRIM(RIGHT(SUBSTITUTE(Reference!CO705,\"\\\",REPT(\" \",100)),100))","v":""},"",""]
[{"$nulls":11},{"$f":"TRIM(RIGHT(SUBSTITUTE(Reference!CO706,\"\\\",REPT(\" \",100)),100))","v":""},"",""]
[{"$nulls":11},{"$f":"TRIM(RIGHT(SUBSTITUTE(Reference!CO707,\"\\\",REPT(\" \",100)),100))","v":""},"",""]
[{"$nulls":11},{"$f":"TRIM(RIGHT(SUBSTITUTE(Reference!CO708,\"\\\",REPT(\" \",100)),100))","v":""},"",{"$f":"IF(LEFT(RIGHT(M708,2),1)<>\"/\",RIGHT(M708,6),INDEX(CandidateFileArray,MATCH(RIGHT(M708,8),CandidateFileList,0),2))","v":""}]
[{"$nulls":11},{"$f":"TRIM(RIGHT(SUBSTITUTE(Reference!CO709,\"\\\",REPT(\" \",100)),100))","v":""},{"$f":"TRIM(LEFT(SUBSTITUTE(L709,\".\",REPT(\" \",100)),100))","v":""},""]
[{"$nulls":11},{"$f":"TRIM(RIGHT(SUBSTITUTE(Reference!CO710,\"\\\",REPT(\" \",100)),100))","v":""},"",""]
[{"$nulls":11},{"$f":"TRIM(RIGHT(SUBSTITUTE(Reference!CO711,\"\\\",REPT(\" \",100)),100))","v":""},"",""]
[{"$nulls":11},{"$f":"TRIM(RIGHT(SUBSTITUTE(Reference!CO712,\"\\\",REPT(\" \",100)),100))","v":""},"",""]
[{"$nulls":11},{"$f":"TRIM(RIGHT(SUBSTITUTE(Reference!CO713,\"\\\",REPT(\" \",100)),100))","v":""},"",""]
[{"$nulls":11},{"$f":"TRIM(RIGHT(SUBSTITUTE(Reference!CO714,\"\\\",REPT(\" \",100)),100))","v":""},"",""]
[{"$nulls":11},{"$f":"TRIM(RIGHT(SUBSTITUTE(Reference!CO715,\"\\\",REPT(\" \",100)),100))","v":""},"",""]
[{"$nulls":11},{"$f":"TRIM(RIGHT(SUBSTITUTE(Reference!CO716,\"\\\",REPT(\" \",100)),100))","v":""},"",""]
[{"$nulls":11},{"$f":"TRIM(RIGHT(SUBSTITUTE(Reference!CO717,\"\\\",REPT(\" \",100)),100))","v":""},"",""]
[{"$nulls":11},{"$f":"TRIM(RIGHT(SUBSTITUTE(Reference!CO718,\"\\\",REPT(\" \",100)),100))","v":""},"",""]
[{"$nulls":11},{"$f":"TRIM(RIGHT(SUBSTITUTE(Reference!CO719,\"\\\",REPT(\" \",100)),100))","v":""},"",""]
[{"$nulls":11},{"$f":"TRIM(RIGHT(SUBSTITUTE(Reference!CO720,\"\\\",REPT(\" \",100)),100))","v":""},"",""]
[{"$nulls":11},{"$f":"TRIM(RIGHT(SUBSTITUTE(Reference!CO721,\"\\\",REPT(\" \",100)),100))","v":""},"",""]
[{"$nulls":11},{"$f":"TRIM(RIGHT(SUBSTITUTE(Reference!CO722,\"\\\",REPT(\" \",100)),100))","v":""},"",""]
[{"$nulls":11},{"$f":"TRIM(RIGHT(SUBSTITUTE(Reference!CO723,\"\\\",REPT(\" \",100)),100))","v":""},"",""]
[{"$nulls":11},{"$f":"TRIM(RIGHT(SUBSTITUTE(Reference!CO724,\"\\\",REPT(\" \",100)),100))","v":""},"",""]
[{"$nulls":11},{"$f":"TRIM(RIGHT(SUBSTITUTE(Reference!CO725,\"\\\",REPT(\" \",100)),100))","v":""},"",""]
[{"$nulls":11},{"$f":"TRIM(RIGHT(SUBSTITUTE(Reference!CO726,\"\\\",REPT(\" \",100)),100))","v":""},"",""]
[{"$nulls":11},{"$f":"TRIM(RIGHT(SUBSTITUTE(Reference!CO727,\"\\\",REPT(\" \",100)),100))","v":""},"",""]
[{"$nulls":11},{"$f":"TRIM(RIGHT(SUBSTITUTE(Reference!CO728,\"\\\",REPT(\" \",100)),100))","v":""},"",""]
[{"$nulls":11},{"$f":"TRIM(RIGHT(SUBSTITUTE(Reference!CO729,\"\\\",REPT(\" \",100)),100))","v":""},"",""]
[{"$nulls":11},{"$f":"TRIM(RIGHT(SUBSTITUTE(Reference!CO730,\"\\\",REPT(\" \",100)),100))","v":""},"",""]
[{"$nulls":11},{"$f":"TRIM(RIGHT(SUBSTITUTE(Reference!CO731,\"\\\",REPT(\" \",100)),100))","v":""},"",""]
[{"$nulls":11},{"$f":"TRIM(RIGHT(SUBSTITUTE(Reference!CO732,\"\\\",REPT(\" \",100)),100))","v":""},"",""]
[{"$nulls":11},{"$f":"TRIM(RIGHT(SUBSTITUTE(Reference!CO733,\"\\\",REPT(\" \",100)),100))","v":""},"",""]
[{"$nulls":11},{"$f":"TRIM(RIGHT(SUBSTITUTE(Reference!CO734,\"\\\",REPT(\" \",100)),100))","v":""},"",""]
[{"$nulls":11},{"$f":"TRIM(RIGHT(SUBSTITUTE(Reference!CO735,\"\\\",REPT(\" \",100)),100))","v":""},"",""]
[{"$nulls":11},{"$f":"TRIM(RIGHT(SUBSTITUTE(Reference!CO736,\"\\\",REPT(\" \",100)),100))","v":""},"",""]
[{"$nulls":11},{"$f":"TRIM(RIGHT(SUBSTITUTE(Reference!CO737,\"\\\",REPT(\" \",100)),100))","v":""},"",""]
[{"$nulls":11},{"$f":"TRIM(RIGHT(SUBSTITUTE(Reference!CO738,\"\\\",REPT(\" \",100)),100))","v":""},"",""]
[{"$nulls":11},{"$f":"TRIM(RIGHT(SUBSTITUTE(Reference!CO739,\"\\\",REPT(\" \",100)),100))","v":""},"",""]
[{"$nulls":11},{"$f":"TRIM(RIGHT(SUBSTITUTE(Reference!CO740,\"\\\",REPT(\" \",100)),100))","v":""},"",""]
[{"$nulls":11},{"$f":"TRIM(RIGHT(SUBSTITUTE(Reference!CO741,\"\\\",REPT(\" \",100)),100))","v":""},"",""]
[{"$nulls":11},{"$f":"TRIM(RIGHT(SUBSTITUTE(Reference!CO742,\"\\\",REPT(\" \",100)),100))","v":""},"",""]
[{"$nulls":11},{"$f":"TRIM(RIGHT(SUBSTITUTE(Reference!CO743,\"\\\",REPT(\" \",100)),100))","v":""},"",""]
[{"$nulls":11},{"$f":"TRIM(RIGHT(SUBSTITUTE(Reference!CO744,\"\\\",REPT(\" \",100)),100))","v":""},"",""]
[{"$nulls":11},{"$f":"TRIM(RIGHT(SUBSTITUTE(Reference!CO745,\"\\\",REPT(\" \",100)),100))","v":""},"",""]
[{"$nulls":11},{"$f":"TRIM(RIGHT(SUBSTITUTE(Reference!CO746,\"\\\",REPT(\" \",100)),100))","v":""},"",""]
[{"$nulls":11},{"$f":"TRIM(RIGHT(SUBSTITUTE(Reference!CO747,\"\\\",REPT(\" \",100)),100))","v":""},"",""]
[{"$nulls":11},{"$f":"TRIM(RIGHT(SUBSTITUTE(Reference!CO748,\"\\\",REPT(\" \",100)),100))","v":""},"",""]
[{"$nulls":11},{"$f":"TRIM(RIGHT(SUBSTITUTE(Reference!CO749,\"\\\",REPT(\" \",100)),100))","v":""},"",""]
[{"$nulls":11},{"$f":"TRIM(RIGHT(SUBSTITUTE(Reference!CO750,\"\\\",REPT(\" \",100)),100))","v":""},"",""]
[{"$nulls":11},{"$f":"TRIM(RIGHT(SUBSTITUTE(Reference!CO751,\"\\\",REPT(\" \",100)),100))","v":""},"",""]
[{"$nulls":11},{"$f":"TRIM(RIGHT(SUBSTITUTE(Reference!CO752,\"\\\",REPT(\" \",100)),100))","v":""},"",""]
[{"$nulls":11},{"$f":"TRIM(RIGHT(SUBSTITUTE(Reference!CO753,\"\\\",REPT(\" \",100)),100))","v":""},"",""]
[{"$nulls":11},{"$f":"TRIM(RIGHT(SUBSTITUTE(Reference!CO754,\"\\\",REPT(\" \",100)),100))","v":""},"",""]
[{"$nulls":11},{"$f":"TRIM(RIGHT(SUBSTITUTE(Reference!CO755,\"\\\",REPT(\" \",100)),100))","v":""},"",""]
[{"$nulls":11},{"$f":"TRIM(RIGHT(SUBSTITUTE(Reference!CO756,\"\\\",REPT(\" \",100)),100))","v":""},"",""]
[{"$nulls":11},{"$f":"TRIM(RIGHT(SUBSTITUTE(Reference!CO757,\"\\\",REPT(\" \",100)),100))","v":""},"",""]
[{"$nulls":11},{"$f":"TRIM(RIGHT(SUBSTITUTE(Reference!CO758,\"\\\",REPT(\" \",100)),100))","v":""},"",""]
[{"$nulls":11},{"$f":"TRIM(RIGHT(SUBSTITUTE(Reference!CO759,\"\\\",REPT(\" \",100)),100))","v":""},"",""]
[{"$nulls":11},{"$f":"TRIM(RIGHT(SUBSTITUTE(Reference!CO760,\"\\\",REPT(\" \",100)),100))","v":""},"",""]
[{"$nulls":11},{"$f":"TRIM(RIGHT(SUBSTITUTE(Reference!CO761,\"\\\",REPT(\" \",100)),100))","v":""},"",""]
[{"$nulls":11},{"$f":"TRIM(RIGHT(SUBSTITUTE(Reference!CO762,\"\\\",REPT(\" \",100)),100))","v":""},"",""]
[{"$nulls":11},{"$f":"TRIM(RIGHT(SUBSTITUTE(Reference!CO763,\"\\\",REPT(\" \",100)),100))","v":""},"",""]
[{"$nulls":11},{"$f":"TRIM(RIGHT(SUBSTITUTE(Reference!CO764,\"\\\",REPT(\" \",100)),100))","v":""},"",""]
[{"$nulls":11},{"$f":"TRIM(RIGHT(SUBSTITUTE(Reference!CO765,\"\\\",REPT(\" \",100)),100))","v":""},"",""]
[{"$nulls":11},{"$f":"TRIM(RIGHT(SUBSTITUTE(Reference!CO766,\"\\\",REPT(\" \",100)),100))","v":""},"",""]
[{"$nulls":11},{"$f":"TRIM(RIGHT(SUBSTITUTE(Reference!CO767,\"\\\",REPT(\" \",100)),100))","v":""},"",""]
[{"$nulls":11},{"$f":"TRIM(RIGHT(SUBSTITUTE(Reference!CO768,\"\\\",REPT(\" \",100)),100))","v":""},"",""]
[{"$nulls":11},{"$f":"TRIM(RIGHT(SUBSTITUTE(Reference!CO769,\"\\\",REPT(\" \",100)),100))","v":""},"",""]
[{"$nulls":11},{"$f":"TRIM(RIGHT(SUBSTITUTE(Reference!CO770,\"\\\",REPT(\" \",100)),100))","v":""},"",""]
[{"$nulls":11},{"$f":"TRIM(RIGHT(SUBSTITUTE(Reference!CO771,\"\\\",REPT(\" \",100)),100))","v":""},"",""]
[{"$nulls":11},{"$f":"TRIM(RIGHT(SUBSTITUTE(Reference!CO772,\"\\\",REPT(\" \",100)),100))","v":""},"",{"$f":"IF(LEFT(RIGHT(M772,2),1)<>\"/\",RIGHT(M772,6),INDEX(CandidateFileArray,MATCH(RIGHT(M772,8),CandidateFileList,0),2))","v":""}]
[{"$nulls":11},{"$f":"TRIM(RIGHT(SUBSTITUTE(Reference!CO773,\"\\\",REPT(\" \",100)),100))","v":""},{"$f":"TRIM(LEFT(SUBSTITUTE(L773,\".\",REPT(\" \",100)),100))","v":""},""]
[{"$nulls":11},{"$f":"TRIM(RIGHT(SUBSTITUTE(Reference!CO774,\"\\\",REPT(\" \",100)),100))","v":""},"",""]
[{"$nulls":11},{"$f":"TRIM(RIGHT(SUBSTITUTE(Reference!CO775,\"\\\",REPT(\" \",100)),100))","v":""},"",""]
[{"$nulls":11},{"$f":"TRIM(RIGHT(SUBSTITUTE(Reference!CO776,\"\\\",REPT(\" \",100)),100))","v":""},"",""]
[{"$nulls":11},{"$f":"TRIM(RIGHT(SUBSTITUTE(Reference!CO777,\"\\\",REPT(\" \",100)),100))","v":""},"",""]
[{"$nulls":11},{"$f":"TRIM(RIGHT(SUBSTITUTE(Reference!CO778,\"\\\",REPT(\" \",100)),100))","v":""},"",""]
[{"$nulls":11},{"$f":"TRIM(RIGHT(SUBSTITUTE(Reference!CO779,\"\\\",REPT(\" \",100)),100))","v":""},"",""]
[{"$nulls":11},{"$f":"TRIM(RIGHT(SUBSTITUTE(Reference!CO780,\"\\\",REPT(\" \",100)),100))","v":""},"",""]
[{"$nulls":11},{"$f":"TRIM(RIGHT(SUBSTITUTE(Reference!CO781,\"\\\",REPT(\" \",100)),100))","v":""},"",""]
[{"$nulls":11},{"$f":"TRIM(RIGHT(SUBSTITUTE(Reference!CO782,\"\\\",REPT(\" \",100)),100))","v":""},"",""]
[{"$nulls":11},{"$f":"TRIM(RIGHT(SUBSTITUTE(Reference!CO783,\"\\\",REPT(\" \",100)),100))","v":""},"",""]
[{"$nulls":11},{"$f":"TRIM(RIGHT(SUBSTITUTE(Reference!CO784,\"\\\",REPT(\" \",100)),100))","v":""},"",""]
[{"$nulls":11},{"$f":"TRIM(RIGHT(SUBSTITUTE(Reference!CO785,\"\\\",REPT(\" \",100)),100))","v":""},"",""]
[{"$nulls":11},{"$f":"TRIM(RIGHT(SUBSTITUTE(Reference!CO786,\"\\\",REPT(\" \",100)),100))","v":""},"",""]
[{"$nulls":11},{"$f":"TRIM(RIGHT(SUBSTITUTE(Reference!CO787,\"\\\",REPT(\" \",100)),100))","v":""},"",""]
[{"$nulls":11},{"$f":"TRIM(RIGHT(SUBSTITUTE(Reference!CO788,\"\\\",REPT(\" \",100)),100))","v":""},"",""]
[{"$nulls":11},{"$f":"TRIM(RIGHT(SUBSTITUTE(Reference!CO789,\"\\\",REPT(\" \",100)),100))","v":""},"",""]
[{"$nulls":11},{"$f":"TRIM(RIGHT(SUBSTITUTE(Reference!CO790,\"\\\",REPT(\" \",100)),100))","v":""},"",""]
[{"$nulls":11},{"$f":"TRIM(RIGHT(SUBSTITUTE(Reference!CO791,\"\\\",REPT(\" \",100)),100))","v":""},"",""]
[{"$nulls":11},{"$f":"TRIM(RIGHT(SUBSTITUTE(Reference!CO792,\"\\\",REPT(\" \",100)),100))","v":""},"",""]
[{"$nulls":11},{"$f":"TRIM(RIGHT(SUBSTITUTE(Reference!CO793,\"\\\",REPT(\" \",100)),100))","v":""},"",""]
[{"$nulls":11},{"$f":"TRIM(RIGHT(SUBSTITUTE(Reference!CO794,\"\\\",REPT(\" \",100)),100))","v":""},"",""]
[{"$nulls":11},{"$f":"TRIM(RIGHT(SUBSTITUTE(Reference!CO795,\"\\\",REPT(\" \",100)),100))","v":""},"",""]
[{"$nulls":11},{"$f":"TRIM(RIGHT(SUBSTITUTE(Reference!CO796,\"\\\",REPT(\" \",100)),100))","v":""},"",""]
[{"$nulls":11},{"$f":"TRIM(RIGHT(SUBSTITUTE(Reference!CO797,\"\\\",REPT(\" \",100)),100))","v":""},"",""]
[{"$nulls":11},{"$f":"TRIM(RIGHT(SUBSTITUTE(Reference!CO798,\"\\\",REPT(\" \",100)),100))","v":""},"",""]
[{"$nulls":11},{"$f":"TRIM(RIGHT(SUBSTITUTE(Reference!CO799,\"\\\",REPT(\" \",100)),100))","v":""},"",""]
[{"$nulls":11},{"$f":"TRIM(RIGHT(SUBSTITUTE(Reference!CO800,\"\\\",REPT(\" \",100)),100))","v":""},"",""]
[{"$nulls":11},{"$f":"TRIM(RIGHT(SUBSTITUTE(Reference!CO801,\"\\\",REPT(\" \",100)),100))","v":""},"",""]
[{"$nulls":11},{"$f":"TRIM(RIGHT(SUBSTITUTE(Reference!CO802,\"\\\",REPT(\" \",100)),100))","v":""},"",""]
[{"$nulls":11},{"$f":"TRIM(RIGHT(SUBSTITUTE(Reference!CO803,\"\\\",REPT(\" \",100)),100))","v":""},"",""]
[{"$nulls":11},{"$f":"TRIM(RIGHT(SUBSTITUTE(Reference!CO804,\"\\\",REPT(\" \",100)),100))","v":""},"",""]
[{"$nulls":11},{"$f":"TRIM(RIGHT(SUBSTITUTE(Reference!CO805,\"\\\",REPT(\" \",100)),100))","v":""},"",""]
[{"$nulls":11},{"$f":"TRIM(RIGHT(SUBSTITUTE(Reference!CO806,\"\\\",REPT(\" \",100)),100))","v":""},"",""]
[{"$nulls":11},{"$f":"TRIM(RIGHT(SUBSTITUTE(Reference!CO807,\"\\\",REPT(\" \",100)),100))","v":""},"",""]
[{"$nulls":11},{"$f":"TRIM(RIGHT(SUBSTITUTE(Reference!CO808,\"\\\",REPT(\" \",100)),100))","v":""},"",""]
[{"$nulls":11},{"$f":"TRIM(RIGHT(SUBSTITUTE(Reference!CO809,\"\\\",REPT(\" \",100)),100))","v":""},"",""]
[{"$nulls":11},{"$f":"TRIM(RIGHT(SUBSTITUTE(Reference!CO810,\"\\\",REPT(\" \",100)),100))","v":""},"",""]
[{"$nulls":11},{"$f":"TRIM(RIGHT(SUBSTITUTE(Reference!CO811,\"\\\",REPT(\" \",100)),100))","v":""},"",""]
[{"$nulls":11},{"$f":"TRIM(RIGHT(SUBSTITUTE(Reference!CO812,\"\\\",REPT(\" \",100)),100))","v":""},"",""]
[{"$nulls":11},{"$f":"TRIM(RIGHT(SUBSTITUTE(Reference!CO813,\"\\\",REPT(\" \",100)),100))","v":""},"",""]
[{"$nulls":11},{"$f":"TRIM(RIGHT(SUBSTITUTE(Reference!CO814,\"\\\",REPT(\" \",100)),100))","v":""},"",""]
[{"$nulls":11},{"$f":"TRIM(RIGHT(SUBSTITUTE(Reference!CO815,\"\\\",REPT(\" \",100)),100))","v":""},"",""]
[{"$nulls":11},{"$f":"TRIM(RIGHT(SUBSTITUTE(Reference!CO816,\"\\\",REPT(\" \",100)),100))","v":""},"",""]
[{"$nulls":11},{"$f":"TRIM(RIGHT(SUBSTITUTE(Reference!CO817,\"\\\",REPT(\" \",100)),100))","v":""},"",""]
[{"$nulls":11},{"$f":"TRIM(RIGHT(SUBSTITUTE(Reference!CO818,\"\\\",REPT(\" \",100)),100))","v":""},"",""]
[{"$nulls":11},{"$f":"TRIM(RIGHT(SUBSTITUTE(Reference!CO819,\"\\\",REPT(\" \",100)),100))","v":""},"",""]
[{"$nulls":11},{"$f":"TRIM(RIGHT(SUBSTITUTE(Reference!CO820,\"\\\",REPT(\" \",100)),100))","v":""},"",""]
[{"$nulls":11},{"$f":"TRIM(RIGHT(SUBSTITUTE(Reference!CO821,\"\\\",REPT(\" \",100)),100))","v":""},"",""]
[{"$nulls":11},{"$f":"TRIM(RIGHT(SUBSTITUTE(Reference!CO822,\"\\\",REPT(\" \",100)),100))","v":""},"",""]
[{"$nulls":11},{"$f":"TRIM(RIGHT(SUBSTITUTE(Reference!CO823,\"\\\",REPT(\" \",100)),100))","v":""},"",""]
[{"$nulls":11},{"$f":"TRIM(RIGHT(SUBSTITUTE(Reference!CO824,\"\\\",REPT(\" \",100)),100))","v":""},"",""]
[{"$nulls":11},{"$f":"TRIM(RIGHT(SUBSTITUTE(Reference!CO825,\"\\\",REPT(\" \",100)),100))","v":""},"",""]
[{"$nulls":11},{"$f":"TRIM(RIGHT(SUBSTITUTE(Reference!CO826,\"\\\",REPT(\" \",100)),100))","v":""},"",""]
[{"$nulls":11},{"$f":"TRIM(RIGHT(SUBSTITUTE(Reference!CO827,\"\\\",REPT(\" \",100)),100))","v":""},"",""]
[{"$nulls":11},{"$f":"TRIM(RIGHT(SUBSTITUTE(Reference!CO828,\"\\\",REPT(\" \",100)),100))","v":""},"",""]
[{"$nulls":11},{"$f":"TRIM(RIGHT(SUBSTITUTE(Reference!CO829,\"\\\",REPT(\" \",100)),100))","v":""},"",""]
[{"$nulls":11},{"$f":"TRIM(RIGHT(SUBSTITUTE(Reference!CO830,\"\\\",REPT(\" \",100)),100))","v":""},"",""]
[{"$nulls":11},{"$f":"TRIM(RIGHT(SUBSTITUTE(Reference!CO831,\"\\\",REPT(\" \",100)),100))","v":""},"",""]
[{"$nulls":11},{"$f":"TRIM(RIGHT(SUBSTITUTE(Reference!CO832,\"\\\",REPT(\" \",100)),100))","v":""},"",""]
[{"$nulls":11},{"$f":"TRIM(RIGHT(SUBSTITUTE(Reference!CO833,\"\\\",REPT(\" \",100)),100))","v":""},"",""]
[{"$nulls":11},{"$f":"TRIM(RIGHT(SUBSTITUTE(Reference!CO834,\"\\\",REPT(\" \",100)),100))","v":""},"",""]
[{"$nulls":11},{"$f":"TRIM(RIGHT(SUBSTITUTE(Reference!CO835,\"\\\",REPT(\" \",100)),100))","v":""},"",""]
[{"$nulls":11},{"$f":"TRIM(RIGHT(SUBSTITUTE(Reference!CO836,\"\\\",REPT(\" \",100)),100))","v":""},"",{"$f":"IF(LEFT(RIGHT(M836,2),1)<>\"/\",RIGHT(M836,6),INDEX(CandidateFileArray,MATCH(RIGHT(M836,8),CandidateFileList,0),2))","v":""}]
[{"$nulls":11},{"$f":"TRIM(RIGHT(SUBSTITUTE(Reference!CO837,\"\\\",REPT(\" \",100)),100))","v":""},{"$f":"TRIM(LEFT(SUBSTITUTE(L837,\".\",REPT(\" \",100)),100))","v":""},""]
[{"$nulls":11},{"$f":"TRIM(RIGHT(SUBSTITUTE(Reference!CO838,\"\\\",REPT(\" \",100)),100))","v":""},"",""]
[{"$nulls":11},{"$f":"TRIM(RIGHT(SUBSTITUTE(Reference!CO839,\"\\\",REPT(\" \",100)),100))","v":""},"",""]
[{"$nulls":11},{"$f":"TRIM(RIGHT(SUBSTITUTE(Reference!CO840,\"\\\",REPT(\" \",100)),100))","v":""},"",""]
[{"$nulls":11},{"$f":"TRIM(RIGHT(SUBSTITUTE(Reference!CO841,\"\\\",REPT(\" \",100)),100))","v":""},"",""]
[{"$nulls":11},{"$f":"TRIM(RIGHT(SUBSTITUTE(Reference!CO842,\"\\\",REPT(\" \",100)),100))","v":""},"",""]
[{"$nulls":11},{"$f":"TRIM(RIGHT(SUBSTITUTE(Reference!CO843,\"\\\",REPT(\" \",100)),100))","v":""},"",""]
[{"$nulls":11},{"$f":"TRIM(RIGHT(SUBSTITUTE(Reference!CO844,\"\\\",REPT(\" \",100)),100))","v":""},"",""]
[{"$nulls":11},{"$f":"TRIM(RIGHT(SUBSTITUTE(Reference!CO845,\"\\\",REPT(\" \",100)),100))","v":""},"",""]
[{"$nulls":11},{"$f":"TRIM(RIGHT(SUBSTITUTE(Reference!CO846,\"\\\",REPT(\" \",100)),100))","v":""},"",""]
[{"$nulls":11},{"$f":"TRIM(RIGHT(SUBSTITUTE(Reference!CO847,\"\\\",REPT(\" \",100)),100))","v":""},"",""]
[{"$nulls":11},{"$f":"TRIM(RIGHT(SUBSTITUTE(Reference!CO848,\"\\\",REPT(\" \",100)),100))","v":""},"",""]
[{"$nulls":11},{"$f":"TRIM(RIGHT(SUBSTITUTE(Reference!CO849,\"\\\",REPT(\" \",100)),100))","v":""},"",""]
[{"$nulls":11},{"$f":"TRIM(RIGHT(SUBSTITUTE(Reference!CO850,\"\\\",REPT(\" \",100)),100))","v":""},"",""]
[{"$nulls":11},{"$f":"TRIM(RIGHT(SUBSTITUTE(Reference!CO851,\"\\\",REPT(\" \",100)),100))","v":""},"",""]
[{"$nulls":11},{"$f":"TRIM(RIGHT(SUBSTITUTE(Reference!CO852,\"\\\",REPT(\" \",100)),100))","v":""},"",""]
[{"$nulls":11},{"$f":"TRIM(RIGHT(SUBSTITUTE(Reference!CO853,\"\\\",REPT(\" \",100)),100))","v":""},"",""]
[{"$nulls":11},{"$f":"TRIM(RIGHT(SUBSTITUTE(Reference!CO854,\"\\\",REPT(\" \",100)),100))","v":""},"",""]
[{"$nulls":11},{"$f":"TRIM(RIGHT(SUBSTITUTE(Reference!CO855,\"\\\",REPT(\" \",100)),100))","v":""},"",""]
[{"$nulls":11},{"$f":"TRIM(RIGHT(SUBSTITUTE(Reference!CO856,\"\\\",REPT(\" \",100)),100))","v":""},"",""]
[{"$nulls":11},{"$f":"TRIM(RIGHT(SUBSTITUTE(Reference!CO857,\"\\\",REPT(\" \",100)),100))","v":""},"",""]
[{"$nulls":11},{"$f":"TRIM(RIGHT(SUBSTITUTE(Reference!CO858,\"\\\",REPT(\" \",100)),100))","v":""},"",""]
[{"$nulls":11},{"$f":"TRIM(RIGHT(SUBSTITUTE(Reference!CO859,\"\\\",REPT(\" \",100)),100))","v":""},"",""]
[{"$nulls":11},{"$f":"TRIM(RIGHT(SUBSTITUTE(Reference!CO860,\"\\\",REPT(\" \",100)),100))","v":""},"",""]
[{"$nulls":11},{"$f":"TRIM(RIGHT(SUBSTITUTE(Reference!CO861,\"\\\",REPT(\" \",100)),100))","v":""},"",""]
[{"$nulls":11},{"$f":"TRIM(RIGHT(SUBSTITUTE(Reference!CO862,\"\\\",REPT(\" \",100)),100))","v":""},"",""]
[{"$nulls":11},{"$f":"TRIM(RIGHT(SUBSTITUTE(Reference!CO863,\"\\\",REPT(\" \",100)),100))","v":""},"",""]
[{"$nulls":11},{"$f":"TRIM(RIGHT(SUBSTITUTE(Reference!CO864,\"\\\",REPT(\" \",100)),100))","v":""},"",""]
[{"$nulls":11},{"$f":"TRIM(RIGHT(SUBSTITUTE(Reference!CO865,\"\\\",REPT(\" \",100)),100))","v":""},"",""]
[{"$nulls":11},{"$f":"TRIM(RIGHT(SUBSTITUTE(Reference!CO866,\"\\\",REPT(\" \",100)),100))","v":""},"",""]
[{"$nulls":11},{"$f":"TRIM(RIGHT(SUBSTITUTE(Reference!CO867,\"\\\",REPT(\" \",100)),100))","v":""},"",""]
[{"$nulls":11},{"$f":"TRIM(RIGHT(SUBSTITUTE(Reference!CO868,\"\\\",REPT(\" \",100)),100))","v":""},"",""]
[{"$nulls":11},{"$f":"TRIM(RIGHT(SUBSTITUTE(Reference!CO869,\"\\\",REPT(\" \",100)),100))","v":""},"",""]
[{"$nulls":11},{"$f":"TRIM(RIGHT(SUBSTITUTE(Reference!CO870,\"\\\",REPT(\" \",100)),100))","v":""},"",""]
[{"$nulls":11},{"$f":"TRIM(RIGHT(SUBSTITUTE(Reference!CO871,\"\\\",REPT(\" \",100)),100))","v":""},"",""]
[{"$nulls":11},{"$f":"TRIM(RIGHT(SUBSTITUTE(Reference!CO872,\"\\\",REPT(\" \",100)),100))","v":""},"",""]
[{"$nulls":11},{"$f":"TRIM(RIGHT(SUBSTITUTE(Reference!CO873,\"\\\",REPT(\" \",100)),100))","v":""},"",""]
[{"$nulls":11},{"$f":"TRIM(RIGHT(SUBSTITUTE(Reference!CO874,\"\\\",REPT(\" \",100)),100))","v":""},"",""]
[{"$nulls":11},{"$f":"TRIM(RIGHT(SUBSTITUTE(Reference!CO875,\"\\\",REPT(\" \",100)),100))","v":""},"",""]
[{"$nulls":11},{"$f":"TRIM(RIGHT(SUBSTITUTE(Reference!CO876,\"\\\",REPT(\" \",100)),100))","v":""},"",""]
[{"$nulls":11},{"$f":"TRIM(RIGHT(SUBSTITUTE(Reference!CO877,\"\\\",REPT(\" \",100)),100))","v":""},"",""]
[{"$nulls":11},{"$f":"TRIM(RIGHT(SUBSTITUTE(Reference!CO878,\"\\\",REPT(\" \",100)),100))","v":""},"",""]
[{"$nulls":11},{"$f":"TRIM(RIGHT(SUBSTITUTE(Reference!CO879,\"\\\",REPT(\" \",100)),100))","v":""},"",""]
[{"$nulls":11},{"$f":"TRIM(RIGHT(SUBSTITUTE(Reference!CO880,\"\\\",REPT(\" \",100)),100))","v":""},"",""]
[{"$nulls":11},{"$f":"TRIM(RIGHT(SUBSTITUTE(Reference!CO881,\"\\\",REPT(\" \",100)),100))","v":""},"",""]
[{"$nulls":11},{"$f":"TRIM(RIGHT(SUBSTITUTE(Reference!CO882,\"\\\",REPT(\" \",100)),100))","v":""},"",""]
[{"$nulls":11},{"$f":"TRIM(RIGHT(SUBSTITUTE(Reference!CO883,\"\\\",REPT(\" \",100)),100))","v":""},"",""]
[{"$nulls":11},{"$f":"TRIM(RIGHT(SUBSTITUTE(Reference!CO884,\"\\\",REPT(\" \",100)),100))","v":""},"",""]
[{"$nulls":11},{"$f":"TRIM(RIGHT(SUBSTITUTE(Reference!CO885,\"\\\",REPT(\" \",100)),100))","v":""},"",""]
[{"$nulls":11},{"$f":"TRIM(RIGHT(SUBSTITUTE(Reference!CO886,\"\\\",REPT(\" \",100)),100))","v":""},"",""]
[{"$nulls":11},{"$f":"TRIM(RIGHT(SUBSTITUTE(Reference!CO887,\"\\\",REPT(\" \",100)),100))","v":""},"",""]
[{"$nulls":11},{"$f":"TRIM(RIGHT(SUBSTITUTE(Reference!CO888,\"\\\",REPT(\" \",100)),100))","v":""},"",""]
[{"$nulls":11},{"$f":"TRIM(RIGHT(SUBSTITUTE(Reference!CO889,\"\\\",REPT(\" \",100)),100))","v":""},"",""]
[{"$nulls":11},{"$f":"TRIM(RIGHT(SUBSTITUTE(Reference!CO890,\"\\\",REPT(\" \",100)),100))","v":""},"",""]
[{"$nulls":11},{"$f":"TRIM(RIGHT(SUBSTITUTE(Reference!CO891,\"\\\",REPT(\" \",100)),100))","v":""},"",""]
[{"$nulls":11},{"$f":"TRIM(RIGHT(SUBSTITUTE(Reference!CO892,\"\\\",REPT(\" \",100)),100))","v":""},"",""]
[{"$nulls":11},{"$f":"TRIM(RIGHT(SUBSTITUTE(Reference!CO893,\"\\\",REPT(\" \",100)),100))","v":""},"",""]
[{"$nulls":11},{"$f":"TRIM(RIGHT(SUBSTITUTE(Reference!CO894,\"\\\",REPT(\" \",100)),100))","v":""},"",""]
[{"$nulls":11},{"$f":"TRIM(RIGHT(SUBSTITUTE(Reference!CO895,\"\\\",REPT(\" \",100)),100))","v":""},"",""]
[{"$nulls":11},{"$f":"TRIM(RIGHT(SUBSTITUTE(Reference!CO896,\"\\\",REPT(\" \",100)),100))","v":""},"",""]
[{"$nulls":11},{"$f":"TRIM(RIGHT(SUBSTITUTE(Reference!CO897,\"\\\",REPT(\" \",100)),100))","v":""},"",""]
[{"$nulls":11},{"$f":"TRIM(RIGHT(SUBSTITUTE(Reference!CO898,\"\\\",REPT(\" \",100)),100))","v":""},"",""]
[{"$nulls":11},{"$f":"TRIM(RIGHT(SUBSTITUTE(Reference!CO899,\"\\\",REPT(\" \",100)),100))","v":""},"",""]
[{"$nulls":11},{"$f":"TRIM(RIGHT(SUBSTITUTE(Reference!CO900,\"\\\",REPT(\" \",100)),100))","v":""},"",{"$f":"IF(LEFT(RIGHT(M900,2),1)<>\"/\",RIGHT(M900,6),INDEX(CandidateFileArray,MATCH(RIGHT(M900,8),CandidateFileList,0),2))","v":""}]
[{"$nulls":11},{"$f":"TRIM(RIGHT(SUBSTITUTE(Reference!CO901,\"\\\",REPT(\" \",100)),100))","v":""},{"$f":"TRIM(LEFT(SUBSTITUTE(L901,\".\",REPT(\" \",100)),100))","v":""},""]
[{"$nulls":11},{"$f":"TRIM(RIGHT(SUBSTITUTE(Reference!CO902,\"\\\",REPT(\" \",100)),100))","v":""},"",""]
[{"$nulls":11},{"$f":"TRIM(RIGHT(SUBSTITUTE(Reference!CO903,\"\\\",REPT(\" \",100)),100))","v":""},"",""]
[{"$nulls":11},{"$f":"TRIM(RIGHT(SUBSTITUTE(Reference!CO904,\"\\\",REPT(\" \",100)),100))","v":""},"",""]
[{"$nulls":11},{"$f":"TRIM(RIGHT(SUBSTITUTE(Reference!CO905,\"\\\",REPT(\" \",100)),100))","v":""},"",""]
[{"$nulls":11},{"$f":"TRIM(RIGHT(SUBSTITUTE(Reference!CO906,\"\\\",REPT(\" \",100)),100))","v":""},"",""]
[{"$nulls":11},{"$f":"TRIM(RIGHT(SUBSTITUTE(Reference!CO907,\"\\\",REPT(\" \",100)),100))","v":""},"",""]
[{"$nulls":11},{"$f":"TRIM(RIGHT(SUBSTITUTE(Reference!CO908,\"\\\",REPT(\" \",100)),100))","v":""},"",""]
[{"$nulls":11},{"$f":"TRIM(RIGHT(SUBSTITUTE(Reference!CO909,\"\\\",REPT(\" \",100)),100))","v":""},"",""]
[{"$nulls":11},{"$f":"TRIM(RIGHT(SUBSTITUTE(Reference!CO910,\"\\\",REPT(\" \",100)),100))","v":""},"",""]
[{"$nulls":11},{"$f":"TRIM(RIGHT(SUBSTITUTE(Reference!CO911,\"\\\",REPT(\" \",100)),100))","v":""},"",""]
[{"$nulls":11},{"$f":"TRIM(RIGHT(SUBSTITUTE(Reference!CO912,\"\\\",REPT(\" \",100)),100))","v":""},"",""]
[{"$nulls":11},{"$f":"TRIM(RIGHT(SUBSTITUTE(Reference!CO913,\"\\\",REPT(\" \",100)),100))","v":""},"",""]
[{"$nulls":11},{"$f":"TRIM(RIGHT(SUBSTITUTE(Reference!CO914,\"\\\",REPT(\" \",100)),100))","v":""},"",""]
[{"$nulls":11},{"$f":"TRIM(RIGHT(SUBSTITUTE(Reference!CO915,\"\\\",REPT(\" \",100)),100))","v":""},"",""]
[{"$nulls":11},{"$f":"TRIM(RIGHT(SUBSTITUTE(Reference!CO916,\"\\\",REPT(\" \",100)),100))","v":""},"",""]
[{"$nulls":11},{"$f":"TRIM(RIGHT(SUBSTITUTE(Reference!CO917,\"\\\",REPT(\" \",100)),100))","v":""},"",""]
[{"$nulls":11},{"$f":"TRIM(RIGHT(SUBSTITUTE(Reference!CO918,\"\\\",REPT(\" \",100)),100))","v":""},"",""]
[{"$nulls":11},{"$f":"TRIM(RIGHT(SUBSTITUTE(Reference!CO919,\"\\\",REPT(\" \",100)),100))","v":""},"",""]
[{"$nulls":11},{"$f":"TRIM(RIGHT(SUBSTITUTE(Reference!CO920,\"\\\",REPT(\" \",100)),100))","v":""},"",""]
[{"$nulls":11},{"$f":"TRIM(RIGHT(SUBSTITUTE(Reference!CO921,\"\\\",REPT(\" \",100)),100))","v":""},"",""]
[{"$nulls":11},{"$f":"TRIM(RIGHT(SUBSTITUTE(Reference!CO922,\"\\\",REPT(\" \",100)),100))","v":""},"",""]
[{"$nulls":11},{"$f":"TRIM(RIGHT(SUBSTITUTE(Reference!CO923,\"\\\",REPT(\" \",100)),100))","v":""},"",""]
[{"$nulls":11},{"$f":"TRIM(RIGHT(SUBSTITUTE(Reference!CO924,\"\\\",REPT(\" \",100)),100))","v":""},"",""]
[{"$nulls":11},{"$f":"TRIM(RIGHT(SUBSTITUTE(Reference!CO925,\"\\\",REPT(\" \",100)),100))","v":""},"",""]
[{"$nulls":11},{"$f":"TRIM(RIGHT(SUBSTITUTE(Reference!CO926,\"\\\",REPT(\" \",100)),100))","v":""},"",""]
[{"$nulls":11},{"$f":"TRIM(RIGHT(SUBSTITUTE(Reference!CO927,\"\\\",REPT(\" \",100)),100))","v":""},"",""]
[{"$nulls":11},{"$f":"TRIM(RIGHT(SUBSTITUTE(Reference!CO928,\"\\\",REPT(\" \",100)),100))","v":""},"",""]
[{"$nulls":11},{"$f":"TRIM(RIGHT(SUBSTITUTE(Reference!CO929,\"\\\",REPT(\" \",100)),100))","v":""},"",""]
[{"$nulls":11},{"$f":"TRIM(RIGHT(SUBSTITUTE(Reference!CO930,\"\\\",REPT(\" \",100)),100))","v":""},"",""]
[{"$nulls":11},{"$f":"TRIM(RIGHT(SUBSTITUTE(Reference!CO931,\"\\\",REPT(\" \",100)),100))","v":""},"",""]
[{"$nulls":11},{"$f":"TRIM(RIGHT(SUBSTITUTE(Reference!CO932,\"\\\",REPT(\" \",100)),100))","v":""},"",""]
[{"$nulls":11},{"$f":"TRIM(RIGHT(SUBSTITUTE(Reference!CO933,\"\\\",REPT(\" \",100)),100))","v":""},"",""]
[{"$nulls":11},{"$f":"TRIM(RIGHT(SUBSTITUTE(Reference!CO934,\"\\\",REPT(\" \",100)),100))","v":""},"",""]
[{"$nulls":11},{"$f":"TRIM(RIGHT(SUBSTITUTE(Reference!CO935,\"\\\",REPT(\" \",100)),100))","v":""},"",""]
[{"$nulls":11},{"$f":"TRIM(RIGHT(SUBSTITUTE(Reference!CO936,\"\\\",REPT(\" \",100)),100))","v":""},"",""]
[{"$nulls":11},{"$f":"TRIM(RIGHT(SUBSTITUTE(Reference!CO937,\"\\\",REPT(\" \",100)),100))","v":""},"",""]
[{"$nulls":11},{"$f":"TRIM(RIGHT(SUBSTITUTE(Reference!CO938,\"\\\",REPT(\" \",100)),100))","v":""},"",""]
[{"$nulls":11},{"$f":"TRIM(RIGHT(SUBSTITUTE(Reference!CO939,\"\\\",REPT(\" \",100)),100))","v":""},"",""]
[{"$nulls":11},{"$f":"TRIM(RIGHT(SUBSTITUTE(Reference!CO940,\"\\\",REPT(\" \",100)),100))","v":""},"",""]
[{"$nulls":11},{"$f":"TRIM(RIGHT(SUBSTITUTE(Reference!CO941,\"\\\",REPT(\" \",100)),100))","v":""},"",""]
[{"$nulls":11},{"$f":"TRIM(RIGHT(SUBSTITUTE(Reference!CO942,\"\\\",REPT(\" \",100)),100))","v":""},"",""]
[{"$nulls":11},{"$f":"TRIM(RIGHT(SUBSTITUTE(Reference!CO943,\"\\\",REPT(\" \",100)),100))","v":""},"",""]
[{"$nulls":11},{"$f":"TRIM(RIGHT(SUBSTITUTE(Reference!CO944,\"\\\",REPT(\" \",100)),100))","v":""},"",""]
[{"$nulls":11},{"$f":"TRIM(RIGHT(SUBSTITUTE(Reference!CO945,\"\\\",REPT(\" \",100)),100))","v":""},"",""]
[{"$nulls":11},{"$f":"TRIM(RIGHT(SUBSTITUTE(Reference!CO946,\"\\\",REPT(\" \",100)),100))","v":""},"",""]
[{"$nulls":11},{"$f":"TRIM(RIGHT(SUBSTITUTE(Reference!CO947,\"\\\",REPT(\" \",100)),100))","v":""},"",""]
[{"$nulls":11},{"$f":"TRIM(RIGHT(SUBSTITUTE(Reference!CO948,\"\\\",REPT(\" \",100)),100))","v":""},"",""]
[{"$nulls":11},{"$f":"TRIM(RIGHT(SUBSTITUTE(Reference!CO949,\"\\\",REPT(\" \",100)),100))","v":""},"",""]
[{"$nulls":11},{"$f":"TRIM(RIGHT(SUBSTITUTE(Reference!CO950,\"\\\",REPT(\" \",100)),100))","v":""},"",""]
[{"$nulls":11},{"$f":"TRIM(RIGHT(SUBSTITUTE(Reference!CO951,\"\\\",REPT(\" \",100)),100))","v":""},"",""]
[{"$nulls":11},{"$f":"TRIM(RIGHT(SUBSTITUTE(Reference!CO952,\"\\\",REPT(\" \",100)),100))","v":""},"",""]
[{"$nulls":11},{"$f":"TRIM(RIGHT(SUBSTITUTE(Reference!CO953,\"\\\",REPT(\" \",100)),100))","v":""},"",""]
[{"$nulls":11},{"$f":"TRIM(RIGHT(SUBSTITUTE(Reference!CO954,\"\\\",REPT(\" \",100)),100))","v":""},"",""]
[{"$nulls":11},{"$f":"TRIM(RIGHT(SUBSTITUTE(Reference!CO955,\"\\\",REPT(\" \",100)),100))","v":""},"",""]
[{"$nulls":11},{"$f":"TRIM(RIGHT(SUBSTITUTE(Reference!CO956,\"\\\",REPT(\" \",100)),100))","v":""},"",""]
[{"$nulls":11},{"$f":"TRIM(RIGHT(SUBSTITUTE(Reference!CO957,\"\\\",REPT(\" \",100)),100))","v":""},"",""]
[{"$nulls":11},{"$f":"TRIM(RIGHT(SUBSTITUTE(Reference!CO958,\"\\\",REPT(\" \",100)),100))","v":""},"",""]
[{"$nulls":11},{"$f":"TRIM(RIGHT(SUBSTITUTE(Reference!CO959,\"\\\",REPT(\" \",100)),100))","v":""},"",""]
[{"$nulls":11},{"$f":"TRIM(RIGHT(SUBSTITUTE(Reference!CO960,\"\\\",REPT(\" \",100)),100))","v":""},"",""]
[{"$nulls":11},{"$f":"TRIM(RIGHT(SUBSTITUTE(Reference!CO961,\"\\\",REPT(\" \",100)),100))","v":""},"",""]
[{"$nulls":11},{"$f":"TRIM(RIGHT(SUBSTITUTE(Reference!CO962,\"\\\",REPT(\" \",100)),100))","v":""},"",""]
[{"$nulls":11},{"$f":"TRIM(RIGHT(SUBSTITUTE(Reference!CO963,\"\\\",REPT(\" \",100)),100))","v":""},"",""]
[{"$nulls":11},{"$f":"TRIM(RIGHT(SUBSTITUTE(Reference!CO964,\"\\\",REPT(\" \",100)),100))","v":""},"",{"$f":"IF(LEFT(RIGHT(M964,2),1)<>\"/\",RIGHT(M964,6),INDEX(CandidateFileArray,MATCH(RIGHT(M964,8),CandidateFileList,0),2))","v":""}]
[{"$nulls":11},{"$f":"TRIM(RIGHT(SUBSTITUTE(Reference!CO965,\"\\\",REPT(\" \",100)),100))","v":""},{"$f":"TRIM(LEFT(SUBSTITUTE(L965,\".\",REPT(\" \",100)),100))","v":""},""]
[{"$nulls":11},{"$f":"TRIM(RIGHT(SUBSTITUTE(Reference!CO966,\"\\\",REPT(\" \",100)),100))","v":""},"",""]
[{"$nulls":11},{"$f":"TRIM(RIGHT(SUBSTITUTE(Reference!CO967,\"\\\",REPT(\" \",100)),100))","v":""},"",""]
[{"$nulls":11},{"$f":"TRIM(RIGHT(SUBSTITUTE(Reference!CO968,\"\\\",REPT(\" \",100)),100))","v":""},"",""]
[{"$nulls":11},{"$f":"TRIM(RIGHT(SUBSTITUTE(Reference!CO969,\"\\\",REPT(\" \",100)),100))","v":""},"",""]
[{"$nulls":11},{"$f":"TRIM(RIGHT(SUBSTITUTE(Reference!CO970,\"\\\",REPT(\" \",100)),100))","v":""},"",""]
[{"$nulls":11},{"$f":"TRIM(RIGHT(SUBSTITUTE(Reference!CO971,\"\\\",REPT(\" \",100)),100))","v":""},"",""]
[{"$nulls":11},{"$f":"TRIM(RIGHT(SUBSTITUTE(Reference!CO972,\"\\\",REPT(\" \",100)),100))","v":""},"",""]
[{"$nulls":11},{"$f":"TRIM(RIGHT(SUBSTITUTE(Reference!CO973,\"\\\",REPT(\" \",100)),100))","v":""},"",""]
[{"$nulls":11},{"$f":"TRIM(RIGHT(SUBSTITUTE(Reference!CO974,\"\\\",REPT(\" \",100)),100))","v":""},"",""]
[{"$nulls":11},{"$f":"TRIM(RIGHT(SUBSTITUTE(Reference!CO975,\"\\\",REPT(\" \",100)),100))","v":""},"",""]
[{"$nulls":11},{"$f":"TRIM(RIGHT(SUBSTITUTE(Reference!CO976,\"\\\",REPT(\" \",100)),100))","v":""},"",""]
[{"$nulls":11},{"$f":"TRIM(RIGHT(SUBSTITUTE(Reference!CO977,\"\\\",REPT(\" \",100)),100))","v":""},"",""]
[{"$nulls":11},{"$f":"TRIM(RIGHT(SUBSTITUTE(Reference!CO978,\"\\\",REPT(\" \",100)),100))","v":""},"",""]
[{"$nulls":11},{"$f":"TRIM(RIGHT(SUBSTITUTE(Reference!CO979,\"\\\",REPT(\" \",100)),100))","v":""},"",""]
[{"$nulls":11},{"$f":"TRIM(RIGHT(SUBSTITUTE(Reference!CO980,\"\\\",REPT(\" \",100)),100))","v":""},"",""]
[{"$nulls":11},{"$f":"TRIM(RIGHT(SUBSTITUTE(Reference!CO981,\"\\\",REPT(\" \",100)),100))","v":""},"",""]
[{"$nulls":11},{"$f":"TRIM(RIGHT(SUBSTITUTE(Reference!CO982,\"\\\",REPT(\" \",100)),100))","v":""},"",""]
[{"$nulls":11},{"$f":"TRIM(RIGHT(SUBSTITUTE(Reference!CO983,\"\\\",REPT(\" \",100)),100))","v":""},"",""]
[{"$nulls":11},{"$f":"TRIM(RIGHT(SUBSTITUTE(Reference!CO984,\"\\\",REPT(\" \",100)),100))","v":""},"",""]
[{"$nulls":11},{"$f":"TRIM(RIGHT(SUBSTITUTE(Reference!CO985,\"\\\",REPT(\" \",100)),100))","v":""},"",""]
[{"$nulls":11},{"$f":"TRIM(RIGHT(SUBSTITUTE(Reference!CO986,\"\\\",REPT(\" \",100)),100))","v":""},"",""]
[{"$nulls":11},{"$f":"TRIM(RIGHT(SUBSTITUTE(Reference!CO987,\"\\\",REPT(\" \",100)),100))","v":""},"",""]
[{"$nulls":11},{"$f":"TRIM(RIGHT(SUBSTITUTE(Reference!CO988,\"\\\",REPT(\" \",100)),100))","v":""},"",""]
[{"$nulls":11},{"$f":"TRIM(RIGHT(SUBSTITUTE(Reference!CO989,\"\\\",REPT(\" \",100)),100))","v":""},"",""]
[{"$nulls":11},{"$f":"TRIM(RIGHT(SUBSTITUTE(Reference!CO990,\"\\\",REPT(\" \",100)),100))","v":""},"",""]
[{"$nulls":11},{"$f":"TRIM(RIGHT(SUBSTITUTE(Reference!CO991,\"\\\",REPT(\" \",100)),100))","v":""},"",""]
[{"$nulls":11},{"$f":"TRIM(RIGHT(SUBSTITUTE(Reference!CO992,\"\\\",REPT(\" \",100)),100))","v":""},"",""]
[{"$nulls":11},{"$f":"TRIM(RIGHT(SUBSTITUTE(Reference!CO993,\"\\\",REPT(\" \",100)),100))","v":""},"",""]
[{"$nulls":11},{"$f":"TRIM(RIGHT(SUBSTITUTE(Reference!CO994,\"\\\",REPT(\" \",100)),100))","v":""},"",""]
[{"$nulls":11},{"$f":"TRIM(RIGHT(SUBSTITUTE(Reference!CO995,\"\\\",REPT(\" \",100)),100))","v":""},"",""]
[{"$nulls":11},{"$f":"TRIM(RIGHT(SUBSTITUTE(Reference!CO996,\"\\\",REPT(\" \",100)),100))","v":""},"",""]
[{"$nulls":11},{"$f":"TRIM(RIGHT(SUBSTITUTE(Reference!CO997,\"\\\",REPT(\" \",100)),100))","v":""},"",""]
[{"$nulls":11},{"$f":"TRIM(RIGHT(SUBSTITUTE(Reference!CO998,\"\\\",REPT(\" \",100)),100))","v":""},"",""]
[{"$nulls":11},{"$f":"TRIM(RIGHT(SUBSTITUTE(Reference!CO999,\"\\\",REPT(\" \",100)),100))","v":""},"",""]
[{"$nulls":11},{"$f":"TRIM(RIGHT(SUBSTITUTE(Reference!CO1000,\"\\\",REPT(\" \",100)),100))","v":""},"",""]
[{"$nulls":11},{"$f":"TRIM(RIGHT(SUBSTITUTE(Reference!CO1001,\"\\\",REPT(\" \",100)),100))","v":""},"",""]
[{"$nulls":11},{"$f":"TRIM(RIGHT(SUBSTITUTE(Reference!CO1002,\"\\\",REPT(\" \",100)),100))","v":""},"",""]
[{"$nulls":11},{"$f":"TRIM(RIGHT(SUBSTITUTE(Reference!CO1003,\"\\\",REPT(\" \",100)),100))","v":""},"",""]
[{"$nulls":11},{"$f":"TRIM(RIGHT(SUBSTITUTE(Reference!CO1004,\"\\\",REPT(\" \",100)),100))","v":""},"",""]
[{"$nulls":11},{"$f":"TRIM(RIGHT(SUBSTITUTE(Reference!CO1005,\"\\\",REPT(\" \",100)),100))","v":""},"",""]
[{"$nulls":11},{"$f":"TRIM(RIGHT(SUBSTITUTE(Reference!CO1006,\"\\\",REPT(\" \",100)),100))","v":""},"",""]
[{"$nulls":11},{"$f":"TRIM(RIGHT(SUBSTITUTE(Reference!CO1007,\"\\\",REPT(\" \",100)),100))","v":""},"",""]
[{"$nulls":11},{"$f":"TRIM(RIGHT(SUBSTITUTE(Reference!CO1008,\"\\\",REPT(\" \",100)),100))","v":""},"",""]
[{"$nulls":11},{"$f":"TRIM(RIGHT(SUBSTITUTE(Reference!CO1009,\"\\\",REPT(\" \",100)),100))","v":""},"",""]
[{"$nulls":11},{"$f":"TRIM(RIGHT(SUBSTITUTE(Reference!CO1010,\"\\\",REPT(\" \",100)),100))","v":""},"",""]
[{"$nulls":11},{"$f":"TRIM(RIGHT(SUBSTITUTE(Reference!CO1011,\"\\\",REPT(\" \",100)),100))","v":""},"",""]
[{"$nulls":11},{"$f":"TRIM(RIGHT(SUBSTITUTE(Reference!CO1012,\"\\\",REPT(\" \",100)),100))","v":""},"",""]
[{"$nulls":11},{"$f":"TRIM(RIGHT(SUBSTITUTE(Reference!CO1013,\"\\\",REPT(\" \",100)),100))","v":""},"",""]
[{"$nulls":11},{"$f":"TRIM(RIGHT(SUBSTITUTE(Reference!CO1014,\"\\\",REPT(\" \",100)),100))","v":""},"",""]
[{"$nulls":11},{"$f":"TRIM(RIGHT(SUBSTITUTE(Reference!CO1015,\"\\\",REPT(\" \",100)),100))","v":""},"",""]
[{"$nulls":11},{"$f":"TRIM(RIGHT(SUBSTITUTE(Reference!CO1016,\"\\\",REPT(\" \",100)),100))","v":""},"",""]
[{"$nulls":11},{"$f":"TRIM(RIGHT(SUBSTITUTE(Reference!CO1017,\"\\\",REPT(\" \",100)),100))","v":""},"",""]
[{"$nulls":11},{"$f":"TRIM(RIGHT(SUBSTITUTE(Reference!CO1018,\"\\\",REPT(\" \",100)),100))","v":""},"",""]
[{"$nulls":11},{"$f":"TRIM(RIGHT(SUBSTITUTE(Reference!CO1019,\"\\\",REPT(\" \",100)),100))","v":""},"",""]
[{"$nulls":11},{"$f":"TRIM(RIGHT(SUBSTITUTE(Reference!CO1020,\"\\\",REPT(\" \",100)),100))","v":""},"",""]
[{"$nulls":11},{"$f":"TRIM(RIGHT(SUBSTITUTE(Reference!CO1021,\"\\\",REPT(\" \",100)),100))","v":""},"",""]
[{"$nulls":11},{"$f":"TRIM(RIGHT(SUBSTITUTE(Reference!CO1022,\"\\\",REPT(\" \",100)),100))","v":""},"",""]
[{"$nulls":11},{"$f":"TRIM(RIGHT(SUBSTITUTE(Reference!CO1023,\"\\\",REPT(\" \",100)),100))","v":""},"",""]
[{"$nulls":11},{"$f":"TRIM(RIGHT(SUBSTITUTE(Reference!CO1024,\"\\\",REPT(\" \",100)),100))","v":""},"",""]
[{"$nulls":11},{"$f":"TRIM(RIGHT(SUBSTITUTE(Reference!CO1025,\"\\\",REPT(\" \",100)),100))","v":""},"",""]
[{"$nulls":11},{"$f":"TRIM(RIGHT(SUBSTITUTE(Reference!CO1026,\"\\\",REPT(\" \",100)),100))","v":""},"",""]
[{"$nulls":11},{"$f":"TRIM(RIGHT(SUBSTITUTE(Reference!CO1027,\"\\\",REPT(\" \",100)),100))","v":""},"",""]
[{"$nulls":11},{"$f":"TRIM(RIGHT(SUBSTITUTE(Reference!CO1028,\"\\\",REPT(\" \",100)),100))","v":""},"",{"$f":"IF(LEFT(RIGHT(M1028,2),1)<>\"/\",RIGHT(M1028,6),INDEX(CandidateFileArray,MATCH(RIGHT(M1028,8),CandidateFileList,0),2))","v":""}]
[{"$nulls":11},{"$f":"TRIM(RIGHT(SUBSTITUTE(Reference!CO1029,\"\\\",REPT(\" \",100)),100))","v":""},{"$f":"TRIM(LEFT(SUBSTITUTE(L1029,\".\",REPT(\" \",100)),100))","v":""},""]
[{"$nulls":11},{"$f":"TRIM(RIGHT(SUBSTITUTE(Reference!CO1030,\"\\\",REPT(\" \",100)),100))","v":""},"",""]
[{"$nulls":11},{"$f":"TRIM(RIGHT(SUBSTITUTE(Reference!CO1031,\"\\\",REPT(\" \",100)),100))","v":""},"",""]
[{"$nulls":11},{"$f":"TRIM(RIGHT(SUBSTITUTE(Reference!CO1032,\"\\\",REPT(\" \",100)),100))","v":""},"",""]
[{"$nulls":11},{"$f":"TRIM(RIGHT(SUBSTITUTE(Reference!CO1033,\"\\\",REPT(\" \",100)),100))","v":""},"",""]
[{"$nulls":11},{"$f":"TRIM(RIGHT(SUBSTITUTE(Reference!CO1034,\"\\\",REPT(\" \",100)),100))","v":""},"",""]
[{"$nulls":11},{"$f":"TRIM(RIGHT(SUBSTITUTE(Reference!CO1035,\"\\\",REPT(\" \",100)),100))","v":""},"",""]
[{"$nulls":11},{"$f":"TRIM(RIGHT(SUBSTITUTE(Reference!CO1036,\"\\\",REPT(\" \",100)),100))","v":""},"",""]
[{"$nulls":11},{"$f":"TRIM(RIGHT(SUBSTITUTE(Reference!CO1037,\"\\\",REPT(\" \",100)),100))","v":""},"",""]
[{"$nulls":11},{"$f":"TRIM(RIGHT(SUBSTITUTE(Reference!CO1038,\"\\\",REPT(\" \",100)),100))","v":""},"",""]
[{"$nulls":11},{"$f":"TRIM(RIGHT(SUBSTITUTE(Reference!CO1039,\"\\\",REPT(\" \",100)),100))","v":""},"",""]
[{"$nulls":11},{"$f":"TRIM(RIGHT(SUBSTITUTE(Reference!CO1040,\"\\\",REPT(\" \",100)),100))","v":""},"",""]
[{"$nulls":11},{"$f":"TRIM(RIGHT(SUBSTITUTE(Reference!CO1041,\"\\\",REPT(\" \",100)),100))","v":""},"",""]
[{"$nulls":11},{"$f":"TRIM(RIGHT(SUBSTITUTE(Reference!CO1042,\"\\\",REPT(\" \",100)),100))","v":""},"",""]
[{"$nulls":11},{"$f":"TRIM(RIGHT(SUBSTITUTE(Reference!CO1043,\"\\\",REPT(\" \",100)),100))","v":""},"",""]
[{"$nulls":11},{"$f":"TRIM(RIGHT(SUBSTITUTE(Reference!CO1044,\"\\\",REPT(\" \",100)),100))","v":""},"",""]
[{"$nulls":11},{"$f":"TRIM(RIGHT(SUBSTITUTE(Reference!CO1045,\"\\\",REPT(\" \",100)),100))","v":""},"",""]
[{"$nulls":11},{"$f":"TRIM(RIGHT(SUBSTITUTE(Reference!CO1046,\"\\\",REPT(\" \",100)),100))","v":""},"",""]
[{"$nulls":11},{"$f":"TRIM(RIGHT(SUBSTITUTE(Reference!CO1047,\"\\\",REPT(\" \",100)),100))","v":""},"",""]
[{"$nulls":11},{"$f":"TRIM(RIGHT(SUBSTITUTE(Reference!CO1048,\"\\\",REPT(\" \",100)),100))","v":""},"",""]
[{"$nulls":11},{"$f":"TRIM(RIGHT(SUBSTITUTE(Reference!CO1049,\"\\\",REPT(\" \",100)),100))","v":""},"",""]
[{"$nulls":11},{"$f":"TRIM(RIGHT(SUBSTITUTE(Reference!CO1050,\"\\\",REPT(\" \",100)),100))","v":""},"",""]
[{"$nulls":11},{"$f":"TRIM(RIGHT(SUBSTITUTE(Reference!CO1051,\"\\\",REPT(\" \",100)),100))","v":""},"",""]
[{"$nulls":11},{"$f":"TRIM(RIGHT(SUBSTITUTE(Reference!CO1052,\"\\\",REPT(\" \",100)),100))","v":""},"",""]
[{"$nulls":11},{"$f":"TRIM(RIGHT(SUBSTITUTE(Reference!CO1053,\"\\\",REPT(\" \",100)),100))","v":""},"",""]
[{"$nulls":11},{"$f":"TRIM(RIGHT(SUBSTITUTE(Reference!CO1054,\"\\\",REPT(\" \",100)),100))","v":""},"",""]
[{"$nulls":11},{"$f":"TRIM(RIGHT(SUBSTITUTE(Reference!CO1055,\"\\\",REPT(\" \",100)),100))","v":""},"",""]
[{"$nulls":11},{"$f":"TRIM(RIGHT(SUBSTITUTE(Reference!CO1056,\"\\\",REPT(\" \",100)),100))","v":""},"",""]
[{"$nulls":11},{"$f":"TRIM(RIGHT(SUBSTITUTE(Reference!CO1057,\"\\\",REPT(\" \",100)),100))","v":""},"",""]
[{"$nulls":11},{"$f":"TRIM(RIGHT(SUBSTITUTE(Reference!CO1058,\"\\\",REPT(\" \",100)),100))","v":""},"",""]
[{"$nulls":11},{"$f":"TRIM(RIGHT(SUBSTITUTE(Reference!CO1059,\"\\\",REPT(\" \",100)),100))","v":""},"",""]
[{"$nulls":11},{"$f":"TRIM(RIGHT(SUBSTITUTE(Reference!CO1060,\"\\\",REPT(\" \",100)),100))","v":""},"",""]
[{"$nulls":11},{"$f":"TRIM(RIGHT(SUBSTITUTE(Reference!CO1061,\"\\\",REPT(\" \",100)),100))","v":""},"",""]
[{"$nulls":11},{"$f":"TRIM(RIGHT(SUBSTITUTE(Reference!CO1062,\"\\\",REPT(\" \",100)),100))","v":""},"",""]
[{"$nulls":11},{"$f":"TRIM(RIGHT(SUBSTITUTE(Reference!CO1063,\"\\\",REPT(\" \",100)),100))","v":""},"",""]
[{"$nulls":11},{"$f":"TRIM(RIGHT(SUBSTITUTE(Reference!CO1064,\"\\\",REPT(\" \",100)),100))","v":""},"",""]
[{"$nulls":11},{"$f":"TRIM(RIGHT(SUBSTITUTE(Reference!CO1065,\"\\\",REPT(\" \",100)),100))","v":""},"",""]
[{"$nulls":11},{"$f":"TRIM(RIGHT(SUBSTITUTE(Reference!CO1066,\"\\\",REPT(\" \",100)),100))","v":""},"",""]
[{"$nulls":11},{"$f":"TRIM(RIGHT(SUBSTITUTE(Reference!CO1067,\"\\\",REPT(\" \",100)),100))","v":""},"",""]
[{"$nulls":11},{"$f":"TRIM(RIGHT(SUBSTITUTE(Reference!CO1068,\"\\\",REPT(\" \",100)),100))","v":""},"",""]
[{"$nulls":11},{"$f":"TRIM(RIGHT(SUBSTITUTE(Reference!CO1069,\"\\\",REPT(\" \",100)),100))","v":""},"",""]
[{"$nulls":11},{"$f":"TRIM(RIGHT(SUBSTITUTE(Reference!CO1070,\"\\\",REPT(\" \",100)),100))","v":""},"",""]
[{"$nulls":11},{"$f":"TRIM(RIGHT(SUBSTITUTE(Reference!CO1071,\"\\\",REPT(\" \",100)),100))","v":""},"",""]
[{"$nulls":11},{"$f":"TRIM(RIGHT(SUBSTITUTE(Reference!CO1072,\"\\\",REPT(\" \",100)),100))","v":""},"",""]
[{"$nulls":11},{"$f":"TRIM(RIGHT(SUBSTITUTE(Reference!CO1073,\"\\\",REPT(\" \",100)),100))","v":""},"",""]
[{"$nulls":11},{"$f":"TRIM(RIGHT(SUBSTITUTE(Reference!CO1074,\"\\\",REPT(\" \",100)),100))","v":""},"",""]
[{"$nulls":11},{"$f":"TRIM(RIGHT(SUBSTITUTE(Reference!CO1075,\"\\\",REPT(\" \",100)),100))","v":""},"",""]
[{"$nulls":11},{"$f":"TRIM(RIGHT(SUBSTITUTE(Reference!CO1076,\"\\\",REPT(\" \",100)),100))","v":""},"",""]
[{"$nulls":11},{"$f":"TRIM(RIGHT(SUBSTITUTE(Reference!CO1077,\"\\\",REPT(\" \",100)),100))","v":""},"",""]
[{"$nulls":11},{"$f":"TRIM(RIGHT(SUBSTITUTE(Reference!CO1078,\"\\\",REPT(\" \",100)),100))","v":""},"",""]
[{"$nulls":11},{"$f":"TRIM(RIGHT(SUBSTITUTE(Reference!CO1079,\"\\\",REPT(\" \",100)),100))","v":""},"",""]
[{"$nulls":11},{"$f":"TRIM(RIGHT(SUBSTITUTE(Reference!CO1080,\"\\\",REPT(\" \",100)),100))","v":""},"",""]
[{"$nulls":11},{"$f":"TRIM(RIGHT(SUBSTITUTE(Reference!CO1081,\"\\\",REPT(\" \",100)),100))","v":""},"",""]
[{"$nulls":11},{"$f":"TRIM(RIGHT(SUBSTITUTE(Reference!CO1082,\"\\\",REPT(\" \",100)),100))","v":""},"",""]
[{"$nulls":11},{"$f":"TRIM(RIGHT(SUBSTITUTE(Reference!CO1083,\"\\\",REPT(\" \",100)),100))","v":""},"",""]
[{"$nulls":11},{"$f":"TRIM(RIGHT(SUBSTITUTE(Reference!CO1084,\"\\\",REPT(\" \",100)),100))","v":""},"",""]
[{"$nulls":11},{"$f":"TRIM(RIGHT(SUBSTITUTE(Reference!CO1085,\"\\\",REPT(\" \",100)),100))","v":""},"",""]
[{"$nulls":11},{"$f":"TRIM(RIGHT(SUBSTITUTE(Reference!CO1086,\"\\\",REPT(\" \",100)),100))","v":""},"",""]
[{"$nulls":11},{"$f":"TRIM(RIGHT(SUBSTITUTE(Reference!CO1087,\"\\\",REPT(\" \",100)),100))","v":""},"",""]
[{"$nulls":11},{"$f":"TRIM(RIGHT(SUBSTITUTE(Reference!CO1088,\"\\\",REPT(\" \",100)),100))","v":""},"",""]
[{"$nulls":11},{"$f":"TRIM(RIGHT(SUBSTITUTE(Reference!CO1089,\"\\\",REPT(\" \",100)),100))","v":""},"",""]
[{"$nulls":11},{"$f":"TRIM(RIGHT(SUBSTITUTE(Reference!CO1090,\"\\\",REPT(\" \",100)),100))","v":""},"",""]
[{"$nulls":11},{"$f":"TRIM(RIGHT(SUBSTITUTE(Reference!CO1091,\"\\\",REPT(\" \",100)),100))","v":""},"",""]
[{"$nulls":11},{"$f":"TRIM(RIGHT(SUBSTITUTE(Reference!CO1092,\"\\\",REPT(\" \",100)),100))","v":""},"",{"$f":"IF(LEFT(RIGHT(M1092,2),1)<>\"/\",RIGHT(M1092,6),INDEX(CandidateFileArray,MATCH(RIGHT(M1092,8),CandidateFileList,0),2))","v":""}]
[{"$nulls":11},{"$f":"TRIM(RIGHT(SUBSTITUTE(Reference!CO1093,\"\\\",REPT(\" \",100)),100))","v":""},{"$f":"TRIM(LEFT(SUBSTITUTE(L1093,\".\",REPT(\" \",100)),100))","v":""},""]
[{"$nulls":11},{"$f":"TRIM(RIGHT(SUBSTITUTE(Reference!CO1094,\"\\\",REPT(\" \",100)),100))","v":""},"",""]
[{"$nulls":11},{"$f":"TRIM(RIGHT(SUBSTITUTE(Reference!CO1095,\"\\\",REPT(\" \",100)),100))","v":""},"",""]
[{"$nulls":11},{"$f":"TRIM(RIGHT(SUBSTITUTE(Reference!CO1096,\"\\\",REPT(\" \",100)),100))","v":""},"",""]
[{"$nulls":11},{"$f":"TRIM(RIGHT(SUBSTITUTE(Reference!CO1097,\"\\\",REPT(\" \",100)),100))","v":""},"",""]
[{"$nulls":11},{"$f":"TRIM(RIGHT(SUBSTITUTE(Reference!CO1098,\"\\\",REPT(\" \",100)),100))","v":""},"",""]
[{"$nulls":11},{"$f":"TRIM(RIGHT(SUBSTITUTE(Reference!CO1099,\"\\\",REPT(\" \",100)),100))","v":""},"",""]
[{"$nulls":11},{"$f":"TRIM(RIGHT(SUBSTITUTE(Reference!CO1100,\"\\\",REPT(\" \",100)),100))","v":""},"",""]
[{"$nulls":11},{"$f":"TRIM(RIGHT(SUBSTITUTE(Reference!CO1101,\"\\\",REPT(\" \",100)),100))","v":""},"",""]
[{"$nulls":11},{"$f":"TRIM(RIGHT(SUBSTITUTE(Reference!CO1102,\"\\\",REPT(\" \",100)),100))","v":""},"",""]
[{"$nulls":11},{"$f":"TRIM(RIGHT(SUBSTITUTE(Reference!CO1103,\"\\\",REPT(\" \",100)),100))","v":""},"",""]
[{"$nulls":11},{"$f":"TRIM(RIGHT(SUBSTITUTE(Reference!CO1104,\"\\\",REPT(\" \",100)),100))","v":""},"",""]
[{"$nulls":11},{"$f":"TRIM(RIGHT(SUBSTITUTE(Reference!CO1105,\"\\\",REPT(\" \",100)),100))","v":""},"",""]
[{"$nulls":11},{"$f":"TRIM(RIGHT(SUBSTITUTE(Reference!CO1106,\"\\\",REPT(\" \",100)),100))","v":""},"",""]
[{"$nulls":11},{"$f":"TRIM(RIGHT(SUBSTITUTE(Reference!CO1107,\"\\\",REPT(\" \",100)),100))","v":""},"",""]
[{"$nulls":11},{"$f":"TRIM(RIGHT(SUBSTITUTE(Reference!CO1108,\"\\\",REPT(\" \",100)),100))","v":""},"",""]
[{"$nulls":11},{"$f":"TRIM(RIGHT(SUBSTITUTE(Reference!CO1109,\"\\\",REPT(\" \",100)),100))","v":""},"",""]
[{"$nulls":11},{"$f":"TRIM(RIGHT(SUBSTITUTE(Reference!CO1110,\"\\\",REPT(\" \",100)),100))","v":""},"",""]
[{"$nulls":11},{"$f":"TRIM(RIGHT(SUBSTITUTE(Reference!CO1111,\"\\\",REPT(\" \",100)),100))","v":""},"",""]
[{"$nulls":11},{"$f":"TRIM(RIGHT(SUBSTITUTE(Reference!CO1112,\"\\\",REPT(\" \",100)),100))","v":""},"",""]
[{"$nulls":11},{"$f":"TRIM(RIGHT(SUBSTITUTE(Reference!CO1113,\"\\\",REPT(\" \",100)),100))","v":""},"",""]
[{"$nulls":11},{"$f":"TRIM(RIGHT(SUBSTITUTE(Reference!CO1114,\"\\\",REPT(\" \",100)),100))","v":""},"",""]
[{"$nulls":11},{"$f":"TRIM(RIGHT(SUBSTITUTE(Reference!CO1115,\"\\\",REPT(\" \",100)),100))","v":""},"",""]
[{"$nulls":11},{"$f":"TRIM(RIGHT(SUBSTITUTE(Reference!CO1116,\"\\\",REPT(\" \",100)),100))","v":""},"",""]
[{"$nulls":11},{"$f":"TRIM(RIGHT(SUBSTITUTE(Reference!CO1117,\"\\\",REPT(\" \",100)),100))","v":""},"",""]
[{"$nulls":11},{"$f":"TRIM(RIGHT(SUBSTITUTE(Reference!CO1118,\"\\\",REPT(\" \",100)),100))","v":""},"",""]
[{"$nulls":11},{"$f":"TRIM(RIGHT(SUBSTITUTE(Reference!CO1119,\"\\\",REPT(\" \",100)),100))","v":""},"",""]
[{"$nulls":11},{"$f":"TRIM(RIGHT(SUBSTITUTE(Reference!CO1120,\"\\\",REPT(\" \",100)),100))","v":""},"",""]
[{"$nulls":11},{"$f":"TRIM(RIGHT(SUBSTITUTE(Reference!CO1121,\"\\\",REPT(\" \",100)),100))","v":""},"",""]
[{"$nulls":11},{"$f":"TRIM(RIGHT(SUBSTITUTE(Reference!CO1122,\"\\\",REPT(\" \",100)),100))","v":""},"",""]
[{"$nulls":11},{"$f":"TRIM(RIGHT(SUBSTITUTE(Reference!CO1123,\"\\\",REPT(\" \",100)),100))","v":""},"",""]
[{"$nulls":11},{"$f":"TRIM(RIGHT(SUBSTITUTE(Reference!CO1124,\"\\\",REPT(\" \",100)),100))","v":""},"",""]
[{"$nulls":11},{"$f":"TRIM(RIGHT(SUBSTITUTE(Reference!CO1125,\"\\\",REPT(\" \",100)),100))","v":""},"",""]
[{"$nulls":11},{"$f":"TRIM(RIGHT(SUBSTITUTE(Reference!CO1126,\"\\\",REPT(\" \",100)),100))","v":""},"",""]
[{"$nulls":11},{"$f":"TRIM(RIGHT(SUBSTITUTE(Reference!CO1127,\"\\\",REPT(\" \",100)),100))","v":""},"",""]
[{"$nulls":11},{"$f":"TRIM(RIGHT(SUBSTITUTE(Reference!CO1128,\"\\\",REPT(\" \",100)),100))","v":""},"",""]
[{"$nulls":11},{"$f":"TRIM(RIGHT(SUBSTITUTE(Reference!CO1129,\"\\\",REPT(\" \",100)),100))","v":""},"",""]
[{"$nulls":11},{"$f":"TRIM(RIGHT(SUBSTITUTE(Reference!CO1130,\"\\\",REPT(\" \",100)),100))","v":""},"",""]
[{"$nulls":11},{"$f":"TRIM(RIGHT(SUBSTITUTE(Reference!CO1131,\"\\\",REPT(\" \",100)),100))","v":""},"",""]
[{"$nulls":11},{"$f":"TRIM(RIGHT(SUBSTITUTE(Reference!CO1132,\"\\\",REPT(\" \",100)),100))","v":""},"",""]
[{"$nulls":11},{"$f":"TRIM(RIGHT(SUBSTITUTE(Reference!CO1133,\"\\\",REPT(\" \",100)),100))","v":""},"",""]
[{"$nulls":11},{"$f":"TRIM(RIGHT(SUBSTITUTE(Reference!CO1134,\"\\\",REPT(\" \",100)),100))","v":""},"",""]
[{"$nulls":11},{"$f":"TRIM(RIGHT(SUBSTITUTE(Reference!CO1135,\"\\\",REPT(\" \",100)),100))","v":""},"",""]
[{"$nulls":11},{"$f":"TRIM(RIGHT(SUBSTITUTE(Reference!CO1136,\"\\\",REPT(\" \",100)),100))","v":""},"",""]
[{"$nulls":11},{"$f":"TRIM(RIGHT(SUBSTITUTE(Reference!CO1137,\"\\\",REPT(\" \",100)),100))","v":""},"",""]
[{"$nulls":11},{"$f":"TRIM(RIGHT(SUBSTITUTE(Reference!CO1138,\"\\\",REPT(\" \",100)),100))","v":""},"",""]
[{"$nulls":11},{"$f":"TRIM(RIGHT(SUBSTITUTE(Reference!CO1139,\"\\\",REPT(\" \",100)),100))","v":""},"",""]
[{"$nulls":11},{"$f":"TRIM(RIGHT(SUBSTITUTE(Reference!CO1140,\"\\\",REPT(\" \",100)),100))","v":""},"",""]
[{"$nulls":11},{"$f":"TRIM(RIGHT(SUBSTITUTE(Reference!CO1141,\"\\\",REPT(\" \",100)),100))","v":""},"",""]
[{"$nulls":11},{"$f":"TRIM(RIGHT(SUBSTITUTE(Reference!CO1142,\"\\\",REPT(\" \",100)),100))","v":""},"",""]
[{"$nulls":11},{"$f":"TRIM(RIGHT(SUBSTITUTE(Reference!CO1143,\"\\\",REPT(\" \",100)),100))","v":""},"",""]
[{"$nulls":11},{"$f":"TRIM(RIGHT(SUBSTITUTE(Reference!CO1144,\"\\\",REPT(\" \",100)),100))","v":""},"",""]
[{"$nulls":11},{"$f":"TRIM(RIGHT(SUBSTITUTE(Reference!CO1145,\"\\\",REPT(\" \",100)),100))","v":""},"",""]
[{"$nulls":11},{"$f":"TRIM(RIGHT(SUBSTITUTE(Reference!CO1146,\"\\\",REPT(\" \",100)),100))","v":""},"",""]
[{"$nulls":11},{"$f":"TRIM(RIGHT(SUBSTITUTE(Reference!CO1147,\"\\\",REPT(\" \",100)),100))","v":""},"",""]
[{"$nulls":11},{"$f":"TRIM(RIGHT(SUBSTITUTE(Reference!CO1148,\"\\\",REPT(\" \",100)),100))","v":""},"",""]
[{"$nulls":11},{"$f":"TRIM(RIGHT(SUBSTITUTE(Reference!CO1149,\"\\\",REPT(\" \",100)),100))","v":""},"",""]
[{"$nulls":11},{"$f":"TRIM(RIGHT(SUBSTITUTE(Reference!CO1150,\"\\\",REPT(\" \",100)),100))","v":""},"",""]
[{"$nulls":11},{"$f":"TRIM(RIGHT(SUBSTITUTE(Reference!CO1151,\"\\\",REPT(\" \",100)),100))","v":""},"",""]
[{"$nulls":11},{"$f":"TRIM(RIGHT(SUBSTITUTE(Reference!CO1152,\"\\\",REPT(\" \",100)),100))","v":""},"",""]
[{"$nulls":11},{"$f":"TRIM(RIGHT(SUBSTITUTE(Reference!CO1153,\"\\\",REPT(\" \",100)),100))","v":""},"",""]
[{"$nulls":11},{"$f":"TRIM(RIGHT(SUBSTITUTE(Reference!CO1154,\"\\\",REPT(\" \",100)),100))","v":""},"",""]
[{"$nulls":11},{"$f":"TRIM(RIGHT(SUBSTITUTE(Reference!CO1155,\"\\\",REPT(\" \",100)),100))","v":""},"",""]
[{"$nulls":11},{"$f":"TRIM(RIGHT(SUBSTITUTE(Reference!CO1156,\"\\\",REPT(\" \",100)),100))","v":""},"",{"$f":"IF(LEFT(RIGHT(M1156,2),1)<>\"/\",RIGHT(M1156,6),INDEX(CandidateFileArray,MATCH(RIGHT(M1156,8),CandidateFileList,0),2))","v":""}]
[{"$nulls":11},{"$f":"TRIM(RIGHT(SUBSTITUTE(Reference!CO1157,\"\\\",REPT(\" \",100)),100))","v":""},{"$f":"TRIM(LEFT(SUBSTITUTE(L1157,\".\",REPT(\" \",100)),100))","v":""},""]
[{"$nulls":11},{"$f":"TRIM(RIGHT(SUBSTITUTE(Reference!CO1158,\"\\\",REPT(\" \",100)),100))","v":""},"",""]
[{"$nulls":11},{"$f":"TRIM(RIGHT(SUBSTITUTE(Reference!CO1159,\"\\\",REPT(\" \",100)),100))","v":""},"",""]
[{"$nulls":11},{"$f":"TRIM(RIGHT(SUBSTITUTE(Reference!CO1160,\"\\\",REPT(\" \",100)),100))","v":""},"",""]
[{"$nulls":11},{"$f":"TRIM(RIGHT(SUBSTITUTE(Reference!CO1161,\"\\\",REPT(\" \",100)),100))","v":""},"",""]
[{"$nulls":11},{"$f":"TRIM(RIGHT(SUBSTITUTE(Reference!CO1162,\"\\\",REPT(\" \",100)),100))","v":""},"",""]
[{"$nulls":11},{"$f":"TRIM(RIGHT(SUBSTITUTE(Reference!CO1163,\"\\\",REPT(\" \",100)),100))","v":""},"",""]
[{"$nulls":11},{"$f":"TRIM(RIGHT(SUBSTITUTE(Reference!CO1164,\"\\\",REPT(\" \",100)),100))","v":""},"",""]
[{"$nulls":11},{"$f":"TRIM(RIGHT(SUBSTITUTE(Reference!CO1165,\"\\\",REPT(\" \",100)),100))","v":""},"",""]
[{"$nulls":11},{"$f":"TRIM(RIGHT(SUBSTITUTE(Reference!CO1166,\"\\\",REPT(\" \",100)),100))","v":""},"",""]
[{"$nulls":11},{"$f":"TRIM(RIGHT(SUBSTITUTE(Reference!CO1167,\"\\\",REPT(\" \",100)),100))","v":""},"",""]
[{"$nulls":11},{"$f":"TRIM(RIGHT(SUBSTITUTE(Reference!CO1168,\"\\\",REPT(\" \",100)),100))","v":""},"",""]
[{"$nulls":11},{"$f":"TRIM(RIGHT(SUBSTITUTE(Reference!CO1169,\"\\\",REPT(\" \",100)),100))","v":""},"",""]
[{"$nulls":11},{"$f":"TRIM(RIGHT(SUBSTITUTE(Reference!CO1170,\"\\\",REPT(\" \",100)),100))","v":""},"",""]
[{"$nulls":11},{"$f":"TRIM(RIGHT(SUBSTITUTE(Reference!CO1171,\"\\\",REPT(\" \",100)),100))","v":""},"",""]
[{"$nulls":11},{"$f":"TRIM(RIGHT(SUBSTITUTE(Reference!CO1172,\"\\\",REPT(\" \",100)),100))","v":""},"",""]
[{"$nulls":11},{"$f":"TRIM(RIGHT(SUBSTITUTE(Reference!CO1173,\"\\\",REPT(\" \",100)),100))","v":""},"",""]
[{"$nulls":11},{"$f":"TRIM(RIGHT(SUBSTITUTE(Reference!CO1174,\"\\\",REPT(\" \",100)),100))","v":""},"",""]
[{"$nulls":11},{"$f":"TRIM(RIGHT(SUBSTITUTE(Reference!CO1175,\"\\\",REPT(\" \",100)),100))","v":""},"",""]
[{"$nulls":11},{"$f":"TRIM(RIGHT(SUBSTITUTE(Reference!CO1176,\"\\\",REPT(\" \",100)),100))","v":""},"",""]
[{"$nulls":11},{"$f":"TRIM(RIGHT(SUBSTITUTE(Reference!CO1177,\"\\\",REPT(\" \",100)),100))","v":""},"",""]
[{"$nulls":11},{"$f":"TRIM(RIGHT(SUBSTITUTE(Reference!CO1178,\"\\\",REPT(\" \",100)),100))","v":""},"",""]
[{"$nulls":11},{"$f":"TRIM(RIGHT(SUBSTITUTE(Reference!CO1179,\"\\\",REPT(\" \",100)),100))","v":""},"",""]
[{"$nulls":11},{"$f":"TRIM(RIGHT(SUBSTITUTE(Reference!CO1180,\"\\\",REPT(\" \",100)),100))","v":""},"",""]
[{"$nulls":11},{"$f":"TRIM(RIGHT(SUBSTITUTE(Reference!CO1181,\"\\\",REPT(\" \",100)),100))","v":""},"",""]
[{"$nulls":11},{"$f":"TRIM(RIGHT(SUBSTITUTE(Reference!CO1182,\"\\\",REPT(\" \",100)),100))","v":""},"",""]
[{"$nulls":11},{"$f":"TRIM(RIGHT(SUBSTITUTE(Reference!CO1183,\"\\\",REPT(\" \",100)),100))","v":""},"",""]
[{"$nulls":11},{"$f":"TRIM(RIGHT(SUBSTITUTE(Reference!CO1184,\"\\\",REPT(\" \",100)),100))","v":""},"",""]
[{"$nulls":11},{"$f":"TRIM(RIGHT(SUBSTITUTE(Reference!CO1185,\"\\\",REPT(\" \",100)),100))","v":""},"",""]
[{"$nulls":11},{"$f":"TRIM(RIGHT(SUBSTITUTE(Reference!CO1186,\"\\\",REPT(\" \",100)),100))","v":""},"",""]
[{"$nulls":11},{"$f":"TRIM(RIGHT(SUBSTITUTE(Reference!CO1187,\"\\\",REPT(\" \",100)),100))","v":""},"",""]
[{"$nulls":11},{"$f":"TRIM(RIGHT(SUBSTITUTE(Reference!CO1188,\"\\\",REPT(\" \",100)),100))","v":""},"",""]
[{"$nulls":11},{"$f":"TRIM(RIGHT(SUBSTITUTE(Reference!CO1189,\"\\\",REPT(\" \",100)),100))","v":""},"",""]
[{"$nulls":11},{"$f":"TRIM(RIGHT(SUBSTITUTE(Reference!CO1190,\"\\\",REPT(\" \",100)),100))","v":""},"",""]
[{"$nulls":11},{"$f":"TRIM(RIGHT(SUBSTITUTE(Reference!CO1191,\"\\\",REPT(\" \",100)),100))","v":""},"",""]
[{"$nulls":11},{"$f":"TRIM(RIGHT(SUBSTITUTE(Reference!CO1192,\"\\\",REPT(\" \",100)),100))","v":""},"",""]
[{"$nulls":11},{"$f":"TRIM(RIGHT(SUBSTITUTE(Reference!CO1193,\"\\\",REPT(\" \",100)),100))","v":""},"",""]
[{"$nulls":11},{"$f":"TRIM(RIGHT(SUBSTITUTE(Reference!CO1194,\"\\\",REPT(\" \",100)),100))","v":""},"",""]
[{"$nulls":11},{"$f":"TRIM(RIGHT(SUBSTITUTE(Reference!CO1195,\"\\\",REPT(\" \",100)),100))","v":""},"",""]
[{"$nulls":11},{"$f":"TRIM(RIGHT(SUBSTITUTE(Reference!CO1196,\"\\\",REPT(\" \",100)),100))","v":""},"",""]
[{"$nulls":11},{"$f":"TRIM(RIGHT(SUBSTITUTE(Reference!CO1197,\"\\\",REPT(\" \",100)),100))","v":""},"",""]
[{"$nulls":11},{"$f":"TRIM(RIGHT(SUBSTITUTE(Reference!CO1198,\"\\\",REPT(\" \",100)),100))","v":""},"",""]
[{"$nulls":11},{"$f":"TRIM(RIGHT(SUBSTITUTE(Reference!CO1199,\"\\\",REPT(\" \",100)),100))","v":""},"",""]
[{"$nulls":11},{"$f":"TRIM(RIGHT(SUBSTITUTE(Reference!CO1200,\"\\\",REPT(\" \",100)),100))","v":""},"",""]
[{"$nulls":11},{"$f":"TRIM(RIGHT(SUBSTITUTE(Reference!CO1201,\"\\\",REPT(\" \",100)),100))","v":""},"",""]
[{"$nulls":11},{"$f":"TRIM(RIGHT(SUBSTITUTE(Reference!CO1202,\"\\\",REPT(\" \",100)),100))","v":""},"",""]
[{"$nulls":11},{"$f":"TRIM(RIGHT(SUBSTITUTE(Reference!CO1203,\"\\\",REPT(\" \",100)),100))","v":""},"",""]
[{"$nulls":11},{"$f":"TRIM(RIGHT(SUBSTITUTE(Reference!CO1204,\"\\\",REPT(\" \",100)),100))","v":""},"",""]
[{"$nulls":11},{"$f":"TRIM(RIGHT(SUBSTITUTE(Reference!CO1205,\"\\\",REPT(\" \",100)),100))","v":""},"",""]
[{"$nulls":11},{"$f":"TRIM(RIGHT(SUBSTITUTE(Reference!CO1206,\"\\\",REPT(\" \",100)),100))","v":""},"",""]
[{"$nulls":11},{"$f":"TRIM(RIGHT(SUBSTITUTE(Reference!CO1207,\"\\\",REPT(\" \",100)),100))","v":""},"",""]
[{"$nulls":11},{"$f":"TRIM(RIGHT(SUBSTITUTE(Reference!CO1208,\"\\\",REPT(\" \",100)),100))","v":""},"",""]
[{"$nulls":11},{"$f":"TRIM(RIGHT(SUBSTITUTE(Reference!CO1209,\"\\\",REPT(\" \",100)),100))","v":""},"",""]
[{"$nulls":11},{"$f":"TRIM(RIGHT(SUBSTITUTE(Reference!CO1210,\"\\\",REPT(\" \",100)),100))","v":""},"",""]
[{"$nulls":11},{"$f":"TRIM(RIGHT(SUBSTITUTE(Reference!CO1211,\"\\\",REPT(\" \",100)),100))","v":""},"",""]
[{"$nulls":11},{"$f":"TRIM(RIGHT(SUBSTITUTE(Reference!CO1212,\"\\\",REPT(\" \",100)),100))","v":""},"",""]
[{"$nulls":11},{"$f":"TRIM(RIGHT(SUBSTITUTE(Reference!CO1213,\"\\\",REPT(\" \",100)),100))","v":""},"",""]
[{"$nulls":11},{"$f":"TRIM(RIGHT(SUBSTITUTE(Reference!CO1214,\"\\\",REPT(\" \",100)),100))","v":""},"",""]
[{"$nulls":11},{"$f":"TRIM(RIGHT(SUBSTITUTE(Reference!CO1215,\"\\\",REPT(\" \",100)),100))","v":""},"",""]
[{"$nulls":11},{"$f":"TRIM(RIGHT(SUBSTITUTE(Reference!CO1216,\"\\\",REPT(\" \",100)),100))","v":""},"",""]
[{"$nulls":11},{"$f":"TRIM(RIGHT(SUBSTITUTE(Reference!CO1217,\"\\\",REPT(\" \",100)),100))","v":""},"",""]
[{"$nulls":11},{"$f":"TRIM(RIGHT(SUBSTITUTE(Reference!CO1218,\"\\\",REPT(\" \",100)),100))","v":""},"",""]
[{"$nulls":11},{"$f":"TRIM(RIGHT(SUBSTITUTE(Reference!CO1219,\"\\\",REPT(\" \",100)),100))","v":""},"",""]
[{"$nulls":11},{"$f":"TRIM(RIGHT(SUBSTITUTE(Reference!CO1220,\"\\\",REPT(\" \",100)),100))","v":""},"",{"$f":"IF(LEFT(RIGHT(M1220,2),1)<>\"/\",RIGHT(M1220,6),INDEX(CandidateFileArray,MATCH(RIGHT(M1220,8),CandidateFileList,0),2))","v":""}]
[{"$nulls":11},{"$f":"TRIM(RIGHT(SUBSTITUTE(Reference!CO1221,\"\\\",REPT(\" \",100)),100))","v":""},{"$f":"TRIM(LEFT(SUBSTITUTE(L1221,\".\",REPT(\" \",100)),100))","v":""},""]
[{"$nulls":11},{"$f":"TRIM(RIGHT(SUBSTITUTE(Reference!CO1222,\"\\\",REPT(\" \",100)),100))","v":""},"",""]
[{"$nulls":11},{"$f":"TRIM(RIGHT(SUBSTITUTE(Reference!CO1223,\"\\\",REPT(\" \",100)),100))","v":""},"",""]
[{"$nulls":11},{"$f":"TRIM(RIGHT(SUBSTITUTE(Reference!CO1224,\"\\\",REPT(\" \",100)),100))","v":""},"",""]
[{"$nulls":11},{"$f":"TRIM(RIGHT(SUBSTITUTE(Reference!CO1225,\"\\\",REPT(\" \",100)),100))","v":""},"",""]
[{"$nulls":11},{"$f":"TRIM(RIGHT(SUBSTITUTE(Reference!CO1226,\"\\\",REPT(\" \",100)),100))","v":""},"",""]
[{"$nulls":11},{"$f":"TRIM(RIGHT(SUBSTITUTE(Reference!CO1227,\"\\\",REPT(\" \",100)),100))","v":""},"",""]
[{"$nulls":11},{"$f":"TRIM(RIGHT(SUBSTITUTE(Reference!CO1228,\"\\\",REPT(\" \",100)),100))","v":""},"",""]
[{"$nulls":11},{"$f":"TRIM(RIGHT(SUBSTITUTE(Reference!CO1229,\"\\\",REPT(\" \",100)),100))","v":""},"",""]
[{"$nulls":11},{"$f":"TRIM(RIGHT(SUBSTITUTE(Reference!CO1230,\"\\\",REPT(\" \",100)),100))","v":""},"",""]
[{"$nulls":11},{"$f":"TRIM(RIGHT(SUBSTITUTE(Reference!CO1231,\"\\\",REPT(\" \",100)),100))","v":""},"",""]
[{"$nulls":11},{"$f":"TRIM(RIGHT(SUBSTITUTE(Reference!CO1232,\"\\\",REPT(\" \",100)),100))","v":""},"",""]
[{"$nulls":11},{"$f":"TRIM(RIGHT(SUBSTITUTE(Reference!CO1233,\"\\\",REPT(\" \",100)),100))","v":""},"",""]
[{"$nulls":11},{"$f":"TRIM(RIGHT(SUBSTITUTE(Reference!CO1234,\"\\\",REPT(\" \",100)),100))","v":""},"",""]
[{"$nulls":11},{"$f":"TRIM(RIGHT(SUBSTITUTE(Reference!CO1235,\"\\\",REPT(\" \",100)),100))","v":""},"",""]
[{"$nulls":11},{"$f":"TRIM(RIGHT(SUBSTITUTE(Reference!CO1236,\"\\\",REPT(\" \",100)),100))","v":""},"",""]
[{"$nulls":11},{"$f":"TRIM(RIGHT(SUBSTITUTE(Reference!CO1237,\"\\\",REPT(\" \",100)),100))","v":""},"",""]
[{"$nulls":11},{"$f":"TRIM(RIGHT(SUBSTITUTE(Reference!CO1238,\"\\\",REPT(\" \",100)),100))","v":""},"",""]
[{"$nulls":11},{"$f":"TRIM(RIGHT(SUBSTITUTE(Reference!CO1239,\"\\\",REPT(\" \",100)),100))","v":""},"",""]
[{"$nulls":11},{"$f":"TRIM(RIGHT(SUBSTITUTE(Reference!CO1240,\"\\\",REPT(\" \",100)),100))","v":""},"",""]
[{"$nulls":11},{"$f":"TRIM(RIGHT(SUBSTITUTE(Reference!CO1241,\"\\\",REPT(\" \",100)),100))","v":""},"",""]
[{"$nulls":11},{"$f":"TRIM(RIGHT(SUBSTITUTE(Reference!CO1242,\"\\\",REPT(\" \",100)),100))","v":""},"",""]
[{"$nulls":11},{"$f":"TRIM(RIGHT(SUBSTITUTE(Reference!CO1243,\"\\\",REPT(\" \",100)),100))","v":""},"",""]
[{"$nulls":11},{"$f":"TRIM(RIGHT(SUBSTITUTE(Reference!CO1244,\"\\\",REPT(\" \",100)),100))","v":""},"",""]
[{"$nulls":11},{"$f":"TRIM(RIGHT(SUBSTITUTE(Reference!CO1245,\"\\\",REPT(\" \",100)),100))","v":""},"",""]
[{"$nulls":11},{"$f":"TRIM(RIGHT(SUBSTITUTE(Reference!CO1246,\"\\\",REPT(\" \",100)),100))","v":""},"",""]
[{"$nulls":11},{"$f":"TRIM(RIGHT(SUBSTITUTE(Reference!CO1247,\"\\\",REPT(\" \",100)),100))","v":""},"",""]
[{"$nulls":11},{"$f":"TRIM(RIGHT(SUBSTITUTE(Reference!CO1248,\"\\\",REPT(\" \",100)),100))","v":""},"",""]
[{"$nulls":11},{"$f":"TRIM(RIGHT(SUBSTITUTE(Reference!CO1249,\"\\\",REPT(\" \",100)),100))","v":""},"",""]
[{"$nulls":11},{"$f":"TRIM(RIGHT(SUBSTITUTE(Reference!CO1250,\"\\\",REPT(\" \",100)),100))","v":""},"",""]
[{"$nulls":11},{"$f":"TRIM(RIGHT(SUBSTITUTE(Reference!CO1251,\"\\\",REPT(\" \",100)),100))","v":""},"",""]
[{"$nulls":11},{"$f":"TRIM(RIGHT(SUBSTITUTE(Reference!CO1252,\"\\\",REPT(\" \",100)),100))","v":""},"",""]
[{"$nulls":11},{"$f":"TRIM(RIGHT(SUBSTITUTE(Reference!CO1253,\"\\\",REPT(\" \",100)),100))","v":""},"",""]
[{"$nulls":11},{"$f":"TRIM(RIGHT(SUBSTITUTE(Reference!CO1254,\"\\\",REPT(\" \",100)),100))","v":""},"",""]
[{"$nulls":11},{"$f":"TRIM(RIGHT(SUBSTITUTE(Reference!CO1255,\"\\\",REPT(\" \",100)),100))","v":""},"",""]
[{"$nulls":11},{"$f":"TRIM(RIGHT(SUBSTITUTE(Reference!CO1256,\"\\\",REPT(\" \",100)),100))","v":""},"",""]
[{"$nulls":11},{"$f":"TRIM(RIGHT(SUBSTITUTE(Reference!CO1257,\"\\\",REPT(\" \",100)),100))","v":""},"",""]
[{"$nulls":11},{"$f":"TRIM(RIGHT(SUBSTITUTE(Reference!CO1258,\"\\\",REPT(\" \",100)),100))","v":""},"",""]
[{"$nulls":11},{"$f":"TRIM(RIGHT(SUBSTITUTE(Reference!CO1259,\"\\\",REPT(\" \",100)),100))","v":""},"",""]
[{"$nulls":11},{"$f":"TRIM(RIGHT(SUBSTITUTE(Reference!CO1260,\"\\\",REPT(\" \",100)),100))","v":""},"",""]
[{"$nulls":11},{"$f":"TRIM(RIGHT(SUBSTITUTE(Reference!CO1261,\"\\\",REPT(\" \",100)),100))","v":""},"",""]
[{"$nulls":11},{"$f":"TRIM(RIGHT(SUBSTITUTE(Reference!CO1262,\"\\\",REPT(\" \",100)),100))","v":""},"",""]
[{"$nulls":11},{"$f":"TRIM(RIGHT(SUBSTITUTE(Reference!CO1263,\"\\\",REPT(\" \",100)),100))","v":""},"",""]
[{"$nulls":11},{"$f":"TRIM(RIGHT(SUBSTITUTE(Reference!CO1264,\"\\\",REPT(\" \",100)),100))","v":""},"",""]
[{"$nulls":11},{"$f":"TRIM(RIGHT(SUBSTITUTE(Reference!CO1265,\"\\\",REPT(\" \",100)),100))","v":""},"",""]
[{"$nulls":11},{"$f":"TRIM(RIGHT(SUBSTITUTE(Reference!CO1266,\"\\\",REPT(\" \",100)),100))","v":""},"",""]
[{"$nulls":11},{"$f":"TRIM(RIGHT(SUBSTITUTE(Reference!CO1267,\"\\\",REPT(\" \",100)),100))","v":""},"",""]
[{"$nulls":11},{"$f":"TRIM(RIGHT(SUBSTITUTE(Reference!CO1268,\"\\\",REPT(\" \",100)),100))","v":""},"",""]
[{"$nulls":11},{"$f":"TRIM(RIGHT(SUBSTITUTE(Reference!CO1269,\"\\\",REPT(\" \",100)),100))","v":""},"",""]
[{"$nulls":11},{"$f":"TRIM(RIGHT(SUBSTITUTE(Reference!CO1270,\"\\\",REPT(\" \",100)),100))","v":""},"",""]
[{"$nulls":11},{"$f":"TRIM(RIGHT(SUBSTITUTE(Reference!CO1271,\"\\\",REPT(\" \",100)),100))","v":""},"",""]
[{"$nulls":11},{"$f":"TRIM(RIGHT(SUBSTITUTE(Reference!CO1272,\"\\\",REPT(\" \",100)),100))","v":""},"",""]
[{"$nulls":11},{"$f":"TRIM(RIGHT(SUBSTITUTE(Reference!CO1273,\"\\\",REPT(\" \",100)),100))","v":""},"",""]
[{"$nulls":11},{"$f":"TRIM(RIGHT(SUBSTITUTE(Reference!CO1274,\"\\\",REPT(\" \",100)),100))","v":""},"",""]
[{"$nulls":11},{"$f":"TRIM(RIGHT(SUBSTITUTE(Reference!CO1275,\"\\\",REPT(\" \",100)),100))","v":""},"",""]
[{"$nulls":11},{"$f":"TRIM(RIGHT(SUBSTITUTE(Reference!CO1276,\"\\\",REPT(\" \",100)),100))","v":""},"",""]
[{"$nulls":11},{"$f":"TRIM(RIGHT(SUBSTITUTE(Reference!CO1277,\"\\\",REPT(\" \",100)),100))","v":""},"",""]
[{"$nulls":11},{"$f":"TRIM(RIGHT(SUBSTITUTE(Reference!CO1278,\"\\\",REPT(\" \",100)),100))","v":""},"",""]
[{"$nulls":11},{"$f":"TRIM(RIGHT(SUBSTITUTE(Reference!CO1279,\"\\\",REPT(\" \",100)),100))","v":""},"",""]
[{"$nulls":11},{"$f":"TRIM(RIGHT(SUBSTITUTE(Reference!CO1280,\"\\\",REPT(\" \",100)),100))","v":""},"",""]
[{"$nulls":11},{"$f":"TRIM(RIGHT(SUBSTITUTE(Reference!CO1281,\"\\\",REPT(\" \",100)),100))","v":""},"",""]
[{"$nulls":11},{"$f":"TRIM(RIGHT(SUBSTITUTE(Reference!CO1282,\"\\\",REPT(\" \",100)),100))","v":""},"",""]
[{"$nulls":11},{"$f":"TRIM(RIGHT(SUBSTITUTE(Reference!CO1283,\"\\\",REPT(\" \",100)),100))","v":""},"",""]
[{"$nulls":11},{"$f":"TRIM(RIGHT(SUBSTITUTE(Reference!CO1284,\"\\\",REPT(\" \",100)),100))","v":""},"",{"$f":"IF(LEFT(RIGHT(M1284,2),1)<>\"/\",RIGHT(M1284,6),INDEX(CandidateFileArray,MATCH(RIGHT(M1284,8),CandidateFileList,0),2))","v":""}]
[{"$nulls":11},{"$f":"TRIM(RIGHT(SUBSTITUTE(Reference!CO1285,\"\\\",REPT(\" \",100)),100))","v":""},{"$f":"TRIM(LEFT(SUBSTITUTE(L1285,\".\",REPT(\" \",100)),100))","v":""},""]
[{"$nulls":11},{"$f":"TRIM(RIGHT(SUBSTITUTE(Reference!CO1286,\"\\\",REPT(\" \",100)),100))","v":""},"",""]
[{"$nulls":11},{"$f":"TRIM(RIGHT(SUBSTITUTE(Reference!CO1287,\"\\\",REPT(\" \",100)),100))","v":""},"",""]
[{"$nulls":11},{"$f":"TRIM(RIGHT(SUBSTITUTE(Reference!CO1288,\"\\\",REPT(\" \",100)),100))","v":""},"",""]
[{"$nulls":11},{"$f":"TRIM(RIGHT(SUBSTITUTE(Reference!CO1289,\"\\\",REPT(\" \",100)),100))","v":""},"",""]
[{"$nulls":11},{"$f":"TRIM(RIGHT(SUBSTITUTE(Reference!CO1290,\"\\\",REPT(\" \",100)),100))","v":""},"",""]
[{"$nulls":11},{"$f":"TRIM(RIGHT(SUBSTITUTE(Reference!CO1291,\"\\\",REPT(\" \",100)),100))","v":""},"",""]
[{"$nulls":11},{"$f":"TRIM(RIGHT(SUBSTITUTE(Reference!CO1292,\"\\\",REPT(\" \",100)),100))","v":""},"",""]
[{"$nulls":11},{"$f":"TRIM(RIGHT(SUBSTITUTE(Reference!CO1293,\"\\\",REPT(\" \",100)),100))","v":""},"",""]
[{"$nulls":11},{"$f":"TRIM(RIGHT(SUBSTITUTE(Reference!CO1294,\"\\\",REPT(\" \",100)),100))","v":""},"",""]
[{"$nulls":11},{"$f":"TRIM(RIGHT(SUBSTITUTE(Reference!CO1295,\"\\\",REPT(\" \",100)),100))","v":""},"",""]
[{"$nulls":11},{"$f":"TRIM(RIGHT(SUBSTITUTE(Reference!CO1296,\"\\\",REPT(\" \",100)),100))","v":""},"",""]
[{"$nulls":11},{"$f":"TRIM(RIGHT(SUBSTITUTE(Reference!CO1297,\"\\\",REPT(\" \",100)),100))","v":""},"",""]
[{"$nulls":11},{"$f":"TRIM(RIGHT(SUBSTITUTE(Reference!CO1298,\"\\\",REPT(\" \",100)),100))","v":""},"",""]
[{"$nulls":11},{"$f":"TRIM(RIGHT(SUBSTITUTE(Reference!CO1299,\"\\\",REPT(\" \",100)),100))","v":""},"",""]
[{"$nulls":11},{"$f":"TRIM(RIGHT(SUBSTITUTE(Reference!CO1300,\"\\\",REPT(\" \",100)),100))","v":""},"",""]
[{"$nulls":11},{"$f":"TRIM(RIGHT(SUBSTITUTE(Reference!CO1301,\"\\\",REPT(\" \",100)),100))","v":""},"",""]
[{"$nulls":11},{"$f":"TRIM(RIGHT(SUBSTITUTE(Reference!CO1302,\"\\\",REPT(\" \",100)),100))","v":""},"",""]
[{"$nulls":11},{"$f":"TRIM(RIGHT(SUBSTITUTE(Reference!CO1303,\"\\\",REPT(\" \",100)),100))","v":""},"",""]
[{"$nulls":11},{"$f":"TRIM(RIGHT(SUBSTITUTE(Reference!CO1304,\"\\\",REPT(\" \",100)),100))","v":""},"",""]
[{"$nulls":11},{"$f":"TRIM(RIGHT(SUBSTITUTE(Reference!CO1305,\"\\\",REPT(\" \",100)),100))","v":""},"",""]
[{"$nulls":11},{"$f":"TRIM(RIGHT(SUBSTITUTE(Reference!CO1306,\"\\\",REPT(\" \",100)),100))","v":""},"",""]
[{"$nulls":11},{"$f":"TRIM(RIGHT(SUBSTITUTE(Reference!CO1307,\"\\\",REPT(\" \",100)),100))","v":""},"",""]
[{"$nulls":11},{"$f":"TRIM(RIGHT(SUBSTITUTE(Reference!CO1308,\"\\\",REPT(\" \",100)),100))","v":""},"",""]
[{"$nulls":11},{"$f":"TRIM(RIGHT(SUBSTITUTE(Reference!CO1309,\"\\\",REPT(\" \",100)),100))","v":""},"",""]
[{"$nulls":11},{"$f":"TRIM(RIGHT(SUBSTITUTE(Reference!CO1310,\"\\\",REPT(\" \",100)),100))","v":""},"",""]

{"sheet":"Candidate","index":6,"n_rows":170,"n_cols":235,"rows_kept":170,"cut":false,"hidden":false,"merged":[]}
["2016-09-01T10:35:00",670,"U",166,0,null,null,"Proposed Model Site Electric Use",{"$nulls":9},"Proposed Model Site Natural Gas Use",{"$nulls":9},"Proposed Model Site Other Fuel Use",{"$nulls":9},"Proposed Model TDV",{"$nulls":11},"Standard Model Site Electric Use",{"$nulls":9},"Standard Model Site Natural Gas Use",{"$nulls":9},"Standard Model Site Other Fuel Use",{"$nulls":9},"Standard Model TDV",{"$nulls":10},"Software Versions",null,null,null,"Proposed Model Electric Demand",{"$nulls":10},"Standard Model Electric Demand",{"$nulls":10},"Savings Results",null,null,null,"CAHP-SF / CAHP-MF / CMFNH Results",{"$nulls":8},"Proposed Design Rating Model Site Electric Use",{"$nulls":10},"Proposed  Design Rating Model Site Natural Gas Use",{"$nulls":9},"Proposed  Design Rating Model Site Other Fuel Use",{"$nulls":9},"Proposed  Design Rating Model TDV",{"$nulls":10},"Proposed Design Rating Model Electric Demand",{"$nulls":10},"Reference Design Rating Model Site Electric Use",{"$nulls":9},"Reference Design Rating Model Site Natural Gas Use",{"$nulls":9},"Reference Design Rating Model Site Other Fuel Use",{"$nulls":9},"Reference Design Rating Model TDV",{"$nulls":9},"Reference Design Rating Model Electric Demand",{"$nulls":9},"Energy Design Ratings"]
[null,"Project",null,null,"Pass /","Compliance","Design","Spc Heat","Spc Cool","IAQ Vent","Other HVAC","Wtr Heat","Ins Light","Appl & Cook","Plug Lds","Exterior","TOTAL","Spc Heat","Spc Cool","IAQ Vent","Other HVAC","Wtr Heat","Ins Light","Appl & Cook","Plug Lds","Exterior","TOTAL","Spc Heat","Spc Cool","IAQ Vent","Other HVAC","Wtr Heat","Ins Light","Appl & Cook","Plug Lds","Exterior","TOTAL","Spc Heat","Spc Cool","IAQ Vent","Other HVAC","Wtr Heat","PV Credit","Ins Light","Appl & Cook","Plug Lds","Exterior","TOTAL","Comp Total","Spc Heat","Spc Cool","IAQ Vent","Other HVAC","Wtr Heat","Ins Light","Appl & Cook","Plug Lds","Exterior","TOTAL","Spc Heat","Spc Cool","IAQ Vent","Other HVAC","Wtr Heat","Ins Light","Appl & Cook","Plug Lds","Exterior","TOTAL","Spc Heat","Spc Cool","IAQ Vent","Other HVAC","Wtr Heat","Ins Light","Appl & Cook","Plug Lds","Exterior","TOTAL","Spc Heat","Spc Cool","IAQ Vent","Other HVAC","Wtr Heat","Ins Light","Appl & Cook","Plug Lds","Exterior","TOTAL","Comp Total","Compliance",null,null,"End User","Spc Heat","Spc Cool","IAQ Vent","Other HVAC","Wtr Heat","Ins Light","Appl & Cook","Plug Lds","Exterior","TOTAL","Comp Total","Spc Heat","Spc Cool","IAQ Vent","Other HVAC","Wtr Heat","Ins Light","Appl & Cook","Plug Lds","Exterior","TOTAL","Comp Total","Total Demand","Compliance Demand","Total TDV","Compliance TDV","Zero Energy Ready Kicker","Future Code Kicker","High Efficacy Licker","Low Use Kicker","Ultra Low Use Kicker","Initial Score","Initial Incentive","Final Score","Final Incentive","Spc Heat","Spc Cool","IAQ Vent","Other HVAC","Wtr Heat","PV","Ins Light","Appl & Cook","Plug Lds","Exterior","TOTAL","Spc Heat","Spc Cool","IAQ Vent","Other HVAC","Wtr Heat","Ins Light","Appl & Cook","Plug Lds","Exterior","TOTAL","Spc Heat","Spc Cool","IAQ Vent","Other HVAC","Wtr Heat","Ins Light","Appl & Cook","Plug Lds","Exterior","TOTAL","Spc Heat","Spc Cool","IAQ Vent","Other HVAC","Wtr Heat","PV Credit","Ins Light","Appl & Cook","Plug Lds","Exterior","TOTAL","Spc Heat","Spc Cool","IAQ Vent","Other HVAC","Wtr Heat","PV","Ins Light","Appl & Cook","Plug Lds","Exterior","TOTAL","Spc Heat","Spc Cool","IAQ Vent","Other HVAC","Wtr Heat","Ins Light","Appl & Cook","Plug Lds","Exterior","TOTAL","Spc Heat","Spc Cool","IAQ Vent","Other HVAC","Wtr Heat","Ins Light","Appl & Cook","Plug Lds","Exterior","TOTAL","Spc Heat","Spc Cool","IAQ Vent","Other HVAC","Wtr Heat","Ins Light","Appl & Cook","Plug Lds","Exterior","TOTAL","Spc Heat","Spc Cool","IAQ Vent","Other HVAC","Wtr Heat","Ins Light","Appl & Cook","Plug Lds","Exterior","TOTAL","Spc Heat","Spc Cool","IAQ Vent","Other HVAC","Wtr Heat","Ins Light","Appl & Cook","Plug Lds","Exterior","TOTAL","Excluding","Only","Standard"]
["Run Date/Time","Path/File","Run Title","Analysis Type","Fail","Margin","Rating","(kWh)","(kWh)","(kWh)","(kWh)","(kWh)","(kWh)","(kWh)","(kWh)","(kWh)","(kWh)","(Therms)","(Therms)","(Therms)","(Therms)","(Therms)","(Therms)","(Therms)","(Therms)","(Therms)","(Therms)","(MMBtu)","(MMBtu)","(MMBtu)","(MMBtu)","(MMBtu)","(MMBtu)","(MMBtu)","(MMBtu)","(MMBtu)","(MMBtu)","(kTDV/ft2-yr)","(kTDV/ft2-yr)","(kTDV/ft2-yr)","(kTDV/ft2-yr)","(kTDV/ft2-yr)","(kTDV/ft2-yr)","(kTDV/ft2-yr)","(kTDV/ft2-yr)","(kTDV/ft2-yr)","(kTDV/ft2-yr)","(kTDV/ft2-yr)","(kTDV/ft2-yr)","(kWh)","(kWh)","(kWh)","(kWh)","(kWh)","(kWh)","(kWh)","(kWh)","(kWh)","(kWh)","(Therms)","(Therms)","(Therms)","(Therms)","(Therms)","(Therms)","(Therms)","(Therms)","(Therms)","(Therms)","(MMBtu)","(MMBtu)","(MMBtu)","(MMBtu)","(MMBtu)","(MMBtu)","(MMBtu)","(MMBtu)","(MMBtu)","(MMBtu)","(kTDV/ft2-yr)","(kTDV/ft2-yr)","(kTDV/ft2-yr)","(kTDV/ft2-yr)","(kTDV/ft2-yr)","(kTDV/ft2-yr)","(kTDV/ft2-yr)","(kTDV/ft2-yr)","(kTDV/ft2-yr)","(kTDV/ft2-yr)","(kTDV/ft2-yr)","Ruleset","CSE","CEC DHW","Application","(kW)","(kW)","(kW)","(kW)","(kW)","(kW)","(kW)","(kW)","(kW)","(kW)","(kW)","(kW)","(kW)","(kW)","(kW)","(kW)","(kW)","(kW)","(kW)","(kW)","(kW)","(kW)","(kW)","(kW)","(%)","(%)","(0 or 5)","(0 or 3)","(0 or 5)","(0 or 5)","(0 or 5)","(int)","($)","(int)","($)","(kWh)","(kWh)","(kWh)","(kWh)","(kWh)","(kWh)","(kWh)","(kWh)","(kWh)","(kWh)","(kWh)","(Therms)","(Therms)","(Therms)","(Therms)","(Therms)","(Therms)","(Therms)","(Therms)","(Therms)","(Therms)","(MMBtu)","(MMBtu)","(MMBtu)","(MMBtu)","(MMBtu)","(MMBtu)","(MMBtu)","(MMBtu)","(MMBtu)","(MMBtu)","(kTDV/ft2-yr)","(kTDV/ft2-yr)","(kTDV/ft2-yr)","(kTDV/ft2-yr)","(kTDV/ft2-yr)","(kTDV/ft2-yr)","(kTDV/ft2-yr)","(kTDV/ft2-yr)","(kTDV/ft2-yr)","(kTDV/ft2-yr)","(kTDV/ft2-yr)","(kW)","(kW)","(kW)","(kW)","(kW)","(kW)","(kW)","(kW)","(kW)","(kW)","(kW)","(kWh)","(kWh)","(kWh)","(kWh)","(kWh)","(kWh)","(kWh)","(kWh)","(kWh)","(kWh)","(Therms)","(Therms)","(Therms)","(Therms)","(Therms)","(Therms)","(Therms)","(Therms)","(Therms)","(Therms)","(MMBtu)","(MMBtu)","(MMBtu)","(MMBtu)","(MMBtu)","(MMBtu)","(MMBtu)","(MMBtu)","(MMBtu)","(MMBtu)","(kTDV/ft2-yr)","(kTDV/ft2-yr)","(kTDV/ft2-yr)","(kTDV/ft2-yr)","(kTDV/ft2-yr)","(kTDV/ft2-yr)","(kTDV/ft2-yr)","(kTDV/ft2-yr)","(kTDV/ft2-yr)","(kTDV/ft2-yr)","(kW)","(kW)","(kW)","(kW)","(kW)","(kW)","(kW)","(kW)","(kW)","(kW)","PV","PV","Design"]
["2016-09-01T10:36:11","U01R01","v28 01 S21 G20 M01","Proposed and Standard","PASS",0,57.255699999999997,315.01900000000001,0,111.69,0,0,505.55700000000002,889.01599999999996,2025.88,119.621,3966.79,366.858,0,0,0,129.65100000000001,0,43.669699999999999,0,0,540.17899999999997,0,0,0,0,0,0,0,0,0,0,34,0,1.17,0,10.27,0,5.44,13.06,21.44,1.2,86.58,45.44,315.01799999999997,0,111.69,0,0,505.55700000000002,889.01599999999996,2025.88,119.621,3966.79,366.85700000000003,0,0,0,129.65100000000001,0,43.669699999999999,0,0,540.178,0,0,0,0,0,0,0,0,0,0,34,0,1.17,0,10.27,5.44,13.06,21.44,1.2,86.58,45.44,"CA Residential 2016, Vers. 1.0","CSE 0.813 EXE",null,"MPCBECC",1.3120800000000001E-9,0,1.2753799999999999E-2,0,0,7.4915999999999996E-2,0.13228300000000001,0.25846799999999998,1.0530599999999999E-2,0.48895100000000002,1.2753799999999999E-2,1.3120800000000001E-9,0,1.2753799999999999E-2,0,0,7.4915999999999996E-2,0.13228300000000001,0.25846799999999998,1.0530599999999999E-2,0.48895100000000002,1.2753799999999999E-2,0,0,0,0,{"$nulls":9},315.01900000000001,0,111.69,0,0,0,505.55700000000002,889.01599999999996,2025.88,119.621,3966.79,366.858,0,0,0,129.65100000000001,0,43.669699999999999,0,0,540.17899999999997,0,0,0,0,0,0,0,0,0,0,34,0,1.17,0,10.27,0,5.44,13.06,21.44,1.2,86.58,1.3120800000000001E-9,0,1.2753799999999999E-2,0,0,0,7.4915999999999996E-2,0.13228300000000001,0.25846799999999998,1.0530599999999999E-2,0.48895100000000002,419.18900000000002,0,111.69,0,0,2135,930.00099999999998,2637.81,297.5,6531.19,348.87900000000002,0,0,0,183.46600000000001,0,65.400000000000006,0,0,597.745,0,0,0,0,0,0,0,0,0,0,33.33,0,1.17,0,14.53,23.21,14.89,28.04,2.82,117.99,1.8028300000000001E-9,0,1.2753799999999999E-2,0,0,0.33579999999999999,0.11074100000000001,0.35138000000000003,4.1461199999999997E-3,0.81482200000000005,57.255699999999997,0,57.255699999999997]
["2016-09-01T10:36:12","U01R02","v28 02 S21 G20 M01","Proposed and Standard","PASS",0,50.6128,212.21600000000001,6.16716,111.69,0,0,505.55700000000002,926.02300000000002,2025.88,119.621,3907.16,247.12899999999999,0,0,0,116.405,0,43.669699999999999,0,0,407.20400000000001,0,0,0,0,0,0,0,0,0,0,23.73,0.36,1.17,0,9.26,0,5.44,13.69,21.46,1.2,76.31,34.520000000000003,212.21600000000001,6.16716,111.69,0,0,505.55700000000002,926.02300000000002,2025.88,119.621,3907.16,247.12899999999999,0,0,0,116.405,0,43.669699999999999,0,0,407.20400000000001,0,0,0,0,0,0,0,0,0,0,23.73,0.36,1.17,0,9.26,5.44,13.69,21.46,1.2,76.31,34.520000000000003,"CA Residential 2016, Vers. 1.0","CSE 0.813 EXE",null,"MPCBECC",0,1.12493E-2,1.2753799999999999E-2,0,0,7.4915999999999996E-2,0.14302300000000001,0.25846799999999998,1.0530599999999999E-2,0.51094099999999998,2.4003E-2,0,1.12493E-2,1.2753799999999999E-2,0,0,7.4915999999999996E-2,0.14302300000000001,0.25846799999999998,1.0530599999999999E-2,0.51094099999999998,2.4003E-2,0,0,0,0,{"$nulls":9},212.21600000000001,6.16716,111.69,0,0,0,505.55700000000002,926.02300000000002,2025.88,119.621,3907.16,247.12899999999999,0,0,0,116.405,0,43.669699999999999,0,0,407.20400000000001,0,0,0,0,0,0,0,0,0,0,23.73,0.36,1.17,0,9.26,0,5.44,13.69,21.46,1.2,76.31,0,1.12493E-2,1.2753799999999999E-2,0,0,0,7.4915999999999996E-2,0.14302300000000001,0.25846799999999998,1.0530599999999999E-2,0.51094099999999998,455.72300000000001,63.205500000000001,111.69,0,0,2135,930.00099999999998,2637.81,297.5,6630.93,379.27100000000002,0,0,0,170.803,0,65.400000000000006,0,0,615.47400000000005,0,0,0,0,0,0,0,0,0,0,37.39,3.55,1.17,0,13.59,23.29,14.9,28.13,2.81,124.83,0,0.130719,1.2753799999999999E-2,0,0,0.33579999999999999,0.11074100000000001,0.35138000000000003,4.1461199999999997E-3,0.94554099999999996,50.6128,0,50.6128]
["2016-09-01T10:36:11","U01R03","v28 03 S21 G20 M01","Proposed and Standard","PASS",0,47.807600000000001,129.86799999999999,0,111.69,0,0,505.55700000000002,919.53800000000001,2025.88,119.621,3812.16,151.22499999999999,0,0,0,116.887,0,43.669699999999999,0,0,311.78100000000001,0,0,0,0,0,0,0,0,0,0,14.68,0,1.17,0,9.2799999999999994,0,5.41,13.54,21.43,1.19,66.7,25.13,129.86799999999999,0,111.69,0,0,505.55700000000002,919.53800000000001,2025.88,119.621,3812.16,151.22499999999999,0,0,0,116.887,0,43.669699999999999,0,0,311.78100000000001,0,0,0,0,0,0,0,0,0,0,14.68,0,1.17,0,9.2799999999999994,5.41,13.54,21.43,1.19,66.7,25.13,"CA Residential 2016, Vers. 1.0","CSE 0.813 EXE",null,"MPCBECC",0,0,1.2753799999999999E-2,0,0,7.4915999999999996E-2,0.13894100000000001,0.25846799999999998,1.0530599999999999E-2,0.49560900000000002,1.2753799999999999E-2,0,0,1.2753799999999999E-2,0,0,7.4915999999999996E-2,0.13894100000000001,0.25846799999999998,1.0530599999999999E-2,0.49560900000000002,1.2753799999999999E-2,0,0,0,0,{"$nulls":9},129.86799999999999,0,111.69,0,0,0,505.55700000000002,919.53800000000001,2025.88,119.621,3812.16,151.22499999999999,0,0,0,116.887,0,43.669699999999999,0,0,311.78100000000001,0,0,0,0,0,0,0,0,0,0,14.68,0,1.17,0,9.2799999999999994,0,5.41,13.54,21.43,1.19,66.7,0,0,1.2753799999999999E-2,0,0,0,7.4915999999999996E-2,0.13894100000000001,0.25846799999999998,1.0530599999999999E-2,0.49560900000000002,387.17700000000002,0,111.69,0,0,2135,930.00099999999998,2637.81,297.5,6499.18,322.20699999999999,0,0,0,171.37200000000001,0,65.400000000000006,0,0,558.97900000000004,0,0,0,0,0,0,0,0,0,0,31.69,0,1.17,0,13.6,23.09,14.89,28.02,2.78,115.24,0,0,1.2753799999999999E-2,0,0,0.33579999999999999,0.11074100000000001,0.35138000000000003,4.1461199999999997E-3,0.81482200000000005,47.807600000000001,0,47.807600000000001]
["2016-09-01T10:36:12","U01R04","v28 04 S21 G20 M01","Proposed and Standard","PASS",0,48.244599999999998,149.80000000000001,24.561900000000001,111.69,0,0,505.55700000000002,938.95500000000004,2025.88,119.621,3876.07,174.44499999999999,0,0,0,111.371,0,43.669699999999999,0,0,329.48599999999999,0,0,0,0,0,0,0,0,0,0,16.82,1.6,1.17,0,8.8699999999999992,0,5.46,13.77,21.48,1.2,70.37,28.46,149.80000000000001,24.561900000000001,111.69,0,0,505.55700000000002,938.95500000000004,2025.88,119.621,3876.07,174.44499999999999,0,0,0,111.371,0,43.669699999999999,0,0,329.48599999999999,0,0,0,0,0,0,0,0,0,0,16.82,1.6,1.17,0,8.8699999999999992,5.46,13.77,21.48,1.2,70.37,28.46,"CA Residential 2016, Vers. 1.0","CSE 0.813 EXE",null,"MPCBECC",0,0.15347,1.2753799999999999E-2,0,0,7.4915999999999996E-2,0.14660000000000001,0.25846799999999998,1.0530599999999999E-2,0.65673800000000004,0.16622300000000001,0,0.15347,1.2753799999999999E-2,0,0,7.4915999999999996E-2,0.14660000000000001,0.25846799999999998,1.0530599999999999E-2,0.65673800000000004,0.16622300000000001,0,0,0,0,{"$nulls":9},149.80000000000001,24.561900000000001,111.69,0,0,0,505.55700000000002,938.95500000000004,2025.88,119.621,3876.07,174.44499999999999,0,0,0,111.371,0,43.669699999999999,0,0,329.48599999999999,0,0,0,0,0,0,0,0,0,0,16.82,1.6,1.17,0,8.8699999999999992,0,5.46,13.77,21.48,1.2,70.37,0,0.15347,1.2753799999999999E-2,0,0,0,7.4915999999999996E-2,0.14660000000000001,0.25846799999999998,1.0530599999999999E-2,0.65673800000000004,351.05599999999998,151.226,111.69,0,0,2135,930.00099999999998,2637.81,297.5,6614.28,292.16399999999999,0,0,0,165.96,0,65.400000000000006,0,0,523.524,0,0,0,0,0,0,0,0,0,0,28.98,8.16,1.17,0,13.22,23.33,14.9,28.15,2.8,120.71,0,0.64194300000000004,1.2753799999999999E-2,0,0,0.33579999999999999,0.11074100000000001,0.35138000000000003,4.1461199999999997E-3,1.4567600000000001,48.244599999999998,0,48.244599999999998]
["2016-09-01T10:36:12","U01R05","v28 05 S21 G20 M01","Proposed and Standard","PASS",0,44.633899999999997,108.196,0,111.69,0,0,505.55700000000002,919.42700000000002,2025.88,119.621,3790.37,126.003,0,0,0,119.652,0,43.669699999999999,0,0,289.32499999999999,0,0,0,0,0,0,0,0,0,0,12.03,0,1.17,0,9.48,0,5.36,13.44,21.36,1.19,64.03,22.68,108.196,0,111.69,0,0,505.55700000000002,919.42700000000002,2025.88,119.621,3790.37,126.003,0,0,0,119.652,0,43.669699999999999,0,0,289.32499999999999,0,0,0,0,0,0,0,0,0,0,12.03,0,1.17,0,9.48,5.36,13.44,21.36,1.19,64.03,22.68,"CA Residential 2016, Vers. 1.0","CSE 0.813 EXE",null,"MPCBECC",0,0,1.2753799999999999E-2,0,0,7.4915999999999996E-2,0.138463,0.25846799999999998,1.0530599999999999E-2,0.49513099999999999,1.2753799999999999E-2,0,0,1.2753799999999999E-2,0,0,7.4915999999999996E-2,0.138463,0.25846799999999998,1.0530599999999999E-2,0.49513099999999999,1.2753799999999999E-2,0,0,0,0,{"$nulls":9},108.196,0,111.69,0,0,0,505.55700000000002,919.42700000000002,2025.88,119.621,3790.37,126.003,0,0,0,119.652,0,43.669699999999999,0,0,289.32499999999999,0,0,0,0,0,0,0,0,0,0,12.03,0,1.17,0,9.48,0,5.36,13.44,21.36,1.19,64.03,0,0,1.2753799999999999E-2,0,0,0,7.4915999999999996E-2,0.138463,0.25846799999999998,1.0530599999999999E-2,0.49513099999999999,402.94099999999997,0,111.69,0,0,2135,930.00099999999998,2637.81,297.5,6514.94,335.36399999999998,0,0,0,174.023,0,65.400000000000006,0,0,574.78800000000001,0,0,0,0,0,0,0,0,0,0,32.380000000000003,0,1.17,0,13.79,22.84,14.87,27.86,2.78,115.69,2.6512700000000002E-15,0,1.2753799999999999E-2,0,0,0.33579999999999999,0.11074100000000001,0.35138000000000003,4.1461199999999997E-3,0.81482200000000005,44.633899999999997,0,44.633899999999997]
["2016-09-01T10:36:12","U01R06","v28 06 S21 G20 M01","Proposed and Standard","PASS",0,51.020899999999997,67.737799999999993,35.925899999999999,111.69,0,0,505.55700000000002,953.52599999999995,2025.88,119.621,3819.94,78.880399999999995,0,0,0,106.27500000000001,0,43.669699999999999,0,0,228.82499999999999,0,0,0,0,0,0,0,0,0,0,7.7,2.16,1.1299999999999999,0,8.5,0,5.27,13.63,20.78,1.1499999999999999,60.32,19.489999999999998,67.737700000000004,35.925899999999999,111.69,0,0,505.55700000000002,953.52599999999995,2025.88,119.621,3819.94,78.880300000000005,0,0,0,106.27500000000001,0,43.669699999999999,0,0,228.82499999999999,0,0,0,0,0,0,0,0,0,0,7.7,2.16,1.1299999999999999,0,8.5,5.27,13.63,20.78,1.1499999999999999,60.32,19.489999999999998,"CA Residential 2016, Vers. 1.0","CSE 0.813 EXE",null,"MPCBECC",0,0.17299300000000001,1.2753799999999999E-2,0,0,7.4915999999999996E-2,0.14454600000000001,0.25846799999999998,1.0530599999999999E-2,0.67420800000000003,0.185747,0,0.17299300000000001,1.2753799999999999E-2,0,0,7.4915999999999996E-2,0.14454600000000001,0.25846799999999998,1.0530599999999999E-2,0.67420800000000003,0.185747,0,0,0,0,{"$nulls":9},67.737799999999993,35.925899999999999,111.69,0,0,0,505.55700000000002,953.52599999999995,2025.88,119.621,3819.94,78.880399999999995,0,0,0,106.27500000000001,0,43.669699999999999,0,0,228.82499999999999,0,0,0,0,0,0,0,0,0,0,7.7,2.16,1.1299999999999999,0,8.5,0,5.27,13.63,20.78,1.1499999999999999,60.32,0,0.17299300000000001,1.2753799999999999E-2,0,0,0,7.4915999999999996E-2,0.14454600000000001,0.25846799999999998,1.0530599999999999E-2,0.67420800000000003,148.465,90.926299999999998,111.69,0,0,2135,930.00099999999998,2637.81,297.5,6351.39,123.557,0,0,0,161.15600000000001,0,65.400000000000006,0,0,350.113,0,0,0,0,0,0,0,0,0,0,12.35,5.55,1.1299999999999999,0,12.88,22.42,14.59,27.08,2.74,98.74,0,0.29978900000000003,1.2753799999999999E-2,0,0,0.33579999999999999,0.11074100000000001,0.35138000000000003,4.1461199999999997E-3,1.1146100000000001,51.020899999999997,0,51.020899999999997]
["2016-09-01T10:36:12","U01R07","v28 07 S21 G20 M01","Proposed and Standard","PASS",0,49.796500000000002,25.065000000000001,3.65082,111.69,0,0,505.55700000000002,955.10199999999998,2025.88,119.621,3746.57,29.187200000000001,0,0,0,104.54600000000001,0,43.669699999999999,0,0,177.40299999999999,0,0,0,0,0,0,0,0,0,0,2.75,0.3,1.17,0,8.1999999999999993,0,5.54,13.89,21.65,1.22,54.72,12.42,25.065000000000001,3.65082,111.69,0,0,505.55700000000002,955.10199999999998,2025.88,119.621,3746.57,29.187200000000001,0,0,0,104.54600000000001,0,43.669699999999999,0,0,177.40299999999999,0,0,0,0,0,0,0,0,0,0,2.75,0.3,1.17,0,8.1999999999999993,5.54,13.89,21.65,1.22,54.72,12.42,"CA Residential 2016, Vers. 1.0","CSE 0.813 EXE",null,"MPCBECC",0,3.2055100000000003E-2,1.2753799999999999E-2,0,0,7.4915999999999996E-2,0.144064,0.25846799999999998,1.0530599999999999E-2,0.53278700000000001,4.4808899999999999E-2,0,3.2055100000000003E-2,1.2753799999999999E-2,0,0,7.4915999999999996E-2,0.144064,0.25846799999999998,1.0530599999999999E-2,0.53278700000000001,4.4808899999999999E-2,0,0,0,0,{"$nulls":9},25.065000000000001,3.65082,111.69,0,0,0,505.55700000000002,955.10199999999998,2025.88,119.621,3746.57,29.187200000000001,0,0,0,104.54600000000001,0,43.669699999999999,0,0,177.40299999999999,0,0,0,0,0,0,0,0,0,0,2.75,0.3,1.17,0,8.1999999999999993,0,5.54,13.89,21.65,1.22,54.72,0,3.2055100000000003E-2,1.2753799999999999E-2,0,0,0,7.4915999999999996E-2,0.144064,0.25846799999999998,1.0530599999999999E-2,0.53278700000000001,60.110500000000002,29.023700000000002,111.69,0,0,2135,930.00099999999998,2637.81,297.5,6201.14,50.023800000000001,0,0,0,159.6,0,65.400000000000006,0,0,275.024,0,0,0,0,0,0,0,0,0,0,4.8499999999999996,2.38,1.17,0,12.51,23.59,14.88,28.26,2.93,90.57,0,0.133802,1.2753799999999999E-2,0,0,0.33579999999999999,0.11074100000000001,0.35138000000000003,4.1461199999999997E-3,0.94862299999999999,49.796500000000002,0,49.796500000000002]
["2016-09-01T10:36:12","U01R08","v28 08 S21 G20 M01","Proposed and Standard","PASS",0,46.755400000000002,35.346200000000003,226.191,111.69,0,0,505.55700000000002,969.94299999999998,2025.88,119.621,3994.23,41.160699999999999,0,0,0,101.84099999999999,0,43.669699999999999,0,0,186.672,0,0,0,0,0,0,0,0,0,0,4.03,6.22,1.1299999999999999,0,8.15,0,5.32,13.84,20.87,1.17,60.73,19.53,35.346200000000003,226.191,111.69,0,0,505.55700000000002,969.94299999999998,2025.88,119.621,3994.23,41.160699999999999,0,0,0,101.84099999999999,0,43.669699999999999,0,0,186.672,0,0,0,0,0,0,0,0,0,0,4.03,6.22,1.1299999999999999,0,8.15,5.32,13.84,20.87,1.17,60.73,19.53,"CA Residential 2016, Vers. 1.0","CSE 0.813 EXE",null,"MPCBECC",0,0.45141500000000001,1.2753799999999999E-2,0,0,7.4915999999999996E-2,0.149196,0.25846799999999998,1.0530599999999999E-2,0.95727799999999996,0.46416800000000003,0,0.45141500000000001,1.2753799999999999E-2,0,0,7.4915999999999996E-2,0.149196,0.25846799999999998,1.0530599999999999E-2,0.95727799999999996,0.46416800000000003,0,0,0,0,{"$nulls":9},35.346200000000003,226.191,111.69,0,0,0,505.55700000000002,969.94299999999998,2025.88,119.621,3994.23,41.160699999999999,0,0,0,101.84099999999999,0,43.669699999999999,0,0,186.672,0,0,0,0,0,0,0,0,0,0,4.03,6.22,1.1299999999999999,0,8.15,0,5.32,13.84,20.87,1.17,60.73,0,0.45141500000000001,1.2753799999999999E-2,0,0,0,7.4915999999999996E-2,0.149196,0.25846799999999998,1.0530599999999999E-2,0.95727799999999996,108.01900000000001,654.303,111.69,0,0,2135,930.00099999999998,2637.81,297.5,6874.32,89.896699999999996,0,0,0,156.83799999999999,0,65.400000000000006,0,0,312.13400000000001,0,0,0,0,0,0,0,0,0,0,9.02,22.55,1.1299999999999999,0,12.55,22.64,14.62,27.23,2.79,112.53,0,1.5246500000000001,1.2753799999999999E-2,0,0,0.33579999999999999,0.11074100000000001,0.35138000000000003,4.1461199999999997E-3,2.33948,46.755400000000002,0,46.755400000000002]
["2016-09-01T10:35:46","U01R09","v28 09 S21 G20 M01","Proposed and Standard","PASS",0,47.563800000000001,54.219000000000001,462.12099999999998,111.69,0,0,505.55700000000002,969.65200000000004,2025.88,119.621,4248.74,63.1571,0,0,0,101.676,0,43.669699999999999,0,0,208.50299999999999,0,0,0,0,0,0,0,0,0,0,6.13,16.899999999999999,1.1200000000000001,0,8.15,0,5.25,13.72,20.63,1.1499999999999999,73.05,32.299999999999997,54.219000000000001,462.12099999999998,111.69,0,0,505.55700000000002,969.65200000000004,2025.88,119.621,4248.74,63.1571,0,0,0,101.676,0,43.669699999999999,0,0,208.50299999999999,0,0,0,0,0,0,0,0,0,0,6.13,16.899999999999999,1.1200000000000001,0,8.15,5.25,13.72,20.63,1.1499999999999999,73.05,32.299999999999997,"CA Residential 2016, Vers. 1.0","CSE 0.813 EXE",null,"MPCBECC",0,1.17225,1.2753799999999999E-2,0,0,7.4915999999999996E-2,0.15179799999999999,0.25846799999999998,1.0530599999999999E-2,1.6807099999999999,1.1850000000000001,0,1.17225,1.2753799999999999E-2,0,0,7.4915999999999996E-2,0.15179799999999999,0.25846799999999998,1.0530599999999999E-2,1.6807099999999999,1.1850000000000001,-1.1920900000000001E-7,-1.1920900000000001E-7,0,0,{"$nulls":9},54.219000000000001,462.12099999999998,111.69,0,0,0,505.55700000000002,969.65200000000004,2025.88,119.621,4248.74,63.1571,0,0,0,101.676,0,43.669699999999999,0,0,208.50299999999999,0,0,0,0,0,0,0,0,0,0,6.13,16.899999999999999,1.1200000000000001,0,8.15,0,5.25,13.72,20.63,1.1499999999999999,73.05,0,1.17225,1.2753799999999999E-2,0,0,0,7.4915999999999996E-2,0.15179799999999999,0.25846799999999998,1.0530599999999999E-2,1.6807099999999999,152.267,1205.06,111.69,0,0,2135,930.00099999999998,2637.81,297.5,7469.33,126.76,0,0,0,156.63499999999999,0,65.400000000000006,0,0,348.79500000000002,0,0,0,0,0,0,0,0,0,0,12.63,43.11,1.1200000000000001,0,12.56,22.39,14.52,26.97,2.75,136.05000000000001,0,2.45269,1.2753799999999999E-2,0,0,0.33579999999999999,0.11074100000000001,0.35138000000000003,4.1461199999999997E-3,3.2675100000000001,47.563800000000001,0,47.563800000000001]
["2016-09-01T10:36:07","U01R10","v28 10 S21 G20 M01","Proposed and Standard","PASS",0,45.825800000000001,64.058099999999996,580.50699999999995,111.69,0,0,505.55700000000002,971.48599999999999,2025.88,119.621,4378.8,74.621600000000001,0,0,0,100.913,0,43.669699999999999,0,0,219.20400000000001,0,0,0,0,0,0,0,0,0,0,7.23,16.27,1.1200000000000001,0,8.11,0,5.18,13.68,20.54,1.1399999999999999,73.27,32.729999999999997,64.058099999999996,580.50699999999995,111.69,0,0,505.55700000000002,971.48599999999999,2025.88,119.621,4378.8,74.621600000000001,0,0,0,100.913,0,43.669699999999999,0,0,219.20400000000001,0,0,0,0,0,0,0,0,0,0,7.23,16.27,1.1200000000000001,0,8.11,5.18,13.68,20.54,1.1399999999999999,73.27,32.729999999999997,"CA Residential 2016, Vers. 1.0","CSE 0.813 EXE",null,"MPCBECC",0,1.1548700000000001,1.2753799999999999E-2,0,0,7.4915999999999996E-2,0.15229400000000001,0.25846799999999998,1.0530599999999999E-2,1.6638299999999999,1.1676200000000001,0,1.1548700000000001,1.2753799999999999E-2,0,0,7.4915999999999996E-2,0.15229400000000001,0.25846799999999998,1.0530599999999999E-2,1.6638299999999999,1.1676200000000001,0,0,0,0,{"$nulls":9},64.058099999999996,580.50699999999995,111.69,0,0,0,505.55700000000002,971.48599999999999,2025.88,119.621,4378.8,74.621600000000001,0,0,0,100.913,0,43.669699999999999,0,0,219.20400000000001,0,0,0,0,0,0,0,0,0,0,7.23,16.27,1.1200000000000001,0,8.11,0,5.18,13.68,20.54,1.1399999999999999,73.27,0,1.1548700000000001,1.2753799999999999E-2,0,0,0,7.4915999999999996E-2,0.15229400000000001,0.25846799999999998,1.0530599999999999E-2,1.6638299999999999,170.91200000000001,1686.8,111.69,0,0,2135,930.00099999999998,2637.81,297.5,7969.71,142.28800000000001,0,0,0,155.80699999999999,0,65.400000000000006,0,0,363.495,0,0,0,0,0,0,0,0,0,0,14.15,48.73,1.1200000000000001,0,12.51,22.15,14.51,26.85,2.71,142.72999999999999,0,2.7154500000000001,1.2753799999999999E-2,0,0,0.33579999999999999,0.11074100000000001,0.35138000000000003,4.1461199999999997E-3,3.5302699999999998,45.825800000000001,0,45.825800000000001]
["2016-09-01T10:36:06","U01R11","v28 11 S21 G20 M01","Proposed and Standard","PASS",0,49.292999999999999,180.417,1317.77,111.69,0,0,505.55700000000002,966.471,2025.88,119.621,5227.41,210.12,0,0,0,103.003,0,43.669699999999999,0,0,356.79199999999997,0,0,0,0,0,0,0,0,0,0,20.32,34.44,1.17,0,8.2799999999999994,0,5.52,14.3,21.53,1.21,106.77,64.209999999999994,180.417,1317.77,111.69,0,0,505.55700000000002,966.471,2025.88,119.621,5227.41,210.12,0,0,0,103.003,0,43.669699999999999,0,0,356.79199999999997,0,0,0,0,0,0,0,0,0,0,20.32,34.44,1.17,0,8.2799999999999994,5.52,14.3,21.53,1.21,106.77,64.209999999999994,"CA Residential 2016, Vers. 1.0","CSE 0.813 EXE",null,"MPCBECC",0,1.54339,1.2753799999999999E-2,0,0,7.4915999999999996E-2,0.152701,0.25846799999999998,1.0530599999999999E-2,2.0527600000000001,1.5561400000000001,0,1.54339,1.2753799999999999E-2,0,0,7.4915999999999996E-2,0.152701,0.25846799999999998,1.0530599999999999E-2,2.0527600000000001,1.5561400000000001,0,0,0,0,{"$nulls":9},180.417,1317.77,111.69,0,0,0,505.55700000000002,966.471,2025.88,119.621,5227.41,210.12,0,0,0,103.003,0,43.669699999999999,0,0,356.79199999999997,0,0,0,0,0,0,0,0,0,0,20.32,34.44,1.17,0,8.2799999999999994,0,5.52,14.3,21.53,1.21,106.77,0,1.54339,1.2753799999999999E-2,0,0,0,7.4915999999999996E-2,0.152701,0.25846799999999998,1.0530599999999999E-2,2.0527600000000001,414.50099999999998,3106.48,111.69,0,0,2135,930.00099999999998,2637.81,297.5,9632.98,345.00099999999998,0,0,0,157.63800000000001,0,65.400000000000006,0,0,568.03899999999999,0,0,0,0,0,0,0,0,0,0,34.33,74.87,1.17,0,12.68,23.7,14.91,28.28,2.86,192.8,0,3.16703,1.2753799999999999E-2,0,0,0.33579999999999999,0.11074100000000001,0.35138000000000003,4.1461199999999997E-3,3.9818600000000002,49.292999999999999,0,49.292999999999999]
["2016-09-01T10:36:07","U01R12","v28 12 S21 G20 M01","Proposed and Standard","PASS",0,45.609200000000001,189.36,276.12799999999999,111.69,0,0,505.55700000000002,948.78800000000001,2025.88,119.621,4177.03,220.50200000000001,0,0,0,108.29,0,43.669699999999999,0,0,372.46199999999999,0,0,0,0,0,0,0,0,0,0,21.38,10.23,1.17,0,8.66,0,5.55,14.02,21.58,1.22,83.81,41.44,189.36,276.12799999999999,111.69,0,0,505.55700000000002,948.78800000000001,2025.88,119.621,4177.03,220.50200000000001,0,0,0,108.29,0,43.669699999999999,0,0,372.46199999999999,0,0,0,0,0,0,0,0,0,0,21.38,10.23,1.17,0,8.66,5.55,14.02,21.58,1.22,83.81,41.44,"CA Residential 2016, Vers. 1.0","CSE 0.813 EXE",null,"MPCBECC",0,0.53406799999999999,1.2753799999999999E-2,0,0,7.4915999999999996E-2,0.14984600000000001,0.25846799999999998,1.0530599999999999E-2,1.0405800000000001,0.54682200000000003,0,0.53406799999999999,1.2753799999999999E-2,0,0,7.4915999999999996E-2,0.14984600000000001,0.25846799999999998,1.0530599999999999E-2,1.0405800000000001,0.54682200000000003,0,0,0,0,{"$nulls":9},189.36,276.12799999999999,111.69,0,0,0,505.55700000000002,948.78800000000001,2025.88,119.621,4177.03,220.50200000000001,0,0,0,108.29,0,43.669699999999999,0,0,372.46199999999999,0,0,0,0,0,0,0,0,0,0,21.38,10.23,1.17,0,8.66,0,5.55,14.02,21.58,1.22,83.81,0,0.53406799999999999,1.2753799999999999E-2,0,0,0,7.4915999999999996E-2,0.14984600000000001,0.25846799999999998,1.0530599999999999E-2,1.0405800000000001,420.762,1095.06,111.69,0,0,2135,930.00099999999998,2637.81,297.5,7627.83,350.15800000000002,0,0,0,162.852,0,65.400000000000006,0,0,578.41,0,0,0,0,0,0,0,0,0,0,34.94,41.16,1.17,0,13.03,23.83,14.92,28.35,2.86,160.26,0,2.2516400000000001,1.2753799999999999E-2,0,0,0.33579999999999999,0.11074100000000001,0.35138000000000003,4.1461199999999997E-3,3.0664600000000002,45.609200000000001,0,45.609200000000001]
["2016-09-01T10:36:07","U01R13","v28 13 S21 G20 M01","Proposed and Standard","PASS",0,50.942900000000002,156.69300000000001,1495.85,111.69,0,0,505.55700000000002,975.74699999999996,2025.88,119.621,5391.04,182.489,0,0,0,101.053,0,43.669699999999999,0,0,327.21199999999999,0,0,0,0,0,0,0,0,0,0,17.77,38.4,1.17,0,8.1300000000000008,0,5.5,14.21,21.53,1.21,107.92,65.47,156.69300000000001,1495.85,111.69,0,0,505.55700000000002,975.74699999999996,2025.88,119.621,5391.04,182.489,0,0,0,101.053,0,43.669699999999999,0,0,327.21199999999999,0,0,0,0,0,0,0,0,0,0,17.77,38.4,1.17,0,8.1300000000000008,5.5,14.21,21.53,1.21,107.92,65.47,"CA Residential 2016, Vers. 1.0","CSE 0.813 EXE",null,"MPCBECC",0,1.98539,1.2753799999999999E-2,0,0,7.4915999999999996E-2,0.153729,0.25846799999999998,1.0530599999999999E-2,2.49579,1.9981500000000001,0,1.98539,1.2753799999999999E-2,0,0,7.4915999999999996E-2,0.153729,0.25846799999999998,1.0530599999999999E-2,2.49579,1.9981500000000001,0,0,0,0,{"$nulls":9},156.69300000000001,1495.85,111.69,0,0,0,505.55700000000002,975.74699999999996,2025.88,119.621,5391.04,182.489,0,0,0,101.053,0,43.669699999999999,0,0,327.21199999999999,0,0,0,0,0,0,0,0,0,0,17.77,38.4,1.17,0,8.1300000000000008,0,5.5,14.21,21.53,1.21,107.92,0,1.98539,1.2753799999999999E-2,0,0,0,7.4915999999999996E-2,0.153729,0.25846799999999998,1.0530599999999999E-2,2.49579,365.69200000000001,3417.01,111.69,0,0,2135,930.00099999999998,2637.81,297.5,9894.7000000000007,304.37400000000002,0,0,0,155.65700000000001,0,65.400000000000006,0,0,525.43100000000004,0,0,0,0,0,0,0,0,0,0,30.5,75.56,1.17,0,12.52,23.59,14.91,28.27,2.82,189.34,0,3.4108700000000001,1.2753799999999999E-2,0,0,0.33579999999999999,0.11074100000000001,0.35138000000000003,4.1461199999999997E-3,4.2256900000000002,50.942900000000002,0,50.942900000000002]
["2016-09-01T10:36:24","U01R14","v28 14 S21 G20 M01","Proposed and Standard","PASS",0,49.968899999999998,174.58,1281.03,111.69,0,0,505.55700000000002,964.49599999999998,2025.88,119.621,5182.8599999999997,203.53700000000001,0,0,0,104.271,0,43.669699999999999,0,0,351.47899999999998,0,0,0,0,0,0,0,0,0,0,19.760000000000002,32.119999999999997,1.1200000000000001,0,8.4499999999999993,0,5.26,13.67,20.6,1.1499999999999999,102.13,61.45,174.58,1281.03,111.69,0,0,505.55700000000002,964.49599999999998,2025.88,119.621,5182.8599999999997,203.53700000000001,0,0,0,104.271,0,43.669699999999999,0,0,351.47899999999998,0,0,0,0,0,0,0,0,0,0,19.760000000000002,32.119999999999997,1.1200000000000001,0,8.4499999999999993,5.26,13.67,20.6,1.1499999999999999,102.13,61.45,"CA Residential 2016, Vers. 1.0","CSE 0.813 EXE",null,"MPCBECC",0,1.7926599999999999,1.2753799999999999E-2,0,0,7.4915999999999996E-2,0.15366099999999999,0.25846799999999998,1.0530599999999999E-2,2.3029899999999999,1.80541,0,1.7926599999999999,1.2753799999999999E-2,0,0,7.4915999999999996E-2,0.15366099999999999,0.25846799999999998,1.0530599999999999E-2,2.3029899999999999,1.80541,0,0,0,0,{"$nulls":9},174.58,1281.03,111.69,0,0,0,505.55700000000002,964.49599999999998,2025.88,119.621,5182.8599999999997,203.53700000000001,0,0,0,104.271,0,43.669699999999999,0,0,351.47899999999998,0,0,0,0,0,0,0,0,0,0,19.760000000000002,32.119999999999997,1.1200000000000001,0,8.4499999999999993,0,5.26,13.67,20.6,1.1499999999999999,102.13,0,1.7926599999999999,1.2753799999999999E-2,0,0,0,7.4915999999999996E-2,0.15366099999999999,0.25846799999999998,1.0530599999999999E-2,2.3029899999999999,413.59399999999999,2961.78,111.69,0,0,2135,930.00099999999998,2637.81,297.5,9487.3799999999992,344.61599999999999,0,0,0,158.755,0,65.400000000000006,0,0,568.77,0,0,0,0,0,0,0,0,0,0,34.380000000000003,66.819999999999993,1.1200000000000001,0,12.86,22.6,14.52,27.07,2.72,182.09,0,3.1716700000000002,1.2753799999999999E-2,0,0,0.33579999999999999,0.11074100000000001,0.35138000000000003,4.1461199999999997E-3,3.9864899999999999,49.968899999999998,0,49.968899999999998]
["2016-09-01T10:36:08","U01R15","v28 15 S21 G20 M01","Proposed and Standard","PASS",0,56.3309,5.7251099999999999,4900.54,111.69,0,0,505.55700000000002,1044.02,2025.88,119.621,8713.0400000000009,6.6680599999999997,0,0,0,75.512,0,43.669699999999999,0,0,125.85,0,0,0,0,0,0,0,0,0,0,0.66,88.15,1.1200000000000001,0,6.16,0,5.29,14.42,20.64,1.1599999999999999,137.6,96.09,5.7251099999999999,4900.54,111.69,0,0,505.55700000000002,1044.02,2025.88,119.621,8713.0400000000009,6.6680599999999997,0,0,0,75.512,0,43.669699999999999,0,0,125.85,0,0,0,0,0,0,0,0,0,0,0.66,88.15,1.1200000000000001,0,6.16,5.29,14.42,20.64,1.1599999999999999,137.6,96.09,"CA Residential 2016, Vers. 1.0","CSE 0.813 EXE",null,"MPCBECC",0,3.71062,1.2753799999999999E-2,0,0,7.4915999999999996E-2,0.15804599999999999,0.25846799999999998,1.0530599999999999E-2,4.2253299999999996,3.7233700000000001,0,3.71062,1.2753799999999999E-2,0,0,7.4915999999999996E-2,0.15804599999999999,0.25846799999999998,1.0530599999999999E-2,4.2253299999999996,3.7233700000000001,0,0,0,0,{"$nulls":9},5.7251099999999999,4900.54,111.69,0,0,0,505.55700000000002,1044.02,2025.88,119.621,8713.0400000000009,6.6680599999999997,0,0,0,75.512,0,43.669699999999999,0,0,125.85,0,0,0,0,0,0,0,0,0,0,0.66,88.15,1.1200000000000001,0,6.16,0,5.29,14.42,20.64,1.1599999999999999,137.6,0,3.71062,1.2753799999999999E-2,0,0,0,7.4915999999999996E-2,0.15804599999999999,0.25846799999999998,1.0530599999999999E-2,4.2253299999999996,33.899500000000003,9519.69,111.69,0,0,2135,930.00099999999998,2637.81,297.5,15665.6,28.217199999999998,0,0,0,130.13399999999999,0,65.400000000000006,0,0,223.751,0,0,0,0,0,0,0,0,0,0,2.85,149.29,1.1200000000000001,0,10.62,22.73,14.54,27.12,2.76,231.03,0,5.0876400000000004,1.2753799999999999E-2,0,0,0.33579999999999999,0.11074100000000001,0.35138000000000003,4.1461199999999997E-3,5.9024599999999996,56.3309,0,56.3309]
["2016-09-01T10:36:07","U01R16","v28 16 S21 G20 M01","Proposed and Standard","PASS",0,53.253,416.11500000000001,36.548099999999998,111.69,0,0,505.55700000000002,907.13900000000001,2025.88,119.621,4122.55,485.86200000000002,0,0,0,128.68799999999999,0,43.669699999999999,0,0,658.21900000000005,0,0,0,0,0,0,0,0,0,0,45.71,1.35,1.1100000000000001,0,10.35,0,5.22,13.12,20.54,1.1399999999999999,98.54,58.52,416.11500000000001,36.548099999999998,111.69,0,0,505.55700000000002,907.13900000000001,2025.88,119.621,4122.55,485.86200000000002,0,0,0,128.68799999999999,0,43.669699999999999,0,0,658.21900000000005,0,0,0,0,0,0,0,0,0,0,45.71,1.35,1.1100000000000001,0,10.35,5.22,13.12,20.54,1.1399999999999999,98.54,58.52,"CA Residential 2016, Vers. 1.0","CSE 0.813 EXE",null,"MPCBECC",0,5.1203699999999998E-2,1.2753799999999999E-2,0,0,7.4915999999999996E-2,0.14513699999999999,0.25846799999999998,1.0530599999999999E-2,0.55300899999999997,6.3957399999999998E-2,0,5.1203699999999998E-2,1.2753799999999999E-2,0,0,7.4915999999999996E-2,0.14513699999999999,0.25846799999999998,1.0530599999999999E-2,0.55300899999999997,6.3957399999999998E-2,0,0,0,0,{"$nulls":9},416.11500000000001,36.548099999999998,111.69,0,0,0,505.55700000000002,907.13900000000001,2025.88,119.621,4122.55,485.86200000000002,0,0,0,128.68799999999999,0,43.669699999999999,0,0,658.21900000000005,0,0,0,0,0,0,0,0,0,0,45.71,1.35,1.1100000000000001,0,10.35,0,5.22,13.12,20.54,1.1399999999999999,98.54,0,5.1203699999999998E-2,1.2753799999999999E-2,0,0,0,7.4915999999999996E-2,0.14513699999999999,0.25846799999999998,1.0530599999999999E-2,0.55300899999999997,532.28899999999999,250.172,111.69,0,0,2135,930.00099999999998,2637.81,297.5,6894.46,444.18900000000002,0,0,0,182.24600000000001,0,65.400000000000006,0,0,691.83500000000004,0,0,0,0,0,0,0,0,0,0,43.19,10.18,1.1100000000000001,0,14.66,22.38,14.5,26.96,2.7,135.68,0,0.53870399999999996,1.2753799999999999E-2,0,0,0.33579999999999999,0.11074100000000001,0.35138000000000003,4.1461199999999997E-3,1.3535299999999999,53.253,0,53.253]
["2016-09-01T10:36:07","U02R01","v28 01 S27 G20 M01","Proposed and Standard","PASS",0,52.843000000000004,302.29899999999998,0,141.255,0,0,615.745,974.09199999999998,2371.31,151.51499999999999,4556.21,352.04399999999998,0,0,0,146.27199999999999,0,45.121000000000002,0,0,543.43700000000001,0,0,0,0,0,0,0,0,0,0,25.56,0,1.1499999999999999,0,8.9600000000000009,0,5.15,10.83,19.52,1.18,72.349999999999994,35.67,302.29899999999998,0,141.255,0,0,615.745,974.09199999999998,2371.31,151.51499999999999,4556.21,352.04399999999998,0,0,0,146.27199999999999,0,45.121000000000002,0,0,543.43700000000001,0,0,0,0,0,0,0,0,0,0,25.56,0,1.1499999999999999,0,8.9600000000000009,5.15,10.83,19.52,1.18,72.349999999999994,35.67,"CA Residential 2016, Vers. 1.0","CSE 0.813 EXE",null,"MPCBECC",9.81034E-14,0,1.61297E-2,0,0,9.1244199999999998E-2,0.1288,0.30218800000000001,1.3338300000000001E-2,0.55169999999999997,1.61297E-2,9.8101099999999997E-14,0,1.61297E-2,0,0,9.1244199999999998E-2,0.1288,0.30218800000000001,1.3338300000000001E-2,0.55169999999999997,1.61297E-2,0,0,0,0,{"$nulls":9},302.29899999999998,0,141.255,0,0,0,615.745,974.09199999999998,2371.31,151.51499999999999,4556.21,352.04399999999998,0,0,0,146.27199999999999,0,45.121000000000002,0,0,543.43700000000001,0,0,0,0,0,0,0,0,0,0,25.56,0,1.1499999999999999,0,8.9600000000000009,0,5.15,10.83,19.52,1.18,72.349999999999994,9.81034E-14,0,1.61297E-2,0,0,0,9.1244199999999998E-2,0.1288,0.30218800000000001,1.3338300000000001E-2,0.55169999999999997,498.40800000000002,0,141.255,0,0,2615,989.00099999999998,3267.2,327.5,7838.36,414.81099999999998,0,0,0,199.32499999999999,0,73.400000000000006,0,0,687.53599999999994,0,0,0,0,0,0,0,0,0,0,30.92,0,1.1499999999999999,0,12.21,22.11,12.56,27.01,2.41,108.37,1.62352E-9,0,1.61297E-2,0,0,0.41129599999999999,0.118258,0.43522,4.56421E-3,0.98546800000000001,52.843000000000004,0,52.843000000000004]
["2016-09-01T10:36:02","U02R02","v28 02 S27 G20 M01","Proposed and Standard","PASS",0,47.034999999999997,232.7,41.0319,141.255,0,0,615.745,1015.23,2371.31,151.51499999999999,4568.78,270.983,0,0,0,131.18700000000001,0,45.121000000000002,0,0,447.291,0,0,0,0,0,0,0,0,0,0,20.27,1.57,1.1499999999999999,0,8.07,0,5.16,11.24,19.54,1.18,68.180000000000007,31.06,232.7,41.0319,141.255,0,0,615.745,1015.23,2371.31,151.51499999999999,4568.78,270.983,0,0,0,131.18700000000001,0,45.121000000000002,0,0,447.291,0,0,0,0,0,0,0,0,0,0,20.27,1.57,1.1499999999999999,0,8.07,5.16,11.24,19.54,1.18,68.180000000000007,31.06,"CA Residential 2016, Vers. 1.0","CSE 0.813 EXE",null,"MPCBECC",0,5.1727700000000001E-2,1.61297E-2,0,0,9.1244199999999998E-2,0.14094599999999999,0.30218800000000001,1.3338300000000001E-2,0.61557399999999995,6.7857399999999998E-2,0,5.1727700000000001E-2,1.61297E-2,0,0,9.1244199999999998E-2,0.14094599999999999,0.30218800000000001,1.3338300000000001E-2,0.61557399999999995,6.7857399999999998E-2,0,0,0,0,{"$nulls":9},232.7,41.0319,141.255,0,0,0,615.745,1015.23,2371.31,151.51499999999999,4568.78,270.983,0,0,0,131.18700000000001,0,45.121000000000002,0,0,447.291,0,0,0,0,0,0,0,0,0,0,20.27,1.57,1.1499999999999999,0,8.07,0,5.16,11.24,19.54,1.18,68.180000000000007,0,5.1727700000000001E-2,1.61297E-2,0,0,0,9.1244199999999998E-2,0.14094599999999999,0.30218800000000001,1.3338300000000001E-2,0.61557399999999995,592.99800000000005,193.11099999999999,141.255,0,0,2615,989.00099999999998,3267.2,327.5,8126.06,493.517,0,0,0,185.191,0,73.400000000000006,0,0,752.10799999999995,0,0,0,0,0,0,0,0,0,0,37.83,7.84,1.1499999999999999,0,11.4,22.19,12.57,27.1,2.41,122.49,0,0.37591000000000002,1.61297E-2,0,0,0.41129599999999999,0.118258,0.43522,4.56421E-3,1.36138,47.034999999999997,0,47.034999999999997]
["2016-09-01T10:36:02","U02R03","v28 03 S27 G20 M01","Proposed and Standard","PASS",0,44.707900000000002,125.801,1.9315199999999999,141.255,0,0,615.745,1009.52,2371.31,151.51499999999999,4417.08,146.49,0,0,0,131.749,0,45.121000000000002,0,0,323.36,0,0,0,0,0,0,0,0,0,0,11.1,0.1,1.1499999999999999,0,8.09,0,5.13,11.11,19.5,1.17,57.35,20.440000000000001,125.801,1.9315100000000001,141.255,0,0,615.745,1009.52,2371.31,151.51499999999999,4417.08,146.49,0,0,0,131.749,0,45.121000000000002,0,0,323.36,0,0,0,0,0,0,0,0,0,0,11.1,0.1,1.1499999999999999,0,8.09,5.13,11.11,19.5,1.17,57.35,20.440000000000001,"CA Residential 2016, Vers. 1.0","CSE 0.813 EXE",null,"MPCBECC",0,8.8307899999999998E-3,1.61297E-2,0,0,9.1244199999999998E-2,0.135768,0.30218800000000001,1.3338300000000001E-2,0.56749899999999998,2.49605E-2,0,8.8307799999999999E-3,1.61297E-2,0,0,9.1244199999999998E-2,0.135768,0.30218800000000001,1.3338300000000001E-2,0.56749899999999998,2.49605E-2,0,-3.7252900000000001E-9,0,0,{"$nulls":9},125.801,1.9315199999999999,141.255,0,0,0,615.745,1009.52,2371.31,151.51499999999999,4417.08,146.49,0,0,0,131.749,0,45.121000000000002,0,0,323.36,0,0,0,0,0,0,0,0,0,0,11.1,0.1,1.1499999999999999,0,8.09,0,5.13,11.11,19.5,1.17,57.35,0,8.8307899999999998E-3,1.61297E-2,0,0,0,9.1244199999999998E-2,0.135768,0.30218800000000001,1.3338300000000001E-2,0.56749899999999998,491.65499999999997,0,141.255,0,0,2615,989.00099999999998,3267.2,327.5,7831.61,409.15300000000002,0,0,0,185.82400000000001,0,73.400000000000006,0,0,668.37699999999995,0,0,0,0,0,0,0,0,0,0,31.3,0,1.1499999999999999,0,11.4,22,12.56,27,2.38,107.79,0,0,1.61297E-2,0,0,0.41129599999999999,0.118258,0.43522,4.56421E-3,0.98546800000000001,44.707900000000002,0,44.707900000000002]
["2016-09-01T10:36:04","U02R04","v28 04 S27 G20 M01","Proposed and Standard","PASS",0,45.471299999999999,168.10499999999999,71.365799999999993,141.255,0,0,615.745,1030.26,2371.31,151.51499999999999,4549.5600000000004,195.762,0,0,0,125.44,0,45.121000000000002,0,0,366.32299999999998,0,0,0,0,0,0,0,0,0,0,14.7,2.89,1.1499999999999999,0,7.73,0,5.17,11.39,19.55,1.18,63.76,26.47,168.10499999999999,71.365799999999993,141.255,0,0,615.745,1030.26,2371.31,151.51499999999999,4549.5600000000004,195.762,0,0,0,125.44,0,45.121000000000002,0,0,366.32400000000001,0,0,0,0,0,0,0,0,0,0,14.7,2.89,1.1499999999999999,0,7.73,5.17,11.39,19.55,1.18,63.76,26.47,"CA Residential 2016, Vers. 1.0","CSE 0.813 EXE",null,"MPCBECC",0,0.34032699999999999,1.61297E-2,0,0,9.1244199999999998E-2,0.144708,0.30218800000000001,1.3338300000000001E-2,0.90793400000000002,0.356456,0,0.34032699999999999,1.61297E-2,0,0,9.1244199999999998E-2,0.144708,0.30218800000000001,1.3338300000000001E-2,0.90793500000000005,0.35645700000000002,5.9604600000000002E-8,5.9604600000000002E-8,0,0,{"$nulls":9},168.10499999999999,71.365799999999993,141.255,0,0,0,615.745,1030.26,2371.31,151.51499999999999,4549.5600000000004,195.762,0,0,0,125.44,0,45.121000000000002,0,0,366.32299999999998,0,0,0,0,0,0,0,0,0,0,14.7,2.89,1.1499999999999999,0,7.73,0,5.17,11.39,19.55,1.18,63.76,0,0.34032699999999999,1.61297E-2,0,0,0,9.1244199999999998E-2,0.144708,0.30218800000000001,1.3338300000000001E-2,0.90793400000000002,464.315,327.91899999999998,141.255,0,0,2615,989.00099999999998,3267.2,327.5,8132.19,386.42399999999998,0,0,0,179.76499999999999,0,73.400000000000006,0,0,639.58799999999997,0,0,0,0,0,0,0,0,0,0,29.8,12.25,1.1499999999999999,0,11.07,22.23,12.57,27.12,2.4,118.59,0,1.1887799999999999,1.61297E-2,0,0,0.41129599999999999,0.118258,0.43522,4.56421E-3,2.1742499999999998,45.471299999999999,0,45.471299999999999]
["2016-09-01T10:36:03","U02R05","v28 05 S27 G20 M01","Proposed and Standard","PASS",0,41.549100000000003,98.3904,0,141.255,0,0,615.745,1010.73,2371.31,151.51499999999999,4388.95,114.584,0,0,0,134.91800000000001,0,45.121000000000002,0,0,294.62299999999999,0,0,0,0,0,0,0,0,0,0,8.52,0,1.1499999999999999,0,8.27,0,5.08,11.14,19.440000000000001,1.17,54.77,17.940000000000001,98.3904,0,141.255,0,0,615.745,1010.73,2371.31,151.51499999999999,4388.95,114.584,0,0,0,134.91800000000001,0,45.121000000000002,0,0,294.62299999999999,0,0,0,0,0,0,0,0,0,0,8.52,0,1.1499999999999999,0,8.27,5.08,11.14,19.440000000000001,1.17,54.77,17.940000000000001,"CA Residential 2016, Vers. 1.0","CSE 0.813 EXE",null,"MPCBECC",0,0,1.61297E-2,0,0,9.1244199999999998E-2,0.13561200000000001,0.30218800000000001,1.3338300000000001E-2,0.55851200000000001,1.61297E-2,0,0,1.61297E-2,0,0,9.1244199999999998E-2,0.13561200000000001,0.30218800000000001,1.3338300000000001E-2,0.55851200000000001,1.61297E-2,0,0,0,0,{"$nulls":9},98.3904,0,141.255,0,0,0,615.745,1010.73,2371.31,151.51499999999999,4388.95,114.584,0,0,0,134.91800000000001,0,45.121000000000002,0,0,294.62299999999999,0,0,0,0,0,0,0,0,0,0,8.52,0,1.1499999999999999,0,8.27,0,5.08,11.14,19.440000000000001,1.17,54.77,0,0,1.61297E-2,0,0,0,9.1244199999999998E-2,0.13561200000000001,0.30218800000000001,1.3338300000000001E-2,0.55851200000000001,507.68,0,141.255,0,0,2615,989.00099999999998,3267.2,327.5,7847.63,422.53800000000001,0,0,0,188.804,0,73.400000000000006,0,0,684.74199999999996,0,0,0,0,0,0,0,0,0,0,31.71,0,1.1499999999999999,0,11.57,21.76,12.54,26.83,2.38,107.94,3.8656599999999998E-15,0,1.61297E-2,0,0,0.41129599999999999,0.118258,0.43522,4.56421E-3,0.98546800000000001,41.549100000000003,0,41.549100000000003]
["2016-09-01T10:36:04","U02R06","v28 06 S27 G20 M01","Proposed and Standard","PASS",0,49.175199999999997,77.079700000000003,71.211200000000005,141.255,0,0,615.745,1046.52,2371.31,151.51499999999999,4474.63,89.759,0,0,0,119.752,0,45.121000000000002,0,0,254.63200000000001,0,0,0,0,0,0,0,0,0,0,6.81,3.06,1.1100000000000001,0,7.4,0,4.99,11.24,18.91,1.1399999999999999,54.66,18.38,77.079700000000003,71.211200000000005,141.255,0,0,615.745,1046.52,2371.31,151.51499999999999,4474.63,89.759,0,0,0,119.752,0,45.121000000000002,0,0,254.63200000000001,0,0,0,0,0,0,0,0,0,0,6.81,3.06,1.1100000000000001,0,7.4,4.99,11.24,18.91,1.1399999999999999,54.66,18.38,"CA Residential 2016, Vers. 1.0","CSE 0.813 EXE",null,"MPCBECC",0,0.301091,1.61297E-2,0,0,9.1244199999999998E-2,0.14183499999999999,0.30218800000000001,1.3338300000000001E-2,0.86582599999999998,0.31722,0,0.301091,1.61297E-2,0,0,9.1244199999999998E-2,0.14183499999999999,0.30218800000000001,1.3338300000000001E-2,0.86582599999999998,0.31722,0,0,0,0,{"$nulls":9},77.079700000000003,71.211200000000005,141.255,0,0,0,615.745,1046.52,2371.31,151.51499999999999,4474.63,89.759,0,0,0,119.752,0,45.121000000000002,0,0,254.63200000000001,0,0,0,0,0,0,0,0,0,0,6.81,3.06,1.1100000000000001,0,7.4,0,4.99,11.24,18.91,1.1399999999999999,54.66,0,0.301091,1.61297E-2,0,0,0,9.1244199999999998E-2,0.14183499999999999,0.30218800000000001,1.3338300000000001E-2,0.86582599999999998,203.96299999999999,174.18,141.255,0,0,2615,989.00099999999998,3267.2,327.5,7718.1,169.744,0,0,0,174.49,0,73.400000000000006,0,0,417.63400000000001,0,0,0,0,0,0,0,0,0,0,13.18,7.52,1.1100000000000001,0,10.79,21.36,12.31,26.08,2.35,94.7,0,0.49838700000000002,1.61297E-2,0,0,0.41129599999999999,0.118258,0.43522,4.56421E-3,1.4838499999999999,49.175199999999997,0,49.175199999999997]
["2016-09-01T10:36:03","U02R07","v28 07 S27 G20 M01","Proposed and Standard","PASS",0,47.863799999999998,27.444900000000001,12.108599999999999,141.255,0,0,615.745,1048.3699999999999,2371.31,151.51499999999999,4367.75,31.958400000000001,0,0,0,117.807,0,45.121000000000002,0,0,194.886,0,0,0,0,0,0,0,0,0,0,2.33,0.62,1.1499999999999999,0,7.15,0,5.25,11.5,19.71,1.2,48.91,11.25,27.4451,12.108599999999999,141.255,0,0,615.745,1048.3699999999999,2371.31,151.51499999999999,4367.75,31.9587,0,0,0,117.807,0,45.121000000000002,0,0,194.887,0,0,0,0,0,0,0,0,0,0,2.33,0.62,1.1499999999999999,0,7.15,5.25,11.5,19.71,1.2,48.91,11.25,"CA Residential 2016, Vers. 1.0","CSE 0.813 EXE",null,"MPCBECC",0,7.3335899999999996E-2,1.61297E-2,0,0,9.1244199999999998E-2,0.14122299999999999,0.30218800000000001,1.3338300000000001E-2,0.637459,8.9465600000000006E-2,0,7.3335899999999996E-2,1.61297E-2,0,0,9.1244199999999998E-2,0.14122299999999999,0.30218800000000001,1.3338300000000001E-2,0.637459,8.9465600000000006E-2,0,0,0,0,{"$nulls":9},27.444900000000001,12.108599999999999,141.255,0,0,0,615.745,1048.3699999999999,2371.31,151.51499999999999,4367.75,31.958400000000001,0,0,0,117.807,0,45.121000000000002,0,0,194.886,0,0,0,0,0,0,0,0,0,0,2.33,0.62,1.1499999999999999,0,7.15,0,5.25,11.5,19.71,1.2,48.91,0,7.3335899999999996E-2,1.61297E-2,0,0,0,9.1244199999999998E-2,0.14122299999999999,0.30218800000000001,1.3338300000000001E-2,0.637459,84.307000000000002,76.9071,141.255,0,0,2615,989.00099999999998,3267.2,327.5,7501.17,70.1601,0,0,0,172.755,0,73.400000000000006,0,0,316.315,0,0,0,0,0,0,0,0,0,0,5.27,4.29,1.1499999999999999,0,10.48,22.47,12.55,27.22,2.5099999999999998,85.94,0,0.31993500000000002,1.61297E-2,0,0,0.41129599999999999,0.118258,0.43522,4.56421E-3,1.3053999999999999,47.863799999999998,0,47.863799999999998]
["2016-09-01T10:36:04","U02R08","v28 08 S27 G20 M01","Proposed and Standard","PASS",0,45.509399999999999,43.641100000000002,358.95299999999997,141.255,0,0,615.745,1066.3800000000001,2371.31,151.51499999999999,4748.8,50.82,0,0,0,114.69199999999999,0,45.121000000000002,0,0,210.63300000000001,0,0,0,0,0,0,0,0,0,0,3.87,8.0399999999999991,1.1100000000000001,0,7.1,0,5.04,11.42,18.989999999999998,1.1499999999999999,56.72,20.12,43.640999999999998,358.95299999999997,141.255,0,0,615.745,1066.3800000000001,2371.31,151.51499999999999,4748.8,50.819899999999997,0,0,0,114.69199999999999,0,45.121000000000002,0,0,210.63300000000001,0,0,0,0,0,0,0,0,0,0,3.87,8.0399999999999991,1.1100000000000001,0,7.1,5.04,11.42,18.989999999999998,1.1499999999999999,56.72,20.12,"CA Residential 2016, Vers. 1.0","CSE 0.813 EXE",null,"MPCBECC",0,0.76071100000000003,1.61297E-2,0,0,9.1244199999999998E-2,0.14743800000000001,0.30218800000000001,1.3338300000000001E-2,1.3310500000000001,0.77683999999999997,0,0.76071100000000003,1.61297E-2,0,0,9.1244199999999998E-2,0.14743800000000001,0.30218800000000001,1.3338300000000001E-2,1.3310500000000001,0.77683999999999997,0,0,0,0,{"$nulls":9},43.641100000000002,358.95299999999997,141.255,0,0,0,615.745,1066.3800000000001,2371.31,151.51499999999999,4748.8,50.82,0,0,0,114.69199999999999,0,45.121000000000002,0,0,210.63300000000001,0,0,0,0,0,0,0,0,0,0,3.87,8.0399999999999991,1.1100000000000001,0,7.1,0,5.04,11.42,18.989999999999998,1.1499999999999999,56.72,0,0.76071100000000003,1.61297E-2,0,0,0,9.1244199999999998E-2,0.14743800000000001,0.30218800000000001,1.3338300000000001E-2,1.3310500000000001,155.221,963.40599999999995,141.255,0,0,2615,989.00099999999998,3267.2,327.5,8458.58,129.179,0,0,0,169.65,0,73.400000000000006,0,0,372.22899999999998,0,0,0,0,0,0,0,0,0,0,10.07,25.89,1.1100000000000001,0,10.5,21.57,12.33,26.23,2.39,110.09,0,2.1878299999999999,1.61297E-2,0,0,0.41129599999999999,0.118258,0.43522,4.56421E-3,3.1732999999999998,45.509399999999999,0,45.509399999999999]
["2016-09-01T10:36:05","U02R09","v28 09 S27 G20 M01","Proposed and Standard","PASS",0,45.633200000000002,67.634900000000002,684.26400000000001,141.255,0,0,615.745,1066.08,2371.31,151.51499999999999,5097.8,78.784599999999998,0,0,0,114.47499999999999,0,45.121000000000002,0,0,238.38,0,0,0,0,0,0,0,0,0,0,5.94,18.55,1.1000000000000001,0,7.1,0,4.97,11.34,18.77,1.1299999999999999,68.900000000000006,32.69,67.635099999999994,684.26400000000001,141.255,0,0,615.745,1066.08,2371.31,151.51499999999999,5097.8,78.784800000000004,0,0,0,114.47499999999999,0,45.121000000000002,0,0,238.381,0,0,0,0,0,0,0,0,0,0,5.94,18.55,1.1000000000000001,0,7.1,4.97,11.34,18.77,1.1299999999999999,68.900000000000006,32.69,"CA Residential 2016, Vers. 1.0","CSE 0.813 EXE",null,"MPCBECC",0,1.631,1.61297E-2,0,0,9.1244199999999998E-2,0.15055499999999999,0.30218800000000001,1.3338300000000001E-2,2.2044600000000001,1.64713,0,1.631,1.61297E-2,0,0,9.1244199999999998E-2,0.15055499999999999,0.30218800000000001,1.3338300000000001E-2,2.2044600000000001,1.64713,0,0,0,0,{"$nulls":9},67.634900000000002,684.26400000000001,141.255,0,0,0,615.745,1066.08,2371.31,151.51499999999999,5097.8,78.784599999999998,0,0,0,114.47499999999999,0,45.121000000000002,0,0,238.38,0,0,0,0,0,0,0,0,0,0,5.94,18.55,1.1000000000000001,0,7.1,0,4.97,11.34,18.77,1.1299999999999999,68.900000000000006,0,1.631,1.61297E-2,0,0,0,9.1244199999999998E-2,0.15055499999999999,0.30218800000000001,1.3338300000000001E-2,2.2044600000000001,218.43799999999999,1765,141.255,0,0,2615,989.00099999999998,3267.2,327.5,9323.39,181.846,0,0,0,169.404,0,73.400000000000006,0,0,424.65,0,0,0,0,0,0,0,0,0,0,14.06,48.69,1.1000000000000001,0,10.5,21.33,12.25,25.98,2.35,136.26,0,3.50705,1.61297E-2,0,0,0.41129599999999999,0.118258,0.43522,4.56421E-3,4.4925100000000002,45.633200000000002,0,45.633200000000002]
["2016-09-01T10:36:12","U02R10","v28 10 S27 G20 M01","Proposed and Standard","PASS",0,43.9983,79.014200000000002,862.23699999999997,141.255,0,0,615.745,1069.01,2371.31,151.51499999999999,5290.08,92.043999999999997,0,0,0,113.613,0,45.121000000000002,0,0,250.77799999999999,0,0,0,0,0,0,0,0,0,0,6.93,18.5,1.1000000000000001,0,7.06,0,4.91,11.34,18.7,1.1200000000000001,69.66,33.590000000000003,79.014200000000002,862.23699999999997,141.255,0,0,615.745,1069.01,2371.31,151.51499999999999,5290.08,92.043999999999997,0,0,0,113.613,0,45.121000000000002,0,0,250.77799999999999,0,0,0,0,0,0,0,0,0,0,6.93,18.5,1.1000000000000001,0,7.06,4.91,11.34,18.7,1.1200000000000001,69.66,33.590000000000003,"CA Residential 2016, Vers. 1.0","CSE 0.813 EXE",null,"MPCBECC",0,1.65228,1.61297E-2,0,0,9.1244199999999998E-2,0.151278,0.30218800000000001,1.3338300000000001E-2,2.2264599999999999,1.6684099999999999,0,1.65228,1.61297E-2,0,0,9.1244199999999998E-2,0.151278,0.30218800000000001,1.3338300000000001E-2,2.2264599999999999,1.6684099999999999,1.1920899999999999E-6,1.07288E-6,0,0,{"$nulls":9},79.014200000000002,862.23699999999997,141.255,0,0,0,615.745,1069.01,2371.31,151.51499999999999,5290.08,92.043999999999997,0,0,0,113.613,0,45.121000000000002,0,0,250.77799999999999,0,0,0,0,0,0,0,0,0,0,6.93,18.5,1.1000000000000001,0,7.06,0,4.91,11.34,18.7,1.1200000000000001,69.66,0,1.65228,1.61297E-2,0,0,0,9.1244199999999998E-2,0.151278,0.30218800000000001,1.3338300000000001E-2,2.2264599999999999,247.03299999999999,2424.92,141.255,0,0,2615,989.00099999999998,3267.2,327.5,10011.9,205.66,0,0,0,168.49600000000001,0,73.400000000000006,0,0,447.55599999999998,0,0,0,0,0,0,0,0,0,0,15.88,54.76,1.1000000000000001,0,10.46,21.1,12.24,25.87,2.3199999999999998,143.72999999999999,0,3.8767399999999999,1.61297E-2,0,0,0.41129599999999999,0.118258,0.43522,4.56421E-3,4.8622100000000001,43.9983,0,43.9983]
["2016-09-01T10:36:16","U02R11","v28 11 S27 G20 M01","Proposed and Standard","PASS",0,46.903599999999997,216.499,1810.99,141.255,0,0,615.745,1062,2371.31,151.51499999999999,6369.31,252.142,0,0,0,115.96299999999999,0,45.121000000000002,0,0,413.226,0,0,0,0,0,0,0,0,0,0,18.96,36.119999999999997,1.1499999999999999,0,7.21,0,5.23,11.78,19.600000000000001,1.19,101.24,63.44,216.499,1810.99,141.255,0,0,615.745,1062,2371.31,151.51499999999999,6369.31,252.142,0,0,0,115.96299999999999,0,45.121000000000002,0,0,413.226,0,0,0,0,0,0,0,0,0,0,18.96,36.119999999999997,1.1499999999999999,0,7.21,5.23,11.78,19.600000000000001,1.19,101.24,63.44,"CA Residential 2016, Vers. 1.0","CSE 0.813 EXE",null,"MPCBECC",0,2.0658099999999999,1.61297E-2,0,0,9.1244199999999998E-2,0.151751,0.30218800000000001,1.3338300000000001E-2,2.64046,2.0819399999999999,0,2.0658099999999999,1.61297E-2,0,0,9.1244199999999998E-2,0.151751,0.30218800000000001,1.3338300000000001E-2,2.64046,2.0819399999999999,0,0,0,0,{"$nulls":9},216.499,1810.99,141.255,0,0,0,615.745,1062,2371.31,151.51499999999999,6369.31,252.142,0,0,0,115.96299999999999,0,45.121000000000002,0,0,413.226,0,0,0,0,0,0,0,0,0,0,18.96,36.119999999999997,1.1499999999999999,0,7.21,0,5.23,11.78,19.600000000000001,1.19,101.24,0,2.0658099999999999,1.61297E-2,0,0,0,9.1244199999999998E-2,0.151751,0.30218800000000001,1.3338300000000001E-2,2.64046,571.98199999999997,4348.13,141.255,0,0,2615,989.00099999999998,3267.2,327.5,12260.1,476.07600000000002,0,0,0,170.536,0,73.400000000000006,0,0,720.01199999999994,0,0,0,0,0,0,0,0,0,0,36.799999999999997,81.510000000000005,1.1499999999999999,0,10.6,22.57,12.58,27.25,2.4500000000000002,194.91,0,4.4313500000000001,1.61297E-2,0,0,0.41129599999999999,0.118258,0.43522,4.56421E-3,5.4168200000000004,46.903599999999997,0,46.903599999999997]
["2016-09-01T10:36:17","U02R12","v28 12 S27 G20 M01","Proposed and Standard","PASS",0,43.999099999999999,220.267,492.25900000000001,141.255,0,0,615.745,1041.8699999999999,2371.31,151.51499999999999,5034.22,256.49200000000002,0,0,0,121.937,0,45.121000000000002,0,0,423.55,0,0,0,0,0,0,0,0,0,0,19.36,14.47,1.1499999999999999,0,7.54,0,5.26,11.58,19.64,1.2,80.2,42.52,220.267,492.25900000000001,141.255,0,0,615.745,1041.8699999999999,2371.31,151.51499999999999,5034.22,256.49200000000002,0,0,0,121.937,0,45.121000000000002,0,0,423.55,0,0,0,0,0,0,0,0,0,0,19.36,14.47,1.1499999999999999,0,7.54,5.26,11.58,19.64,1.2,80.2,42.52,"CA Residential 2016, Vers. 1.0","CSE 0.813 EXE",null,"MPCBECC",0,0.98270500000000005,1.61297E-2,0,0,9.1244199999999998E-2,0.148562,0.30218800000000001,1.3338300000000001E-2,1.5541700000000001,0.99883500000000003,0,0.98270500000000005,1.61297E-2,0,0,9.1244199999999998E-2,0.148562,0.30218800000000001,1.3338300000000001E-2,1.5541700000000001,0.99883500000000003,0,0,0,0,{"$nulls":9},220.267,492.25900000000001,141.255,0,0,0,615.745,1041.8699999999999,2371.31,151.51499999999999,5034.22,256.49200000000002,0,0,0,121.937,0,45.121000000000002,0,0,423.55,0,0,0,0,0,0,0,0,0,0,19.36,14.47,1.1499999999999999,0,7.54,0,5.26,11.58,19.64,1.2,80.2,0,0.98270500000000005,1.61297E-2,0,0,0,9.1244199999999998E-2,0.148562,0.30218800000000001,1.3338300000000001E-2,1.5541700000000001,567.59900000000005,1686.96,141.255,0,0,2615,989.00099999999998,3267.2,327.5,9594.51,472.35599999999999,0,0,0,176.31299999999999,0,73.400000000000006,0,0,722.06899999999996,0,0,0,0,0,0,0,0,0,0,36.630000000000003,48.27,1.1499999999999999,0,10.9,22.7,12.58,27.31,2.44,161.97999999999999,0,3.3591700000000002,1.61297E-2,0,0,0.41129599999999999,0.118258,0.43522,4.56421E-3,4.3446300000000004,43.999099999999999,0,43.999099999999999]
["2016-09-01T10:36:18","U02R13","v28 13 S27 G20 M01","Proposed and Standard","PASS",0,48.561,193.839,2015.12,141.255,0,0,615.745,1072.58,2371.31,151.51499999999999,6561.36,225.75,0,0,0,113.694,0,45.121000000000002,0,0,384.565,0,0,0,0,0,0,0,0,0,0,17.11,39.36,1.1499999999999999,0,7.07,0,5.21,11.84,19.59,1.19,102.52,64.69,193.839,2015.12,141.255,0,0,615.745,1072.58,2371.31,151.51499999999999,6561.36,225.75,0,0,0,113.694,0,45.121000000000002,0,0,384.565,0,0,0,0,0,0,0,0,0,0,17.11,39.36,1.1499999999999999,0,7.07,5.21,11.84,19.59,1.19,102.52,64.69,"CA Residential 2016, Vers. 1.0","CSE 0.813 EXE",null,"MPCBECC",0,2.5655399999999999,1.61297E-2,0,0,9.1244199999999998E-2,0.15291099999999999,0.30218800000000001,1.3338300000000001E-2,3.1413500000000001,2.5816699999999999,0,2.5655399999999999,1.61297E-2,0,0,9.1244199999999998E-2,0.15291099999999999,0.30218800000000001,1.3338300000000001E-2,3.1413500000000001,2.5816699999999999,0,0,0,0,{"$nulls":9},193.839,2015.12,141.255,0,0,0,615.745,1072.58,2371.31,151.51499999999999,6561.36,225.75,0,0,0,113.694,0,45.121000000000002,0,0,384.565,0,0,0,0,0,0,0,0,0,0,17.11,39.36,1.1499999999999999,0,7.07,0,5.21,11.84,19.59,1.19,102.52,0,2.5655399999999999,1.61297E-2,0,0,0,9.1244199999999998E-2,0.15291099999999999,0.30218800000000001,1.3338300000000001E-2,3.1413500000000001,515.98,4729.34,141.255,0,0,2615,989.00099999999998,3267.2,327.5,12585.3,429.46199999999999,0,0,0,168.28299999999999,0,73.400000000000006,0,0,671.14400000000001,0,0,0,0,0,0,0,0,0,0,33.450000000000003,81.680000000000007,1.1499999999999999,0,10.47,22.48,12.58,27.23,2.41,191.45,0,4.7471699999999997,1.61297E-2,0,0,0.41129599999999999,0.118258,0.43522,4.56421E-3,5.73264,48.561,0,48.561]
["2016-09-01T10:36:18","U02R14","v28 14 S27 G20 M01","Proposed and Standard","PASS",0,47.644500000000001,207.99,1784.56,141.255,0,0,615.745,1059.7,2371.31,151.51499999999999,6332.08,242.489,0,0,0,117.294,0,45.121000000000002,0,0,404.904,0,0,0,0,0,0,0,0,0,0,18.329999999999998,34.020000000000003,1.1000000000000001,0,7.34,0,4.9800000000000004,11.39,18.75,1.1299999999999999,97.04,60.79,207.99,1784.56,141.255,0,0,615.745,1059.7,2371.31,151.51499999999999,6332.07,242.489,0,0,0,117.294,0,45.121000000000002,0,0,404.904,0,0,0,0,0,0,0,0,0,0,18.329999999999998,34.020000000000003,1.1000000000000001,0,7.34,4.9800000000000004,11.39,18.75,1.1299999999999999,97.04,60.79,"CA Residential 2016, Vers. 1.0","CSE 0.813 EXE",null,"MPCBECC",0,2.3717299999999999,1.61297E-2,0,0,9.1244199999999998E-2,0.15287200000000001,0.30218800000000001,1.3338300000000001E-2,2.9474999999999998,2.3878599999999999,0,2.3717299999999999,1.61297E-2,0,0,9.1244199999999998E-2,0.15287200000000001,0.30218800000000001,1.3338300000000001E-2,2.9475099999999999,2.3878599999999999,7.1525600000000001E-7,7.1525600000000001E-7,0,0,{"$nulls":9},207.99,1784.56,141.255,0,0,0,615.745,1059.7,2371.31,151.51499999999999,6332.08,242.489,0,0,0,117.294,0,45.121000000000002,0,0,404.904,0,0,0,0,0,0,0,0,0,0,18.329999999999998,34.020000000000003,1.1000000000000001,0,7.34,0,4.9800000000000004,11.39,18.75,1.1299999999999999,97.04,0,2.3717299999999999,1.61297E-2,0,0,0,9.1244199999999998E-2,0.15287200000000001,0.30218800000000001,1.3338300000000001E-2,2.9474999999999998,570.12699999999995,4179.53,141.255,0,0,2615,989.00099999999998,3267.2,327.5,12089.6,475.04199999999997,0,0,0,171.691,0,73.400000000000006,0,0,720.13400000000001,0,0,0,0,0,0,0,0,0,0,36.85,72.92,1.1000000000000001,0,10.75,21.53,12.25,26.08,2.33,183.81,0,4.41805,1.61297E-2,0,0,0.41129599999999999,0.118258,0.43522,4.56421E-3,5.4035200000000003,47.644500000000001,0,47.644500000000001]
["2016-09-01T10:36:37","U02R15","v28 15 S27 G20 M01","Proposed and Standard","PASS",0,52.7196,16.986499999999999,5899.64,141.255,0,0,615.745,1151.43,2371.31,151.51499999999999,10347.9,19.784300000000002,0,0,0,84.692300000000003,0,45.121000000000002,0,0,149.59800000000001,0,0,0,0,0,0,0,0,0,0,1.51,82.41,1.1000000000000001,0,5.34,0,5.01,12.08,18.79,1.1399999999999999,127.38,90.36,16.986499999999999,5899.64,141.255,0,0,615.745,1151.43,2371.31,151.51499999999999,10347.9,19.784300000000002,0,0,0,84.692300000000003,0,45.121000000000002,0,0,149.59800000000001,0,0,0,0,0,0,0,0,0,0,1.51,82.41,1.1000000000000001,0,5.34,5.01,12.08,18.79,1.1399999999999999,127.38,90.36,"CA Residential 2016, Vers. 1.0","CSE 0.813 EXE",null,"MPCBECC",0,4.4396800000000001,1.61297E-2,0,0,9.1244199999999998E-2,0.15833900000000001,0.30218800000000001,1.3338300000000001E-2,5.0209200000000003,4.4558099999999996,0,4.4396800000000001,1.61297E-2,0,0,9.1244199999999998E-2,0.15833900000000001,0.30218800000000001,1.3338300000000001E-2,5.0209200000000003,4.4558099999999996,0,0,0,0,{"$nulls":9},16.986499999999999,5899.64,141.255,0,0,0,615.745,1151.43,2371.31,151.51499999999999,10347.9,19.784300000000002,0,0,0,84.692300000000003,0,45.121000000000002,0,0,149.59800000000001,0,0,0,0,0,0,0,0,0,0,1.51,82.41,1.1000000000000001,0,5.34,0,5.01,12.08,18.79,1.1399999999999999,127.38,0,4.4396800000000001,1.61297E-2,0,0,0,9.1244199999999998E-2,0.15833900000000001,0.30218800000000001,1.3338300000000001E-2,5.0209200000000003,76.340699999999998,12428.6,141.255,0,0,2615,989.00099999999998,3267.2,327.5,19844.900000000001,63.5443,0,0,0,139.785,0,73.400000000000006,0,0,276.72899999999998,0,0,0,0,0,0,0,0,0,0,5,153.1,1.1000000000000001,0,8.81,21.65,12.26,26.12,2.36,230.4,0,6.7805799999999996,1.61297E-2,0,0,0.41129599999999999,0.118258,0.43522,4.56421E-3,7.7660400000000003,52.7196,0,52.7196]
["2016-09-01T10:36:15","U02R16","v28 16 S27 G20 M01","Proposed and Standard","PASS",0,50.481900000000003,482.02300000000002,140.46799999999999,141.255,0,0,615.745,991.83900000000006,2371.31,151.51499999999999,4894.1499999999996,562.81700000000001,0,0,0,145.16200000000001,0,45.121000000000002,0,0,753.1,0,0,0,0,0,0,0,0,0,0,41.18,3.98,1.0900000000000001,0,9.0299999999999994,0,4.9400000000000004,10.81,18.690000000000001,1.1299999999999999,90.85,55.28,482.02300000000002,140.46899999999999,141.255,0,0,615.745,991.84,2371.31,151.51499999999999,4894.1499999999996,562.81700000000001,0,0,0,145.16200000000001,0,45.121000000000002,0,0,753.1,0,0,0,0,0,0,0,0,0,0,41.18,3.98,1.0900000000000001,0,9.0299999999999994,4.9400000000000004,10.81,18.690000000000001,1.1299999999999999,90.85,55.28,"CA Residential 2016, Vers. 1.0","CSE 0.813 EXE",null,"MPCBECC",0,0.24964,1.61297E-2,0,0,9.1244199999999998E-2,0.143568,0.30218800000000001,1.3338300000000001E-2,0.81610899999999997,0.26577000000000001,0,0.249644,1.61297E-2,0,0,9.1244199999999998E-2,0.143568,0.30218800000000001,1.3338300000000001E-2,0.81611299999999998,0.26577400000000001,3.6954900000000002E-6,3.6656900000000001E-6,0,0,{"$nulls":9},482.02300000000002,140.46799999999999,141.255,0,0,0,615.745,991.83900000000006,2371.31,151.51499999999999,4894.1499999999996,562.81700000000001,0,0,0,145.16200000000001,0,45.121000000000002,0,0,753.1,0,0,0,0,0,0,0,0,0,0,41.18,3.98,1.0900000000000001,0,9.0299999999999994,0,4.9400000000000004,10.81,18.690000000000001,1.1299999999999999,90.85,0,0.24964,1.61297E-2,0,0,0,9.1244199999999998E-2,0.143568,0.30218800000000001,1.3338300000000001E-2,0.81610899999999997,696.22199999999998,563.976,141.255,0,0,2615,989.00099999999998,3267.2,327.5,8600.15,580.98900000000003,0,0,0,197.989,0,73.400000000000006,0,0,852.37800000000004,0,0,0,0,0,0,0,0,0,0,43.9,16.04,1.0900000000000001,0,12.31,21.32,12.23,25.97,2.31,135.16999999999999,0,1.1113599999999999,1.61297E-2,0,0,0.41129599999999999,0.118258,0.43522,4.56421E-3,2.0968300000000002,50.481900000000003,0,50.481900000000003]
["2016-09-01T10:36:21","U03R01","v28 01 S69 G15 M01","Proposed and Standard","PASS",0,57.843400000000003,480.80700000000002,4.6427199999999997,785.77200000000005,0,0,2033.7,5307.43,12062,433.91399999999999,21108.2,559.928,0,0,0,775.96100000000001,0,287.95400000000001,0,0,1623.84,0,0,0,0,0,0,0,0,0,0,15.85,0.05,2.4700000000000002,0,18.45,0,6.6,23.91,38.54,1.31,107.18,36.82,480.80700000000002,4.6427199999999997,785.77200000000005,0,0,2033.7,5307.43,12062,433.91399999999999,21108.2,559.928,0,0,0,775.96100000000001,0,287.95400000000001,0,0,1623.84,0,0,0,0,0,0,0,0,0,0,15.85,0.05,2.4700000000000002,0,18.45,6.6,23.91,38.54,1.31,107.18,36.82,"CA Residential 2016, Vers. 1.0","CSE 0.813 EXE",null,"MPCBECC",0,1.68871E-3,8.9726299999999995E-2,0,0,0.30136400000000002,0.70207799999999998,1.54311,3.8198599999999999E-2,2.6761699999999999,9.1414999999999996E-2,0,1.68871E-3,8.9726299999999995E-2,0,0,0.30136400000000002,0.70207799999999998,1.54311,3.8198599999999999E-2,2.6761699999999999,9.1414999999999996E-2,0,0,0,0,{"$nulls":9},480.80700000000002,4.6427199999999997,785.77200000000005,0,0,0,2033.7,5307.43,12062,433.91399999999999,21108.2,559.928,0,0,0,775.96100000000001,0,287.95400000000001,0,0,1623.84,0,0,0,0,0,0,0,0,0,0,15.85,0.05,2.4700000000000002,0,18.45,0,6.6,23.91,38.54,1.31,107.18,0,1.68871E-3,8.9726299999999995E-2,0,0,0,0.30136400000000002,0.70207799999999998,1.54311,3.8198599999999999E-2,2.6761699999999999,888.24300000000005,0.19209100000000001,785.77200000000005,0,0,5894.96,6547.68,10697.7,540.49900000000002,25355.1,739.25900000000001,0,0,0,1220.78,0,291.12400000000002,0,0,2251.16,0,0,0,0,0,0,0,0,0,0,21.59,0,2.4700000000000002,0,29.02,19.34,27.59,34.31,1.54,135.86000000000001,0,0,8.9726299999999995E-2,0,0,0.92718,0.77117400000000003,1.42503,7.5326799999999999E-3,3.22065,57.843400000000003,0,57.843400000000003]
["2016-09-01T10:36:23","U03R02","v28 02 S69 G15 M01","Proposed and Standard","PASS",1.00021E-2,55.942399999999999,340.613,583.70100000000002,785.77200000000005,0,0,2033.7,5405.35,12062,433.91399999999999,21645,396.65,0,0,0,696.60599999999999,0,287.95400000000001,0,0,1381.21,0,0,0,0,0,0,0,0,0,0,11.56,7.36,2.4700000000000002,0,16.64,0,6.61,24.33,38.58,1.31,108.86,38.03,340.613,583.83900000000006,785.77200000000005,0,0,2033.7,5405.36,12062,433.91399999999999,21645.200000000001,396.65,0,0,0,696.60599999999999,0,287.95400000000001,0,0,1381.21,0,0,0,0,0,0,0,0,0,0,11.56,7.37,2.4700000000000002,0,16.64,6.61,24.33,38.58,1.31,108.87,38.04,"CA Residential 2016, Vers. 1.0","CSE 0.813 EXE",null,"MPCBECC",0,1.16181,8.9726299999999995E-2,0,0,0.30136400000000002,0.72809000000000001,1.54311,3.8198599999999999E-2,3.8622999999999998,1.25153,0,1.1619699999999999,8.9726299999999995E-2,0,0,0.30136400000000002,0.72809199999999996,1.54311,3.8198599999999999E-2,3.86246,1.2517,1.6450899999999999E-4,1.62244E-4,9.1872299999999994E-3,2.62937E-2,{"$nulls":9},340.613,583.70100000000002,785.77200000000005,0,0,0,2033.7,5405.35,12062,433.91399999999999,21645,396.65,0,0,0,696.60599999999999,0,287.95400000000001,0,0,1381.21,0,0,0,0,0,0,0,0,0,0,11.56,7.36,2.4700000000000002,0,16.64,0,6.61,24.33,38.58,1.31,108.86,0,1.16181,8.9726299999999995E-2,0,0,0,0.30136400000000002,0.72809000000000001,1.54311,3.8198599999999999E-2,3.8622999999999998,1065.97,1159.26,785.77200000000005,0,0,5894.96,6547.68,10697.7,540.49900000000002,26691.9,887.14700000000005,0,0,0,1141.4000000000001,0,291.12400000000002,0,0,2319.67,0,0,0,0,0,0,0,0,0,0,26.52,15.31,2.4700000000000002,0,27.27,19.399999999999999,27.6,34.42,1.54,154.53,0,2.3363999999999998,8.9726299999999995E-2,0,0,0.92718,0.77117400000000003,1.42503,7.5326799999999999E-3,5.5570500000000003,55.942399999999999,0,55.947600000000001]
["2016-09-01T10:36:19","U03R03","v28 03 S69 G15 M01","Proposed and Standard","PASS",0,55.438600000000001,154.197,148.77099999999999,785.77200000000005,0,0,2033.7,5391.14,12062,433.91399999999999,21009.4,179.55500000000001,0,0,0,699.798,0,287.95400000000001,0,0,1167.31,0,0,0,0,0,0,0,0,0,0,5.3,1.75,2.4700000000000002,0,16.670000000000002,0,6.57,24.13,38.51,1.3,96.7,26.19,154.197,148.78100000000001,785.77200000000005,0,0,2033.7,5391.15,12062,433.91399999999999,21009.5,179.55500000000001,0,0,0,699.798,0,287.95400000000001,0,0,1167.31,0,0,0,0,0,0,0,0,0,0,5.3,1.75,2.4700000000000002,0,16.670000000000002,6.57,24.13,38.51,1.3,96.7,26.19,"CA Residential 2016, Vers. 1.0","CSE 0.813 EXE",null,"MPCBECC",0,0.31318400000000002,8.9726299999999995E-2,0,0,0.30136400000000002,0.715333,1.54311,3.8198599999999999E-2,3.0009199999999998,0.40291100000000002,0,0.313224,8.9726299999999995E-2,0,0,0.30136400000000002,0.71533599999999997,1.54311,3.8198599999999999E-2,3.0009600000000001,0.402951,4.3630600000000002E-5,3.9994699999999998E-5,0,0,{"$nulls":9},154.197,148.77099999999999,785.77200000000005,0,0,0,2033.7,5391.14,12062,433.91399999999999,21009.4,179.55500000000001,0,0,0,699.798,0,287.95400000000001,0,0,1167.31,0,0,0,0,0,0,0,0,0,0,5.3,1.75,2.4700000000000002,0,16.670000000000002,0,6.57,24.13,38.51,1.3,96.7,0,0.31318400000000002,8.9726299999999995E-2,0,0,0,0.30136400000000002,0.715333,1.54311,3.8198599999999999E-2,3.0009199999999998,842.375,75.385999999999996,785.77200000000005,0,0,5894.96,6547.68,10697.7,540.49900000000002,25384.400000000001,701.02099999999996,0,0,0,1145.3499999999999,0,291.12400000000002,0,0,2137.4899999999998,0,0,0,0,0,0,0,0,0,0,20.97,1.26,2.4700000000000002,0,27.29,19.239999999999998,27.59,34.29,1.53,134.63999999999999,0,0.24352599999999999,8.9726299999999995E-2,0,0,0.92718,0.77117400000000003,1.42503,7.5326799999999999E-3,3.4641700000000002,55.438600000000001,0,55.438600000000001]
["2016-09-01T10:36:19","U03R04","v28 04 S69 G15 M01","Proposed and Standard","PASS",0,54.755699999999997,221.58699999999999,795.63300000000004,785.77200000000005,0,0,2033.7,5449.84,12062,433.91399999999999,21782.400000000001,258.04300000000001,0,0,0,666.51700000000005,0,287.95400000000001,0,0,1212.51,0,0,0,0,0,0,0,0,0,0,7.54,9.01,2.4700000000000002,0,15.94,0,6.62,24.44,38.6,1.31,105.93,34.96,221.58699999999999,795.721,785.77200000000005,0,0,2033.7,5449.85,12062,433.91399999999999,21782.5,258.04199999999997,0,0,0,666.51700000000005,0,287.95400000000001,0,0,1212.51,0,0,0,0,0,0,0,0,0,0,7.54,9.01,2.4700000000000002,0,15.94,6.62,24.44,38.6,1.31,105.93,34.96,"CA Residential 2016, Vers. 1.0","CSE 0.813 EXE",null,"MPCBECC",0,2.2160700000000002,8.9726299999999995E-2,0,0,0.30136400000000002,0.74304999999999999,1.54311,3.8198599999999999E-2,4.9315199999999999,2.3058000000000001,0,2.2162500000000001,8.9726299999999995E-2,0,0,0.30136400000000002,0.74305100000000002,1.54311,3.8198599999999999E-2,4.9317000000000002,2.3059699999999999,1.7690699999999999E-4,1.7595299999999999E-4,0,0,{"$nulls":9},221.58699999999999,795.63300000000004,785.77200000000005,0,0,0,2033.7,5449.84,12062,433.91399999999999,21782.400000000001,258.04300000000001,0,0,0,666.51700000000005,0,287.95400000000001,0,0,1212.51,0,0,0,0,0,0,0,0,0,0,7.54,9.01,2.4700000000000002,0,15.94,0,6.62,24.44,38.6,1.31,105.93,0,2.2160700000000002,8.9726299999999995E-2,0,0,0,0.30136400000000002,0.74304999999999999,1.54311,3.8198599999999999E-2,4.9315199999999999,803.59299999999996,1807.28,785.77200000000005,0,0,5894.96,6547.68,10697.7,540.49900000000002,27077.5,668.78599999999994,0,0,0,1111.18,0,291.12400000000002,0,0,2071.09,0,0,0,0,0,0,0,0,0,0,20.079999999999998,21.65,2.4700000000000002,0,26.57,19.440000000000001,27.6,34.450000000000003,1.53,153.79,0,4.9297000000000004,8.9726299999999995E-2,0,0,0.92718,0.77117400000000003,1.42503,7.5326799999999999E-3,8.1503499999999995,54.755699999999997,0,54.755699999999997]
["2016-09-01T10:36:18","U03R05","v28 05 S69 G15 M01","Proposed and Standard","PASS",0,53.897100000000002,114.408,121.46899999999999,785.77200000000005,0,0,2033.7,5427.77,12062,433.91399999999999,20979,133.238,0,0,0,716.42100000000005,0,287.95400000000001,0,0,1137.6099999999999,0,0,0,0,0,0,0,0,0,0,3.85,1.52,2.4700000000000002,0,17.05,0,6.51,24.18,38.39,1.3,95.27,24.89,114.408,121.47499999999999,785.77200000000005,0,0,2033.7,5427.78,12062,433.91399999999999,20979,133.238,0,0,0,716.42100000000005,0,287.95400000000001,0,0,1137.6099999999999,0,0,0,0,0,0,0,0,0,0,3.85,1.52,2.4700000000000002,0,17.05,6.51,24.18,38.39,1.3,95.27,24.89,"CA Residential 2016, Vers. 1.0","CSE 0.813 EXE",null,"MPCBECC",0,0.32561600000000002,8.9726299999999995E-2,0,0,0.30136400000000002,0.72127200000000002,1.54311,3.8198599999999999E-2,3.0192899999999998,0.41534199999999999,0,0.32564300000000002,8.9726299999999995E-2,0,0,0.30136400000000002,0.72127399999999997,1.54311,3.8198599999999999E-2,3.01932,0.41537000000000002,2.9325499999999999E-5,2.7716200000000001E-5,0,0,{"$nulls":9},114.408,121.46899999999999,785.77200000000005,0,0,0,2033.7,5427.77,12062,433.91399999999999,20979,133.238,0,0,0,716.42100000000005,0,287.95400000000001,0,0,1137.6099999999999,0,0,0,0,0,0,0,0,0,0,3.85,1.52,2.4700000000000002,0,17.05,0,6.51,24.18,38.39,1.3,95.27,0,0.32561600000000002,8.9726299999999995E-2,0,0,0,0.30136400000000002,0.72127200000000002,1.54311,3.8198599999999999E-2,3.0192899999999998,838.24199999999996,6.2671400000000004,785.77200000000005,0,0,5894.96,6547.68,10697.7,540.49900000000002,25311.200000000001,697.66099999999994,0,0,0,1162.01,0,291.12400000000002,0,0,2150.8000000000002,0,0,0,0,0,0,0,0,0,0,20.52,0.04,2.4700000000000002,0,27.65,19.03,27.56,34.090000000000003,1.52,132.88,0,2.82621E-3,8.9726299999999995E-2,0,0,0.92718,0.77117400000000003,1.42503,7.5326799999999999E-3,3.2234699999999998,53.897100000000002,0,53.897100000000002]
["2016-09-01T10:36:19","U03R06","v28 06 S69 G15 M01","Proposed and Standard","PASS",0,59.491,54.724299999999999,707.21299999999997,785.77200000000005,0,0,2033.7,5517.32,12062,433.91399999999999,21594.6,63.726199999999999,0,0,0,636.71799999999996,0,287.95400000000001,0,0,988.39800000000002,0,0,0,0,0,0,0,0,0,0,1.88,7.24,2.39,0,15.28,0,6.39,23.97,37.35,1.26,95.76,26.79,54.723999999999997,707.28200000000004,785.77200000000005,0,0,2033.7,5517.33,12062,433.91399999999999,21594.7,63.725900000000003,0,0,0,636.71799999999996,0,287.95400000000001,0,0,988.39800000000002,0,0,0,0,0,0,0,0,0,0,1.88,7.24,2.39,0,15.28,6.39,23.97,37.35,1.26,95.76,26.79,"CA Residential 2016, Vers. 1.0","CSE 0.813 EXE",null,"MPCBECC",0,1.57819,8.9726299999999995E-2,0,0,0.30136400000000002,0.73856599999999994,1.54311,3.8198599999999999E-2,4.2891599999999999,1.6679200000000001,0,1.5783,8.9726299999999995E-2,0,0,0.30136400000000002,0.738568,1.54311,3.8198599999999999E-2,4.2892700000000001,1.6680299999999999,1.1062599999999999E-4,1.0895699999999999E-4,0,0,{"$nulls":9},54.724299999999999,707.21299999999997,785.77200000000005,0,0,0,2033.7,5517.32,12062,433.91399999999999,21594.6,63.726199999999999,0,0,0,636.71799999999996,0,287.95400000000001,0,0,988.39800000000002,0,0,0,0,0,0,0,0,0,0,1.88,7.24,2.39,0,15.28,0,6.39,23.97,37.35,1.26,95.76,0,1.57819,8.9726299999999995E-2,0,0,0,0.30136400000000002,0.73856599999999994,1.54311,3.8198599999999999E-2,4.2891599999999999,277.27999999999997,1263.29,785.77200000000005,0,0,5894.96,6547.68,10697.7,540.49900000000002,26007.200000000001,230.76,0,0,0,1082.05,0,291.12400000000002,0,0,1603.93,0,0,0,0,0,0,0,0,0,0,6.99,14.17,2.39,0,25.97,18.68,26.93,33.130000000000003,1.5,129.76,0,2.40483,8.9726299999999995E-2,0,0,0.92718,0.77117400000000003,1.42503,7.5326799999999999E-3,5.62547,59.491,0,59.491]
["2016-09-01T10:36:19","U03R07","v28 07 S69 G15 M01","Proposed and Standard","PASS",0,60.450099999999999,5.5001199999999999,408.35899999999998,785.77200000000005,0,0,2033.7,5527.39,12062,433.91399999999999,21256.6,6.4046500000000002,0,0,0,626.69500000000005,0,287.95400000000001,0,0,921.05399999999997,0,0,0,0,0,0,0,0,0,0,0.19,6.21,2.48,0,14.76,0,6.72,24.67,38.92,1.33,95.28,23.64,5.4996900000000002,408.411,785.77200000000005,0,0,2033.7,5527.41,12062,433.91399999999999,21256.7,6.4041399999999999,0,0,0,626.69500000000005,0,287.95400000000001,0,0,921.053,0,0,0,0,0,0,0,0,0,0,0.19,6.21,2.48,0,14.76,6.72,24.67,38.92,1.33,95.28,23.64,"CA Residential 2016, Vers. 1.0","CSE 0.813 EXE",null,"MPCBECC",0,1.3881300000000001,8.9726299999999995E-2,0,0,0.30136400000000002,0.73728499999999997,1.54311,3.8198599999999999E-2,4.0978199999999996,1.47786,0,1.38828,8.9726299999999995E-2,0,0,0.30136400000000002,0.73728700000000003,1.54311,3.8198599999999999E-2,4.0979700000000001,1.47801,1.5163399999999999E-4,1.4960799999999999E-4,0,0,{"$nulls":9},5.5001199999999999,408.35899999999998,785.77200000000005,0,0,0,2033.7,5527.39,12062,433.91399999999999,21256.6,6.4046500000000002,0,0,0,626.69500000000005,0,287.95400000000001,0,0,921.05399999999997,0,0,0,0,0,0,0,0,0,0,0.19,6.21,2.48,0,14.76,0,6.72,24.67,38.92,1.33,95.28,0,1.3881300000000001,8.9726299999999995E-2,0,0,0,0.30136400000000002,0.73728499999999997,1.54311,3.8198599999999999E-2,4.0978199999999996,74.553299999999993,764.65099999999995,785.77200000000005,0,0,5894.96,6547.68,10697.7,540.49900000000002,25305.9,62.043100000000003,0,0,0,1072.78,0,291.12400000000002,0,0,1425.95,0,0,0,0,0,0,0,0,0,0,1.83,12.15,2.48,0,25.26,19.649999999999999,27.62,34.58,1.61,125.18,0,2.50596,8.9726299999999995E-2,0,0,0.92718,0.77117400000000003,1.42503,7.5326799999999999E-3,5.7266000000000004,60.450099999999999,0,60.450099999999999]
["2016-09-01T10:36:20","U03R08","v28 08 S69 G15 M01","Proposed and Standard","PASS",1.00021E-2,59.013500000000001,25.5425,2167.27,785.77200000000005,0,0,2033.7,5600.87,12062,433.91399999999999,23109,29.744199999999999,0,0,0,610.30799999999999,0,287.95400000000001,0,0,928.00599999999997,0,0,0,0,0,0,0,0,0,0,0.89,17.13,2.4,0,14.66,0,6.45,24.36,37.51,1.28,104.68,35.08,25.542000000000002,2167.4499999999998,785.77200000000005,0,0,2033.7,5600.89,12062,433.91399999999999,23109.200000000001,29.7437,0,0,0,610.30799999999999,0,287.95400000000001,0,0,928.00599999999997,0,0,0,0,0,0,0,0,0,0,0.89,17.14,2.4,0,14.66,6.45,24.36,37.51,1.28,104.69,35.090000000000003,"CA Residential 2016, Vers. 1.0","CSE 0.813 EXE",null,"MPCBECC",0,3.6818399999999998,8.9726299999999995E-2,0,0,0.30136400000000002,0.75144100000000003,1.54311,3.8198599999999999E-2,6.4056800000000003,3.7715700000000001,0,3.6819000000000002,8.9726299999999995E-2,0,0,0.30136400000000002,0.75144100000000003,1.54311,3.8198599999999999E-2,6.4057399999999998,3.77162,5.1975299999999997E-5,5.1975299999999997E-5,9.5540499999999997E-3,2.85042E-2,{"$nulls":9},25.5425,2167.27,785.77200000000005,0,0,0,2033.7,5600.87,12062,433.91399999999999,23109,29.744199999999999,0,0,0,610.30799999999999,0,287.95400000000001,0,0,928.00599999999997,0,0,0,0,0,0,0,0,0,0,0.89,17.13,2.4,0,14.66,0,6.45,24.36,37.51,1.28,104.68,0,3.6818399999999998,8.9726299999999995E-2,0,0,0,0.30136400000000002,0.75144100000000003,1.54311,3.8198599999999999E-2,6.4056800000000003,200.43700000000001,4238.05,785.77200000000005,0,0,5894.96,6547.68,10697.7,540.49900000000002,28905.1,166.81,0,0,0,1055.28,0,291.12400000000002,0,0,1513.21,0,0,0,0,0,0,0,0,0,0,5.07,34.58,2.4,0,25.35,18.86,26.98,33.32,1.53,148.09,0,6.4691999999999998,8.9726299999999995E-2,0,0,0.92718,0.77117400000000003,1.42503,7.5326799999999999E-3,9.6898400000000002,59.013500000000001,0,59.019199999999998]
["2016-09-01T10:36:19","U03R09","v28 09 S69 G15 M01","Proposed and Standard","PASS",0,57.580500000000001,53.674500000000002,3175.06,785.77200000000005,0,0,2033.7,5579.89,12062,433.91399999999999,24124,62.522799999999997,0,0,0,609.06299999999999,0,287.95400000000001,0,0,959.54,0,0,0,0,0,0,0,0,0,0,1.84,27.22,2.37,0,14.66,0,6.37,24.16,37.08,1.26,114.96,46.09,53.673999999999999,3175.19,785.77200000000005,0,0,2033.7,5579.9,12062,433.91399999999999,24124.1,62.522100000000002,0,0,0,609.06299999999999,0,287.95400000000001,0,0,959.54,0,0,0,0,0,0,0,0,0,0,1.84,27.22,2.37,0,14.66,6.37,24.16,37.08,1.26,114.96,46.09,"CA Residential 2016, Vers. 1.0","CSE 0.813 EXE",null,"MPCBECC",0,5.5484,8.9726299999999995E-2,0,0,0.30136400000000002,0.75509499999999996,1.54311,3.8198599999999999E-2,8.2758900000000004,5.6381199999999998,0,5.5484400000000003,8.9726299999999995E-2,0,0,0.30136400000000002,0.75509499999999996,1.54311,3.8198599999999999E-2,8.2759300000000007,5.6381600000000001,4.00543E-5,4.0531200000000003E-5,0,0,{"$nulls":9},53.674500000000002,3175.06,785.77200000000005,0,0,0,2033.7,5579.89,12062,433.91399999999999,24124,62.522799999999997,0,0,0,609.06299999999999,0,287.95400000000001,0,0,959.54,0,0,0,0,0,0,0,0,0,0,1.84,27.22,2.37,0,14.66,0,6.37,24.16,37.08,1.26,114.96,0,5.5484,8.9726299999999995E-2,0,0,0,0.30136400000000002,0.75509499999999996,1.54311,3.8198599999999999E-2,8.2758900000000004,325.18400000000003,6261.79,785.77200000000005,0,0,5894.96,6547.68,10697.7,540.49900000000002,31053.599999999999,270.70999999999998,0,0,0,1053.72,0,291.12400000000002,0,0,1615.55,0,0,0,0,0,0,0,0,0,0,8.14,55.34,2.37,0,25.36,18.649999999999999,26.78,33,1.51,171.15,0,9.4844899999999992,8.9726299999999995E-2,0,0,0.92718,0.77117400000000003,1.42503,7.5326799999999999E-3,12.7051,57.580500000000001,0,57.580500000000001]
["2016-09-01T10:36:20","U03R10","v28 10 S69 G15 M01","Proposed and Standard","PASS",0,56.029699999999998,68.168599999999998,3834.01,785.77200000000005,0,0,2033.7,5585.71,12062,433.91399999999999,24803.200000000001,79.409899999999993,0,0,0,604.34299999999996,0,287.95400000000001,0,0,971.70699999999999,0,0,0,0,0,0,0,0,0,0,2.3199999999999998,27.73,2.37,0,14.57,0,6.29,24.11,36.92,1.25,115.56,46.99,68.168099999999995,3834.13,785.77200000000005,0,0,2033.7,5585.71,12062,433.91399999999999,24803.4,79.409400000000005,0,0,0,604.34299999999996,0,287.95400000000001,0,0,971.70600000000002,0,0,0,0,0,0,0,0,0,0,2.3199999999999998,27.73,2.37,0,14.57,6.29,24.11,36.92,1.25,115.56,46.99,"CA Residential 2016, Vers. 1.0","CSE 0.813 EXE",null,"MPCBECC",0,5.5297000000000001,8.9726299999999995E-2,0,0,0.30136400000000002,0.75569699999999995,1.54311,3.8198599999999999E-2,8.2577999999999996,5.6194300000000004,0,5.5297299999999998,8.9726299999999995E-2,0,0,0.30136400000000002,0.75569699999999995,1.54311,3.8198599999999999E-2,8.2578300000000002,5.6194600000000001,2.95639E-5,2.9087100000000001E-5,0,0,{"$nulls":9},68.168599999999998,3834.01,785.77200000000005,0,0,0,2033.7,5585.71,12062,433.91399999999999,24803.200000000001,79.409899999999993,0,0,0,604.34299999999996,0,287.95400000000001,0,0,971.70699999999999,0,0,0,0,0,0,0,0,0,0,2.3199999999999998,27.73,2.37,0,14.57,0,6.29,24.11,36.92,1.25,115.56,0,5.5297000000000001,8.9726299999999995E-2,0,0,0,0.30136400000000002,0.75569699999999995,1.54311,3.8198599999999999E-2,8.2577999999999996,370.08,7899.94,785.77200000000005,0,0,5894.96,6547.68,10697.7,540.49900000000002,32736.7,308.10000000000002,0,0,0,1048.3399999999999,0,291.12400000000002,0,0,1647.57,0,0,0,0,0,0,0,0,0,0,9.26,60.87,2.37,0,25.28,18.45,26.75,32.86,1.49,177.33,0,10.250500000000001,8.9726299999999995E-2,0,0,0.92718,0.77117400000000003,1.42503,7.5326799999999999E-3,13.4712,56.029699999999998,0,56.029699999999998]
["2016-09-01T10:36:06","U03R11","v28 11 S69 G15 M01","Proposed and Standard","PASS",0,56.161799999999999,332.48899999999998,6190.11,785.77200000000005,0,0,2033.7,5543.01,12062,433.91399999999999,27381,387.22899999999998,0,0,0,615.9,0,287.95400000000001,0,0,1291.08,0,0,0,0,0,0,0,0,0,0,11.34,44.66,2.4700000000000002,0,14.87,0,6.7,24.95,38.71,1.32,145.02000000000001,73.34,332.48899999999998,6190.24,785.77200000000005,0,0,2033.7,5543.01,12062,433.91399999999999,27381.1,387.22800000000001,0,0,0,615.9,0,287.95400000000001,0,0,1291.08,0,0,0,0,0,0,0,0,0,0,11.34,44.66,2.4700000000000002,0,14.87,6.7,24.95,38.71,1.32,145.02000000000001,73.34,"CA Residential 2016, Vers. 1.0","CSE 0.813 EXE",null,"MPCBECC",0,6.68065,8.9726299999999995E-2,0,0,0.30136400000000002,0.75359500000000001,1.54311,3.8198599999999999E-2,9.4066500000000008,6.7703800000000003,0,6.6807299999999996,8.9726299999999995E-2,0,0,0.30136400000000002,0.75359500000000001,1.54311,3.8198599999999999E-2,9.4067299999999996,6.7704599999999999,8.0108600000000001E-5,8.0108600000000001E-5,0,0,{"$nulls":9},332.48899999999998,6190.11,785.77200000000005,0,0,0,2033.7,5543.01,12062,433.91399999999999,27381,387.22899999999998,0,0,0,615.9,0,287.95400000000001,0,0,1291.08,0,0,0,0,0,0,0,0,0,0,11.34,44.66,2.4700000000000002,0,14.87,0,6.7,24.95,38.71,1.32,145.02000000000001,0,6.68065,8.9726299999999995E-2,0,0,0,0.30136400000000002,0.75359500000000001,1.54311,3.8198599999999999E-2,9.4066500000000008,1038.6500000000001,12457.1,785.77200000000005,0,0,5894.96,6547.68,10697.7,540.49900000000002,37962.400000000001,864.495,0,0,0,1058.55,0,291.12400000000002,0,0,2214.17,0,0,0,0,0,0,0,0,0,0,26.02,84.37,2.4700000000000002,0,25.55,19.739999999999998,27.62,34.61,1.57,221.95,0,11.447100000000001,8.9726299999999995E-2,0,0,0.92718,0.77117400000000003,1.42503,7.5326799999999999E-3,14.6678,56.161799999999999,0,56.161799999999999]
["2016-09-01T10:36:05","U03R12","v28 12 S69 G15 M01","Proposed and Standard","PASS",0,55.641399999999997,325.666,2661.1,785.77200000000005,0,0,2033.7,5501.42,12062,433.91399999999999,23803.5,379.22500000000002,0,0,0,647.79700000000003,0,287.95400000000001,0,0,1314.98,0,0,0,0,0,0,0,0,0,0,11.15,27.7,2.4700000000000002,0,15.55,0,6.74,24.8,38.78,1.33,128.52000000000001,56.87,325.666,2661.26,785.77200000000005,0,0,2033.7,5501.43,12062,433.91399999999999,23803.7,379.22399999999999,0,0,0,647.79700000000003,0,287.95400000000001,0,0,1314.98,0,0,0,0,0,0,0,0,0,0,11.15,27.7,2.4700000000000002,0,15.55,6.74,24.8,38.78,1.33,128.52000000000001,56.87,"CA Residential 2016, Vers. 1.0","CSE 0.813 EXE",null,"MPCBECC",0,4.9396699999999996,8.9726299999999995E-2,0,0,0.30136400000000002,0.74921000000000004,1.54311,3.8198599999999999E-2,7.6612799999999996,5.0293900000000002,0,4.9398099999999996,8.9726299999999995E-2,0,0,0.30136400000000002,0.74921000000000004,1.54311,3.8198599999999999E-2,7.6614199999999997,5.0295399999999999,1.46389E-4,1.4591199999999999E-4,0,0,{"$nulls":9},325.666,2661.1,785.77200000000005,0,0,0,2033.7,5501.42,12062,433.91399999999999,23803.5,379.22500000000002,0,0,0,647.79700000000003,0,287.95400000000001,0,0,1314.98,0,0,0,0,0,0,0,0,0,0,11.15,27.7,2.4700000000000002,0,15.55,0,6.74,24.8,38.78,1.33,128.52000000000001,0,4.9396699999999996,8.9726299999999995E-2,0,0,0,0.30136400000000002,0.74921000000000004,1.54311,3.8198599999999999E-2,7.6612799999999996,1029.96,5831.04,785.77200000000005,0,0,5894.96,6547.68,10697.7,540.49900000000002,31327.7,857.13099999999997,0,0,0,1091.3900000000001,0,291.12400000000002,0,0,2239.65,0,0,0,0,0,0,0,0,0,0,25.89,54.47,2.4700000000000002,0,26.21,19.850000000000001,27.63,34.69,1.57,192.78,0,9.2231100000000001,8.9726299999999995E-2,0,0,0.92718,0.77117400000000003,1.42503,7.5326799999999999E-3,12.4438,55.641399999999997,0,55.641399999999997]
["2016-09-01T10:36:06","U03R13","v28 13 S69 G15 M01","Proposed and Standard","PASS",0,56.851700000000001,285.15800000000002,6836.91,785.77200000000005,0,0,2033.7,5570.99,12062,433.91399999999999,28008.400000000001,332.10300000000001,0,0,0,604.26199999999994,0,287.95400000000001,0,0,1224.32,0,0,0,0,0,0,0,0,0,0,9.8000000000000007,47.98,2.4700000000000002,0,14.59,0,6.67,24.95,38.69,1.32,146.47,74.84,285.15699999999998,6837.03,785.77200000000005,0,0,2033.7,5570.99,12062,433.91399999999999,28008.5,332.10199999999998,0,0,0,604.26199999999994,0,287.95400000000001,0,0,1224.32,0,0,0,0,0,0,0,0,0,0,9.8000000000000007,47.98,2.4700000000000002,0,14.59,6.67,24.95,38.69,1.32,146.47,74.84,"CA Residential 2016, Vers. 1.0","CSE 0.813 EXE",null,"MPCBECC",0,7.6774899999999997,8.9726299999999995E-2,0,0,0.30136400000000002,0.755409,1.54311,3.8198599999999999E-2,10.4053,7.76722,0,7.6775200000000003,8.9726299999999995E-2,0,0,0.30136400000000002,0.755409,1.54311,3.8198599999999999E-2,10.4053,7.7672499999999998,2.95639E-5,2.9087100000000001E-5,0,0,{"$nulls":9},285.15800000000002,6836.91,785.77200000000005,0,0,0,2033.7,5570.99,12062,433.91399999999999,28008.400000000001,332.10300000000001,0,0,0,604.26199999999994,0,287.95400000000001,0,0,1224.32,0,0,0,0,0,0,0,0,0,0,9.8000000000000007,47.98,2.4700000000000002,0,14.59,0,6.67,24.95,38.69,1.32,146.47,0,7.6774899999999997,8.9726299999999995E-2,0,0,0,0.30136400000000002,0.755409,1.54311,3.8198599999999999E-2,10.4053,927.52,13616.4,785.77200000000005,0,0,5894.96,6547.68,10697.7,540.49900000000002,39010.5,771.99599999999998,0,0,0,1046.18,0,291.12400000000002,0,0,2109.3000000000002,0,0,0,0,0,0,0,0,0,0,23.39,85.46,2.4700000000000002,0,25.26,19.649999999999999,27.62,34.590000000000003,1.54,219.98,0,12.217599999999999,8.9726299999999995E-2,0,0,0.92718,0.77117400000000003,1.42503,7.5326799999999999E-3,15.4382,56.851700000000001,0,56.851700000000001]
["2016-09-01T10:36:05","U03R14","v28 14 S69 G15 M01","Proposed and Standard","PASS",0,56.897399999999998,322.464,5872.07,785.77200000000005,0,0,2033.7,5539.67,12062,433.91399999999999,27049.5,375.95100000000002,0,0,0,623.22699999999998,0,287.95400000000001,0,0,1287.1300000000001,0,0,0,0,0,0,0,0,0,0,11.06,40.96,2.37,0,15.15,0,6.38,24.13,37.020000000000003,1.26,138.33000000000001,69.540000000000006,322.464,5872.13,785.77200000000005,0,0,2033.7,5539.67,12062,433.91399999999999,27049.599999999999,375.95,0,0,0,623.22699999999998,0,287.95400000000001,0,0,1287.1300000000001,0,0,0,0,0,0,0,0,0,0,11.06,40.96,2.37,0,15.15,6.38,24.13,37.020000000000003,1.26,138.33000000000001,69.540000000000006,"CA Residential 2016, Vers. 1.0","CSE 0.813 EXE",null,"MPCBECC",0,7.0342099999999999,8.9726299999999995E-2,0,0,0.30136400000000002,0.75548400000000004,1.54311,3.8198599999999999E-2,9.7621000000000002,7.1239400000000002,0,7.0342500000000001,8.9726299999999995E-2,0,0,0.30136400000000002,0.75548400000000004,1.54311,3.8198599999999999E-2,9.7621400000000005,7.1239800000000004,3.9100600000000003E-5,3.8146999999999999E-5,0,0,{"$nulls":9},322.464,5872.07,785.77200000000005,0,0,0,2033.7,5539.67,12062,433.91399999999999,27049.5,375.95100000000002,0,0,0,623.22699999999998,0,287.95400000000001,0,0,1287.1300000000001,0,0,0,0,0,0,0,0,0,0,11.06,40.96,2.37,0,15.15,0,6.38,24.13,37.020000000000003,1.26,138.33000000000001,0,7.0342099999999999,8.9726299999999995E-2,0,0,0,0.30136400000000002,0.75548400000000004,1.54311,3.8198599999999999E-2,9.7621000000000002,1031.54,11891,785.77200000000005,0,0,5894.96,6547.68,10697.7,540.49900000000002,37389.199999999997,859.49900000000002,0,0,0,1065.1300000000001,0,291.12400000000002,0,0,2215.7600000000002,0,0,0,0,0,0,0,0,0,0,25.94,75.430000000000007,2.37,0,25.9,18.829999999999998,26.77,33.130000000000003,1.49,209.86,0,11.264099999999999,8.9726299999999995E-2,0,0,0.92718,0.77117400000000003,1.42503,7.5326799999999999E-3,14.4847,56.897399999999998,0,56.897399999999998]
["2016-09-01T10:36:06","U03R15","v28 15 S69 G15 M01","Proposed and Standard","PASS",0,62.315399999999997,4.7719899999999997,17538.2,785.77200000000005,0,0,2033.7,5776.37,12062,433.91399999999999,38634.699999999997,5.5579599999999996,0,0,0,452.49599999999998,0,287.95400000000001,0,0,746.00800000000004,0,0,0,0,0,0,0,0,0,0,0.16,91.62,2.37,0,11.08,0,6.42,24.77,37.11,1.27,174.8,105.23,4.7716700000000003,17538.3,785.77200000000005,0,0,2033.7,5776.38,12062,433.91399999999999,38634.800000000003,5.5575799999999997,0,0,0,452.49599999999998,0,287.95400000000001,0,0,746.00800000000004,0,0,0,0,0,0,0,0,0,0,0.16,91.62,2.37,0,11.08,6.42,24.77,37.11,1.27,174.8,105.23,"CA Residential 2016, Vers. 1.0","CSE 0.813 EXE",null,"MPCBECC",0,12.2578,8.9726299999999995E-2,0,0,0.30136400000000002,0.75797000000000003,1.54311,3.8198599999999999E-2,14.988200000000001,12.3475,0,12.2578,8.9726299999999995E-2,0,0,0.30136400000000002,0.75797000000000003,1.54311,3.8198599999999999E-2,14.988200000000001,12.3475,0,0,0,0,{"$nulls":9},4.7719899999999997,17538.2,785.77200000000005,0,0,0,2033.7,5776.37,12062,433.91399999999999,38634.699999999997,5.5579599999999996,0,0,0,452.49599999999998,0,287.95400000000001,0,0,746.00800000000004,0,0,0,0,0,0,0,0,0,0,0.16,91.62,2.37,0,11.08,0,6.42,24.77,37.11,1.27,174.8,0,12.2578,8.9726299999999995E-2,0,0,0,0.30136400000000002,0.75797000000000003,1.54311,3.8198599999999999E-2,14.988200000000001,95.000900000000001,32917.800000000003,785.77200000000005,0,0,5894.96,6547.68,10697.7,540.49900000000002,57479.5,79.076599999999999,0,0,0,889.40899999999999,0,291.12400000000002,0,0,1259.6099999999999,0,0,0,0,0,0,0,0,0,0,2.42,153.05000000000001,2.37,0,21.77,18.93,26.8,33.18,1.51,260.02999999999997,0,16.9299,8.9726299999999995E-2,0,0,0.92718,0.77117400000000003,1.42503,7.5326799999999999E-3,20.150600000000001,62.315399999999997,0,62.315399999999997]
["2016-09-01T10:36:25","U03R16","v28 16 S69 G15 M01","Proposed and Standard","PASS",0,56.9071,890.63599999999997,943.73400000000004,785.77200000000005,0,0,2033.7,5399.12,12062,433.91399999999999,22548.799999999999,1039.92,0,0,0,768.83,0,287.95400000000001,0,0,2096.6999999999998,0,0,0,0,0,0,0,0,0,0,29.56,8.98,2.36,0,18.559999999999999,0,6.33,23.66,36.909999999999997,1.25,127.61,59.46,890.63599999999997,943.80600000000004,785.77200000000005,0,0,2033.7,5399.13,12062,433.91399999999999,22548.9,1039.92,0,0,0,768.83,0,287.95400000000001,0,0,2096.6999999999998,0,0,0,0,0,0,0,0,0,0,29.56,8.98,2.36,0,18.559999999999999,6.33,23.66,36.909999999999997,1.25,127.61,59.46,"CA Residential 2016, Vers. 1.0","CSE 0.813 EXE",null,"MPCBECC",0,1.6954100000000001,8.9726299999999995E-2,0,0,0.30136400000000002,0.74360199999999999,1.54311,3.8198599999999999E-2,4.4114100000000001,1.7851399999999999,0,1.69547,8.9726299999999995E-2,0,0,0.30136400000000002,0.74360300000000001,1.54311,3.8198599999999999E-2,4.4114699999999996,1.7851999999999999,6.1988800000000005E-5,6.1154400000000005E-5,0,0,{"$nulls":9},890.63599999999997,943.73400000000004,785.77200000000005,0,0,0,2033.7,5399.12,12062,433.91399999999999,22548.799999999999,1039.92,0,0,0,768.83,0,287.95400000000001,0,0,2096.6999999999998,0,0,0,0,0,0,0,0,0,0,29.56,8.98,2.36,0,18.559999999999999,0,6.33,23.66,36.909999999999997,1.25,127.61,0,1.6954100000000001,8.9726299999999995E-2,0,0,0,0.30136400000000002,0.74360199999999999,1.54311,3.8198599999999999E-2,4.4114100000000001,1353.48,2658.86,785.77200000000005,0,0,5894.96,6547.68,10697.7,540.49900000000002,28479,1129.46,0,0,0,1211.55,0,291.12400000000002,0,0,2632.13,0,0,0,0,0,0,0,0,0,0,33.17,22.39,2.36,0,29.25,18.649999999999999,26.72,32.99,1.48,167.01,0,3.6081099999999999,8.9726299999999995E-2,0,0,0.92718,0.77117400000000003,1.42503,7.5326799999999999E-3,6.8287599999999999,56.9071,0,56.9071]
["2016-09-01T10:35:52","U04R01","v28 01 P21 U20 M01","Proposed and Standard","PASS",1.8,56.038899999999998,301.66800000000001,0,111.69,0,0,505.55700000000002,885.56200000000001,2025.88,119.621,3949.98,351.31,0,0,0,129.65100000000001,0,43.669699999999999,0,0,524.63099999999997,0,0,0,0,0,0,0,0,0,0,32.200000000000003,0,1.17,0,10.27,0,5.44,13.02,21.44,1.2,84.74,43.64,315.01799999999997,0,111.69,0,0,505.55700000000002,889.01599999999996,2025.88,119.621,3966.79,366.85700000000003,0,0,0,129.65100000000001,0,43.669699999999999,0,0,540.178,0,0,0,0,0,0,0,0,0,0,34,0,1.17,0,10.27,5.44,13.06,21.44,1.2,86.58,45.44,"CA Residential 2016, Vers. 1.0","CSE 0.813 EXE",null,"MPCBECC",5.8522800000000004E-10,0,1.2753799999999999E-2,0,0,7.4915999999999996E-2,0.13134100000000001,0.25846799999999998,1.0530599999999999E-2,0.48800900000000003,1.2753799999999999E-2,1.3120800000000001E-9,0,1.2753799999999999E-2,0,0,7.4915999999999996E-2,0.13228300000000001,0.25846799999999998,1.0530599999999999E-2,0.48895100000000002,1.2753799999999999E-2,9.41902E-4,0,2.12521,3.9612699999999998,{"$nulls":9},301.66800000000001,0,111.69,0,0,0,505.55700000000002,885.56200000000001,2025.88,119.621,3949.98,351.31,0,0,0,129.65100000000001,0,43.669699999999999,0,0,524.63099999999997,0,0,0,0,0,0,0,0,0,0,32.200000000000003,0,1.17,0,10.27,0,5.44,13.02,21.44,1.2,84.74,5.8522800000000004E-10,0,1.2753799999999999E-2,0,0,0,7.4915999999999996E-2,0.13134100000000001,0.25846799999999998,1.0530599999999999E-2,0.48800900000000003,419.18900000000002,0,111.69,0,0,2135,930.00099999999998,2637.81,297.5,6531.19,348.87900000000002,0,0,0,183.46600000000001,0,65.400000000000006,0,0,597.745,0,0,0,0,0,0,0,0,0,0,33.33,0,1.17,0,14.53,23.21,14.89,28.04,2.82,117.99,1.8028300000000001E-9,0,1.2753799999999999E-2,0,0,0.33579999999999999,0.11074100000000001,0.35138000000000003,4.1461199999999997E-3,0.81482200000000005,56.038899999999998,0,57.255699999999997]
["2016-09-01T10:35:55","U04R02","v28 02 P21 U20 M01","Proposed and Standard","PASS",1.65,49.472000000000001,201.386,0.84929699999999997,111.69,0,0,505.55700000000002,920.76300000000003,2025.88,119.621,3885.75,234.517,0,0,0,116.405,0,43.669699999999999,0,0,394.59199999999998,0,0,0,0,0,0,0,0,0,0,22.42,0.02,1.17,0,9.26,0,5.44,13.62,21.46,1.2,74.59,32.869999999999997,212.21600000000001,6.16716,111.69,0,0,505.55700000000002,926.02300000000002,2025.88,119.621,3907.16,247.12899999999999,0,0,0,116.405,0,43.669699999999999,0,0,407.20400000000001,0,0,0,0,0,0,0,0,0,0,23.73,0.36,1.17,0,9.26,5.44,13.69,21.46,1.2,76.31,34.520000000000003,"CA Residential 2016, Vers. 1.0","CSE 0.813 EXE",null,"MPCBECC",0,1.0497099999999999E-3,1.2753799999999999E-2,0,0,7.4915999999999996E-2,0.14169599999999999,0.25846799999999998,1.0530599999999999E-2,0.499415,1.38035E-2,0,1.12493E-2,1.2753799999999999E-2,0,0,7.4915999999999996E-2,0.14302300000000001,0.25846799999999998,1.0530599999999999E-2,0.51094099999999998,2.4003E-2,1.1526099999999999E-2,1.01996E-2,2.2539699999999998,4.7798400000000001,{"$nulls":9},201.386,0.84929699999999997,111.69,0,0,0,505.55700000000002,920.76300000000003,2025.88,119.621,3885.75,234.517,0,0,0,116.405,0,43.669699999999999,0,0,394.59199999999998,0,0,0,0,0,0,0,0,0,0,22.42,0.02,1.17,0,9.26,0,5.44,13.62,21.46,1.2,74.59,0,1.0497099999999999E-3,1.2753799999999999E-2,0,0,0,7.4915999999999996E-2,0.14169599999999999,0.25846799999999998,1.0530599999999999E-2,0.499415,455.72300000000001,63.205500000000001,111.69,0,0,2135,930.00099999999998,2637.81,297.5,6630.93,379.27100000000002,0,0,0,170.803,0,65.400000000000006,0,0,615.47400000000005,0,0,0,0,0,0,0,0,0,0,37.39,3.55,1.17,0,13.59,23.29,14.9,28.13,2.81,124.83,0,0.130719,1.2753799999999999E-2,0,0,0.33579999999999999,0.11074100000000001,0.35138000000000003,4.1461199999999997E-3,0.94554099999999996,49.472000000000001,0,50.6128]
["2016-09-01T10:35:55","U04R03","v28 03 P21 U20 M01","Proposed and Standard","PASS",2.19,46.202100000000002,111.346,0,111.69,0,0,505.55700000000002,915.94,2025.88,119.621,3790.04,129.65700000000001,0,0,0,116.887,0,43.669699999999999,0,0,290.214,0,0,0,0,0,0,0,0,0,0,12.49,0,1.17,0,9.2799999999999994,0,5.41,13.49,21.43,1.19,64.459999999999994,22.94,129.86799999999999,0,111.69,0,0,505.55700000000002,919.53800000000001,2025.88,119.621,3812.16,151.22499999999999,0,0,0,116.887,0,43.669699999999999,0,0,311.78100000000001,0,0,0,0,0,0,0,0,0,0,14.68,0,1.17,0,9.2799999999999994,5.41,13.54,21.43,1.19,66.7,25.13,"CA Residential 2016, Vers. 1.0","CSE 0.813 EXE",null,"MPCBECC",0,0,1.2753799999999999E-2,0,0,7.4915999999999996E-2,0.13777900000000001,0.25846799999999998,1.0530599999999999E-2,0.494448,1.2753799999999999E-2,0,0,1.2753799999999999E-2,0,0,7.4915999999999996E-2,0.13894100000000001,0.25846799999999998,1.0530599999999999E-2,0.49560900000000002,1.2753799999999999E-2,1.1612199999999999E-3,0,3.35832,8.7146899999999992,{"$nulls":9},111.346,0,111.69,0,0,0,505.55700000000002,915.94,2025.88,119.621,3790.04,129.65700000000001,0,0,0,116.887,0,43.669699999999999,0,0,290.214,0,0,0,0,0,0,0,0,0,0,12.49,0,1.17,0,9.2799999999999994,0,5.41,13.49,21.43,1.19,64.459999999999994,0,0,1.2753799999999999E-2,0,0,0,7.4915999999999996E-2,0.13777900000000001,0.25846799999999998,1.0530599999999999E-2,0.494448,387.17700000000002,0,111.69,0,0,2135,930.00099999999998,2637.81,297.5,6499.18,322.20699999999999,0,0,0,171.37200000000001,0,65.400000000000006,0,0,558.97900000000004,0,0,0,0,0,0,0,0,0,0,31.69,0,1.17,0,13.6,23.09,14.89,28.02,2.78,115.24,0,0,1.2753799999999999E-2,0,0,0.33579999999999999,0.11074100000000001,0.35138000000000003,4.1461199999999997E-3,0.81482200000000005,46.202100000000002,0,47.807600000000001]
["2016-09-01T10:36:00","U04R04","v28 04 P21 U20 M01","Proposed and Standard","PASS",2.79,46.290599999999998,137.58099999999999,7.0410000000000004,111.69,0,0,505.55700000000002,933.9,2025.88,119.621,3841.27,160.21600000000001,0,0,0,111.371,0,43.669699999999999,0,0,315.25700000000001,0,0,0,0,0,0,0,0,0,0,15.37,0.26,1.17,0,8.8699999999999992,0,5.46,13.71,21.48,1.2,67.52,25.67,149.80000000000001,24.561900000000001,111.69,0,0,505.55700000000002,938.95500000000004,2025.88,119.621,3876.07,174.44499999999999,0,0,0,111.371,0,43.669699999999999,0,0,329.48599999999999,0,0,0,0,0,0,0,0,0,0,16.82,1.6,1.17,0,8.8699999999999992,5.46,13.77,21.48,1.2,70.37,28.46,"CA Residential 2016, Vers. 1.0","CSE 0.813 EXE",null,"MPCBECC",0,2.4018399999999999E-2,1.2753799999999999E-2,0,0,7.4915999999999996E-2,0.14554900000000001,0.25846799999999998,1.0530599999999999E-2,0.52623500000000001,3.6772199999999998E-2,0,0.15347,1.2753799999999999E-2,0,0,7.4915999999999996E-2,0.14660000000000001,0.25846799999999998,1.0530599999999999E-2,0.65673800000000004,0.16622300000000001,0.13050200000000001,0.12945100000000001,4.0500299999999996,9.8032299999999992,{"$nulls":9},137.58099999999999,7.0410000000000004,111.69,0,0,0,505.55700000000002,933.9,2025.88,119.621,3841.27,160.21600000000001,0,0,0,111.371,0,43.669699999999999,0,0,315.25700000000001,0,0,0,0,0,0,0,0,0,0,15.37,0.26,1.17,0,8.8699999999999992,0,5.46,13.71,21.48,1.2,67.52,0,2.4018399999999999E-2,1.2753799999999999E-2,0,0,0,7.4915999999999996E-2,0.14554900000000001,0.25846799999999998,1.0530599999999999E-2,0.52623500000000001,351.05599999999998,151.226,111.69,0,0,2135,930.00099999999998,2637.81,297.5,6614.28,292.16399999999999,0,0,0,165.96,0,65.400000000000006,0,0,523.524,0,0,0,0,0,0,0,0,0,0,28.98,8.16,1.17,0,13.22,23.33,14.9,28.15,2.8,120.71,0,0.64194300000000004,1.2753799999999999E-2,0,0,0.33579999999999999,0.11074100000000001,0.35138000000000003,4.1461199999999997E-3,1.4567600000000001,46.290599999999998,0,48.244599999999998]
["2016-09-01T10:35:59","U04R05","v28 05 P21 U20 M01","Proposed and Standard","PASS",2.2999999999999998,42.988799999999998,89.5047,0,111.69,0,0,505.55700000000002,914.70500000000004,2025.88,119.621,3766.96,104.236,0,0,0,119.652,0,43.669699999999999,0,0,267.55700000000002,0,0,0,0,0,0,0,0,0,0,9.73,0,1.17,0,9.48,0,5.36,13.38,21.36,1.19,61.67,20.38,108.196,0,111.69,0,0,505.55700000000002,919.42700000000002,2025.88,119.621,3790.37,126.003,0,0,0,119.652,0,43.669699999999999,0,0,289.32499999999999,0,0,0,0,0,0,0,0,0,0,12.03,0,1.17,0,9.48,5.36,13.44,21.36,1.19,64.03,22.68,"CA Residential 2016, Vers. 1.0","CSE 0.813 EXE",null,"MPCBECC",0,0,1.2753799999999999E-2,0,0,7.4915999999999996E-2,0.13678699999999999,0.25846799999999998,1.0530599999999999E-2,0.49345499999999998,1.2753799999999999E-2,0,0,1.2753799999999999E-2,0,0,7.4915999999999996E-2,0.138463,0.25846799999999998,1.0530599999999999E-2,0.49513099999999999,1.2753799999999999E-2,1.6763500000000001E-3,0,3.6857700000000002,10.1411,{"$nulls":9},89.5047,0,111.69,0,0,0,505.55700000000002,914.70500000000004,2025.88,119.621,3766.96,104.236,0,0,0,119.652,0,43.669699999999999,0,0,267.55700000000002,0,0,0,0,0,0,0,0,0,0,9.73,0,1.17,0,9.48,0,5.36,13.38,21.36,1.19,61.67,0,0,1.2753799999999999E-2,0,0,0,7.4915999999999996E-2,0.13678699999999999,0.25846799999999998,1.0530599999999999E-2,0.49345499999999998,402.94099999999997,0,111.69,0,0,2135,930.00099999999998,2637.81,297.5,6514.94,335.36399999999998,0,0,0,174.023,0,65.400000000000006,0,0,574.78800000000001,0,0,0,0,0,0,0,0,0,0,32.380000000000003,0,1.17,0,13.79,22.84,14.87,27.86,2.78,115.69,2.6512700000000002E-15,0,1.2753799999999999E-2,0,0,0.33579999999999999,0.11074100000000001,0.35138000000000003,4.1461199999999997E-3,0.81482200000000005,42.988799999999998,0,44.633899999999997]
["2016-09-01T10:35:57","U04R06","v28 06 P21 U20 M01","Proposed and Standard","PASS",1.67,49.566099999999999,58.390700000000002,21.417400000000001,111.69,0,0,505.55700000000002,949.80700000000002,2025.88,119.621,3792.37,67.995699999999999,0,0,0,106.27500000000001,0,43.669699999999999,0,0,217.941,0,0,0,0,0,0,0,0,0,0,6.59,1.6,1.1299999999999999,0,8.5,0,5.27,13.58,20.78,1.1499999999999999,58.6,17.82,67.737700000000004,35.925899999999999,111.69,0,0,505.55700000000002,953.52599999999995,2025.88,119.621,3819.94,78.880300000000005,0,0,0,106.27500000000001,0,43.669699999999999,0,0,228.82499999999999,0,0,0,0,0,0,0,0,0,0,7.7,2.16,1.1299999999999999,0,8.5,5.27,13.63,20.78,1.1499999999999999,60.32,19.489999999999998,"CA Residential 2016, Vers. 1.0","CSE 0.813 EXE",null,"MPCBECC",0,0.14163700000000001,1.2753799999999999E-2,0,0,7.4915999999999996E-2,0.143651,0.25846799999999998,1.0530599999999999E-2,0.641957,0.154391,0,0.17299300000000001,1.2753799999999999E-2,0,0,7.4915999999999996E-2,0.14454600000000001,0.25846799999999998,1.0530599999999999E-2,0.67420800000000003,0.185747,3.2250599999999997E-2,3.1356299999999997E-2,2.8514599999999999,8.5685000000000002,{"$nulls":9},58.390700000000002,21.417400000000001,111.69,0,0,0,505.55700000000002,949.80700000000002,2025.88,119.621,3792.37,67.995699999999999,0,0,0,106.27500000000001,0,43.669699999999999,0,0,217.941,0,0,0,0,0,0,0,0,0,0,6.59,1.6,1.1299999999999999,0,8.5,0,5.27,13.58,20.78,1.1499999999999999,58.6,0,0.14163700000000001,1.2753799999999999E-2,0,0,0,7.4915999999999996E-2,0.143651,0.25846799999999998,1.0530599999999999E-2,0.641957,148.465,90.926299999999998,111.69,0,0,2135,930.00099999999998,2637.81,297.5,6351.39,123.557,0,0,0,161.15600000000001,0,65.400000000000006,0,0,350.113,0,0,0,0,0,0,0,0,0,0,12.35,5.55,1.1299999999999999,0,12.88,22.42,14.59,27.08,2.74,98.74,0,0.29978900000000003,1.2753799999999999E-2,0,0,0.33579999999999999,0.11074100000000001,0.35138000000000003,4.1461199999999997E-3,1.1146100000000001,49.566099999999999,0,51.020899999999997]
["2016-09-01T10:36:00","U04R07","v28 07 P21 U20 M01","Proposed and Standard","PASS",0.88,48.950200000000002,19.406099999999999,1.4439900000000001,111.69,0,0,505.55700000000002,951.37599999999998,2025.88,119.621,3734.98,22.5975,0,0,0,104.54600000000001,0,43.669699999999999,0,0,170.81299999999999,0,0,0,0,0,0,0,0,0,0,2.09,0.08,1.17,0,8.1999999999999993,0,5.54,13.84,21.65,1.22,53.79,11.54,25.065000000000001,3.65082,111.69,0,0,505.55700000000002,955.10199999999998,2025.88,119.621,3746.57,29.187200000000001,0,0,0,104.54600000000001,0,43.669699999999999,0,0,177.40299999999999,0,0,0,0,0,0,0,0,0,0,2.75,0.3,1.17,0,8.1999999999999993,5.54,13.89,21.65,1.22,54.72,12.42,"CA Residential 2016, Vers. 1.0","CSE 0.813 EXE",null,"MPCBECC",0,9.2964299999999996E-3,1.2753799999999999E-2,0,0,7.4915999999999996E-2,0.142984,0.25846799999999998,1.0530599999999999E-2,0.50894799999999996,2.2050199999999999E-2,0,3.2055100000000003E-2,1.2753799999999999E-2,0,0,7.4915999999999996E-2,0.144064,0.25846799999999998,1.0530599999999999E-2,0.53278700000000001,4.4808899999999999E-2,2.38389E-2,2.27587E-2,1.69956,7.08535,{"$nulls":9},19.406099999999999,1.4439900000000001,111.69,0,0,0,505.55700000000002,951.37599999999998,2025.88,119.621,3734.98,22.5975,0,0,0,104.54600000000001,0,43.669699999999999,0,0,170.81299999999999,0,0,0,0,0,0,0,0,0,0,2.09,0.08,1.17,0,8.1999999999999993,0,5.54,13.84,21.65,1.22,53.79,0,9.2964299999999996E-3,1.2753799999999999E-2,0,0,0,7.4915999999999996E-2,0.142984,0.25846799999999998,1.0530599999999999E-2,0.50894799999999996,60.110500000000002,29.023700000000002,111.69,0,0,2135,930.00099999999998,2637.81,297.5,6201.14,50.023800000000001,0,0,0,159.6,0,65.400000000000006,0,0,275.024,0,0,0,0,0,0,0,0,0,0,4.8499999999999996,2.38,1.17,0,12.51,23.59,14.88,28.26,2.93,90.57,0,0.133802,1.2753799999999999E-2,0,0,0.33579999999999999,0.11074100000000001,0.35138000000000003,4.1461199999999997E-3,0.94862299999999999,48.950200000000002,0,49.796500000000002]
["2016-09-01T10:36:00","U04R08","v28 08 P21 U20 M01","Proposed and Standard","PASS",2.0099999999999998,45.169499999999999,28.4861,187.22399999999999,111.69,0,0,505.55700000000002,965.86199999999997,2025.88,119.621,3944.32,33.171999999999997,0,0,0,101.84099999999999,0,43.669699999999999,0,0,178.68299999999999,0,0,0,0,0,0,0,0,0,0,3.23,5.01,1.1299999999999999,0,8.15,0,5.32,13.79,20.87,1.17,58.67,17.52,35.346200000000003,226.191,111.69,0,0,505.55700000000002,969.94299999999998,2025.88,119.621,3994.23,41.160699999999999,0,0,0,101.84099999999999,0,43.669699999999999,0,0,186.672,0,0,0,0,0,0,0,0,0,0,4.03,6.22,1.1299999999999999,0,8.15,5.32,13.84,20.87,1.17,60.73,19.53,"CA Residential 2016, Vers. 1.0","CSE 0.813 EXE",null,"MPCBECC",0,0.34553899999999999,1.2753799999999999E-2,0,0,7.4915999999999996E-2,0.14818600000000001,0.25846799999999998,1.0530599999999999E-2,0.85039299999999995,0.35829299999999997,0,0.45141500000000001,1.2753799999999999E-2,0,0,7.4915999999999996E-2,0.149196,0.25846799999999998,1.0530599999999999E-2,0.95727799999999996,0.46416800000000003,0.10688599999999999,0.105876,3.3920599999999999,10.2919,{"$nulls":9},28.4861,187.22399999999999,111.69,0,0,0,505.55700000000002,965.86199999999997,2025.88,119.621,3944.32,33.171999999999997,0,0,0,101.84099999999999,0,43.669699999999999,0,0,178.68299999999999,0,0,0,0,0,0,0,0,0,0,3.23,5.01,1.1299999999999999,0,8.15,0,5.32,13.79,20.87,1.17,58.67,0,0.34553899999999999,1.2753799999999999E-2,0,0,0,7.4915999999999996E-2,0.14818600000000001,0.25846799999999998,1.0530599999999999E-2,0.85039299999999995,108.01900000000001,654.303,111.69,0,0,2135,930.00099999999998,2637.81,297.5,6874.32,89.896699999999996,0,0,0,156.83799999999999,0,65.400000000000006,0,0,312.13400000000001,0,0,0,0,0,0,0,0,0,0,9.02,22.55,1.1299999999999999,0,12.55,22.64,14.62,27.23,2.79,112.53,0,1.5246500000000001,1.2753799999999999E-2,0,0,0.33579999999999999,0.11074100000000001,0.35138000000000003,4.1461199999999997E-3,2.33948,45.169499999999999,0,46.755400000000002]
["2016-09-01T10:35:59","U04R09","v28 09 P21 U20 M01","Proposed and Standard","PASS",3.95,44.959400000000002,46.349699999999999,387.94499999999999,111.69,0,0,505.55700000000002,965.36699999999996,2025.88,119.621,4162.41,53.990400000000001,0,0,0,101.676,0,43.669699999999999,0,0,199.33699999999999,0,0,0,0,0,0,0,0,0,0,5.21,13.87,1.1200000000000001,0,8.15,0,5.25,13.67,20.63,1.1499999999999999,69.05,28.35,54.219000000000001,462.12099999999998,111.69,0,0,505.55700000000002,969.65200000000004,2025.88,119.621,4248.74,63.1571,0,0,0,101.676,0,43.669699999999999,0,0,208.50299999999999,0,0,0,0,0,0,0,0,0,0,6.13,16.899999999999999,1.1200000000000001,0,8.15,5.25,13.72,20.63,1.1499999999999999,73.05,32.299999999999997,"CA Residential 2016, Vers. 1.0","CSE 0.813 EXE",null,"MPCBECC",0,0.94950299999999999,1.2753799999999999E-2,0,0,7.4915999999999996E-2,0.15090700000000001,0.25846799999999998,1.0530599999999999E-2,1.4570799999999999,0.962256,0,1.17225,1.2753799999999999E-2,0,0,7.4915999999999996E-2,0.15179799999999999,0.25846799999999998,1.0530599999999999E-2,1.6807099999999999,1.1850000000000001,0.223636,0.222745,5.4756900000000002,12.229100000000001,{"$nulls":9},46.349699999999999,387.94499999999999,111.69,0,0,0,505.55700000000002,965.36699999999996,2025.88,119.621,4162.41,53.990400000000001,0,0,0,101.676,0,43.669699999999999,0,0,199.33699999999999,0,0,0,0,0,0,0,0,0,0,5.21,13.87,1.1200000000000001,0,8.15,0,5.25,13.67,20.63,1.1499999999999999,69.05,0,0.94950299999999999,1.2753799999999999E-2,0,0,0,7.4915999999999996E-2,0.15090700000000001,0.25846799999999998,1.0530599999999999E-2,1.4570799999999999,152.267,1205.06,111.69,0,0,2135,930.00099999999998,2637.81,297.5,7469.33,126.76,0,0,0,156.63499999999999,0,65.400000000000006,0,0,348.79500000000002,0,0,0,0,0,0,0,0,0,0,12.63,43.11,1.1200000000000001,0,12.56,22.39,14.52,26.97,2.75,136.05000000000001,0,2.45269,1.2753799999999999E-2,0,0,0.33579999999999999,0.11074100000000001,0.35138000000000003,4.1461199999999997E-3,3.2675100000000001,44.959400000000002,0,47.563800000000001]
["2016-09-01T10:35:59","U04R10","v28 10 P21 U20 M01","Proposed and Standard","PASS",3.69,43.486699999999999,54.806399999999996,482.96199999999999,111.69,0,0,505.55700000000002,967.38499999999999,2025.88,119.621,4267.8999999999996,63.844200000000001,0,0,0,100.913,0,43.669699999999999,0,0,208.42699999999999,0,0,0,0,0,0,0,0,0,0,6.13,13.68,1.1200000000000001,0,8.11,0,5.18,13.63,20.54,1.1399999999999999,69.53,29.04,64.058099999999996,580.50699999999995,111.69,0,0,505.55700000000002,971.48599999999999,2025.88,119.621,4378.8,74.621600000000001,0,0,0,100.913,0,43.669699999999999,0,0,219.20400000000001,0,0,0,0,0,0,0,0,0,0,7.23,16.27,1.1200000000000001,0,8.11,5.18,13.68,20.54,1.1399999999999999,73.27,32.729999999999997,"CA Residential 2016, Vers. 1.0","CSE 0.813 EXE",null,"MPCBECC",0,0.99762499999999998,1.2753799999999999E-2,0,0,7.4915999999999996E-2,0.151479,0.25846799999999998,1.0530599999999999E-2,1.5057700000000001,1.0103800000000001,0,1.1548700000000001,1.2753799999999999E-2,0,0,7.4915999999999996E-2,0.15229400000000001,0.25846799999999998,1.0530599999999999E-2,1.6638299999999999,1.1676200000000001,0.158056,0.15724199999999999,5.1044200000000002,11.274100000000001,{"$nulls":9},54.806399999999996,482.96199999999999,111.69,0,0,0,505.55700000000002,967.38499999999999,2025.88,119.621,4267.8999999999996,63.844200000000001,0,0,0,100.913,0,43.669699999999999,0,0,208.42699999999999,0,0,0,0,0,0,0,0,0,0,6.13,13.68,1.1200000000000001,0,8.11,0,5.18,13.63,20.54,1.1399999999999999,69.53,0,0.99762499999999998,1.2753799999999999E-2,0,0,0,7.4915999999999996E-2,0.151479,0.25846799999999998,1.0530599999999999E-2,1.5057700000000001,170.91200000000001,1686.8,111.69,0,0,2135,930.00099999999998,2637.81,297.5,7969.71,142.28800000000001,0,0,0,155.80699999999999,0,65.400000000000006,0,0,363.495,0,0,0,0,0,0,0,0,0,0,14.15,48.73,1.1200000000000001,0,12.51,22.15,14.51,26.85,2.71,142.72999999999999,0,2.7154500000000001,1.2753799999999999E-2,0,0,0.33579999999999999,0.11074100000000001,0.35138000000000003,4.1461199999999997E-3,3.5302699999999998,43.486699999999999,0,45.825800000000001]
["2016-09-01T10:36:00","U04R11","v28 11 P21 U20 M01","Proposed and Standard","PASS",5.52,46.721499999999999,166.77600000000001,1156.52,111.69,0,0,505.55700000000002,962.81,2025.88,119.621,5048.8599999999997,194.233,0,0,0,103.003,0,43.669699999999999,0,0,340.90600000000001,0,0,0,0,0,0,0,0,0,0,18.71,30.53,1.17,0,8.2799999999999994,0,5.52,14.25,21.53,1.21,101.2,58.69,180.417,1317.77,111.69,0,0,505.55700000000002,966.471,2025.88,119.621,5227.41,210.12,0,0,0,103.003,0,43.669699999999999,0,0,356.79199999999997,0,0,0,0,0,0,0,0,0,0,20.32,34.44,1.17,0,8.2799999999999994,5.52,14.3,21.53,1.21,106.77,64.209999999999994,"CA Residential 2016, Vers. 1.0","CSE 0.813 EXE",null,"MPCBECC",0,1.4113100000000001,1.2753799999999999E-2,0,0,7.4915999999999996E-2,0.15171000000000001,0.25846799999999998,1.0530599999999999E-2,1.9196800000000001,1.4240600000000001,0,1.54339,1.2753799999999999E-2,0,0,7.4915999999999996E-2,0.152701,0.25846799999999998,1.0530599999999999E-2,2.0527600000000001,1.5561400000000001,0.13307099999999999,0.13208,5.2168099999999997,8.5967900000000004,{"$nulls":9},166.77600000000001,1156.52,111.69,0,0,0,505.55700000000002,962.81,2025.88,119.621,5048.8599999999997,194.233,0,0,0,103.003,0,43.669699999999999,0,0,340.90600000000001,0,0,0,0,0,0,0,0,0,0,18.71,30.53,1.17,0,8.2799999999999994,0,5.52,14.25,21.53,1.21,101.2,0,1.4113100000000001,1.2753799999999999E-2,0,0,0,7.4915999999999996E-2,0.15171000000000001,0.25846799999999998,1.0530599999999999E-2,1.9196800000000001,414.50099999999998,3106.48,111.69,0,0,2135,930.00099999999998,2637.81,297.5,9632.98,345.00099999999998,0,0,0,157.63800000000001,0,65.400000000000006,0,0,568.03899999999999,0,0,0,0,0,0,0,0,0,0,34.33,74.87,1.17,0,12.68,23.7,14.91,28.28,2.86,192.8,0,3.16703,1.2753799999999999E-2,0,0,0.33579999999999999,0.11074100000000001,0.35138000000000003,4.1461199999999997E-3,3.9818600000000002,46.721499999999999,0,49.292999999999999]
["2016-09-01T10:35:53","U04R12","v28 12 P21 U20 M01","Proposed and Standard","PASS",4.04,43.378,179.28899999999999,212.96899999999999,111.69,0,0,505.55700000000002,943.90800000000002,2025.88,119.621,4098.92,208.77500000000001,0,0,0,108.29,0,43.669699999999999,0,0,360.73500000000001,0,0,0,0,0,0,0,0,0,0,20.18,7.39,1.17,0,8.66,0,5.55,13.96,21.58,1.22,79.709999999999994,37.4,189.36,276.12799999999999,111.69,0,0,505.55700000000002,948.78800000000001,2025.88,119.621,4177.03,220.50200000000001,0,0,0,108.29,0,43.669699999999999,0,0,372.46199999999999,0,0,0,0,0,0,0,0,0,0,21.38,10.23,1.17,0,8.66,5.55,14.02,21.58,1.22,83.81,41.44,"CA Residential 2016, Vers. 1.0","CSE 0.813 EXE",null,"MPCBECC",0,0.400474,1.2753799999999999E-2,0,0,7.4915999999999996E-2,0.14868500000000001,0.25846799999999998,1.0530599999999999E-2,0.90582700000000005,0.41322799999999998,0,0.53406799999999999,1.2753799999999999E-2,0,0,7.4915999999999996E-2,0.14984600000000001,0.25846799999999998,1.0530599999999999E-2,1.0405800000000001,0.54682200000000003,0.13475500000000001,0.13359399999999999,4.8920199999999996,9.7490400000000008,{"$nulls":9},179.28899999999999,212.96899999999999,111.69,0,0,0,505.55700000000002,943.90800000000002,2025.88,119.621,4098.92,208.77500000000001,0,0,0,108.29,0,43.669699999999999,0,0,360.73500000000001,0,0,0,0,0,0,0,0,0,0,20.18,7.39,1.17,0,8.66,0,5.55,13.96,21.58,1.22,79.709999999999994,0,0.400474,1.2753799999999999E-2,0,0,0,7.4915999999999996E-2,0.14868500000000001,0.25846799999999998,1.0530599999999999E-2,0.90582700000000005,420.762,1095.06,111.69,0,0,2135,930.00099999999998,2637.81,297.5,7627.83,350.15800000000002,0,0,0,162.852,0,65.400000000000006,0,0,578.41,0,0,0,0,0,0,0,0,0,0,34.94,41.16,1.17,0,13.03,23.83,14.92,28.35,2.86,160.26,0,2.2516400000000001,1.2753799999999999E-2,0,0,0.33579999999999999,0.11074100000000001,0.35138000000000003,4.1461199999999997E-3,3.0664600000000002,43.378,0,45.609200000000001]
["2016-09-01T10:35:53","U04R13","v28 13 P21 U20 M01","Proposed and Standard","PASS",5.67,48.242800000000003,148.14699999999999,1315.74,111.69,0,0,505.55700000000002,971.92,2025.88,119.621,5198.5600000000004,172.53700000000001,0,0,0,101.053,0,43.669699999999999,0,0,317.26,0,0,0,0,0,0,0,0,0,0,16.760000000000002,33.74,1.17,0,8.1300000000000008,0,5.5,14.16,21.53,1.21,102.2,59.8,156.69300000000001,1495.85,111.69,0,0,505.55700000000002,975.74699999999996,2025.88,119.621,5391.04,182.489,0,0,0,101.053,0,43.669699999999999,0,0,327.21199999999999,0,0,0,0,0,0,0,0,0,0,17.77,38.4,1.17,0,8.1300000000000008,5.5,14.21,21.53,1.21,107.92,65.47,"CA Residential 2016, Vers. 1.0","CSE 0.813 EXE",null,"MPCBECC",0,1.78738,1.2753799999999999E-2,0,0,7.4915999999999996E-2,0.15285699999999999,0.25846799999999998,1.0530599999999999E-2,2.2968999999999999,1.80013,0,1.98539,1.2753799999999999E-2,0,0,7.4915999999999996E-2,0.153729,0.25846799999999998,1.0530599999999999E-2,2.49579,1.9981500000000001,0.19888900000000001,0.198018,5.3002200000000004,8.6604500000000009,{"$nulls":9},148.14699999999999,1315.74,111.69,0,0,0,505.55700000000002,971.92,2025.88,119.621,5198.5600000000004,172.53700000000001,0,0,0,101.053,0,43.669699999999999,0,0,317.26,0,0,0,0,0,0,0,0,0,0,16.760000000000002,33.74,1.17,0,8.1300000000000008,0,5.5,14.16,21.53,1.21,102.2,0,1.78738,1.2753799999999999E-2,0,0,0,7.4915999999999996E-2,0.15285699999999999,0.25846799999999998,1.0530599999999999E-2,2.2968999999999999,365.69200000000001,3417.01,111.69,0,0,2135,930.00099999999998,2637.81,297.5,9894.7000000000007,304.37400000000002,0,0,0,155.65700000000001,0,65.400000000000006,0,0,525.43100000000004,0,0,0,0,0,0,0,0,0,0,30.5,75.56,1.17,0,12.52,23.59,14.91,28.27,2.82,189.34,0,3.4108700000000001,1.2753799999999999E-2,0,0,0.33579999999999999,0.11074100000000001,0.35138000000000003,4.1461199999999997E-3,4.2256900000000002,48.242800000000003,0,50.942900000000002]
["2016-09-01T10:35:52","U04R14","v28 14 P21 U20 M01","Proposed and Standard","PASS",6.85,46.5929,158.56800000000001,1090.58,111.69,0,0,505.55700000000002,959.64499999999998,2025.88,119.621,4971.54,184.87,0,0,0,104.271,0,43.669699999999999,0,0,332.81099999999998,0,0,0,0,0,0,0,0,0,0,17.829999999999998,27.2,1.1200000000000001,0,8.4499999999999993,0,5.26,13.62,20.6,1.1499999999999999,95.23,54.6,174.58,1281.03,111.69,0,0,505.55700000000002,964.49599999999998,2025.88,119.621,5182.8599999999997,203.53700000000001,0,0,0,104.271,0,43.669699999999999,0,0,351.47899999999998,0,0,0,0,0,0,0,0,0,0,19.760000000000002,32.119999999999997,1.1200000000000001,0,8.4499999999999993,5.26,13.67,20.6,1.1499999999999999,102.13,61.45,"CA Residential 2016, Vers. 1.0","CSE 0.813 EXE",null,"MPCBECC",0,1.5677399999999999,1.2753799999999999E-2,0,0,7.4915999999999996E-2,0.15287200000000001,0.25846799999999998,1.0530599999999999E-2,2.07728,1.58049,0,1.7926599999999999,1.2753799999999999E-2,0,0,7.4915999999999996E-2,0.15366099999999999,0.25846799999999998,1.0530599999999999E-2,2.3029899999999999,1.80541,0.22570299999999999,0.224914,6.7561,11.1473,{"$nulls":9},158.56800000000001,1090.58,111.69,0,0,0,505.55700000000002,959.64499999999998,2025.88,119.621,4971.54,184.87,0,0,0,104.271,0,43.669699999999999,0,0,332.81099999999998,0,0,0,0,0,0,0,0,0,0,17.829999999999998,27.2,1.1200000000000001,0,8.4499999999999993,0,5.26,13.62,20.6,1.1499999999999999,95.23,0,1.5677399999999999,1.2753799999999999E-2,0,0,0,7.4915999999999996E-2,0.15287200000000001,0.25846799999999998,1.0530599999999999E-2,2.07728,413.59399999999999,2961.78,111.69,0,0,2135,930.00099999999998,2637.81,297.5,9487.3799999999992,344.61599999999999,0,0,0,158.755,0,65.400000000000006,0,0,568.77,0,0,0,0,0,0,0,0,0,0,34.380000000000003,66.819999999999993,1.1200000000000001,0,12.86,22.6,14.52,27.07,2.72,182.09,0,3.1716700000000002,1.2753799999999999E-2,0,0,0.33579999999999999,0.11074100000000001,0.35138000000000003,4.1461199999999997E-3,3.9864899999999999,46.5929,0,49.968899999999998]
["2016-09-01T10:35:51","U04R15","v28 15 P21 U20 M01","Proposed and Standard","PASS",6.4900099999999998,53.661700000000003,3.6502699999999999,4641.46,111.69,0,0,505.55700000000002,1041.52,2025.88,119.621,8449.39,4.2514900000000004,0,0,0,75.512,0,43.669699999999999,0,0,123.43300000000001,0,0,0,0,0,0,0,0,0,0,0.42,81.900000000000006,1.1200000000000001,0,6.16,0,5.29,14.39,20.64,1.1599999999999999,131.08000000000001,89.6,5.7251099999999999,4900.54,111.69,0,0,505.55700000000002,1044.02,2025.88,119.621,8713.0400000000009,6.6680599999999997,0,0,0,75.512,0,43.669699999999999,0,0,125.85,0,0,0,0,0,0,0,0,0,0,0.66,88.15,1.1200000000000001,0,6.16,5.29,14.42,20.64,1.1599999999999999,137.6,96.09,"CA Residential 2016, Vers. 1.0","CSE 0.813 EXE",null,"MPCBECC",0,3.4059900000000001,1.2753799999999999E-2,0,0,7.4915999999999996E-2,0.157475,0.25846799999999998,1.0530599999999999E-2,3.92014,3.4187500000000002,0,3.71062,1.2753799999999999E-2,0,0,7.4915999999999996E-2,0.15804599999999999,0.25846799999999998,1.0530599999999999E-2,4.2253299999999996,3.7233700000000001,0.30519600000000002,0.30462499999999998,4.7383800000000003,6.7540899999999997,{"$nulls":9},3.6502699999999999,4641.46,111.69,0,0,0,505.55700000000002,1041.52,2025.88,119.621,8449.39,4.2514900000000004,0,0,0,75.512,0,43.669699999999999,0,0,123.43300000000001,0,0,0,0,0,0,0,0,0,0,0.42,81.900000000000006,1.1200000000000001,0,6.16,0,5.29,14.39,20.64,1.1599999999999999,131.08000000000001,0,3.4059900000000001,1.2753799999999999E-2,0,0,0,7.4915999999999996E-2,0.157475,0.25846799999999998,1.0530599999999999E-2,3.92014,33.899500000000003,9519.69,111.69,0,0,2135,930.00099999999998,2637.81,297.5,15665.6,28.217199999999998,0,0,0,130.13399999999999,0,65.400000000000006,0,0,223.751,0,0,0,0,0,0,0,0,0,0,2.85,149.29,1.1200000000000001,0,10.62,22.73,14.54,27.12,2.76,231.03,0,5.0876400000000004,1.2753799999999999E-2,0,0,0.33579999999999999,0.11074100000000001,0.35138000000000003,4.1461199999999997E-3,5.9024599999999996,53.661700000000003,0,56.3309]
["2016-09-01T10:35:53","U04R16","v28 16 P21 U20 M01","Proposed and Standard","PASS",3.3,51.426400000000001,398.76900000000001,4.3966399999999997,111.69,0,0,505.55700000000002,900.26199999999994,2025.88,119.621,4066.18,465.608,0,0,0,128.68799999999999,0,43.669699999999999,0,0,637.96500000000003,0,0,0,0,0,0,0,0,0,0,43.62,0.14000000000000001,1.1100000000000001,0,10.35,0,5.22,13.04,20.54,1.1399999999999999,95.16,55.22,416.11500000000001,36.548099999999998,111.69,0,0,505.55700000000002,907.13900000000001,2025.88,119.621,4122.55,485.86200000000002,0,0,0,128.68799999999999,0,43.669699999999999,0,0,658.21900000000005,0,0,0,0,0,0,0,0,0,0,45.71,1.35,1.1100000000000001,0,10.35,5.22,13.12,20.54,1.1399999999999999,98.54,58.52,"CA Residential 2016, Vers. 1.0","CSE 0.813 EXE",null,"MPCBECC",0,3.0393799999999999E-3,1.2753799999999999E-2,0,0,7.4915999999999996E-2,0.143542,0.25846799999999998,1.0530599999999999E-2,0.50324999999999998,1.5793100000000001E-2,0,5.1203699999999998E-2,1.2753799999999999E-2,0,0,7.4915999999999996E-2,0.14513699999999999,0.25846799999999998,1.0530599999999999E-2,0.55300899999999997,6.3957399999999998E-2,4.97598E-2,4.81643E-2,3.4300799999999998,5.6390900000000004,{"$nulls":9},398.76900000000001,4.3966399999999997,111.69,0,0,0,505.55700000000002,900.26199999999994,2025.88,119.621,4066.18,465.608,0,0,0,128.68799999999999,0,43.669699999999999,0,0,637.96500000000003,0,0,0,0,0,0,0,0,0,0,43.62,0.14000000000000001,1.1100000000000001,0,10.35,0,5.22,13.04,20.54,1.1399999999999999,95.16,0,3.0393799999999999E-3,1.2753799999999999E-2,0,0,0,7.4915999999999996E-2,0.143542,0.25846799999999998,1.0530599999999999E-2,0.50324999999999998,532.28899999999999,250.172,111.69,0,0,2135,930.00099999999998,2637.81,297.5,6894.46,444.18900000000002,0,0,0,182.24600000000001,0,65.400000000000006,0,0,691.83500000000004,0,0,0,0,0,0,0,0,0,0,43.19,10.18,1.1100000000000001,0,14.66,22.38,14.5,26.96,2.7,135.68,0,0.53870399999999996,1.2753799999999999E-2,0,0,0.33579999999999999,0.11074100000000001,0.35138000000000003,4.1461199999999997E-3,1.3535299999999999,51.426400000000001,0,53.253]
["2016-09-01T10:36:09","U05R01","v28 01 P27 U20 M01","Proposed and Standard","PASS",1.91,51.404200000000003,282.83800000000002,0,141.255,0,0,615.745,968.48900000000003,2371.31,151.51499999999999,4531.1499999999996,329.38099999999997,0,0,0,146.27199999999999,0,45.121000000000002,0,0,520.774,0,0,0,0,0,0,0,0,0,0,23.65,0,1.1499999999999999,0,8.9600000000000009,0,5.15,10.77,19.52,1.18,70.38,33.76,302.29899999999998,0,141.255,0,0,615.745,974.09199999999998,2371.31,151.51499999999999,4556.21,352.04399999999998,0,0,0,146.27199999999999,0,45.121000000000002,0,0,543.43700000000001,0,0,0,0,0,0,0,0,0,0,25.56,0,1.1499999999999999,0,8.9600000000000009,5.15,10.83,19.52,1.18,72.349999999999994,35.67,"CA Residential 2016, Vers. 1.0","CSE 0.813 EXE",null,"MPCBECC",1.5237700000000001E-11,0,1.61297E-2,0,0,9.1244199999999998E-2,0.127385,0.30218800000000001,1.3338300000000001E-2,0.55028500000000002,1.61297E-2,9.8101099999999997E-14,0,1.61297E-2,0,0,9.1244199999999998E-2,0.1288,0.30218800000000001,1.3338300000000001E-2,0.55169999999999997,1.61297E-2,1.4146600000000001E-3,0,2.72289,5.3546500000000004,{"$nulls":9},282.83800000000002,0,141.255,0,0,0,615.745,968.48900000000003,2371.31,151.51499999999999,4531.1499999999996,329.38099999999997,0,0,0,146.27199999999999,0,45.121000000000002,0,0,520.774,0,0,0,0,0,0,0,0,0,0,23.65,0,1.1499999999999999,0,8.9600000000000009,0,5.15,10.77,19.52,1.18,70.38,1.5237700000000001E-11,0,1.61297E-2,0,0,0,9.1244199999999998E-2,0.127385,0.30218800000000001,1.3338300000000001E-2,0.55028500000000002,498.40800000000002,0,141.255,0,0,2615,989.00099999999998,3267.2,327.5,7838.36,414.81099999999998,0,0,0,199.32499999999999,0,73.400000000000006,0,0,687.53599999999994,0,0,0,0,0,0,0,0,0,0,30.92,0,1.1499999999999999,0,12.21,22.11,12.56,27.01,2.41,108.37,1.62352E-9,0,1.61297E-2,0,0,0.41129599999999999,0.118258,0.43522,4.56421E-3,0.98546800000000001,51.404200000000003,0,52.843000000000004]
["2016-09-01T10:35:54","U05R02","v28 02 P27 U20 M01","Proposed and Standard","PASS",2.4700000000000002,45.282699999999998,219.23,9.4436599999999995,141.255,0,0,615.745,1007.8,2371.31,151.51499999999999,4516.3,255.297,0,0,0,131.18700000000001,0,45.121000000000002,0,0,431.60500000000002,0,0,0,0,0,0,0,0,0,0,18.989999999999998,0.38,1.1499999999999999,0,8.07,0,5.16,11.17,19.54,1.18,65.64,28.59,232.7,41.0319,141.255,0,0,615.745,1015.23,2371.31,151.51499999999999,4568.78,270.983,0,0,0,131.18700000000001,0,45.121000000000002,0,0,447.291,0,0,0,0,0,0,0,0,0,0,20.27,1.57,1.1499999999999999,0,8.07,5.16,11.24,19.54,1.18,68.180000000000007,31.06,"CA Residential 2016, Vers. 1.0","CSE 0.813 EXE",null,"MPCBECC",0,1.4802900000000001E-2,1.61297E-2,0,0,9.1244199999999998E-2,0.139237,0.30218800000000001,1.3338300000000001E-2,0.57694000000000001,3.0932600000000001E-2,0,5.1727700000000001E-2,1.61297E-2,0,0,9.1244199999999998E-2,0.14094599999999999,0.30218800000000001,1.3338300000000001E-2,0.61557399999999995,6.7857399999999998E-2,3.8633800000000003E-2,3.6924800000000001E-2,3.7254299999999998,7.95235,{"$nulls":9},219.23,9.4436599999999995,141.255,0,0,0,615.745,1007.8,2371.31,151.51499999999999,4516.3,255.297,0,0,0,131.18700000000001,0,45.121000000000002,0,0,431.60500000000002,0,0,0,0,0,0,0,0,0,0,18.989999999999998,0.38,1.1499999999999999,0,8.07,0,5.16,11.17,19.54,1.18,65.64,0,1.4802900000000001E-2,1.61297E-2,0,0,0,9.1244199999999998E-2,0.139237,0.30218800000000001,1.3338300000000001E-2,0.57694000000000001,592.99800000000005,193.11099999999999,141.255,0,0,2615,989.00099999999998,3267.2,327.5,8126.06,493.517,0,0,0,185.191,0,73.400000000000006,0,0,752.10799999999995,0,0,0,0,0,0,0,0,0,0,37.83,7.84,1.1499999999999999,0,11.4,22.19,12.57,27.1,2.41,122.49,0,0.37591000000000002,1.61297E-2,0,0,0.41129599999999999,0.118258,0.43522,4.56421E-3,1.36138,45.282699999999998,0,47.034999999999997]
["2016-09-01T10:35:54","U05R03","v28 03 P27 U20 M01","Proposed and Standard","PASS",2.1800000000000002,42.9694,102.86,0.83986400000000005,141.255,0,0,615.745,1004.36,2371.31,151.51499999999999,4387.88,119.77500000000001,0,0,0,131.749,0,45.121000000000002,0,0,296.64499999999998,0,0,0,0,0,0,0,0,0,0,9.01,0.01,1.1499999999999999,0,8.09,0,5.13,11.06,19.5,1.17,55.12,18.260000000000002,125.801,1.9315100000000001,141.255,0,0,615.745,1009.52,2371.31,151.51499999999999,4417.08,146.49,0,0,0,131.749,0,45.121000000000002,0,0,323.36,0,0,0,0,0,0,0,0,0,0,11.1,0.1,1.1499999999999999,0,8.09,5.13,11.11,19.5,1.17,57.35,20.440000000000001,"CA Residential 2016, Vers. 1.0","CSE 0.813 EXE",null,"MPCBECC",0,1.9704800000000001E-7,1.61297E-2,0,0,9.1244199999999998E-2,0.13433700000000001,0.30218800000000001,1.3338300000000001E-2,0.55723699999999998,1.6129899999999999E-2,0,8.8307799999999999E-3,1.61297E-2,0,0,9.1244199999999998E-2,0.135768,0.30218800000000001,1.3338300000000001E-2,0.56749899999999998,2.49605E-2,1.02623E-2,8.8305799999999993E-3,3.8884099999999999,10.6654,{"$nulls":9},102.86,0.83986400000000005,141.255,0,0,0,615.745,1004.36,2371.31,151.51499999999999,4387.88,119.77500000000001,0,0,0,131.749,0,45.121000000000002,0,0,296.64499999999998,0,0,0,0,0,0,0,0,0,0,9.01,0.01,1.1499999999999999,0,8.09,0,5.13,11.06,19.5,1.17,55.12,0,1.9704800000000001E-7,1.61297E-2,0,0,0,9.1244199999999998E-2,0.13433700000000001,0.30218800000000001,1.3338300000000001E-2,0.55723699999999998,491.65499999999997,0,141.255,0,0,2615,989.00099999999998,3267.2,327.5,7831.61,409.15300000000002,0,0,0,185.82400000000001,0,73.400000000000006,0,0,668.37699999999995,0,0,0,0,0,0,0,0,0,0,31.3,0,1.1499999999999999,0,11.4,22,12.56,27,2.38,107.79,0,0,1.61297E-2,0,0,0.41129599999999999,0.118258,0.43522,4.56421E-3,0.98546800000000001,42.9694,0,44.707900000000002]
["2016-09-01T10:35:54","U05R04","v28 04 P27 U20 M01","Proposed and Standard","PASS",2.34,43.752600000000001,152.947,50.563699999999997,141.255,0,0,615.745,1022.75,2371.31,151.51499999999999,4506.09,178.11,0,0,0,125.44,0,45.121000000000002,0,0,348.67099999999999,0,0,0,0,0,0,0,0,0,0,13.29,1.96,1.1499999999999999,0,7.73,0,5.17,11.32,19.55,1.18,61.35,24.13,168.10499999999999,71.365799999999993,141.255,0,0,615.745,1030.26,2371.31,151.51499999999999,4549.5600000000004,195.762,0,0,0,125.44,0,45.121000000000002,0,0,366.32400000000001,0,0,0,0,0,0,0,0,0,0,14.7,2.89,1.1499999999999999,0,7.73,5.17,11.39,19.55,1.18,63.76,26.47,"CA Residential 2016, Vers. 1.0","CSE 0.813 EXE",null,"MPCBECC",0,0.24168400000000001,1.61297E-2,0,0,9.1244199999999998E-2,0.14319299999999999,0.30218800000000001,1.3338300000000001E-2,0.80777699999999997,0.25781399999999999,0,0.34032699999999999,1.61297E-2,0,0,9.1244199999999998E-2,0.144708,0.30218800000000001,1.3338300000000001E-2,0.90793500000000005,0.35645700000000002,0.100157,9.8642900000000006E-2,3.7797999999999998,8.8401999999999994,{"$nulls":9},152.947,50.563699999999997,141.255,0,0,0,615.745,1022.75,2371.31,151.51499999999999,4506.09,178.11,0,0,0,125.44,0,45.121000000000002,0,0,348.67099999999999,0,0,0,0,0,0,0,0,0,0,13.29,1.96,1.1499999999999999,0,7.73,0,5.17,11.32,19.55,1.18,61.35,0,0.24168400000000001,1.61297E-2,0,0,0,9.1244199999999998E-2,0.14319299999999999,0.30218800000000001,1.3338300000000001E-2,0.80777699999999997,464.315,327.91899999999998,141.255,0,0,2615,989.00099999999998,3267.2,327.5,8132.19,386.42399999999998,0,0,0,179.76499999999999,0,73.400000000000006,0,0,639.58799999999997,0,0,0,0,0,0,0,0,0,0,29.8,12.25,1.1499999999999999,0,11.07,22.23,12.57,27.12,2.4,118.59,0,1.1887799999999999,1.61297E-2,0,0,0.41129599999999999,0.118258,0.43522,4.56421E-3,2.1742499999999998,43.752600000000001,0,45.471299999999999]
["2016-09-01T10:35:59","U05R05","v28 05 P27 U20 M01","Proposed and Standard","PASS",2.1800000000000002,39.842199999999998,74.906099999999995,0.93408000000000002,141.255,0,0,615.745,1003.7,2371.31,151.51499999999999,4359.3599999999997,87.234499999999997,0,0,0,134.91800000000001,0,45.121000000000002,0,0,267.27300000000002,0,0,0,0,0,0,0,0,0,0,6.31,0.03,1.1499999999999999,0,8.27,0,5.08,11.07,19.440000000000001,1.17,52.52,15.76,98.3904,0,141.255,0,0,615.745,1010.73,2371.31,151.51499999999999,4388.95,114.584,0,0,0,134.91800000000001,0,45.121000000000002,0,0,294.62299999999999,0,0,0,0,0,0,0,0,0,0,8.52,0,1.1499999999999999,0,8.27,5.08,11.14,19.440000000000001,1.17,54.77,17.940000000000001,"CA Residential 2016, Vers. 1.0","CSE 0.813 EXE",null,"MPCBECC",0,0,1.61297E-2,0,0,9.1244199999999998E-2,0.13354099999999999,0.30218800000000001,1.3338300000000001E-2,0.55644099999999996,1.61297E-2,0,0,1.61297E-2,0,0,9.1244199999999998E-2,0.13561200000000001,0.30218800000000001,1.3338300000000001E-2,0.55851200000000001,1.61297E-2,2.0716200000000001E-3,0,4.1080899999999998,12.1516,{"$nulls":9},74.906099999999995,0.93408000000000002,141.255,0,0,0,615.745,1003.7,2371.31,151.51499999999999,4359.3599999999997,87.234499999999997,0,0,0,134.91800000000001,0,45.121000000000002,0,0,267.27300000000002,0,0,0,0,0,0,0,0,0,0,6.31,0.03,1.1499999999999999,0,8.27,0,5.08,11.07,19.440000000000001,1.17,52.52,0,0,1.61297E-2,0,0,0,9.1244199999999998E-2,0.13354099999999999,0.30218800000000001,1.3338300000000001E-2,0.55644099999999996,507.68,0,141.255,0,0,2615,989.00099999999998,3267.2,327.5,7847.63,422.53800000000001,0,0,0,188.804,0,73.400000000000006,0,0,684.74199999999996,0,0,0,0,0,0,0,0,0,0,31.71,0,1.1499999999999999,0,11.57,21.76,12.54,26.83,2.38,107.94,3.8656599999999998E-15,0,1.61297E-2,0,0,0.41129599999999999,0.118258,0.43522,4.56421E-3,0.98546800000000001,39.842199999999998,0,41.549100000000003]
["2016-09-01T10:35:59","U05R06","v28 06 P27 U20 M01","Proposed and Standard","PASS",1.76,47.555799999999998,66.073800000000006,46.563899999999997,141.255,0,0,615.745,1041.1600000000001,2371.31,151.51499999999999,4433.62,76.942800000000005,0,0,0,119.752,0,45.121000000000002,0,0,241.816,0,0,0,0,0,0,0,0,0,0,5.77,2.34,1.1100000000000001,0,7.4,0,4.99,11.2,18.91,1.1399999999999999,52.86,16.62,77.079700000000003,71.211200000000005,141.255,0,0,615.745,1046.52,2371.31,151.51499999999999,4474.63,89.759,0,0,0,119.752,0,45.121000000000002,0,0,254.63200000000001,0,0,0,0,0,0,0,0,0,0,6.81,3.06,1.1100000000000001,0,7.4,4.99,11.24,18.91,1.1399999999999999,54.66,18.38,"CA Residential 2016, Vers. 1.0","CSE 0.813 EXE",null,"MPCBECC",0,0.24435799999999999,1.61297E-2,0,0,9.1244199999999998E-2,0.140741,0.30218800000000001,1.3338300000000001E-2,0.80799900000000002,0.26048700000000002,0,0.301091,1.61297E-2,0,0,9.1244199999999998E-2,0.14183499999999999,0.30218800000000001,1.3338300000000001E-2,0.86582599999999998,0.31722,5.7827400000000001E-2,5.6732999999999999E-2,3.2930799999999998,9.5756200000000007,{"$nulls":9},66.073800000000006,46.563899999999997,141.255,0,0,0,615.745,1041.1600000000001,2371.31,151.51499999999999,4433.62,76.942800000000005,0,0,0,119.752,0,45.121000000000002,0,0,241.816,0,0,0,0,0,0,0,0,0,0,5.77,2.34,1.1100000000000001,0,7.4,0,4.99,11.2,18.91,1.1399999999999999,52.86,0,0.24435799999999999,1.61297E-2,0,0,0,9.1244199999999998E-2,0.140741,0.30218800000000001,1.3338300000000001E-2,0.80799900000000002,203.96299999999999,174.18,141.255,0,0,2615,989.00099999999998,3267.2,327.5,7718.1,169.744,0,0,0,174.49,0,73.400000000000006,0,0,417.63400000000001,0,0,0,0,0,0,0,0,0,0,13.18,7.52,1.1100000000000001,0,10.79,21.36,12.31,26.08,2.35,94.7,0,0.49838700000000002,1.61297E-2,0,0,0.41129599999999999,0.118258,0.43522,4.56421E-3,1.4838499999999999,47.555799999999998,0,49.175199999999997]
["2016-09-01T10:35:59","U05R07","v28 07 P27 U20 M01","Proposed and Standard","PASS",0.82,47.0124,21.6798,5.8654500000000001,141.255,0,0,615.745,1043.2,2371.31,151.51499999999999,4350.5600000000004,25.245100000000001,0,0,0,117.807,0,45.121000000000002,0,0,188.173,0,0,0,0,0,0,0,0,0,0,1.8,0.33,1.1499999999999999,0,7.15,0,5.25,11.45,19.71,1.2,48.04,10.43,27.4451,12.108599999999999,141.255,0,0,615.745,1048.3699999999999,2371.31,151.51499999999999,4367.75,31.9587,0,0,0,117.807,0,45.121000000000002,0,0,194.887,0,0,0,0,0,0,0,0,0,0,2.33,0.62,1.1499999999999999,0,7.15,5.25,11.5,19.71,1.2,48.91,11.25,"CA Residential 2016, Vers. 1.0","CSE 0.813 EXE",null,"MPCBECC",0,4.6467300000000003E-2,1.61297E-2,0,0,9.1244199999999998E-2,0.139986,0.30218800000000001,1.3338300000000001E-2,0.60935300000000003,6.2597E-2,0,7.3335899999999996E-2,1.61297E-2,0,0,9.1244199999999998E-2,0.14122299999999999,0.30218800000000001,1.3338300000000001E-2,0.637459,8.9465600000000006E-2,2.8105999999999999E-2,2.6868599999999999E-2,1.77878,7.2888900000000003,{"$nulls":9},21.6798,5.8654500000000001,141.255,0,0,0,615.745,1043.2,2371.31,151.51499999999999,4350.5600000000004,25.245100000000001,0,0,0,117.807,0,45.121000000000002,0,0,188.173,0,0,0,0,0,0,0,0,0,0,1.8,0.33,1.1499999999999999,0,7.15,0,5.25,11.45,19.71,1.2,48.04,0,4.6467300000000003E-2,1.61297E-2,0,0,0,9.1244199999999998E-2,0.139986,0.30218800000000001,1.3338300000000001E-2,0.60935300000000003,84.307000000000002,76.9071,141.255,0,0,2615,989.00099999999998,3267.2,327.5,7501.17,70.1601,0,0,0,172.755,0,73.400000000000006,0,0,316.315,0,0,0,0,0,0,0,0,0,0,5.27,4.29,1.1499999999999999,0,10.48,22.47,12.55,27.22,2.5099999999999998,85.94,0,0.31993500000000002,1.61297E-2,0,0,0.41129599999999999,0.118258,0.43522,4.56421E-3,1.3053999999999999,47.0124,0,47.863799999999998]
["2016-09-01T10:36:01","U05R08","v28 08 P27 U20 M01","Proposed and Standard","PASS",2.2000000000000002,43.704099999999997,35.813400000000001,292.75799999999998,141.255,0,0,615.745,1060.67,2371.31,151.51499999999999,4669.0600000000004,41.704700000000003,0,0,0,114.69199999999999,0,45.121000000000002,0,0,201.518,0,0,0,0,0,0,0,0,0,0,3.14,6.57,1.1100000000000001,0,7.1,0,5.04,11.37,18.989999999999998,1.1499999999999999,54.47,17.920000000000002,43.640999999999998,358.95299999999997,141.255,0,0,615.745,1066.3800000000001,2371.31,151.51499999999999,4748.8,50.819899999999997,0,0,0,114.69199999999999,0,45.121000000000002,0,0,210.63300000000001,0,0,0,0,0,0,0,0,0,0,3.87,8.0399999999999991,1.1100000000000001,0,7.1,5.04,11.42,18.989999999999998,1.1499999999999999,56.72,20.12,"CA Residential 2016, Vers. 1.0","CSE 0.813 EXE",null,"MPCBECC",0,0.59690699999999997,1.61297E-2,0,0,9.1244199999999998E-2,0.14626500000000001,0.30218800000000001,1.3338300000000001E-2,1.1660699999999999,0.61303700000000005,0,0.76071100000000003,1.61297E-2,0,0,9.1244199999999998E-2,0.14743800000000001,0.30218800000000001,1.3338300000000001E-2,1.3310500000000001,0.77683999999999997,0.16497600000000001,0.163803,3.96685,10.9344,{"$nulls":9},35.813400000000001,292.75799999999998,141.255,0,0,0,615.745,1060.67,2371.31,151.51499999999999,4669.0600000000004,41.704700000000003,0,0,0,114.69199999999999,0,45.121000000000002,0,0,201.518,0,0,0,0,0,0,0,0,0,0,3.14,6.57,1.1100000000000001,0,7.1,0,5.04,11.37,18.989999999999998,1.1499999999999999,54.47,0,0.59690699999999997,1.61297E-2,0,0,0,9.1244199999999998E-2,0.14626500000000001,0.30218800000000001,1.3338300000000001E-2,1.1660699999999999,155.221,963.40599999999995,141.255,0,0,2615,989.00099999999998,3267.2,327.5,8458.58,129.179,0,0,0,169.65,0,73.400000000000006,0,0,372.22899999999998,0,0,0,0,0,0,0,0,0,0,10.07,25.89,1.1100000000000001,0,10.5,21.57,12.33,26.23,2.39,110.09,0,2.1878299999999999,1.61297E-2,0,0,0.41129599999999999,0.118258,0.43522,4.56421E-3,3.1732999999999998,43.704099999999997,0,45.509399999999999]
["2016-09-01T10:36:08","U05R09","v28 09 P27 U20 M01","Proposed and Standard","PASS",3.86,43.036999999999999,58.634900000000002,566.58000000000004,141.255,0,0,615.745,1059.73,2371.31,151.51499999999999,4964.76,68.300799999999995,0,0,0,114.47499999999999,0,45.121000000000002,0,0,227.89699999999999,0,0,0,0,0,0,0,0,0,0,5.0999999999999996,15.53,1.1000000000000001,0,7.1,0,4.97,11.28,18.77,1.1299999999999999,64.98,28.83,67.635099999999994,684.26400000000001,141.255,0,0,615.745,1066.08,2371.31,151.51499999999999,5097.8,78.784800000000004,0,0,0,114.47499999999999,0,45.121000000000002,0,0,238.381,0,0,0,0,0,0,0,0,0,0,5.94,18.55,1.1000000000000001,0,7.1,4.97,11.34,18.77,1.1299999999999999,68.900000000000006,32.69,"CA Residential 2016, Vers. 1.0","CSE 0.813 EXE",null,"MPCBECC",0,1.3655299999999999,1.61297E-2,0,0,9.1244199999999998E-2,0.14945600000000001,0.30218800000000001,1.3338300000000001E-2,1.9378899999999999,1.3816600000000001,0,1.631,1.61297E-2,0,0,9.1244199999999998E-2,0.15055499999999999,0.30218800000000001,1.3338300000000001E-2,2.2044600000000001,1.64713,0.266565,0.26546599999999998,5.6894,11.8079,{"$nulls":9},58.634900000000002,566.58000000000004,141.255,0,0,0,615.745,1059.73,2371.31,151.51499999999999,4964.76,68.300799999999995,0,0,0,114.47499999999999,0,45.121000000000002,0,0,227.89699999999999,0,0,0,0,0,0,0,0,0,0,5.0999999999999996,15.53,1.1000000000000001,0,7.1,0,4.97,11.28,18.77,1.1299999999999999,64.98,0,1.3655299999999999,1.61297E-2,0,0,0,9.1244199999999998E-2,0.14945600000000001,0.30218800000000001,1.3338300000000001E-2,1.9378899999999999,218.43799999999999,1765,141.255,0,0,2615,989.00099999999998,3267.2,327.5,9323.39,181.846,0,0,0,169.404,0,73.400000000000006,0,0,424.65,0,0,0,0,0,0,0,0,0,0,14.06,48.69,1.1000000000000001,0,10.5,21.33,12.25,25.98,2.35,136.26,0,3.50705,1.61297E-2,0,0,0.41129599999999999,0.118258,0.43522,4.56421E-3,4.4925100000000002,43.036999999999999,0,45.633200000000002]
["2016-09-01T10:36:06","U05R10","v28 10 P27 U20 M01","Proposed and Standard","PASS",4.08,41.389699999999998,68.137100000000004,701.36300000000006,141.255,0,0,615.745,1063.19,2371.31,151.51499999999999,5112.51,79.373199999999997,0,0,0,113.613,0,45.121000000000002,0,0,238.107,0,0,0,0,0,0,0,0,0,0,5.91,15.44,1.1000000000000001,0,7.06,0,4.91,11.29,18.7,1.1200000000000001,65.53,29.51,79.014200000000002,862.23699999999997,141.255,0,0,615.745,1069.01,2371.31,151.51499999999999,5290.08,92.043999999999997,0,0,0,113.613,0,45.121000000000002,0,0,250.77799999999999,0,0,0,0,0,0,0,0,0,0,6.93,18.5,1.1000000000000001,0,7.06,4.91,11.34,18.7,1.1200000000000001,69.66,33.590000000000003,"CA Residential 2016, Vers. 1.0","CSE 0.813 EXE",null,"MPCBECC",0,1.4214199999999999,1.61297E-2,0,0,9.1244199999999998E-2,0.15032100000000001,0.30218800000000001,1.3338300000000001E-2,1.99464,1.4375500000000001,0,1.65228,1.61297E-2,0,0,9.1244199999999998E-2,0.151278,0.30218800000000001,1.3338300000000001E-2,2.2264599999999999,1.6684099999999999,0.23181599999999999,0.23086000000000001,5.9287999999999998,12.1465,{"$nulls":9},68.137100000000004,701.36300000000006,141.255,0,0,0,615.745,1063.19,2371.31,151.51499999999999,5112.51,79.373199999999997,0,0,0,113.613,0,45.121000000000002,0,0,238.107,0,0,0,0,0,0,0,0,0,0,5.91,15.44,1.1000000000000001,0,7.06,0,4.91,11.29,18.7,1.1200000000000001,65.53,0,1.4214199999999999,1.61297E-2,0,0,0,9.1244199999999998E-2,0.15032100000000001,0.30218800000000001,1.3338300000000001E-2,1.99464,247.03299999999999,2424.92,141.255,0,0,2615,989.00099999999998,3267.2,327.5,10011.9,205.66,0,0,0,168.49600000000001,0,73.400000000000006,0,0,447.55599999999998,0,0,0,0,0,0,0,0,0,0,15.88,54.76,1.1000000000000001,0,10.46,21.1,12.24,25.87,2.3199999999999998,143.72999999999999,0,3.8767399999999999,1.61297E-2,0,0,0.41129599999999999,0.118258,0.43522,4.56421E-3,4.8622100000000001,41.389699999999998,0,43.9983]
["2016-09-01T10:36:08","U05R11","v28 11 P27 U20 M01","Proposed and Standard","PASS",6.28,43.970999999999997,199.41499999999999,1570.27,141.255,0,0,615.745,1056.74,2371.31,151.51499999999999,6106.24,232.24600000000001,0,0,0,115.96299999999999,0,45.121000000000002,0,0,393.33,0,0,0,0,0,0,0,0,0,0,17.399999999999999,31.4,1.1499999999999999,0,7.21,0,5.23,11.73,19.600000000000001,1.19,94.91,57.16,216.499,1810.99,141.255,0,0,615.745,1062,2371.31,151.51499999999999,6369.31,252.142,0,0,0,115.96299999999999,0,45.121000000000002,0,0,413.226,0,0,0,0,0,0,0,0,0,0,18.96,36.119999999999997,1.1499999999999999,0,7.21,5.23,11.78,19.600000000000001,1.19,101.24,63.44,"CA Residential 2016, Vers. 1.0","CSE 0.813 EXE",null,"MPCBECC",0,1.85368,1.61297E-2,0,0,9.1244199999999998E-2,0.15051999999999999,0.30218800000000001,1.3338300000000001E-2,2.4270999999999998,1.86981,0,2.0658099999999999,1.61297E-2,0,0,9.1244199999999998E-2,0.151751,0.30218800000000001,1.3338300000000001E-2,2.64046,2.0819399999999999,0.21335999999999999,0.21213000000000001,6.2524600000000001,9.8991199999999999,{"$nulls":9},199.41499999999999,1570.27,141.255,0,0,0,615.745,1056.74,2371.31,151.51499999999999,6106.24,232.24600000000001,0,0,0,115.96299999999999,0,45.121000000000002,0,0,393.33,0,0,0,0,0,0,0,0,0,0,17.399999999999999,31.4,1.1499999999999999,0,7.21,0,5.23,11.73,19.600000000000001,1.19,94.91,0,1.85368,1.61297E-2,0,0,0,9.1244199999999998E-2,0.15051999999999999,0.30218800000000001,1.3338300000000001E-2,2.4270999999999998,571.98199999999997,4348.13,141.255,0,0,2615,989.00099999999998,3267.2,327.5,12260.1,476.07600000000002,0,0,0,170.536,0,73.400000000000006,0,0,720.01199999999994,0,0,0,0,0,0,0,0,0,0,36.799999999999997,81.510000000000005,1.1499999999999999,0,10.6,22.57,12.58,27.25,2.4500000000000002,194.91,0,4.4313500000000001,1.61297E-2,0,0,0.41129599999999999,0.118258,0.43522,4.56421E-3,5.4168200000000004,43.970999999999997,0,46.903599999999997]
["2016-09-01T10:36:07","U05R12","v28 12 P27 U20 M01","Proposed and Standard","PASS",4.88,41.288899999999998,207.78399999999999,373.495,141.255,0,0,615.745,1035.07,2371.31,151.51499999999999,4896.18,241.95599999999999,0,0,0,121.937,0,45.121000000000002,0,0,409.01400000000001,0,0,0,0,0,0,0,0,0,0,18.190000000000001,10.76,1.1499999999999999,0,7.54,0,5.26,11.52,19.64,1.2,75.260000000000005,37.64,220.267,492.25900000000001,141.255,0,0,615.745,1041.8699999999999,2371.31,151.51499999999999,5034.22,256.49200000000002,0,0,0,121.937,0,45.121000000000002,0,0,423.55,0,0,0,0,0,0,0,0,0,0,19.36,14.47,1.1499999999999999,0,7.54,5.26,11.58,19.64,1.2,80.2,42.52,"CA Residential 2016, Vers. 1.0","CSE 0.813 EXE",null,"MPCBECC",0,0.76916700000000005,1.61297E-2,0,0,9.1244199999999998E-2,0.14719099999999999,0.30218800000000001,1.3338300000000001E-2,1.3392599999999999,0.78529700000000002,0,0.98270500000000005,1.61297E-2,0,0,9.1244199999999998E-2,0.148562,0.30218800000000001,1.3338300000000001E-2,1.5541700000000001,0.99883500000000003,0.21490799999999999,0.21353800000000001,6.1595899999999997,11.477,{"$nulls":9},207.78399999999999,373.495,141.255,0,0,0,615.745,1035.07,2371.31,151.51499999999999,4896.18,241.95599999999999,0,0,0,121.937,0,45.121000000000002,0,0,409.01400000000001,0,0,0,0,0,0,0,0,0,0,18.190000000000001,10.76,1.1499999999999999,0,7.54,0,5.26,11.52,19.64,1.2,75.260000000000005,0,0.76916700000000005,1.61297E-2,0,0,0,9.1244199999999998E-2,0.14719099999999999,0.30218800000000001,1.3338300000000001E-2,1.3392599999999999,567.59900000000005,1686.96,141.255,0,0,2615,989.00099999999998,3267.2,327.5,9594.51,472.35599999999999,0,0,0,176.31299999999999,0,73.400000000000006,0,0,722.06899999999996,0,0,0,0,0,0,0,0,0,0,36.630000000000003,48.27,1.1499999999999999,0,10.9,22.7,12.58,27.31,2.44,161.97999999999999,0,3.3591700000000002,1.61297E-2,0,0,0.41129599999999999,0.118258,0.43522,4.56421E-3,4.3446300000000004,41.288899999999998,0,43.999099999999999]
["2016-09-01T10:36:08","U05R13","v28 13 P27 U20 M01","Proposed and Standard","PASS",6.35,45.529499999999999,183.03899999999999,1751.75,141.255,0,0,615.745,1066.8800000000001,2371.31,151.51499999999999,6281.49,213.173,0,0,0,113.694,0,45.121000000000002,0,0,371.988,0,0,0,0,0,0,0,0,0,0,16.11,34.01,1.1499999999999999,0,7.07,0,5.21,11.79,19.59,1.19,96.12,58.34,193.839,2015.12,141.255,0,0,615.745,1072.58,2371.31,151.51499999999999,6561.36,225.75,0,0,0,113.694,0,45.121000000000002,0,0,384.565,0,0,0,0,0,0,0,0,0,0,17.11,39.36,1.1499999999999999,0,7.07,5.21,11.84,19.59,1.19,102.52,64.69,"CA Residential 2016, Vers. 1.0","CSE 0.813 EXE",null,"MPCBECC",0,2.25779,1.61297E-2,0,0,9.1244199999999998E-2,0.151834,0.30218800000000001,1.3338300000000001E-2,2.8325300000000002,2.2739199999999999,0,2.5655399999999999,1.61297E-2,0,0,9.1244199999999998E-2,0.15291099999999999,0.30218800000000001,1.3338300000000001E-2,3.1413500000000001,2.5816699999999999,0.30882700000000002,0.307751,6.2426899999999996,9.8160500000000006,{"$nulls":9},183.03899999999999,1751.75,141.255,0,0,0,615.745,1066.8800000000001,2371.31,151.51499999999999,6281.49,213.173,0,0,0,113.694,0,45.121000000000002,0,0,371.988,0,0,0,0,0,0,0,0,0,0,16.11,34.01,1.1499999999999999,0,7.07,0,5.21,11.79,19.59,1.19,96.12,0,2.25779,1.61297E-2,0,0,0,9.1244199999999998E-2,0.151834,0.30218800000000001,1.3338300000000001E-2,2.8325300000000002,515.98,4729.34,141.255,0,0,2615,989.00099999999998,3267.2,327.5,12585.3,429.46199999999999,0,0,0,168.28299999999999,0,73.400000000000006,0,0,671.14400000000001,0,0,0,0,0,0,0,0,0,0,33.450000000000003,81.680000000000007,1.1499999999999999,0,10.47,22.48,12.58,27.23,2.41,191.45,0,4.7471699999999997,1.61297E-2,0,0,0.41129599999999999,0.118258,0.43522,4.56421E-3,5.73264,45.529499999999999,0,48.561]
["2016-09-01T10:36:27","U05R14","v28 14 P27 U20 M01","Proposed and Standard","PASS",7.38,43.991599999999998,187.84399999999999,1503.41,141.255,0,0,615.745,1052.3900000000001,2371.31,151.51499999999999,6023.46,219.00200000000001,0,0,0,117.294,0,45.121000000000002,0,0,381.41699999999997,0,0,0,0,0,0,0,0,0,0,16.440000000000001,28.53,1.1000000000000001,0,7.34,0,4.9800000000000004,11.33,18.75,1.1299999999999999,89.6,53.41,207.99,1784.56,141.255,0,0,615.745,1059.7,2371.31,151.51499999999999,6332.07,242.489,0,0,0,117.294,0,45.121000000000002,0,0,404.904,0,0,0,0,0,0,0,0,0,0,18.329999999999998,34.020000000000003,1.1000000000000001,0,7.34,4.9800000000000004,11.39,18.75,1.1299999999999999,97.04,60.79,"CA Residential 2016, Vers. 1.0","CSE 0.813 EXE",null,"MPCBECC",0,2.0525600000000002,1.61297E-2,0,0,9.1244199999999998E-2,0.15190699999999999,0.30218800000000001,1.3338300000000001E-2,2.62737,2.0686900000000001,0,2.3717299999999999,1.61297E-2,0,0,9.1244199999999998E-2,0.15287200000000001,0.30218800000000001,1.3338300000000001E-2,2.9475099999999999,2.3878599999999999,0.32013799999999998,0.31917299999999998,7.6669400000000003,12.1402,{"$nulls":9},187.84399999999999,1503.41,141.255,0,0,0,615.745,1052.3900000000001,2371.31,151.51499999999999,6023.46,219.00200000000001,0,0,0,117.294,0,45.121000000000002,0,0,381.41699999999997,0,0,0,0,0,0,0,0,0,0,16.440000000000001,28.53,1.1000000000000001,0,7.34,0,4.9800000000000004,11.33,18.75,1.1299999999999999,89.6,0,2.0525600000000002,1.61297E-2,0,0,0,9.1244199999999998E-2,0.15190699999999999,0.30218800000000001,1.3338300000000001E-2,2.62737,570.12699999999995,4179.53,141.255,0,0,2615,989.00099999999998,3267.2,327.5,12089.6,475.04199999999997,0,0,0,171.691,0,73.400000000000006,0,0,720.13400000000001,0,0,0,0,0,0,0,0,0,0,36.85,72.92,1.1000000000000001,0,10.75,21.53,12.25,26.08,2.33,183.81,0,4.41805,1.61297E-2,0,0,0.41129599999999999,0.118258,0.43522,4.56421E-3,5.4035200000000003,43.991599999999998,0,47.644500000000001]
["2016-09-01T10:36:26","U05R15","v28 15 P27 U20 M01","Proposed and Standard","PASS",6.92,49.838999999999999,12.302199999999999,5523.17,141.255,0,0,615.745,1146.71,2371.31,151.51499999999999,9962,14.3284,0,0,0,84.692300000000003,0,45.121000000000002,0,0,144.142,0,0,0,0,0,0,0,0,0,0,1.0900000000000001,75.91,1.1000000000000001,0,5.34,0,5.01,12.04,18.79,1.1399999999999999,120.42,83.44,16.986499999999999,5899.64,141.255,0,0,615.745,1151.43,2371.31,151.51499999999999,10347.9,19.784300000000002,0,0,0,84.692300000000003,0,45.121000000000002,0,0,149.59800000000001,0,0,0,0,0,0,0,0,0,0,1.51,82.41,1.1000000000000001,0,5.34,5.01,12.08,18.79,1.1399999999999999,127.38,90.36,"CA Residential 2016, Vers. 1.0","CSE 0.813 EXE",null,"MPCBECC",0,4.0541099999999997,1.61297E-2,0,0,9.1244199999999998E-2,0.15762399999999999,0.30218800000000001,1.3338300000000001E-2,4.6346299999999996,4.0702400000000001,0,4.4396800000000001,1.61297E-2,0,0,9.1244199999999998E-2,0.15833900000000001,0.30218800000000001,1.3338300000000001E-2,5.0209200000000003,4.4558099999999996,0.38628699999999999,0.38557200000000003,5.4639600000000002,7.6582499999999998,{"$nulls":9},12.302199999999999,5523.17,141.255,0,0,0,615.745,1146.71,2371.31,151.51499999999999,9962,14.3284,0,0,0,84.692300000000003,0,45.121000000000002,0,0,144.142,0,0,0,0,0,0,0,0,0,0,1.0900000000000001,75.91,1.1000000000000001,0,5.34,0,5.01,12.04,18.79,1.1399999999999999,120.42,0,4.0541099999999997,1.61297E-2,0,0,0,9.1244199999999998E-2,0.15762399999999999,0.30218800000000001,1.3338300000000001E-2,4.6346299999999996,76.340699999999998,12428.6,141.255,0,0,2615,989.00099999999998,3267.2,327.5,19844.900000000001,63.5443,0,0,0,139.785,0,73.400000000000006,0,0,276.72899999999998,0,0,0,0,0,0,0,0,0,0,5,153.1,1.1000000000000001,0,8.81,21.65,12.26,26.12,2.36,230.4,0,6.7805799999999996,1.61297E-2,0,0,0.41129599999999999,0.118258,0.43522,4.56421E-3,7.7660400000000003,49.838999999999999,0,52.7196]
["2016-09-01T10:36:26","U05R16","v28 16 P27 U20 M01","Proposed and Standard","PASS",4.26,48.064799999999998,461.048,64.611500000000007,141.255,0,0,615.745,982.44600000000003,2371.31,151.51499999999999,4787.93,538.32600000000002,0,0,0,145.16200000000001,0,45.121000000000002,0,0,728.60900000000004,0,0,0,0,0,0,0,0,0,0,39.200000000000003,1.7,1.0900000000000001,0,9.0299999999999994,0,4.9400000000000004,10.72,18.690000000000001,1.1299999999999999,86.5,51.02,482.02300000000002,140.46899999999999,141.255,0,0,615.745,991.84,2371.31,151.51499999999999,4894.1499999999996,562.81700000000001,0,0,0,145.16200000000001,0,45.121000000000002,0,0,753.1,0,0,0,0,0,0,0,0,0,0,41.18,3.98,1.0900000000000001,0,9.0299999999999994,4.9400000000000004,10.81,18.690000000000001,1.1299999999999999,90.85,55.28,"CA Residential 2016, Vers. 1.0","CSE 0.813 EXE",null,"MPCBECC",0,0.101894,1.61297E-2,0,0,9.1244199999999998E-2,0.14171400000000001,0.30218800000000001,1.3338300000000001E-2,0.66650900000000002,0.118024,0,0.249644,1.61297E-2,0,0,9.1244199999999998E-2,0.143568,0.30218800000000001,1.3338300000000001E-2,0.81611299999999998,0.26577400000000001,0.14960399999999999,0.14774999999999999,4.7881099999999996,7.7062200000000001,{"$nulls":9},461.048,64.611500000000007,141.255,0,0,0,615.745,982.44600000000003,2371.31,151.51499999999999,4787.93,538.32600000000002,0,0,0,145.16200000000001,0,45.121000000000002,0,0,728.60900000000004,0,0,0,0,0,0,0,0,0,0,39.200000000000003,1.7,1.0900000000000001,0,9.0299999999999994,0,4.9400000000000004,10.72,18.690000000000001,1.1299999999999999,86.5,0,0.101894,1.61297E-2,0,0,0,9.1244199999999998E-2,0.14171400000000001,0.30218800000000001,1.3338300000000001E-2,0.66650900000000002,696.22199999999998,563.976,141.255,0,0,2615,989.00099999999998,3267.2,327.5,8600.15,580.98900000000003,0,0,0,197.989,0,73.400000000000006,0,0,852.37800000000004,0,0,0,0,0,0,0,0,0,0,43.9,16.04,1.0900000000000001,0,12.31,21.32,12.23,25.97,2.31,135.16999999999999,0,1.1113599999999999,1.61297E-2,0,0,0.41129599999999999,0.118258,0.43522,4.56421E-3,2.0968300000000002,48.064799999999998,0,50.481900000000003]
["2016-09-01T10:36:34","U06R01","v28 01 P69 U15 M01","Proposed and Standard","FAIL",-0.81000099999999997,58.215800000000002,513.24400000000003,0,785.77200000000005,0,0,2033.7,5276.83,12062,433.91399999999999,21105.4,597.702,0,0,0,775.96100000000001,0,287.95400000000001,0,0,1661.62,0,0,0,0,0,0,0,0,0,0,16.71,0,2.4700000000000002,0,18.45,0,6.6,23.79,38.54,1.31,107.87,37.630000000000003,480.80700000000002,4.6427199999999997,785.77200000000005,0,0,2033.7,5307.43,12062,433.91399999999999,21108.2,559.928,0,0,0,775.96100000000001,0,287.95400000000001,0,0,1623.84,0,0,0,0,0,0,0,0,0,0,15.85,0.05,2.4700000000000002,0,18.45,6.6,23.91,38.54,1.31,107.18,36.82,"CA Residential 2016, Vers. 1.0","CSE 0.813 EXE",null,"MPCBECC",1.9675799999999999E-13,0,8.9726299999999995E-2,0,0,0.30136400000000002,0.69186199999999998,1.54311,3.8198599999999999E-2,2.6642600000000001,8.9726299999999995E-2,0,1.68871E-3,8.9726299999999995E-2,0,0,0.30136400000000002,0.70207799999999998,1.54311,3.8198599999999999E-2,2.6761699999999999,9.1414999999999996E-2,1.1904700000000001E-2,1.68871E-3,-0.64377899999999999,-2.1999,{"$nulls":9},513.24400000000003,0,785.77200000000005,0,0,0,2033.7,5276.83,12062,433.91399999999999,21105.4,597.702,0,0,0,775.96100000000001,0,287.95400000000001,0,0,1661.62,0,0,0,0,0,0,0,0,0,0,16.71,0,2.4700000000000002,0,18.45,0,6.6,23.79,38.54,1.31,107.87,1.9675799999999999E-13,0,8.9726299999999995E-2,0,0,0,0.30136400000000002,0.69186199999999998,1.54311,3.8198599999999999E-2,2.6642600000000001,888.24300000000005,0.19209100000000001,785.77200000000005,0,0,5894.96,6547.68,10697.7,540.49900000000002,25355.1,739.25900000000001,0,0,0,1220.78,0,291.12400000000002,0,0,2251.16,0,0,0,0,0,0,0,0,0,0,21.59,0,2.4700000000000002,0,29.02,19.34,27.59,34.31,1.54,135.86000000000001,0,0,8.9726299999999995E-2,0,0,0.92718,0.77117400000000003,1.42503,7.5326799999999999E-3,3.22065,58.215800000000002,0,57.843400000000003]
["2016-09-01T10:36:37","U06R02","v28 02 P69 U15 M01","Proposed and Standard","PASS",2.3199999999999998,54.703899999999997,355.18900000000002,363.27199999999999,785.77200000000005,0,0,2033.7,5376.98,12062,433.91399999999999,21410.799999999999,413.62299999999999,0,0,0,696.60599999999999,0,287.95400000000001,0,0,1398.18,0,0,0,0,0,0,0,0,0,0,11.98,4.63,2.4700000000000002,0,16.64,0,6.61,24.23,38.58,1.31,106.45,35.72,340.613,583.83900000000006,785.77200000000005,0,0,2033.7,5405.36,12062,433.91399999999999,21645.200000000001,396.65,0,0,0,696.60599999999999,0,287.95400000000001,0,0,1381.21,0,0,0,0,0,0,0,0,0,0,11.56,7.37,2.4700000000000002,0,16.64,6.61,24.33,38.58,1.31,108.87,38.04,"CA Residential 2016, Vers. 1.0","CSE 0.813 EXE",null,"MPCBECC",0,0.65815500000000005,8.9726299999999995E-2,0,0,0.30136400000000002,0.72198600000000002,1.54311,3.8198599999999999E-2,3.3525399999999999,0.74788200000000005,0,1.1619699999999999,8.9726299999999995E-2,0,0,0.30136400000000002,0.72809199999999996,1.54311,3.8198599999999999E-2,3.86246,1.2517,0.50992099999999996,0.50381500000000001,2.2228300000000001,6.09884,{"$nulls":9},355.18900000000002,363.27199999999999,785.77200000000005,0,0,0,2033.7,5376.98,12062,433.91399999999999,21410.799999999999,413.62299999999999,0,0,0,696.60599999999999,0,287.95400000000001,0,0,1398.18,0,0,0,0,0,0,0,0,0,0,11.98,4.63,2.4700000000000002,0,16.64,0,6.61,24.23,38.58,1.31,106.45,0,0.65815500000000005,8.9726299999999995E-2,0,0,0,0.30136400000000002,0.72198600000000002,1.54311,3.8198599999999999E-2,3.3525399999999999,1065.97,1159.26,785.77200000000005,0,0,5894.96,6547.68,10697.7,540.49900000000002,26691.9,887.14700000000005,0,0,0,1141.4000000000001,0,291.12400000000002,0,0,2319.67,0,0,0,0,0,0,0,0,0,0,26.52,15.31,2.4700000000000002,0,27.27,19.399999999999999,27.6,34.42,1.54,154.53,0,2.3363999999999998,8.9726299999999995E-2,0,0,0.92718,0.77117400000000003,1.42503,7.5326799999999999E-3,5.5570500000000003,54.703899999999997,0,55.947600000000001]
["2016-09-01T10:36:11","U06R03","v28 03 P69 U15 M01","Proposed and Standard","PASS",1.03,54.773499999999999,155.34399999999999,59.073799999999999,785.77200000000005,0,0,2033.7,5356.62,12062,433.91399999999999,20886.400000000001,180.89099999999999,0,0,0,699.798,0,287.95400000000001,0,0,1168.6400000000001,0,0,0,0,0,0,0,0,0,0,5.28,0.74,2.4700000000000002,0,16.670000000000002,0,6.57,24,38.51,1.3,95.54,25.16,154.197,148.78100000000001,785.77200000000005,0,0,2033.7,5391.15,12062,433.91399999999999,21009.5,179.55500000000001,0,0,0,699.798,0,287.95400000000001,0,0,1167.31,0,0,0,0,0,0,0,0,0,0,5.3,1.75,2.4700000000000002,0,16.670000000000002,6.57,24.13,38.51,1.3,96.7,26.19,"CA Residential 2016, Vers. 1.0","CSE 0.813 EXE",null,"MPCBECC",0,0.15679299999999999,8.9726299999999995E-2,0,0,0.30136400000000002,0.70714200000000005,1.54311,3.8198599999999999E-2,2.8363299999999998,0.24651899999999999,0,0.313224,8.9726299999999995E-2,0,0,0.30136400000000002,0.71533599999999997,1.54311,3.8198599999999999E-2,3.0009600000000001,0.402951,0.16462599999999999,0.15643099999999999,1.1995800000000001,3.9327999999999999,{"$nulls":9},155.34399999999999,59.073799999999999,785.77200000000005,0,0,0,2033.7,5356.62,12062,433.91399999999999,20886.400000000001,180.89099999999999,0,0,0,699.798,0,287.95400000000001,0,0,1168.6400000000001,0,0,0,0,0,0,0,0,0,0,5.28,0.74,2.4700000000000002,0,16.670000000000002,0,6.57,24,38.51,1.3,95.54,0,0.15679299999999999,8.9726299999999995E-2,0,0,0,0.30136400000000002,0.70714200000000005,1.54311,3.8198599999999999E-2,2.8363299999999998,842.375,75.385999999999996,785.77200000000005,0,0,5894.96,6547.68,10697.7,540.49900000000002,25384.400000000001,701.02099999999996,0,0,0,1145.3499999999999,0,291.12400000000002,0,0,2137.4899999999998,0,0,0,0,0,0,0,0,0,0,20.97,1.26,2.4700000000000002,0,27.29,19.239999999999998,27.59,34.29,1.53,134.63999999999999,0,0.24352599999999999,8.9726299999999995E-2,0,0,0.92718,0.77117400000000003,1.42503,7.5326799999999999E-3,3.4641700000000002,54.773499999999999,0,55.438600000000001]
["2016-09-01T10:36:12","U06R04","v28 04 P69 U15 M01","Proposed and Standard","PASS",3.41,52.941400000000002,231.16900000000001,456.05700000000002,785.77200000000005,0,0,2033.7,5424.06,12062,433.91399999999999,21426.6,269.20100000000002,0,0,0,666.51700000000005,0,287.95400000000001,0,0,1223.67,0,0,0,0,0,0,0,0,0,0,7.81,5.33,2.4700000000000002,0,15.94,0,6.62,24.34,38.6,1.31,102.42,31.55,221.58699999999999,795.721,785.77200000000005,0,0,2033.7,5449.85,12062,433.91399999999999,21782.5,258.04199999999997,0,0,0,666.51700000000005,0,287.95400000000001,0,0,1212.51,0,0,0,0,0,0,0,0,0,0,7.54,9.01,2.4700000000000002,0,15.94,6.62,24.44,38.6,1.31,105.93,34.96,"CA Residential 2016, Vers. 1.0","CSE 0.813 EXE",null,"MPCBECC",0,1.37049,8.9726299999999995E-2,0,0,0.30136400000000002,0.73887100000000006,1.54311,3.8198599999999999E-2,4.0817600000000001,1.46021,0,2.2162500000000001,8.9726299999999995E-2,0,0,0.30136400000000002,0.74305100000000002,1.54311,3.8198599999999999E-2,4.9317000000000002,2.3059699999999999,0.84994099999999995,0.84575999999999996,3.31351,9.7539999999999996,{"$nulls":9},231.16900000000001,456.05700000000002,785.77200000000005,0,0,0,2033.7,5424.06,12062,433.91399999999999,21426.6,269.20100000000002,0,0,0,666.51700000000005,0,287.95400000000001,0,0,1223.67,0,0,0,0,0,0,0,0,0,0,7.81,5.33,2.4700000000000002,0,15.94,0,6.62,24.34,38.6,1.31,102.42,0,1.37049,8.9726299999999995E-2,0,0,0,0.30136400000000002,0.73887100000000006,1.54311,3.8198599999999999E-2,4.0817600000000001,803.59299999999996,1807.28,785.77200000000005,0,0,5894.96,6547.68,10697.7,540.49900000000002,27077.5,668.78599999999994,0,0,0,1111.18,0,291.12400000000002,0,0,2071.09,0,0,0,0,0,0,0,0,0,0,20.079999999999998,21.65,2.4700000000000002,0,26.57,19.440000000000001,27.6,34.450000000000003,1.53,153.79,0,4.9297000000000004,8.9726299999999995E-2,0,0,0.92718,0.77117400000000003,1.42503,7.5326799999999999E-3,8.1503499999999995,52.941400000000002,0,54.755699999999997]
["2016-09-01T10:36:12","U06R05","v28 05 P69 U15 M01","Proposed and Standard","PASS",0.86000100000000002,53.314399999999999,128.43,22.068000000000001,785.77200000000005,0,0,2033.7,5380.8,12062,433.91399999999999,20846.599999999999,149.56800000000001,0,0,0,716.42100000000005,0,287.95400000000001,0,0,1153.94,0,0,0,0,0,0,0,0,0,0,4.2300000000000004,0.28000000000000003,2.4700000000000002,0,17.05,0,6.51,24.01,38.39,1.3,94.24,24.03,114.408,121.47499999999999,785.77200000000005,0,0,2033.7,5427.78,12062,433.91399999999999,20979,133.238,0,0,0,716.42100000000005,0,287.95400000000001,0,0,1137.6099999999999,0,0,0,0,0,0,0,0,0,0,3.85,1.52,2.4700000000000002,0,17.05,6.51,24.18,38.39,1.3,95.27,24.89,"CA Residential 2016, Vers. 1.0","CSE 0.813 EXE",null,"MPCBECC",0,5.99757E-2,8.9726299999999995E-2,0,0,0.30136400000000002,0.709982,1.54311,3.8198599999999999E-2,2.7423600000000001,0.149702,0,0.32564300000000002,8.9726299999999995E-2,0,0,0.30136400000000002,0.72127399999999997,1.54311,3.8198599999999999E-2,3.01932,0.41537000000000002,0.27695999999999998,0.26566800000000002,1.08114,3.4552100000000001,{"$nulls":9},128.43,22.068000000000001,785.77200000000005,0,0,0,2033.7,5380.8,12062,433.91399999999999,20846.599999999999,149.56800000000001,0,0,0,716.42100000000005,0,287.95400000000001,0,0,1153.94,0,0,0,0,0,0,0,0,0,0,4.2300000000000004,0.28000000000000003,2.4700000000000002,0,17.05,0,6.51,24.01,38.39,1.3,94.24,0,5.99757E-2,8.9726299999999995E-2,0,0,0,0.30136400000000002,0.709982,1.54311,3.8198599999999999E-2,2.7423600000000001,838.24199999999996,6.2671400000000004,785.77200000000005,0,0,5894.96,6547.68,10697.7,540.49900000000002,25311.200000000001,697.66099999999994,0,0,0,1162.01,0,291.12400000000002,0,0,2150.8000000000002,0,0,0,0,0,0,0,0,0,0,20.52,0.04,2.4700000000000002,0,27.65,19.03,27.56,34.090000000000003,1.52,132.88,0,2.82621E-3,8.9726299999999995E-2,0,0,0.92718,0.77117400000000003,1.42503,7.5326799999999999E-3,3.2234699999999998,53.314399999999999,0,53.897100000000002]
["2016-09-01T10:36:35","U06R06","v28 06 P69 U15 M01","Proposed and Standard","PASS",1.99,58.211300000000001,59.404200000000003,456.99099999999999,785.77200000000005,0,0,2033.7,5494.5,12062,433.91399999999999,21326.2,69.176000000000002,0,0,0,636.71799999999996,0,287.95400000000001,0,0,993.84799999999996,0,0,0,0,0,0,0,0,0,0,2.0299999999999998,5.0999999999999996,2.39,0,15.28,0,6.39,23.9,37.35,1.26,93.7,24.8,54.723999999999997,707.28200000000004,785.77200000000005,0,0,2033.7,5517.33,12062,433.91399999999999,21594.7,63.725900000000003,0,0,0,636.71799999999996,0,287.95400000000001,0,0,988.39800000000002,0,0,0,0,0,0,0,0,0,0,1.88,7.24,2.39,0,15.28,6.39,23.97,37.35,1.26,95.76,26.79,"CA Residential 2016, Vers. 1.0","CSE 0.813 EXE",null,"MPCBECC",0,1.1386400000000001,8.9726299999999995E-2,0,0,0.30136400000000002,0.73446299999999998,1.54311,3.8198599999999999E-2,3.8454999999999999,1.2283599999999999,0,1.5783,8.9726299999999995E-2,0,0,0.30136400000000002,0.738568,1.54311,3.8198599999999999E-2,4.2892700000000001,1.6680299999999999,0.44376900000000002,0.43966499999999997,2.1512199999999999,7.42814,{"$nulls":9},59.404200000000003,456.99099999999999,785.77200000000005,0,0,0,2033.7,5494.5,12062,433.91399999999999,21326.2,69.176000000000002,0,0,0,636.71799999999996,0,287.95400000000001,0,0,993.84799999999996,0,0,0,0,0,0,0,0,0,0,2.0299999999999998,5.0999999999999996,2.39,0,15.28,0,6.39,23.9,37.35,1.26,93.7,0,1.1386400000000001,8.9726299999999995E-2,0,0,0,0.30136400000000002,0.73446299999999998,1.54311,3.8198599999999999E-2,3.8454999999999999,277.27999999999997,1263.29,785.77200000000005,0,0,5894.96,6547.68,10697.7,540.49900000000002,26007.200000000001,230.76,0,0,0,1082.05,0,291.12400000000002,0,0,1603.93,0,0,0,0,0,0,0,0,0,0,6.99,14.17,2.39,0,25.97,18.68,26.93,33.130000000000003,1.5,129.76,0,2.40483,8.9726299999999995E-2,0,0,0.92718,0.77117400000000003,1.42503,7.5326799999999999E-3,5.62547,58.211300000000001,0,59.491]
["2016-09-01T10:36:12","U06R07","v28 07 P69 U15 M01","Proposed and Standard","PASS",2.48,58.813299999999998,8.2829300000000003,231.93,785.77200000000005,0,0,2033.7,5497.75,12062,433.91399999999999,21053.3,9.6451100000000007,0,0,0,626.69500000000005,0,287.95400000000001,0,0,924.29399999999998,0,0,0,0,0,0,0,0,0,0,0.26,3.66,2.48,0,14.76,0,6.72,24.57,38.92,1.33,92.7,21.16,5.4996900000000002,408.411,785.77200000000005,0,0,2033.7,5527.41,12062,433.91399999999999,21256.7,6.4041399999999999,0,0,0,626.69500000000005,0,287.95400000000001,0,0,921.053,0,0,0,0,0,0,0,0,0,0,0.19,6.21,2.48,0,14.76,6.72,24.67,38.92,1.33,95.28,23.64,"CA Residential 2016, Vers. 1.0","CSE 0.813 EXE",null,"MPCBECC",0,0.83066099999999998,8.9726299999999995E-2,0,0,0.30136400000000002,0.73255099999999995,1.54311,3.8198599999999999E-2,3.5356100000000001,0.92038699999999996,0,1.38828,8.9726299999999995E-2,0,0,0.30136400000000002,0.73728700000000003,1.54311,3.8198599999999999E-2,4.0979700000000001,1.47801,0.56235999999999997,0.55762400000000001,2.7078099999999998,10.4907,{"$nulls":9},8.2829300000000003,231.93,785.77200000000005,0,0,0,2033.7,5497.75,12062,433.91399999999999,21053.3,9.6451100000000007,0,0,0,626.69500000000005,0,287.95400000000001,0,0,924.29399999999998,0,0,0,0,0,0,0,0,0,0,0.26,3.66,2.48,0,14.76,0,6.72,24.57,38.92,1.33,92.7,0,0.83066099999999998,8.9726299999999995E-2,0,0,0,0.30136400000000002,0.73255099999999995,1.54311,3.8198599999999999E-2,3.5356100000000001,74.553299999999993,764.65099999999995,785.77200000000005,0,0,5894.96,6547.68,10697.7,540.49900000000002,25305.9,62.043100000000003,0,0,0,1072.78,0,291.12400000000002,0,0,1425.95,0,0,0,0,0,0,0,0,0,0,1.83,12.15,2.48,0,25.26,19.649999999999999,27.62,34.58,1.61,125.18,0,2.50596,8.9726299999999995E-2,0,0,0.92718,0.77117400000000003,1.42503,7.5326799999999999E-3,5.7266000000000004,58.813299999999998,0,60.450099999999999]
["2016-09-01T10:36:13","U06R08","v28 08 P69 U15 M01","Proposed and Standard","PASS",3.37,57.085500000000003,28.008700000000001,1637.5,785.77200000000005,0,0,2033.7,5581.58,12062,433.91399999999999,22562.400000000001,32.616100000000003,0,0,0,610.30799999999999,0,287.95400000000001,0,0,930.87800000000004,0,0,0,0,0,0,0,0,0,0,0.96,13.7,2.4,0,14.66,0,6.45,24.3,37.51,1.28,101.26,31.72,25.542000000000002,2167.4499999999998,785.77200000000005,0,0,2033.7,5600.89,12062,433.91399999999999,23109.200000000001,29.7437,0,0,0,610.30799999999999,0,287.95400000000001,0,0,928.00599999999997,0,0,0,0,0,0,0,0,0,0,0.89,17.14,2.4,0,14.66,6.45,24.36,37.51,1.28,104.69,35.090000000000003,"CA Residential 2016, Vers. 1.0","CSE 0.813 EXE",null,"MPCBECC",0,3.0399400000000001,8.9726299999999995E-2,0,0,0.30136400000000002,0.74937200000000004,1.54311,3.8198599999999999E-2,5.7617099999999999,3.12967,0,3.6819000000000002,8.9726299999999995E-2,0,0,0.30136400000000002,0.75144100000000003,1.54311,3.8198599999999999E-2,6.4057399999999998,3.77162,0.64402199999999998,0.64195400000000002,3.2763499999999999,9.6038800000000002,{"$nulls":9},28.008700000000001,1637.5,785.77200000000005,0,0,0,2033.7,5581.58,12062,433.91399999999999,22562.400000000001,32.616100000000003,0,0,0,610.30799999999999,0,287.95400000000001,0,0,930.87800000000004,0,0,0,0,0,0,0,0,0,0,0.96,13.7,2.4,0,14.66,0,6.45,24.3,37.51,1.28,101.26,0,3.0399400000000001,8.9726299999999995E-2,0,0,0,0.30136400000000002,0.74937200000000004,1.54311,3.8198599999999999E-2,5.7617099999999999,200.43700000000001,4238.05,785.77200000000005,0,0,5894.96,6547.68,10697.7,540.49900000000002,28905.1,166.81,0,0,0,1055.28,0,291.12400000000002,0,0,1513.21,0,0,0,0,0,0,0,0,0,0,5.07,34.58,2.4,0,25.35,18.86,26.98,33.32,1.53,148.09,0,6.4691999999999998,8.9726299999999995E-2,0,0,0.92718,0.77117400000000003,1.42503,7.5326799999999999E-3,9.6898400000000002,57.085500000000003,0,59.019199999999998]
["2016-09-01T10:36:11","U06R09","v28 09 P69 U15 M01","Proposed and Standard","PASS",5.31,54.895800000000001,59.454999999999998,2472.38,785.77200000000005,0,0,2033.7,5561.09,12062,433.91399999999999,23408.3,69.256200000000007,0,0,0,609.06299999999999,0,287.95400000000001,0,0,966.274,0,0,0,0,0,0,0,0,0,0,2.0099999999999998,21.74,2.37,0,14.66,0,6.37,24.11,37.08,1.26,109.6,40.78,53.673999999999999,3175.19,785.77200000000005,0,0,2033.7,5579.9,12062,433.91399999999999,24124.1,62.522100000000002,0,0,0,609.06299999999999,0,287.95400000000001,0,0,959.54,0,0,0,0,0,0,0,0,0,0,1.84,27.22,2.37,0,14.66,6.37,24.16,37.08,1.26,114.96,46.09,"CA Residential 2016, Vers. 1.0","CSE 0.813 EXE",null,"MPCBECC",0,4.5263799999999996,8.9726299999999995E-2,0,0,0.30136400000000002,0.75378900000000004,1.54311,3.8198599999999999E-2,7.2525700000000004,4.6161099999999999,0,5.5484400000000003,8.9726299999999995E-2,0,0,0.30136400000000002,0.75509499999999996,1.54311,3.8198599999999999E-2,8.2759300000000007,5.6381600000000001,1.02336,1.02206,4.66249,11.520899999999999,{"$nulls":9},59.454999999999998,2472.38,785.77200000000005,0,0,0,2033.7,5561.09,12062,433.91399999999999,23408.3,69.256200000000007,0,0,0,609.06299999999999,0,287.95400000000001,0,0,966.274,0,0,0,0,0,0,0,0,0,0,2.0099999999999998,21.74,2.37,0,14.66,0,6.37,24.11,37.08,1.26,109.6,0,4.5263799999999996,8.9726299999999995E-2,0,0,0,0.30136400000000002,0.75378900000000004,1.54311,3.8198599999999999E-2,7.2525700000000004,325.18400000000003,6261.79,785.77200000000005,0,0,5894.96,6547.68,10697.7,540.49900000000002,31053.599999999999,270.70999999999998,0,0,0,1053.72,0,291.12400000000002,0,0,1615.55,0,0,0,0,0,0,0,0,0,0,8.14,55.34,2.37,0,25.36,18.649999999999999,26.78,33,1.51,171.15,0,9.4844899999999992,8.9726299999999995E-2,0,0,0.92718,0.77117400000000003,1.42503,7.5326799999999999E-3,12.7051,54.895800000000001,0,57.580500000000001]
["2016-09-01T10:36:35","U06R10","v28 10 P69 U15 M01","Proposed and Standard","PASS",5.18,53.493899999999996,74.384399999999999,3080.05,785.77200000000005,0,0,2033.7,5569.6,12062,433.91399999999999,24039.4,86.650700000000001,0,0,0,604.34299999999996,0,287.95400000000001,0,0,978.94799999999998,0,0,0,0,0,0,0,0,0,0,2.5,22.37,2.37,0,14.57,0,6.29,24.06,36.92,1.25,110.33,41.81,68.168099999999995,3834.13,785.77200000000005,0,0,2033.7,5585.71,12062,433.91399999999999,24803.4,79.409400000000005,0,0,0,604.34299999999996,0,287.95400000000001,0,0,971.70600000000002,0,0,0,0,0,0,0,0,0,0,2.3199999999999998,27.73,2.37,0,14.57,6.29,24.11,36.92,1.25,115.56,46.99,"CA Residential 2016, Vers. 1.0","CSE 0.813 EXE",null,"MPCBECC",0,4.59598,8.9726299999999995E-2,0,0,0.30136400000000002,0.75456400000000001,1.54311,3.8198599999999999E-2,7.3229499999999996,4.6857100000000003,0,5.5297299999999998,8.9726299999999995E-2,0,0,0.30136400000000002,0.75569699999999995,1.54311,3.8198599999999999E-2,8.2578300000000002,5.6194600000000001,0.93488199999999999,0.93374900000000005,4.5257800000000001,11.0236,{"$nulls":9},74.384399999999999,3080.05,785.77200000000005,0,0,0,2033.7,5569.6,12062,433.91399999999999,24039.4,86.650700000000001,0,0,0,604.34299999999996,0,287.95400000000001,0,0,978.94799999999998,0,0,0,0,0,0,0,0,0,0,2.5,22.37,2.37,0,14.57,0,6.29,24.06,36.92,1.25,110.33,0,4.59598,8.9726299999999995E-2,0,0,0,0.30136400000000002,0.75456400000000001,1.54311,3.8198599999999999E-2,7.3229499999999996,370.08,7899.94,785.77200000000005,0,0,5894.96,6547.68,10697.7,540.49900000000002,32736.7,308.10000000000002,0,0,0,1048.3399999999999,0,291.12400000000002,0,0,1647.57,0,0,0,0,0,0,0,0,0,0,9.26,60.87,2.37,0,25.28,18.45,26.75,32.86,1.49,177.33,0,10.250500000000001,8.9726299999999995E-2,0,0,0.92718,0.77117400000000003,1.42503,7.5326799999999999E-3,13.4712,53.493899999999996,0,56.029699999999998]
["2016-09-01T10:36:10","U06R11","v28 11 P69 U15 M01","Proposed and Standard","PASS",6.06,53.8033,340.18900000000002,5287.27,785.77200000000005,0,0,2033.7,5530.52,12062,433.91399999999999,26473.3,396.19600000000003,0,0,0,615.9,0,287.95400000000001,0,0,1300.05,0,0,0,0,0,0,0,0,0,0,11.55,38.39,2.4700000000000002,0,14.87,0,6.7,24.92,38.71,1.32,138.93,67.28,332.48899999999998,6190.24,785.77200000000005,0,0,2033.7,5543.01,12062,433.91399999999999,27381.1,387.22800000000001,0,0,0,615.9,0,287.95400000000001,0,0,1291.08,0,0,0,0,0,0,0,0,0,0,11.34,44.66,2.4700000000000002,0,14.87,6.7,24.95,38.71,1.32,145.02000000000001,73.34,"CA Residential 2016, Vers. 1.0","CSE 0.813 EXE",null,"MPCBECC",0,5.7566699999999997,8.9726299999999995E-2,0,0,0.30136400000000002,0.75252699999999995,1.54311,3.8198599999999999E-2,8.4816000000000003,5.8464,0,6.6807299999999996,8.9726299999999995E-2,0,0,0.30136400000000002,0.75359500000000001,1.54311,3.8198599999999999E-2,9.4067299999999996,6.7704599999999999,0.92512899999999998,0.92406100000000002,4.1994199999999999,8.2628799999999991,{"$nulls":9},340.18900000000002,5287.27,785.77200000000005,0,0,0,2033.7,5530.52,12062,433.91399999999999,26473.3,396.19600000000003,0,0,0,615.9,0,287.95400000000001,0,0,1300.05,0,0,0,0,0,0,0,0,0,0,11.55,38.39,2.4700000000000002,0,14.87,0,6.7,24.92,38.71,1.32,138.93,0,5.7566699999999997,8.9726299999999995E-2,0,0,0,0.30136400000000002,0.75252699999999995,1.54311,3.8198599999999999E-2,8.4816000000000003,1038.6500000000001,12457.1,785.77200000000005,0,0,5894.96,6547.68,10697.7,540.49900000000002,37962.400000000001,864.495,0,0,0,1058.55,0,291.12400000000002,0,0,2214.17,0,0,0,0,0,0,0,0,0,0,26.02,84.37,2.4700000000000002,0,25.55,19.739999999999998,27.62,34.61,1.57,221.95,0,11.447100000000001,8.9726299999999995E-2,0,0,0.92718,0.77117400000000003,1.42503,7.5326799999999999E-3,14.6678,53.8033,0,56.161799999999999]
["2016-09-01T10:36:12","U06R12","v28 12 P69 U15 M01","Proposed and Standard","PASS",5.84,53.087000000000003,334.22899999999998,1948.16,785.77200000000005,0,0,2033.7,5481.89,12062,433.91399999999999,23079.599999999999,389.19499999999999,0,0,0,647.79700000000003,0,287.95400000000001,0,0,1324.95,0,0,0,0,0,0,0,0,0,0,11.39,21.62,2.4700000000000002,0,15.55,0,6.74,24.74,38.78,1.33,122.62,51.03,325.666,2661.26,785.77200000000005,0,0,2033.7,5501.43,12062,433.91399999999999,23803.7,379.22399999999999,0,0,0,647.79700000000003,0,287.95400000000001,0,0,1314.98,0,0,0,0,0,0,0,0,0,0,11.15,27.7,2.4700000000000002,0,15.55,6.74,24.8,38.78,1.33,128.52000000000001,56.87,"CA Residential 2016, Vers. 1.0","CSE 0.813 EXE",null,"MPCBECC",0,3.9638300000000002,8.9726299999999995E-2,0,0,0.30136400000000002,0.74732100000000001,1.54311,3.8198599999999999E-2,6.6835500000000003,4.0535500000000004,0,4.9398099999999996,8.9726299999999995E-2,0,0,0.30136400000000002,0.74921000000000004,1.54311,3.8198599999999999E-2,7.6614199999999997,5.0295399999999999,0.97787500000000005,0.97598600000000002,4.5907299999999998,10.269,{"$nulls":9},334.22899999999998,1948.16,785.77200000000005,0,0,0,2033.7,5481.89,12062,433.91399999999999,23079.599999999999,389.19499999999999,0,0,0,647.79700000000003,0,287.95400000000001,0,0,1324.95,0,0,0,0,0,0,0,0,0,0,11.39,21.62,2.4700000000000002,0,15.55,0,6.74,24.74,38.78,1.33,122.62,0,3.9638300000000002,8.9726299999999995E-2,0,0,0,0.30136400000000002,0.74732100000000001,1.54311,3.8198599999999999E-2,6.6835500000000003,1029.96,5831.04,785.77200000000005,0,0,5894.96,6547.68,10697.7,540.49900000000002,31327.7,857.13099999999997,0,0,0,1091.3900000000001,0,291.12400000000002,0,0,2239.65,0,0,0,0,0,0,0,0,0,0,25.89,54.47,2.4700000000000002,0,26.21,19.850000000000001,27.63,34.69,1.57,192.78,0,9.2231100000000001,8.9726299999999995E-2,0,0,0.92718,0.77117400000000003,1.42503,7.5326799999999999E-3,12.4438,53.087000000000003,0,55.641399999999997]
["2016-09-01T10:35:50","U06R13","v28 13 P69 U15 M01","Proposed and Standard","PASS",6.99,54.122999999999998,291.34699999999998,5848.89,785.77200000000005,0,0,2033.7,5557.15,12062,433.91399999999999,27012.7,339.31099999999998,0,0,0,604.26199999999994,0,287.95400000000001,0,0,1231.53,0,0,0,0,0,0,0,0,0,0,9.98,40.81,2.4700000000000002,0,14.59,0,6.67,24.91,38.69,1.32,139.44,67.849999999999994,285.15699999999998,6837.03,785.77200000000005,0,0,2033.7,5570.99,12062,433.91399999999999,28008.5,332.10199999999998,0,0,0,604.26199999999994,0,287.95400000000001,0,0,1224.32,0,0,0,0,0,0,0,0,0,0,9.8000000000000007,47.98,2.4700000000000002,0,14.59,6.67,24.95,38.69,1.32,146.47,74.84,"CA Residential 2016, Vers. 1.0","CSE 0.813 EXE",null,"MPCBECC",0,6.5707399999999998,8.9726299999999995E-2,0,0,0.30136400000000002,0.75468500000000005,1.54311,3.8198599999999999E-2,9.2978299999999994,6.6604700000000001,0,7.6775200000000003,8.9726299999999995E-2,0,0,0.30136400000000002,0.755409,1.54311,3.8198599999999999E-2,10.4053,7.7672499999999998,1.1074999999999999,1.1067800000000001,4.79962,9.3399199999999993,{"$nulls":9},291.34699999999998,5848.89,785.77200000000005,0,0,0,2033.7,5557.15,12062,433.91399999999999,27012.7,339.31099999999998,0,0,0,604.26199999999994,0,287.95400000000001,0,0,1231.53,0,0,0,0,0,0,0,0,0,0,9.98,40.81,2.4700000000000002,0,14.59,0,6.67,24.91,38.69,1.32,139.44,0,6.5707399999999998,8.9726299999999995E-2,0,0,0,0.30136400000000002,0.75468500000000005,1.54311,3.8198599999999999E-2,9.2978299999999994,927.52,13616.4,785.77200000000005,0,0,5894.96,6547.68,10697.7,540.49900000000002,39010.5,771.99599999999998,0,0,0,1046.18,0,291.12400000000002,0,0,2109.3000000000002,0,0,0,0,0,0,0,0,0,0,23.39,85.46,2.4700000000000002,0,25.26,19.649999999999999,27.62,34.590000000000003,1.54,219.98,0,12.217599999999999,8.9726299999999995E-2,0,0,0.92718,0.77117400000000003,1.42503,7.5326799999999999E-3,15.4382,54.122999999999998,0,56.851700000000001]
["2016-09-01T10:35:50","U06R14","v28 14 P69 U15 M01","Proposed and Standard","PASS",6.29,54.2896,340.8,4901.38,785.77200000000005,0,0,2033.7,5522.02,12062,433.91399999999999,26079.599999999999,397.32799999999997,0,0,0,623.22699999999998,0,287.95400000000001,0,0,1308.51,0,0,0,0,0,0,0,0,0,0,11.61,34.119999999999997,2.37,0,15.15,0,6.38,24.08,37.020000000000003,1.26,131.99,63.25,322.464,5872.13,785.77200000000005,0,0,2033.7,5539.67,12062,433.91399999999999,27049.599999999999,375.95,0,0,0,623.22699999999998,0,287.95400000000001,0,0,1287.1300000000001,0,0,0,0,0,0,0,0,0,0,11.06,40.96,2.37,0,15.15,6.38,24.13,37.020000000000003,1.26,138.33000000000001,69.540000000000006,"CA Residential 2016, Vers. 1.0","CSE 0.813 EXE",null,"MPCBECC",0,5.9850899999999996,8.9726299999999995E-2,0,0,0.30136400000000002,0.75453300000000001,1.54311,3.8198599999999999E-2,8.7120200000000008,6.0748199999999999,0,7.0342500000000001,8.9726299999999995E-2,0,0,0.30136400000000002,0.75548400000000004,1.54311,3.8198599999999999E-2,9.7621400000000005,7.1239800000000004,1.0501100000000001,1.0491600000000001,4.58324,9.0451599999999992,{"$nulls":9},340.8,4901.38,785.77200000000005,0,0,0,2033.7,5522.02,12062,433.91399999999999,26079.599999999999,397.32799999999997,0,0,0,623.22699999999998,0,287.95400000000001,0,0,1308.51,0,0,0,0,0,0,0,0,0,0,11.61,34.119999999999997,2.37,0,15.15,0,6.38,24.08,37.020000000000003,1.26,131.99,0,5.9850899999999996,8.9726299999999995E-2,0,0,0,0.30136400000000002,0.75453300000000001,1.54311,3.8198599999999999E-2,8.7120200000000008,1031.54,11891,785.77200000000005,0,0,5894.96,6547.68,10697.7,540.49900000000002,37389.199999999997,859.49900000000002,0,0,0,1065.1300000000001,0,291.12400000000002,0,0,2215.7600000000002,0,0,0,0,0,0,0,0,0,0,25.94,75.430000000000007,2.37,0,25.9,18.829999999999998,26.77,33.130000000000003,1.49,209.86,0,11.264099999999999,8.9726299999999995E-2,0,0,0.92718,0.77117400000000003,1.42503,7.5326799999999999E-3,14.4847,54.2896,0,56.897399999999998]
["2016-09-01T10:35:51","U06R15","v28 15 P69 U15 M01","Proposed and Standard","PASS",8.7500099999999996,59.185400000000001,5.24329,16034.9,785.77200000000005,0,0,2033.7,5767.84,12062,433.91399999999999,37123.4,6.1068899999999999,0,0,0,452.49599999999998,0,287.95400000000001,0,0,746.55700000000002,0,0,0,0,0,0,0,0,0,0,0.18,82.85,2.37,0,11.08,0,6.42,24.74,37.11,1.27,166.02,96.48,4.7716700000000003,17538.3,785.77200000000005,0,0,2033.7,5776.38,12062,433.91399999999999,38634.800000000003,5.5575799999999997,0,0,0,452.49599999999998,0,287.95400000000001,0,0,746.00800000000004,0,0,0,0,0,0,0,0,0,0,0.16,91.62,2.37,0,11.08,6.42,24.77,37.11,1.27,174.8,105.23,"CA Residential 2016, Vers. 1.0","CSE 0.813 EXE",null,"MPCBECC",0,11.0398,8.9726299999999995E-2,0,0,0.30136400000000002,0.75804899999999997,1.54311,3.8198599999999999E-2,13.770300000000001,11.1295,0,12.2578,8.9726299999999995E-2,0,0,0.30136400000000002,0.75797000000000003,1.54311,3.8198599999999999E-2,14.988200000000001,12.3475,1.21791,1.2179899999999999,5.0228799999999998,8.3151299999999999,{"$nulls":9},5.24329,16034.9,785.77200000000005,0,0,0,2033.7,5767.84,12062,433.91399999999999,37123.4,6.1068899999999999,0,0,0,452.49599999999998,0,287.95400000000001,0,0,746.55700000000002,0,0,0,0,0,0,0,0,0,0,0.18,82.85,2.37,0,11.08,0,6.42,24.74,37.11,1.27,166.02,0,11.0398,8.9726299999999995E-2,0,0,0,0.30136400000000002,0.75804899999999997,1.54311,3.8198599999999999E-2,13.770300000000001,95.000900000000001,32917.800000000003,785.77200000000005,0,0,5894.96,6547.68,10697.7,540.49900000000002,57479.5,79.076599999999999,0,0,0,889.40899999999999,0,291.12400000000002,0,0,1259.6099999999999,0,0,0,0,0,0,0,0,0,0,2.42,153.05000000000001,2.37,0,21.77,18.93,26.8,33.18,1.51,260.02999999999997,0,16.9299,8.9726299999999995E-2,0,0,0.92718,0.77117400000000003,1.42503,7.5326799999999999E-3,20.150600000000001,59.185400000000001,0,62.315399999999997]
["2016-09-01T10:36:12","U06R16","v28 16 P69 U15 M01","Proposed and Standard","PASS",2.89,55.578099999999999,922.31299999999999,539.154,785.77200000000005,0,0,2033.7,5372.01,12062,433.91399999999999,22148.799999999999,1076.9100000000001,0,0,0,768.83,0,287.95400000000001,0,0,2133.69,0,0,0,0,0,0,0,0,0,0,30.46,5.19,2.36,0,18.559999999999999,0,6.33,23.57,36.909999999999997,1.25,124.63,56.57,890.63599999999997,943.80600000000004,785.77200000000005,0,0,2033.7,5399.13,12062,433.91399999999999,22548.9,1039.92,0,0,0,768.83,0,287.95400000000001,0,0,2096.6999999999998,0,0,0,0,0,0,0,0,0,0,29.56,8.98,2.36,0,18.559999999999999,6.33,23.66,36.909999999999997,1.25,127.61,59.46,"CA Residential 2016, Vers. 1.0","CSE 0.813 EXE",null,"MPCBECC",0,1.0072700000000001,8.9726299999999995E-2,0,0,0.30136400000000002,0.73844100000000001,1.54311,3.8198599999999999E-2,3.7181099999999998,1.097,0,1.69547,8.9726299999999995E-2,0,0,0.30136400000000002,0.74360300000000001,1.54311,3.8198599999999999E-2,4.4114699999999996,1.7851999999999999,0.69335999999999998,0.68819799999999998,2.3352400000000002,4.8604099999999999,{"$nulls":9},922.31299999999999,539.154,785.77200000000005,0,0,0,2033.7,5372.01,12062,433.91399999999999,22148.799999999999,1076.9100000000001,0,0,0,768.83,0,287.95400000000001,0,0,2133.69,0,0,0,0,0,0,0,0,0,0,30.46,5.19,2.36,0,18.559999999999999,0,6.33,23.57,36.909999999999997,1.25,124.63,0,1.0072700000000001,8.9726299999999995E-2,0,0,0,0.30136400000000002,0.73844100000000001,1.54311,3.8198599999999999E-2,3.7181099999999998,1353.48,2658.86,785.77200000000005,0,0,5894.96,6547.68,10697.7,540.49900000000002,28479,1129.46,0,0,0,1211.55,0,291.12400000000002,0,0,2632.13,0,0,0,0,0,0,0,0,0,0,33.17,22.39,2.36,0,29.25,18.649999999999999,26.72,32.99,1.48,167.01,0,3.6081099999999999,8.9726299999999995E-2,0,0,0.92718,0.77117400000000003,1.42503,7.5326799999999999E-3,6.8287599999999999,55.578099999999999,0,56.9071]
["2016-09-01T10:35:46","U07R01","v28 12 P21 U20 R01","Proposed and Standard","PASS",4.04,43.378,179.28899999999999,212.96899999999999,111.69,0,0,505.55700000000002,943.90800000000002,2025.88,119.621,4098.92,208.77500000000001,0,0,0,108.29,0,43.669699999999999,0,0,360.73500000000001,0,0,0,0,0,0,0,0,0,0,20.18,7.39,1.17,0,8.66,0,5.55,13.96,21.58,1.22,79.709999999999994,37.4,189.36,276.12799999999999,111.69,0,0,505.55700000000002,948.78800000000001,2025.88,119.621,4177.03,220.50200000000001,0,0,0,108.29,0,43.669699999999999,0,0,372.46199999999999,0,0,0,0,0,0,0,0,0,0,21.38,10.23,1.17,0,8.66,5.55,14.02,21.58,1.22,83.81,41.44,"CA Residential 2016, Vers. 1.0","CSE 0.813 EXE",null,"MPCBECC",0,0.400474,1.2753799999999999E-2,0,0,7.4915999999999996E-2,0.14868500000000001,0.25846799999999998,1.0530599999999999E-2,0.90582700000000005,0.41322799999999998,0,0.53406799999999999,1.2753799999999999E-2,0,0,7.4915999999999996E-2,0.14984600000000001,0.25846799999999998,1.0530599999999999E-2,1.0405800000000001,0.54682200000000003,0.13475500000000001,0.13359399999999999,4.8920199999999996,9.7490400000000008,{"$nulls":9},179.28899999999999,212.96899999999999,111.69,0,0,0,505.55700000000002,943.90800000000002,2025.88,119.621,4098.92,208.77500000000001,0,0,0,108.29,0,43.669699999999999,0,0,360.73500000000001,0,0,0,0,0,0,0,0,0,0,20.18,7.39,1.17,0,8.66,0,5.55,13.96,21.58,1.22,79.709999999999994,0,0.400474,1.2753799999999999E-2,0,0,0,7.4915999999999996E-2,0.14868500000000001,0.25846799999999998,1.0530599999999999E-2,0.90582700000000005,420.762,1095.06,111.69,0,0,2135,930.00099999999998,2637.81,297.5,7627.83,350.15800000000002,0,0,0,162.852,0,65.400000000000006,0,0,578.41,0,0,0,0,0,0,0,0,0,0,34.94,41.16,1.17,0,13.03,23.83,14.92,28.35,2.86,160.26,0,2.2516400000000001,1.2753799999999999E-2,0,0,0.33579999999999999,0.11074100000000001,0.35138000000000003,4.1461199999999997E-3,3.0664600000000002,43.378,0,45.609200000000001]
["2016-09-01T10:35:46","U07R02","v28 12 P21 U20 R02","Proposed and Standard","FAIL",-1.45,46.398299999999999,163.91900000000001,354.12900000000002,111.69,0,0,505.55700000000002,949.03300000000002,2025.88,119.621,4229.83,190.876,0,0,0,108.29,0,43.669699999999999,0,0,342.83600000000001,0,0,0,0,0,0,0,0,0,0,18.510000000000002,14.55,1.17,0,8.66,0,5.55,14.02,21.58,1.22,85.26,42.89,189.36,276.12799999999999,111.69,0,0,505.55700000000002,948.78800000000001,2025.88,119.621,4177.03,220.50200000000001,0,0,0,108.29,0,43.669699999999999,0,0,372.46199999999999,0,0,0,0,0,0,0,0,0,0,21.38,10.23,1.17,0,8.66,5.55,14.02,21.58,1.22,83.81,41.44,"CA Residential 2016, Vers. 1.0","CSE 0.813 EXE",null,"MPCBECC",0,0.85802800000000001,1.2753799999999999E-2,0,0,7.4915999999999996E-2,0.14945600000000001,0.25846799999999998,1.0530599999999999E-2,1.36415,0.87078199999999994,0,0.53406799999999999,1.2753799999999999E-2,0,0,7.4915999999999996E-2,0.14984600000000001,0.25846799999999998,1.0530599999999999E-2,1.0405800000000001,0.54682200000000003,-0.323571,-0.32396000000000003,-1.73011,-3.4990399999999999,{"$nulls":9},163.91900000000001,354.12900000000002,111.69,0,0,0,505.55700000000002,949.03300000000002,2025.88,119.621,4229.83,190.876,0,0,0,108.29,0,43.669699999999999,0,0,342.83600000000001,0,0,0,0,0,0,0,0,0,0,18.510000000000002,14.55,1.17,0,8.66,0,5.55,14.02,21.58,1.22,85.26,0,0.85802800000000001,1.2753799999999999E-2,0,0,0,7.4915999999999996E-2,0.14945600000000001,0.25846799999999998,1.0530599999999999E-2,1.36415,420.762,1095.06,111.69,0,0,2135,930.00099999999998,2637.81,297.5,7627.83,350.15800000000002,0,0,0,162.852,0,65.400000000000006,0,0,578.41,0,0,0,0,0,0,0,0,0,0,34.94,41.16,1.17,0,13.03,23.83,14.92,28.35,2.86,160.26,0,2.2516400000000001,1.2753799999999999E-2,0,0,0.33579999999999999,0.11074100000000001,0.35138000000000003,4.1461199999999997E-3,3.0664600000000002,46.398299999999999,0,45.609200000000001]
["2016-09-01T10:35:46","U07R03","v28 12 P21 U20 R03","Proposed and Standard","PASS",4.97,42.866500000000002,183.00899999999999,187.26300000000001,111.69,0,0,505.55700000000002,943.36199999999997,2025.88,119.621,4076.38,213.10599999999999,0,0,0,108.29,0,43.669699999999999,0,0,365.06599999999997,0,0,0,0,0,0,0,0,0,0,20.58,6.06,1.17,0,8.66,0,5.55,13.95,21.58,1.22,78.77,36.47,189.35900000000001,276.12400000000002,111.69,0,0,505.55700000000002,948.78800000000001,2025.88,119.621,4177.0200000000004,220.5,0,0,0,108.29,0,43.669699999999999,0,0,372.46,0,0,0,0,0,0,0,0,0,0,21.38,10.23,1.17,0,8.66,5.55,14.02,21.58,1.22,83.81,41.44,"CA Residential 2016, Vers. 1.0","CSE 0.813 EXE",null,"MPCBECC",0,0.321494,1.2753799999999999E-2,0,0,7.4915999999999996E-2,0.148539,0.25846799999999998,1.0530599999999999E-2,0.82670200000000005,0.33424799999999999,0,0.534057,1.2753799999999999E-2,0,0,7.4915999999999996E-2,0.14984600000000001,0.25846799999999998,1.0530599999999999E-2,1.04057,0.54681100000000005,0.213869,0.212563,6.0135899999999998,11.9932,{"$nulls":9},183.00899999999999,187.26300000000001,111.69,0,0,0,505.55700000000002,943.36199999999997,2025.88,119.621,4076.38,213.10599999999999,0,0,0,108.29,0,43.669699999999999,0,0,365.06599999999997,0,0,0,0,0,0,0,0,0,0,20.58,6.06,1.17,0,8.66,0,5.55,13.95,21.58,1.22,78.77,0,0.321494,1.2753799999999999E-2,0,0,0,7.4915999999999996E-2,0.148539,0.25846799999999998,1.0530599999999999E-2,0.82670200000000005,420.762,1095.06,111.69,0,0,2135,930.00099999999998,2637.81,297.5,7627.83,350.15800000000002,0,0,0,162.852,0,65.400000000000006,0,0,578.41,0,0,0,0,0,0,0,0,0,0,34.94,41.16,1.17,0,13.03,23.83,14.92,28.35,2.86,160.26,0,2.2516400000000001,1.2753799999999999E-2,0,0,0.33579999999999999,0.11074100000000001,0.35138000000000003,4.1461199999999997E-3,3.0664600000000002,42.866500000000002,0,45.609200000000001]
["2016-09-01T10:36:04","U07R04","v28 12 P21 U20 R04","Proposed and Standard","FAIL",-0.24000199999999999,45.712600000000002,192.16499999999999,269.25799999999998,111.69,0,0,505.55700000000002,944.84500000000003,2025.88,119.621,4169.0200000000004,223.768,0,0,0,108.29,0,43.669699999999999,0,0,375.72800000000001,0,0,0,0,0,0,0,0,0,0,21.64,10.210000000000001,1.17,0,8.66,0,5.55,13.97,21.58,1.22,84,41.68,189.36,276.12799999999999,111.69,0,0,505.55700000000002,948.78800000000001,2025.88,119.621,4177.03,220.50200000000001,0,0,0,108.29,0,43.669699999999999,0,0,372.46199999999999,0,0,0,0,0,0,0,0,0,0,21.38,10.23,1.17,0,8.66,5.55,14.02,21.58,1.22,83.81,41.44,"CA Residential 2016, Vers. 1.0","CSE 0.813 EXE",null,"MPCBECC",0,0.561056,1.2753799999999999E-2,0,0,7.4915999999999996E-2,0.14885100000000001,0.25846799999999998,1.0530599999999999E-2,1.0665800000000001,0.57381000000000004,0,0.53406799999999999,1.2753799999999999E-2,0,0,7.4915999999999996E-2,0.14984600000000001,0.25846799999999998,1.0530599999999999E-2,1.0405800000000001,0.54682200000000003,-2.5993200000000001E-2,-2.6987899999999999E-2,-0.22670599999999999,-0.57915499999999998,{"$nulls":9},192.16499999999999,269.25799999999998,111.69,0,0,0,505.55700000000002,944.84500000000003,2025.88,119.621,4169.0200000000004,223.768,0,0,0,108.29,0,43.669699999999999,0,0,375.72800000000001,0,0,0,0,0,0,0,0,0,0,21.64,10.210000000000001,1.17,0,8.66,0,5.55,13.97,21.58,1.22,84,0,0.561056,1.2753799999999999E-2,0,0,0,7.4915999999999996E-2,0.14885100000000001,0.25846799999999998,1.0530599999999999E-2,1.0665800000000001,420.762,1095.06,111.69,0,0,2135,930.00099999999998,2637.81,297.5,7627.83,350.15800000000002,0,0,0,162.852,0,65.400000000000006,0,0,578.41,0,0,0,0,0,0,0,0,0,0,34.94,41.16,1.17,0,13.03,23.83,14.92,28.35,2.86,160.26,0,2.2516400000000001,1.2753799999999999E-2,0,0,0.33579999999999999,0.11074100000000001,0.35138000000000003,4.1461199999999997E-3,3.0664600000000002,45.712600000000002,0,45.609200000000001]
["2016-09-01T10:35:46","U07R05","v28 12 P21 U20 R05","Proposed and Standard","PASS",6.86,41.843400000000003,179.28899999999999,212.96899999999999,111.69,0,0,505.55700000000002,943.90800000000002,2025.88,119.621,4098.92,177.005,0,0,0,108.29,0,43.669699999999999,0,0,328.96499999999997,0,0,0,0,0,0,0,0,0,0,17.36,7.39,1.17,0,8.66,0,5.55,13.96,21.58,1.22,76.89,34.58,189.36,276.12799999999999,111.69,0,0,505.55700000000002,948.78800000000001,2025.88,119.621,4177.03,220.50200000000001,0,0,0,108.29,0,43.669699999999999,0,0,372.46199999999999,0,0,0,0,0,0,0,0,0,0,21.38,10.23,1.17,0,8.66,5.55,14.02,21.58,1.22,83.81,41.44,"CA Residential 2016, Vers. 1.0","CSE 0.813 EXE",null,"MPCBECC",0,0.400474,1.2753799999999999E-2,0,0,7.4915999999999996E-2,0.14868500000000001,0.25846799999999998,1.0530599999999999E-2,0.90582700000000005,0.41322799999999998,0,0.53406799999999999,1.2753799999999999E-2,0,0,7.4915999999999996E-2,0.14984600000000001,0.25846799999999998,1.0530599999999999E-2,1.0405800000000001,0.54682200000000003,0.13475500000000001,0.13359399999999999,8.2567699999999995,16.554099999999998,{"$nulls":9},179.28899999999999,212.96899999999999,111.69,0,0,0,505.55700000000002,943.90800000000002,2025.88,119.621,4098.92,177.005,0,0,0,108.29,0,43.669699999999999,0,0,328.96499999999997,0,0,0,0,0,0,0,0,0,0,17.36,7.39,1.17,0,8.66,0,5.55,13.96,21.58,1.22,76.89,0,0.400474,1.2753799999999999E-2,0,0,0,7.4915999999999996E-2,0.14868500000000001,0.25846799999999998,1.0530599999999999E-2,0.90582700000000005,420.762,1095.06,111.69,0,0,2135,930.00099999999998,2637.81,297.5,7627.83,350.15800000000002,0,0,0,162.852,0,65.400000000000006,0,0,578.41,0,0,0,0,0,0,0,0,0,0,34.94,41.16,1.17,0,13.03,23.83,14.92,28.35,2.86,160.26,0,2.2516400000000001,1.2753799999999999E-2,0,0,0.33579999999999999,0.11074100000000001,0.35138000000000003,4.1461199999999997E-3,3.0664600000000002,41.843400000000003,0,45.609200000000001]
["2016-09-01T10:35:46","U07R06","v28 12 P21 U20 R06","Proposed and Standard","PASS",5.05,42.828400000000002,179.28899999999999,194.44,111.69,0,0,505.55700000000002,943.90800000000002,2025.88,119.621,4080.39,208.77500000000001,0,0,0,108.29,0,43.669699999999999,0,0,360.73500000000001,0,0,0,0,0,0,0,0,0,0,20.18,6.38,1.17,0,8.66,0,5.55,13.96,21.58,1.22,78.7,36.39,189.36,276.12799999999999,111.69,0,0,505.55700000000002,948.78800000000001,2025.88,119.621,4177.03,220.50200000000001,0,0,0,108.29,0,43.669699999999999,0,0,372.46199999999999,0,0,0,0,0,0,0,0,0,0,21.38,10.23,1.17,0,8.66,5.55,14.02,21.58,1.22,83.81,41.44,"CA Residential 2016, Vers. 1.0","CSE 0.813 EXE",null,"MPCBECC",0,0.33946599999999999,1.2753799999999999E-2,0,0,7.4915999999999996E-2,0.14868500000000001,0.25846799999999998,1.0530599999999999E-2,0.84481899999999999,0.35221999999999998,0,0.53406799999999999,1.2753799999999999E-2,0,0,7.4915999999999996E-2,0.14984600000000001,0.25846799999999998,1.0530599999999999E-2,1.0405800000000001,0.54682200000000003,0.19576299999999999,0.194602,6.0971299999999999,12.186299999999999,{"$nulls":9},179.28899999999999,194.44,111.69,0,0,0,505.55700000000002,943.90800000000002,2025.88,119.621,4080.39,208.77500000000001,0,0,0,108.29,0,43.669699999999999,0,0,360.73500000000001,0,0,0,0,0,0,0,0,0,0,20.18,6.38,1.17,0,8.66,0,5.55,13.96,21.58,1.22,78.7,0,0.33946599999999999,1.2753799999999999E-2,0,0,0,7.4915999999999996E-2,0.14868500000000001,0.25846799999999998,1.0530599999999999E-2,0.84481899999999999,420.762,1095.06,111.69,0,0,2135,930.00099999999998,2637.81,297.5,7627.83,350.15800000000002,0,0,0,162.852,0,65.400000000000006,0,0,578.41,0,0,0,0,0,0,0,0,0,0,34.94,41.16,1.17,0,13.03,23.83,14.92,28.35,2.86,160.26,0,2.2516400000000001,1.2753799999999999E-2,0,0,0.33579999999999999,0.11074100000000001,0.35138000000000003,4.1461199999999997E-3,3.0664600000000002,42.828400000000002,0,45.609200000000001]
["2016-09-01T10:35:49","U07R07","v28 12 P21 U20 R07","Proposed and Standard","FAIL",-0.40000200000000002,45.816000000000003,179.44,236.42500000000001,111.69,0,0,505.55700000000002,947.69799999999998,2025.88,119.621,4126.3100000000004,208.95099999999999,0,0,0,108.29,0,43.669699999999999,0,0,360.91,0,0,0,0,0,0,0,0,0,0,20.2,11.81,1.17,0,8.66,0,5.55,14,21.58,1.22,84.19,41.84,189.36,276.12799999999999,111.69,0,0,505.55700000000002,948.78800000000001,2025.88,119.621,4177.03,220.50200000000001,0,0,0,108.29,0,43.669699999999999,0,0,372.46199999999999,0,0,0,0,0,0,0,0,0,0,21.38,10.23,1.17,0,8.66,5.55,14.02,21.58,1.22,83.81,41.44,"CA Residential 2016, Vers. 1.0","CSE 0.813 EXE",null,"MPCBECC",0,0.72642799999999996,1.2753799999999999E-2,0,0,7.4915999999999996E-2,0.149446,0.25846799999999998,1.0530599999999999E-2,1.23254,0.73918200000000001,0,0.53406799999999999,1.2753799999999999E-2,0,0,7.4915999999999996E-2,0.14984600000000001,0.25846799999999998,1.0530599999999999E-2,1.0405800000000001,0.54682200000000003,-0.19195999999999999,-0.19236,-0.45341199999999998,-0.96525499999999997,{"$nulls":9},179.44,236.42500000000001,111.69,0,0,0,505.55700000000002,947.69799999999998,2025.88,119.621,4126.3100000000004,208.95099999999999,0,0,0,108.29,0,43.669699999999999,0,0,360.91,0,0,0,0,0,0,0,0,0,0,20.2,11.81,1.17,0,8.66,0,5.55,14,21.58,1.22,84.19,0,0.72642799999999996,1.2753799999999999E-2,0,0,0,7.4915999999999996E-2,0.149446,0.25846799999999998,1.0530599999999999E-2,1.23254,420.762,1095.06,111.69,0,0,2135,930.00099999999998,2637.81,297.5,7627.83,350.15800000000002,0,0,0,162.852,0,65.400000000000006,0,0,578.41,0,0,0,0,0,0,0,0,0,0,34.94,41.16,1.17,0,13.03,23.83,14.92,28.35,2.86,160.26,0,2.2516400000000001,1.2753799999999999E-2,0,0,0.33579999999999999,0.11074100000000001,0.35138000000000003,4.1461199999999997E-3,3.0664600000000002,45.816000000000003,0,45.609200000000001]
["2016-09-01T10:35:49","U07R08","v28 12 P21 U20 R08","Proposed and Standard","PASS",4.62,43.062399999999997,175.71600000000001,209.62200000000001,111.69,0,0,505.55700000000002,943.89099999999996,2025.88,119.621,4091.98,204.614,0,0,0,108.29,0,43.669699999999999,0,0,356.57400000000001,0,0,0,0,0,0,0,0,0,0,19.78,7.21,1.17,0,8.66,0,5.55,13.96,21.58,1.22,79.13,36.82,189.36,276.12799999999999,111.69,0,0,505.55700000000002,948.78800000000001,2025.88,119.621,4177.03,220.50200000000001,0,0,0,108.29,0,43.669699999999999,0,0,372.46199999999999,0,0,0,0,0,0,0,0,0,0,21.38,10.23,1.17,0,8.66,5.55,14.02,21.58,1.22,83.81,41.44,"CA Residential 2016, Vers. 1.0","CSE 0.813 EXE",null,"MPCBECC",0,0.38943100000000003,1.2753799999999999E-2,0,0,7.4915999999999996E-2,0.14868600000000001,0.25846799999999998,1.0530599999999999E-2,0.89478500000000005,0.40218399999999999,0,0.53406799999999999,1.2753799999999999E-2,0,0,7.4915999999999996E-2,0.14984600000000001,0.25846799999999998,1.0530599999999999E-2,1.0405800000000001,0.54682200000000003,0.14579700000000001,0.14463699999999999,5.58406,11.1486,{"$nulls":9},175.71600000000001,209.62200000000001,111.69,0,0,0,505.55700000000002,943.89099999999996,2025.88,119.621,4091.98,204.614,0,0,0,108.29,0,43.669699999999999,0,0,356.57400000000001,0,0,0,0,0,0,0,0,0,0,19.78,7.21,1.17,0,8.66,0,5.55,13.96,21.58,1.22,79.13,0,0.38943100000000003,1.2753799999999999E-2,0,0,0,7.4915999999999996E-2,0.14868600000000001,0.25846799999999998,1.0530599999999999E-2,0.89478500000000005,420.762,1095.06,111.69,0,0,2135,930.00099999999998,2637.81,297.5,7627.83,350.15800000000002,0,0,0,162.852,0,65.400000000000006,0,0,578.41,0,0,0,0,0,0,0,0,0,0,34.94,41.16,1.17,0,13.03,23.83,14.92,28.35,2.86,160.26,0,2.2516400000000001,1.2753799999999999E-2,0,0,0.33579999999999999,0.11074100000000001,0.35138000000000003,4.1461199999999997E-3,3.0664600000000002,43.062399999999997,0,45.609200000000001]
["2016-09-01T10:35:48","U07R09","v28 12 P21 U20 R09","Proposed and Standard","PASS",8.41,40.994399999999999,156.64699999999999,177.34,111.69,0,0,505.55700000000002,943.28700000000003,2025.88,119.621,4040.03,182.40899999999999,0,0,0,108.29,0,43.669699999999999,0,0,334.36900000000003,0,0,0,0,0,0,0,0,0,0,17.63,5.57,1.17,0,8.66,0,5.55,13.95,21.58,1.22,75.33,33.03,189.36,276.12799999999999,111.69,0,0,505.55700000000002,948.78800000000001,2025.88,119.621,4177.03,220.50200000000001,0,0,0,108.29,0,43.669699999999999,0,0,372.46199999999999,0,0,0,0,0,0,0,0,0,0,21.38,10.23,1.17,0,8.66,5.55,14.02,21.58,1.22,83.81,41.44,"CA Residential 2016, Vers. 1.0","CSE 0.813 EXE",null,"MPCBECC",0,0.29513600000000001,1.2753799999999999E-2,0,0,7.4915999999999996E-2,0.14852599999999999,0.25846799999999998,1.0530599999999999E-2,0.80033100000000001,0.30789,0,0.53406799999999999,1.2753799999999999E-2,0,0,7.4915999999999996E-2,0.14984600000000001,0.25846799999999998,1.0530599999999999E-2,1.0405800000000001,0.54682200000000003,0.24025199999999999,0.23893200000000001,10.1181,20.2944,{"$nulls":9},156.64699999999999,177.34,111.69,0,0,0,505.55700000000002,943.28700000000003,2025.88,119.621,4040.03,182.40899999999999,0,0,0,108.29,0,43.669699999999999,0,0,334.36900000000003,0,0,0,0,0,0,0,0,0,0,17.63,5.57,1.17,0,8.66,0,5.55,13.95,21.58,1.22,75.33,0,0.29513600000000001,1.2753799999999999E-2,0,0,0,7.4915999999999996E-2,0.14852599999999999,0.25846799999999998,1.0530599999999999E-2,0.80033100000000001,420.76799999999997,1095.07,111.69,0,0,2135,930.00099999999998,2637.81,297.5,7627.85,350.16300000000001,0,0,0,162.852,0,65.400000000000006,0,0,578.41499999999996,0,0,0,0,0,0,0,0,0,0,34.94,41.16,1.17,0,13.03,23.83,14.92,28.35,2.86,160.26,0,2.2516600000000002,1.2753799999999999E-2,0,0,0.33579999999999999,0.11074100000000001,0.35138000000000003,4.1461199999999997E-3,3.0664799999999999,40.994399999999999,0,45.609200000000001]
["2016-09-01T10:36:06","U07R10","v28 12 P21 U20 R10","Proposed and Standard","PASS",5.58,42.539900000000003,173.22300000000001,196.733,111.69,0,0,505.55700000000002,943.75800000000004,2025.88,119.621,4076.47,201.71100000000001,0,0,0,108.29,0,43.669699999999999,0,0,353.67099999999999,0,0,0,0,0,0,0,0,0,0,19.510000000000002,6.52,1.17,0,8.66,0,5.55,13.96,21.58,1.22,78.17,35.86,189.36,276.12799999999999,111.69,0,0,505.55700000000002,948.78800000000001,2025.88,119.621,4177.03,220.50200000000001,0,0,0,108.29,0,43.669699999999999,0,0,372.46199999999999,0,0,0,0,0,0,0,0,0,0,21.38,10.23,1.17,0,8.66,5.55,14.02,21.58,1.22,83.81,41.44,"CA Residential 2016, Vers. 1.0","CSE 0.813 EXE",null,"MPCBECC",0,0.34767599999999999,1.2753799999999999E-2,0,0,7.4915999999999996E-2,0.148588,0.25846799999999998,1.0530599999999999E-2,0.85293200000000002,0.360429,0,0.53406799999999999,1.2753799999999999E-2,0,0,7.4915999999999996E-2,0.14984600000000001,0.25846799999999998,1.0530599999999999E-2,1.0405800000000001,0.54682200000000003,0.18765100000000001,0.186392,6.7295100000000003,13.465199999999999,{"$nulls":9},173.22300000000001,196.733,111.69,0,0,0,505.55700000000002,943.75800000000004,2025.88,119.621,4076.47,201.71100000000001,0,0,0,108.29,0,43.669699999999999,0,0,353.67099999999999,0,0,0,0,0,0,0,0,0,0,19.510000000000002,6.52,1.17,0,8.66,0,5.55,13.96,21.58,1.22,78.17,0,0.34767599999999999,1.2753799999999999E-2,0,0,0,7.4915999999999996E-2,0.148588,0.25846799999999998,1.0530599999999999E-2,0.85293200000000002,420.762,1095.06,111.69,0,0,2135,930.00099999999998,2637.81,297.5,7627.83,350.15800000000002,0,0,0,162.852,0,65.400000000000006,0,0,578.41,0,0,0,0,0,0,0,0,0,0,34.94,41.16,1.17,0,13.03,23.83,14.92,28.35,2.86,160.26,0,2.2516400000000001,1.2753799999999999E-2,0,0,0.33579999999999999,0.11074100000000001,0.35138000000000003,4.1461199999999997E-3,3.0664600000000002,42.539900000000003,0,45.609200000000001]
["2016-09-01T10:35:49","U08R01","v28 12 P21 U20 R01","Proposed and Standard","PASS",4.04,43.378,179.28899999999999,212.96899999999999,111.69,0,0,505.55700000000002,943.90800000000002,2025.88,119.621,4098.92,208.77500000000001,0,0,0,108.29,0,43.669699999999999,0,0,360.73500000000001,0,0,0,0,0,0,0,0,0,0,20.18,7.39,1.17,0,8.66,0,5.55,13.96,21.58,1.22,79.709999999999994,37.4,189.36,276.12799999999999,111.69,0,0,505.55700000000002,948.78800000000001,2025.88,119.621,4177.03,220.50200000000001,0,0,0,108.29,0,43.669699999999999,0,0,372.46199999999999,0,0,0,0,0,0,0,0,0,0,21.38,10.23,1.17,0,8.66,5.55,14.02,21.58,1.22,83.81,41.44,"CA Residential 2016, Vers. 1.0","CSE 0.813 EXE",null,"MPCBECC",0,0.400474,1.2753799999999999E-2,0,0,7.4915999999999996E-2,0.14868500000000001,0.25846799999999998,1.0530599999999999E-2,0.90582700000000005,0.41322799999999998,0,0.53406799999999999,1.2753799999999999E-2,0,0,7.4915999999999996E-2,0.14984600000000001,0.25846799999999998,1.0530599999999999E-2,1.0405800000000001,0.54682200000000003,0.13475500000000001,0.13359399999999999,4.8920199999999996,9.7490400000000008,{"$nulls":9},179.28899999999999,212.96899999999999,111.69,0,0,0,505.55700000000002,943.90800000000002,2025.88,119.621,4098.92,208.77500000000001,0,0,0,108.29,0,43.669699999999999,0,0,360.73500000000001,0,0,0,0,0,0,0,0,0,0,20.18,7.39,1.17,0,8.66,0,5.55,13.96,21.58,1.22,79.709999999999994,0,0.400474,1.2753799999999999E-2,0,0,0,7.4915999999999996E-2,0.14868500000000001,0.25846799999999998,1.0530599999999999E-2,0.90582700000000005,420.762,1095.06,111.69,0,0,2135,930.00099999999998,2637.81,297.5,7627.83,350.15800000000002,0,0,0,162.852,0,65.400000000000006,0,0,578.41,0,0,0,0,0,0,0,0,0,0,34.94,41.16,1.17,0,13.03,23.83,14.92,28.35,2.86,160.26,0,2.2516400000000001,1.2753799999999999E-2,0,0,0.33579999999999999,0.11074100000000001,0.35138000000000003,4.1461199999999997E-3,3.0664600000000002,43.378,0,45.609200000000001]
["2016-09-01T10:35:48","U08R02","v28 12 P21 U20 R02","Proposed and Standard","PASS",3.98,43.410600000000002,179.28899999999999,212.96899999999999,111.69,0,0,505.55700000000002,943.90800000000002,2025.88,119.621,4098.92,208.77500000000001,0,0,0,109.068,0,43.669699999999999,0,0,361.51299999999998,0,0,0,0,0,0,0,0,0,0,20.18,7.39,1.17,0,8.7200000000000006,0,5.55,13.96,21.58,1.22,79.77,37.46,189.36,276.12799999999999,111.69,0,0,505.55700000000002,948.78800000000001,2025.88,119.621,4177.03,220.50200000000001,0,0,0,108.29,0,43.669699999999999,0,0,372.46199999999999,0,0,0,0,0,0,0,0,0,0,21.38,10.23,1.17,0,8.66,5.55,14.02,21.58,1.22,83.81,41.44,"CA Residential 2016, Vers. 1.0","CSE 0.813 EXE",null,"MPCBECC",0,0.400474,1.2753799999999999E-2,0,0,7.4915999999999996E-2,0.14868500000000001,0.25846799999999998,1.0530599999999999E-2,0.90582700000000005,0.41322799999999998,0,0.53406799999999999,1.2753799999999999E-2,0,0,7.4915999999999996E-2,0.14984600000000001,0.25846799999999998,1.0530599999999999E-2,1.0405800000000001,0.54682200000000003,0.13475500000000001,0.13359399999999999,4.82043,9.6042500000000004,{"$nulls":9},179.28899999999999,212.96899999999999,111.69,0,0,0,505.55700000000002,943.90800000000002,2025.88,119.621,4098.92,208.77500000000001,0,0,0,109.068,0,43.669699999999999,0,0,361.51299999999998,0,0,0,0,0,0,0,0,0,0,20.18,7.39,1.17,0,8.7200000000000006,0,5.55,13.96,21.58,1.22,79.77,0,0.400474,1.2753799999999999E-2,0,0,0,7.4915999999999996E-2,0.14868500000000001,0.25846799999999998,1.0530599999999999E-2,0.90582700000000005,420.762,1095.06,111.69,0,0,2135,930.00099999999998,2637.81,297.5,7627.83,350.15800000000002,0,0,0,162.852,0,65.400000000000006,0,0,578.41,0,0,0,0,0,0,0,0,0,0,34.94,41.16,1.17,0,13.03,23.83,14.92,28.35,2.86,160.26,0,2.2516400000000001,1.2753799999999999E-2,0,0,0.33579999999999999,0.11074100000000001,0.35138000000000003,4.1461199999999997E-3,3.0664600000000002,43.410600000000002,0,45.609200000000001]
["2016-09-01T10:35:48","U08R03","v28 12 P21 U20 R03","Proposed and Standard","PASS",3.82,43.497700000000002,179.28899999999999,212.96899999999999,111.69,0,0,505.55700000000002,943.90800000000002,2025.88,119.621,4098.92,208.77500000000001,0,0,0,110.997,0,43.669699999999999,0,0,363.44200000000001,0,0,0,0,0,0,0,0,0,0,20.18,7.39,1.17,0,8.8800000000000008,0,5.55,13.96,21.58,1.22,79.930000000000007,37.619999999999997,189.36,276.12799999999999,111.69,0,0,505.55700000000002,948.78800000000001,2025.88,119.621,4177.03,220.50200000000001,0,0,0,108.29,0,43.669699999999999,0,0,372.46199999999999,0,0,0,0,0,0,0,0,0,0,21.38,10.23,1.17,0,8.66,5.55,14.02,21.58,1.22,83.81,41.44,"CA Residential 2016, Vers. 1.0","CSE 0.813 EXE",null,"MPCBECC",0,0.400474,1.2753799999999999E-2,0,0,7.4915999999999996E-2,0.14868500000000001,0.25846799999999998,1.0530599999999999E-2,0.90582700000000005,0.41322799999999998,0,0.53406799999999999,1.2753799999999999E-2,0,0,7.4915999999999996E-2,0.14984600000000001,0.25846799999999998,1.0530599999999999E-2,1.0405800000000001,0.54682200000000003,0.13475500000000001,0.13359399999999999,4.6295200000000003,9.2181499999999996,{"$nulls":9},179.28899999999999,212.96899999999999,111.69,0,0,0,505.55700000000002,943.90800000000002,2025.88,119.621,4098.92,208.77500000000001,0,0,0,110.997,0,43.669699999999999,0,0,363.44200000000001,0,0,0,0,0,0,0,0,0,0,20.18,7.39,1.17,0,8.8800000000000008,0,5.55,13.96,21.58,1.22,79.930000000000007,0,0.400474,1.2753799999999999E-2,0,0,0,7.4915999999999996E-2,0.14868500000000001,0.25846799999999998,1.0530599999999999E-2,0.90582700000000005,420.762,1095.06,111.69,0,0,2135,930.00099999999998,2637.81,297.5,7627.83,350.15800000000002,0,0,0,162.852,0,65.400000000000006,0,0,578.41,0,0,0,0,0,0,0,0,0,0,34.94,41.16,1.17,0,13.03,23.83,14.92,28.35,2.86,160.26,0,2.2516400000000001,1.2753799999999999E-2,0,0,0.33579999999999999,0.11074100000000001,0.35138000000000003,4.1461199999999997E-3,3.0664600000000002,43.497700000000002,0,45.609200000000001]
["2016-09-01T10:36:07","U08R04","v28 12 P21 U20 R04","Proposed and Standard","PASS",3.36,43.748100000000001,179.28899999999999,212.96899999999999,111.69,0,0,505.55700000000002,943.90800000000002,2025.88,119.621,4098.92,208.77500000000001,0,0,0,116.84,0,43.669699999999999,0,0,369.28500000000003,0,0,0,0,0,0,0,0,0,0,20.18,7.39,1.17,0,9.34,0,5.55,13.96,21.58,1.22,80.39,38.08,189.36,276.12799999999999,111.69,0,0,505.55700000000002,948.78800000000001,2025.88,119.621,4177.03,220.50200000000001,0,0,0,108.29,0,43.669699999999999,0,0,372.46199999999999,0,0,0,0,0,0,0,0,0,0,21.38,10.23,1.17,0,8.66,5.55,14.02,21.58,1.22,83.81,41.44,"CA Residential 2016, Vers. 1.0","CSE 0.813 EXE",null,"MPCBECC",0,0.400474,1.2753799999999999E-2,0,0,7.4915999999999996E-2,0.14868500000000001,0.25846799999999998,1.0530599999999999E-2,0.90582700000000005,0.41322799999999998,0,0.53406799999999999,1.2753799999999999E-2,0,0,7.4915999999999996E-2,0.14984600000000001,0.25846799999999998,1.0530599999999999E-2,1.0405800000000001,0.54682200000000003,0.13475500000000001,0.13359399999999999,4.08066,8.1081099999999999,{"$nulls":9},179.28899999999999,212.96899999999999,111.69,0,0,0,505.55700000000002,943.90800000000002,2025.88,119.621,4098.92,208.77500000000001,0,0,0,116.84,0,43.669699999999999,0,0,369.28500000000003,0,0,0,0,0,0,0,0,0,0,20.18,7.39,1.17,0,9.34,0,5.55,13.96,21.58,1.22,80.39,0,0.400474,1.2753799999999999E-2,0,0,0,7.4915999999999996E-2,0.14868500000000001,0.25846799999999998,1.0530599999999999E-2,0.90582700000000005,420.762,1095.06,111.69,0,0,2135,930.00099999999998,2637.81,297.5,7627.83,350.15800000000002,0,0,0,162.852,0,65.400000000000006,0,0,578.41,0,0,0,0,0,0,0,0,0,0,34.94,41.16,1.17,0,13.03,23.83,14.92,28.35,2.86,160.26,0,2.2516400000000001,1.2753799999999999E-2,0,0,0.33579999999999999,0.11074100000000001,0.35138000000000003,4.1461199999999997E-3,3.0664600000000002,43.748100000000001,0,45.609200000000001]
["2016-09-01T10:35:49","U08R05","v28 12 P21 U20 R05","Proposed and Standard","PASS",1.23,44.907200000000003,179.28899999999999,212.96899999999999,111.69,0,0,505.55700000000002,943.90800000000002,2025.88,119.621,4098.92,208.77500000000001,0,0,0,144.03800000000001,0,43.669699999999999,0,0,396.483,0,0,0,0,0,0,0,0,0,0,20.18,7.39,1.17,0,11.47,0,5.55,13.96,21.58,1.22,82.52,40.21,189.36,276.12799999999999,111.69,0,0,505.55700000000002,948.78800000000001,2025.88,119.621,4177.03,220.50200000000001,0,0,0,108.29,0,43.669699999999999,0,0,372.46199999999999,0,0,0,0,0,0,0,0,0,0,21.38,10.23,1.17,0,8.66,5.55,14.02,21.58,1.22,83.81,41.44,"CA Residential 2016, Vers. 1.0","CSE 0.813 EXE",null,"MPCBECC",0,0.400474,1.2753799999999999E-2,0,0,7.4915999999999996E-2,0.14868500000000001,0.25846799999999998,1.0530599999999999E-2,0.90582700000000005,0.41322799999999998,0,0.53406799999999999,1.2753799999999999E-2,0,0,7.4915999999999996E-2,0.14984600000000001,0.25846799999999998,1.0530599999999999E-2,1.0405800000000001,0.54682200000000003,0.13475500000000001,0.13359399999999999,1.5391999999999999,2.9681500000000001,{"$nulls":9},179.28899999999999,212.96899999999999,111.69,0,0,0,505.55700000000002,943.90800000000002,2025.88,119.621,4098.92,208.77500000000001,0,0,0,144.03800000000001,0,43.669699999999999,0,0,396.483,0,0,0,0,0,0,0,0,0,0,20.18,7.39,1.17,0,11.47,0,5.55,13.96,21.58,1.22,82.52,0,0.400474,1.2753799999999999E-2,0,0,0,7.4915999999999996E-2,0.14868500000000001,0.25846799999999998,1.0530599999999999E-2,0.90582700000000005,420.762,1095.06,111.69,0,0,2135,930.00099999999998,2637.81,297.5,7627.83,350.15800000000002,0,0,0,162.852,0,65.400000000000006,0,0,578.41,0,0,0,0,0,0,0,0,0,0,34.94,41.16,1.17,0,13.03,23.83,14.92,28.35,2.86,160.26,0,2.2516400000000001,1.2753799999999999E-2,0,0,0.33579999999999999,0.11074100000000001,0.35138000000000003,4.1461199999999997E-3,3.0664600000000002,44.907200000000003,0,45.609200000000001]
["2016-09-01T10:35:50","U08R06","v28 12 P21 U20 R06","Proposed and Standard","FAIL",-4.7300000000000004,48.150599999999997,179.28899999999999,212.96899999999999,111.69,0,0,505.55700000000002,943.90800000000002,2025.88,119.621,4098.92,208.77500000000001,0,0,0,219.922,0,43.669699999999999,0,0,472.36599999999999,0,0,0,0,0,0,0,0,0,0,20.18,7.39,1.17,0,17.43,0,5.55,13.96,21.58,1.22,88.48,46.17,189.36,276.12799999999999,111.69,0,0,505.55700000000002,948.78800000000001,2025.88,119.621,4177.03,220.50200000000001,0,0,0,108.29,0,43.669699999999999,0,0,372.46199999999999,0,0,0,0,0,0,0,0,0,0,21.38,10.23,1.17,0,8.66,5.55,14.02,21.58,1.22,83.81,41.44,"CA Residential 2016, Vers. 1.0","CSE 0.813 EXE",null,"MPCBECC",0,0.400474,1.2753799999999999E-2,0,0,7.4915999999999996E-2,0.14868500000000001,0.25846799999999998,1.0530599999999999E-2,0.90582700000000005,0.41322799999999998,0,0.53406799999999999,1.2753799999999999E-2,0,0,7.4915999999999996E-2,0.14984600000000001,0.25846799999999998,1.0530599999999999E-2,1.0405800000000001,0.54682200000000003,0.13475500000000001,0.13359399999999999,-5.5721299999999996,-11.414099999999999,{"$nulls":9},179.28899999999999,212.96899999999999,111.69,0,0,0,505.55700000000002,943.90800000000002,2025.88,119.621,4098.92,208.77500000000001,0,0,0,219.922,0,43.669699999999999,0,0,472.36599999999999,0,0,0,0,0,0,0,0,0,0,20.18,7.39,1.17,0,17.43,0,5.55,13.96,21.58,1.22,88.48,0,0.400474,1.2753799999999999E-2,0,0,0,7.4915999999999996E-2,0.14868500000000001,0.25846799999999998,1.0530599999999999E-2,0.90582700000000005,420.762,1095.06,111.69,0,0,2135,930.00099999999998,2637.81,297.5,7627.83,350.15800000000002,0,0,0,162.852,0,65.400000000000006,0,0,578.41,0,0,0,0,0,0,0,0,0,0,34.94,41.16,1.17,0,13.03,23.83,14.92,28.35,2.86,160.26,0,2.2516400000000001,1.2753799999999999E-2,0,0,0.33579999999999999,0.11074100000000001,0.35138000000000003,4.1461199999999997E-3,3.0664600000000002,48.150599999999997,0,45.609200000000001]
["2016-09-01T10:35:55","U08R07","v28 12 P21 U20 R07","Proposed and Standard","FAIL",-16.91,55.628700000000002,179.28899999999999,212.96899999999999,111.69,0,2828,505.55700000000002,943.90800000000002,2025.88,119.621,6926.91,208.77500000000001,0,0,0,0,0,43.669699999999999,0,0,252.44499999999999,0,0,0,0,0,0,0,0,0,0,20.18,7.39,1.17,0,29.61,0,5.55,13.96,21.58,1.22,100.66,58.35,189.36,276.12799999999999,111.69,0,0,505.55700000000002,948.78800000000001,2025.88,119.621,4177.03,220.50200000000001,0,0,0,108.29,0,43.669699999999999,0,0,372.46199999999999,0,0,0,0,0,0,0,0,0,0,21.38,10.23,1.17,0,8.66,5.55,14.02,21.58,1.22,83.81,41.44,"CA Residential 2016, Vers. 1.0","CSE 0.813 EXE",null,"MPCBECC",0,0.400474,1.2753799999999999E-2,0,0.26594299999999998,7.4915999999999996E-2,0.14868500000000001,0.25846799999999998,1.0530599999999999E-2,1.17177,0.67917099999999997,0,0.53406799999999999,1.2753799999999999E-2,0,0,7.4915999999999996E-2,0.14984600000000001,0.25846799999999998,1.0530599999999999E-2,1.0405800000000001,0.54682200000000003,-0.131188,-0.13234899999999999,-20.105,-40.805999999999997,{"$nulls":9},179.28899999999999,212.96899999999999,111.69,0,2828,0,505.55700000000002,943.90800000000002,2025.88,119.621,6926.91,208.77500000000001,0,0,0,0,0,43.669699999999999,0,0,252.44499999999999,0,0,0,0,0,0,0,0,0,0,20.18,7.39,1.17,0,29.61,0,5.55,13.96,21.58,1.22,100.66,0,0.400474,1.2753799999999999E-2,0,0.26594299999999998,0,7.4915999999999996E-2,0.14868500000000001,0.25846799999999998,1.0530599999999999E-2,1.17177,419.964,1096.8499999999999,111.69,0,2655.69,2135,930.00099999999998,2637.81,297.5,10284.5,349.49299999999999,0,0,0,0,0,65.400000000000006,0,0,414.89299999999997,0,0,0,0,0,0,0,0,0,0,34.869999999999997,41.2,1.17,0,27.53,23.83,14.92,28.35,2.86,174.73,0,2.2534100000000001,1.2753799999999999E-2,0,0.20327500000000001,0.33579999999999999,0.11074100000000001,0.35138000000000003,4.1461199999999997E-3,3.2715100000000001,55.628700000000002,0,46.316699999999997]
["2016-09-01T10:35:57","U08R08","v28 12 P21 U20 R08","Proposed and Standard","PASS",1.61,45.360599999999998,181.23,208.952,111.69,0,1130.92,505.55700000000002,938.48299999999995,2025.88,119.621,5222.33,211.035,0,0,0,0,0,43.669699999999999,0,0,254.70500000000001,0,0,0,0,0,0,0,0,0,0,20.399999999999999,7.2,1.17,0,11.06,0,5.55,13.9,21.58,1.22,82.08,39.83,189.36,276.12799999999999,111.69,0,0,505.55700000000002,948.78800000000001,2025.88,119.621,4177.03,220.50200000000001,0,0,0,108.29,0,43.669699999999999,0,0,372.46199999999999,0,0,0,0,0,0,0,0,0,0,21.38,10.23,1.17,0,8.66,5.55,14.02,21.58,1.22,83.81,41.44,"CA Residential 2016, Vers. 1.0","CSE 0.813 EXE",null,"MPCBECC",0,0.38859700000000003,1.2753799999999999E-2,0,5.3186299999999999E-2,7.4915999999999996E-2,0.14812400000000001,0.25846799999999998,1.0530599999999999E-2,0.94657500000000006,0.45453700000000002,0,0.53406799999999999,1.2753799999999999E-2,0,0,7.4915999999999996E-2,0.14984600000000001,0.25846799999999998,1.0530599999999999E-2,1.0405800000000001,0.54682200000000003,9.4007300000000002E-2,9.2284900000000003E-2,2.0642,3.8851399999999998,{"$nulls":9},181.23,208.952,111.69,0,1130.92,0,505.55700000000002,938.48299999999995,2025.88,119.621,5222.33,211.035,0,0,0,0,0,43.669699999999999,0,0,254.70500000000001,0,0,0,0,0,0,0,0,0,0,20.399999999999999,7.2,1.17,0,11.06,0,5.55,13.9,21.58,1.22,82.08,0,0.38859700000000003,1.2753799999999999E-2,0,5.3186299999999999E-2,0,7.4915999999999996E-2,0.14812400000000001,0.25846799999999998,1.0530599999999999E-2,0.94657500000000006,419.964,1096.8499999999999,111.69,0,2655.69,2135,930.00099999999998,2637.81,297.5,10284.5,349.49299999999999,0,0,0,0,0,65.400000000000006,0,0,414.89299999999997,0,0,0,0,0,0,0,0,0,0,34.869999999999997,41.2,1.17,0,27.53,23.83,14.92,28.35,2.86,174.73,0,2.2534100000000001,1.2753799999999999E-2,0,0.20327500000000001,0.33579999999999999,0.11074100000000001,0.35138000000000003,4.1461199999999997E-3,3.2715100000000001,45.360599999999998,0,46.316699999999997]
["2016-09-01T10:35:58","U08R09","v28 12 P21 U20 R09","Proposed and Standard","PASS",4.04,43.378,179.28899999999999,212.96899999999999,111.69,0,0,505.55700000000002,943.90800000000002,2025.88,119.621,4098.92,208.77500000000001,0,0,0,108.29,0,43.669699999999999,0,0,360.73500000000001,0,0,0,0,0,0,0,0,0,0,20.18,7.39,1.17,0,8.66,0,5.55,13.96,21.58,1.22,79.709999999999994,37.4,189.36,276.12799999999999,111.69,0,0,505.55700000000002,948.78800000000001,2025.88,119.621,4177.03,220.50200000000001,0,0,0,108.29,0,43.669699999999999,0,0,372.46199999999999,0,0,0,0,0,0,0,0,0,0,21.38,10.23,1.17,0,8.66,5.55,14.02,21.58,1.22,83.81,41.44,"CA Residential 2016, Vers. 1.0","CSE 0.813 EXE",null,"MPCBECC",0,0.400474,1.2753799999999999E-2,0,0,7.4915999999999996E-2,0.14868500000000001,0.25846799999999998,1.0530599999999999E-2,0.90582700000000005,0.41322799999999998,0,0.53406799999999999,1.2753799999999999E-2,0,0,7.4915999999999996E-2,0.14984600000000001,0.25846799999999998,1.0530599999999999E-2,1.0405800000000001,0.54682200000000003,0.13475500000000001,0.13359399999999999,4.8920199999999996,9.7490400000000008,{"$nulls":9},179.28899999999999,212.96899999999999,111.69,0,0,0,505.55700000000002,943.90800000000002,2025.88,119.621,4098.92,208.77500000000001,0,0,0,108.29,0,43.669699999999999,0,0,360.73500000000001,0,0,0,0,0,0,0,0,0,0,20.18,7.39,1.17,0,8.66,0,5.55,13.96,21.58,1.22,79.709999999999994,0,0.400474,1.2753799999999999E-2,0,0,0,7.4915999999999996E-2,0.14868500000000001,0.25846799999999998,1.0530599999999999E-2,0.90582700000000005,420.762,1095.06,111.69,0,0,2135,930.00099999999998,2637.81,297.5,7627.83,350.15800000000002,0,0,0,162.852,0,65.400000000000006,0,0,578.41,0,0,0,0,0,0,0,0,0,0,34.94,41.16,1.17,0,13.03,23.83,14.92,28.35,2.86,160.26,0,2.2516400000000001,1.2753799999999999E-2,0,0,0.33579999999999999,0.11074100000000001,0.35138000000000003,4.1461199999999997E-3,3.0664600000000002,43.378,0,45.609200000000001]
["2016-09-01T10:36:22","U08R10","v28 12 P21 U20 R10","Proposed and Standard","PASS",4.04,43.378,179.28899999999999,212.96899999999999,111.69,0,0,505.55700000000002,943.90800000000002,2025.88,119.621,4098.92,208.77500000000001,0,0,0,108.29,0,43.669699999999999,0,0,360.73500000000001,0,0,0,0,0,0,0,0,0,0,20.18,7.39,1.17,0,8.66,0,5.55,13.96,21.58,1.22,79.709999999999994,37.4,189.36,276.12799999999999,111.69,0,0,505.55700000000002,948.78800000000001,2025.88,119.621,4177.03,220.50200000000001,0,0,0,108.29,0,43.669699999999999,0,0,372.46199999999999,0,0,0,0,0,0,0,0,0,0,21.38,10.23,1.17,0,8.66,5.55,14.02,21.58,1.22,83.81,41.44,"CA Residential 2016, Vers. 1.0","CSE 0.813 EXE",null,"MPCBECC",0,0.400474,1.2753799999999999E-2,0,0,7.4915999999999996E-2,0.14868500000000001,0.25846799999999998,1.0530599999999999E-2,0.90582700000000005,0.41322799999999998,0,0.53406799999999999,1.2753799999999999E-2,0,0,7.4915999999999996E-2,0.14984600000000001,0.25846799999999998,1.0530599999999999E-2,1.0405800000000001,0.54682200000000003,0.13475500000000001,0.13359399999999999,4.8920199999999996,9.7490400000000008,{"$nulls":9},179.28899999999999,212.96899999999999,111.69,0,0,0,505.55700000000002,943.90800000000002,2025.88,119.621,4098.92,208.77500000000001,0,0,0,108.29,0,43.669699999999999,0,0,360.73500000000001,0,0,0,0,0,0,0,0,0,0,20.18,7.39,1.17,0,8.66,0,5.55,13.96,21.58,1.22,79.709999999999994,0,0.400474,1.2753799999999999E-2,0,0,0,7.4915999999999996E-2,0.14868500000000001,0.25846799999999998,1.0530599999999999E-2,0.90582700000000005,420.762,1095.06,111.69,0,0,2135,930.00099999999998,2637.81,297.5,7627.83,350.15800000000002,0,0,0,162.852,0,65.400000000000006,0,0,578.41,0,0,0,0,0,0,0,0,0,0,34.94,41.16,1.17,0,13.03,23.83,14.92,28.35,2.86,160.26,0,2.2516400000000001,1.2753799999999999E-2,0,0,0.33579999999999999,0.11074100000000001,0.35138000000000003,4.1461199999999997E-3,3.0664600000000002,43.378,0,45.609200000000001]
["2016-09-01T10:35:58","U09R01","v28 12 S21 G20 R01","Proposed and Standard","FAIL",-1.21,46.273099999999999,191.06100000000001,300.60500000000002,111.69,0,0,505.55700000000002,949.47699999999998,2025.88,119.621,4203.8900000000003,222.482,0,0,0,108.29,0,43.669699999999999,0,0,374.44200000000001,0,0,0,0,0,0,0,0,0,0,21.59,11.23,1.17,0,8.66,0,5.55,14.03,21.58,1.22,85.03,42.65,189.36,276.12799999999999,111.69,0,0,505.55700000000002,948.78800000000001,2025.88,119.621,4177.03,220.50200000000001,0,0,0,108.29,0,43.669699999999999,0,0,372.46199999999999,0,0,0,0,0,0,0,0,0,0,21.38,10.23,1.17,0,8.66,5.55,14.02,21.58,1.22,83.81,41.44,"CA Residential 2016, Vers. 1.0","CSE 0.813 EXE",null,"MPCBECC",0,0.57200899999999999,1.2753799999999999E-2,0,0,7.4915999999999996E-2,0.14990899999999999,0.25846799999999998,1.0530599999999999E-2,1.0785899999999999,0.58476300000000003,0,0.53406799999999999,1.2753799999999999E-2,0,0,7.4915999999999996E-2,0.14984600000000001,0.25846799999999998,1.0530599999999999E-2,1.0405800000000001,0.54682200000000003,-3.8003700000000001E-2,-3.7941099999999998E-2,-1.4556800000000001,-2.91988,{"$nulls":9},191.06100000000001,300.60500000000002,111.69,0,0,0,505.55700000000002,949.47699999999998,2025.88,119.621,4203.8900000000003,222.482,0,0,0,108.29,0,43.669699999999999,0,0,374.44200000000001,0,0,0,0,0,0,0,0,0,0,21.59,11.23,1.17,0,8.66,0,5.55,14.03,21.58,1.22,85.03,0,0.57200899999999999,1.2753799999999999E-2,0,0,0,7.4915999999999996E-2,0.14990899999999999,0.25846799999999998,1.0530599999999999E-2,1.0785899999999999,420.762,1095.06,111.69,0,0,2135,930.00099999999998,2637.81,297.5,7627.83,350.15800000000002,0,0,0,162.852,0,65.400000000000006,0,0,578.41,0,0,0,0,0,0,0,0,0,0,34.94,41.16,1.17,0,13.03,23.83,14.92,28.35,2.86,160.26,0,2.2516400000000001,1.2753799999999999E-2,0,0,0.33579999999999999,0.11074100000000001,0.35138000000000003,4.1461199999999997E-3,3.0664600000000002,46.273099999999999,0,45.609200000000001]
["2016-09-01T10:36:00","U09R02/N","v28 12 S21 G20 R02","Proposed and Standard","PASS",0,45.609200000000001,189.36,276.12799999999999,111.69,0,0,505.55700000000002,948.78800000000001,2025.88,119.621,4177.03,220.50200000000001,0,0,0,108.29,0,43.669699999999999,0,0,372.46199999999999,0,0,0,0,0,0,0,0,0,0,21.38,10.23,1.17,0,8.66,0,5.55,14.02,21.58,1.22,83.81,41.44,189.36,276.12799999999999,111.69,0,0,505.55700000000002,948.78800000000001,2025.88,119.621,4177.03,220.50200000000001,0,0,0,108.29,0,43.669699999999999,0,0,372.46199999999999,0,0,0,0,0,0,0,0,0,0,21.38,10.23,1.17,0,8.66,5.55,14.02,21.58,1.22,83.81,41.44,"CA Residential 2016, Vers. 1.0","CSE 0.813 EXE",null,"MPCBECC",0,0.53406799999999999,1.2753799999999999E-2,0,0,7.4915999999999996E-2,0.14984600000000001,0.25846799999999998,1.0530599999999999E-2,1.0405800000000001,0.54682200000000003,0,0.53406799999999999,1.2753799999999999E-2,0,0,7.4915999999999996E-2,0.14984600000000001,0.25846799999999998,1.0530599999999999E-2,1.0405800000000001,0.54682200000000003,0,0,0,0,{"$nulls":9},189.36,276.12799999999999,111.69,0,0,0,505.55700000000002,948.78800000000001,2025.88,119.621,4177.03,220.50200000000001,0,0,0,108.29,0,43.669699999999999,0,0,372.46199999999999,0,0,0,0,0,0,0,0,0,0,21.38,10.23,1.17,0,8.66,0,5.55,14.02,21.58,1.22,83.81,0,0.53406799999999999,1.2753799999999999E-2,0,0,0,7.4915999999999996E-2,0.14984600000000001,0.25846799999999998,1.0530599999999999E-2,1.0405800000000001,420.762,1095.06,111.69,0,0,2135,930.00099999999998,2637.81,297.5,7627.83,350.15800000000002,0,0,0,162.852,0,65.400000000000006,0,0,578.41,0,0,0,0,0,0,0,0,0,0,34.94,41.16,1.17,0,13.03,23.83,14.92,28.35,2.86,160.26,0,2.2516400000000001,1.2753799999999999E-2,0,0,0.33579999999999999,0.11074100000000001,0.35138000000000003,4.1461199999999997E-3,3.0664600000000002,45.609200000000001,0,45.609200000000001]
["2016-09-01T10:36:00","U09R02/E","v28 12 S21 G20 R02","Proposed and Standard","PASS",0,45.609200000000001,189.36,276.12799999999999,111.69,0,0,505.55700000000002,948.78800000000001,2025.88,119.621,4177.03,220.50200000000001,0,0,0,108.29,0,43.669699999999999,0,0,372.46199999999999,0,0,0,0,0,0,0,0,0,0,21.38,10.23,1.17,0,8.66,0,5.55,14.02,21.58,1.22,83.81,41.44,189.36,276.12799999999999,111.69,0,0,505.55700000000002,948.78800000000001,2025.88,119.621,4177.03,220.50200000000001,0,0,0,108.29,0,43.669699999999999,0,0,372.46199999999999,0,0,0,0,0,0,0,0,0,0,21.38,10.23,1.17,0,8.66,5.55,14.02,21.58,1.22,83.81,41.44,"CA Residential 2016, Vers. 1.0","CSE 0.813 EXE",null,"MPCBECC",0,0.53407000000000004,1.2753799999999999E-2,0,0,7.4915999999999996E-2,0.14984600000000001,0.25846799999999998,1.0530599999999999E-2,1.0405800000000001,0.54682399999999998,0,0.53406799999999999,1.2753799999999999E-2,0,0,7.4915999999999996E-2,0.14984600000000001,0.25846799999999998,1.0530599999999999E-2,1.0405800000000001,0.54682200000000003,-2.02656E-6,-2.02656E-6,0,0,{"$nulls":9},189.36,276.12799999999999,111.69,0,0,0,505.55700000000002,948.78800000000001,2025.88,119.621,4177.03,220.50200000000001,0,0,0,108.29,0,43.669699999999999,0,0,372.46199999999999,0,0,0,0,0,0,0,0,0,0,21.38,10.23,1.17,0,8.66,0,5.55,14.02,21.58,1.22,83.81,0,0.53407000000000004,1.2753799999999999E-2,0,0,0,7.4915999999999996E-2,0.14984600000000001,0.25846799999999998,1.0530599999999999E-2,1.0405800000000001,420.762,1095.06,111.69,0,0,2135,930.00099999999998,2637.81,297.5,7627.83,350.15800000000002,0,0,0,162.852,0,65.400000000000006,0,0,578.41,0,0,0,0,0,0,0,0,0,0,34.94,41.16,1.17,0,13.03,23.83,14.92,28.35,2.86,160.26,0,2.2516400000000001,1.2753799999999999E-2,0,0,0.33579999999999999,0.11074100000000001,0.35138000000000003,4.1461199999999997E-3,3.0664600000000002,45.609200000000001,0,45.609200000000001]
["2016-09-01T10:36:00","U09R02/S","v28 12 S21 G20 R02","Proposed and Standard","PASS",0,45.609200000000001,189.36,276.12799999999999,111.69,0,0,505.55700000000002,948.78800000000001,2025.88,119.621,4177.03,220.50200000000001,0,0,0,108.29,0,43.669699999999999,0,0,372.46199999999999,0,0,0,0,0,0,0,0,0,0,21.38,10.23,1.17,0,8.66,0,5.55,14.02,21.58,1.22,83.81,41.44,189.36,276.12799999999999,111.69,0,0,505.55700000000002,948.78800000000001,2025.88,119.621,4177.03,220.50200000000001,0,0,0,108.29,0,43.669699999999999,0,0,372.46199999999999,0,0,0,0,0,0,0,0,0,0,21.38,10.23,1.17,0,8.66,5.55,14.02,21.58,1.22,83.81,41.44,"CA Residential 2016, Vers. 1.0","CSE 0.813 EXE",null,"MPCBECC",0,0.53407000000000004,1.2753799999999999E-2,0,0,7.4915999999999996E-2,0.14984600000000001,0.25846799999999998,1.0530599999999999E-2,1.0405800000000001,0.54682399999999998,0,0.53406799999999999,1.2753799999999999E-2,0,0,7.4915999999999996E-2,0.14984600000000001,0.25846799999999998,1.0530599999999999E-2,1.0405800000000001,0.54682200000000003,-2.02656E-6,-1.9669499999999999E-6,0,0,{"$nulls":9},189.36,276.12799999999999,111.69,0,0,0,505.55700000000002,948.78800000000001,2025.88,119.621,4177.03,220.50200000000001,0,0,0,108.29,0,43.669699999999999,0,0,372.46199999999999,0,0,0,0,0,0,0,0,0,0,21.38,10.23,1.17,0,8.66,0,5.55,14.02,21.58,1.22,83.81,0,0.53407000000000004,1.2753799999999999E-2,0,0,0,7.4915999999999996E-2,0.14984600000000001,0.25846799999999998,1.0530599999999999E-2,1.0405800000000001,420.762,1095.06,111.69,0,0,2135,930.00099999999998,2637.81,297.5,7627.83,350.15800000000002,0,0,0,162.852,0,65.400000000000006,0,0,578.41,0,0,0,0,0,0,0,0,0,0,34.94,41.16,1.17,0,13.03,23.83,14.92,28.35,2.86,160.26,0,2.2516400000000001,1.2753799999999999E-2,0,0,0.33579999999999999,0.11074100000000001,0.35138000000000003,4.1461199999999997E-3,3.0664600000000002,45.609200000000001,0,45.609200000000001]
["2016-09-01T10:36:00","U09R02/W","v28 12 S21 G20 R02","Proposed and Standard","PASS",0,45.609200000000001,189.36,276.12799999999999,111.69,0,0,505.55700000000002,948.78800000000001,2025.88,119.621,4177.03,220.50200000000001,0,0,0,108.29,0,43.669699999999999,0,0,372.46100000000001,0,0,0,0,0,0,0,0,0,0,21.38,10.23,1.17,0,8.66,0,5.55,14.02,21.58,1.22,83.81,41.44,189.36,276.12799999999999,111.69,0,0,505.55700000000002,948.78800000000001,2025.88,119.621,4177.03,220.50200000000001,0,0,0,108.29,0,43.669699999999999,0,0,372.46199999999999,0,0,0,0,0,0,0,0,0,0,21.38,10.23,1.17,0,8.66,5.55,14.02,21.58,1.22,83.81,41.44,"CA Residential 2016, Vers. 1.0","CSE 0.813 EXE",null,"MPCBECC",0,0.53407000000000004,1.2753799999999999E-2,0,0,7.4915999999999996E-2,0.14984600000000001,0.25846799999999998,1.0530599999999999E-2,1.0405800000000001,0.54682399999999998,0,0.53406799999999999,1.2753799999999999E-2,0,0,7.4915999999999996E-2,0.14984600000000001,0.25846799999999998,1.0530599999999999E-2,1.0405800000000001,0.54682200000000003,-2.02656E-6,-1.9669499999999999E-6,0,0,{"$nulls":9},189.36,276.12799999999999,111.69,0,0,0,505.55700000000002,948.78800000000001,2025.88,119.621,4177.03,220.50200000000001,0,0,0,108.29,0,43.669699999999999,0,0,372.46100000000001,0,0,0,0,0,0,0,0,0,0,21.38,10.23,1.17,0,8.66,0,5.55,14.02,21.58,1.22,83.81,0,0.53407000000000004,1.2753799999999999E-2,0,0,0,7.4915999999999996E-2,0.14984600000000001,0.25846799999999998,1.0530599999999999E-2,1.0405800000000001,420.762,1095.06,111.69,0,0,2135,930.00099999999998,2637.81,297.5,7627.83,350.15800000000002,0,0,0,162.852,0,65.400000000000006,0,0,578.41,0,0,0,0,0,0,0,0,0,0,34.94,41.16,1.17,0,13.03,23.83,14.92,28.35,2.86,160.26,0,2.2516400000000001,1.2753799999999999E-2,0,0,0.33579999999999999,0.11074100000000001,0.35138000000000003,4.1461199999999997E-3,3.0664600000000002,45.609200000000001,0,45.609200000000001]
["2016-09-01T10:35:58","U09R06","v28 12 P21 U20 R06","Proposed and Standard","FAIL",-1.06,46.175199999999997,186.35900000000001,301.09300000000002,111.69,0,0,505.55700000000002,948.19,2025.88,119.621,4198.3900000000003,217.00700000000001,0,0,0,108.29,0,43.669699999999999,0,0,368.96699999999998,0,0,0,0,0,0,0,0,0,0,21.04,11.63,1.17,0,8.66,0,5.55,14,21.58,1.22,84.85,42.5,189.36,276.12799999999999,111.69,0,0,505.55700000000002,948.78800000000001,2025.88,119.621,4177.03,220.50200000000001,0,0,0,108.29,0,43.669699999999999,0,0,372.46199999999999,0,0,0,0,0,0,0,0,0,0,21.38,10.23,1.17,0,8.66,5.55,14.02,21.58,1.22,83.81,41.44,"CA Residential 2016, Vers. 1.0","CSE 0.813 EXE",null,"MPCBECC",0,0.62011000000000005,1.2753799999999999E-2,0,0,7.4915999999999996E-2,0.14912600000000001,0.25846799999999998,1.0530599999999999E-2,1.1258999999999999,0.63286399999999998,0,0.53406799999999999,1.2753799999999999E-2,0,0,7.4915999999999996E-2,0.14984600000000001,0.25846799999999998,1.0530599999999999E-2,1.0405800000000001,0.54682200000000003,-8.5321400000000006E-2,-8.6041900000000004E-2,-1.2408999999999999,-2.5579200000000002,{"$nulls":9},186.35900000000001,301.09300000000002,111.69,0,0,0,505.55700000000002,948.19,2025.88,119.621,4198.3900000000003,217.00700000000001,0,0,0,108.29,0,43.669699999999999,0,0,368.96699999999998,0,0,0,0,0,0,0,0,0,0,21.04,11.63,1.17,0,8.66,0,5.55,14,21.58,1.22,84.85,0,0.62011000000000005,1.2753799999999999E-2,0,0,0,7.4915999999999996E-2,0.14912600000000001,0.25846799999999998,1.0530599999999999E-2,1.1258999999999999,420.762,1095.06,111.69,0,0,2135,930.00099999999998,2637.81,297.5,7627.83,350.15800000000002,0,0,0,162.852,0,65.400000000000006,0,0,578.41,0,0,0,0,0,0,0,0,0,0,34.94,41.16,1.17,0,13.03,23.83,14.92,28.35,2.86,160.26,0,2.2516400000000001,1.2753799999999999E-2,0,0,0.33579999999999999,0.11074100000000001,0.35138000000000003,4.1461199999999997E-3,3.0664600000000002,46.175199999999997,0,45.609200000000001]
["2016-09-01T10:36:24","U09R07/N","v28 12 P21 U20 R07","Proposed and Standard","FAIL",4.04,47.078499999999998,179.28899999999999,212.96899999999999,111.69,0,0,505.55700000000002,943.90800000000002,2025.88,119.621,4098.92,208.77500000000001,0,0,0,108.29,0,43.669699999999999,0,0,360.73500000000001,0,0,0,0,0,0,0,0,0,0,20.18,7.39,1.17,0,8.66,0,5.55,13.96,21.58,1.22,79.709999999999994,37.4,189.36,276.12799999999999,111.69,0,0,505.55700000000002,948.78800000000001,2025.88,119.621,4177.03,220.50200000000001,0,0,0,108.29,0,43.669699999999999,0,0,372.46199999999999,0,0,0,0,0,0,0,0,0,0,21.38,10.23,1.17,0,8.66,5.55,14.02,21.58,1.22,83.81,41.44,"CA Residential 2016, Vers. 1.0","CSE 0.813 EXE",null,"MPCBECC",0,0.400474,1.2753799999999999E-2,0,0,7.4915999999999996E-2,0.14868500000000001,0.25846799999999998,1.0530599999999999E-2,0.90582700000000005,0.41322799999999998,0,0.53406799999999999,1.2753799999999999E-2,0,0,7.4915999999999996E-2,0.14984600000000001,0.25846799999999998,1.0530599999999999E-2,1.0405800000000001,0.54682200000000003,0.13475500000000001,0.13359399999999999,-3.2215799999999999,-6.49132,{"$nulls":9},179.28899999999999,212.96899999999999,111.69,0,0,0,505.55700000000002,943.90800000000002,2025.88,119.621,4098.92,208.77500000000001,0,0,0,108.29,0,43.669699999999999,0,0,360.73500000000001,0,0,0,0,0,0,0,0,0,0,20.18,7.39,1.17,0,8.66,0,5.55,13.96,21.58,1.22,79.709999999999994,0,0.400474,1.2753799999999999E-2,0,0,0,7.4915999999999996E-2,0.14868500000000001,0.25846799999999998,1.0530599999999999E-2,0.90582700000000005,420.762,1095.06,111.69,0,0,2135,930.00099999999998,2637.81,297.5,7627.83,350.15800000000002,0,0,0,162.852,0,65.400000000000006,0,0,578.41,0,0,0,0,0,0,0,0,0,0,34.94,41.16,1.17,0,13.03,23.83,14.92,28.35,2.86,160.26,0,2.2516400000000001,1.2753799999999999E-2,0,0,0.33579999999999999,0.11074100000000001,0.35138000000000003,4.1461199999999997E-3,3.0664600000000002,47.078499999999998,0,45.609200000000001]
["2016-09-01T10:36:24","U09R07/E","v28 12 P21 U20 R07","Proposed and Standard","FAIL",-2.69,47.078499999999998,193.905,325.42899999999997,111.69,0,0,505.55700000000002,950.81500000000005,2025.88,119.621,4232.8999999999996,225.79400000000001,0,0,0,108.29,0,43.669699999999999,0,0,377.75400000000002,0,0,0,0,0,0,0,0,0,0,21.92,12.38,1.17,0,8.66,0,5.55,14.03,21.58,1.22,86.51,44.13,189.36,276.12799999999999,111.69,0,0,505.55700000000002,948.78800000000001,2025.88,119.621,4177.03,220.50200000000001,0,0,0,108.29,0,43.669699999999999,0,0,372.46199999999999,0,0,0,0,0,0,0,0,0,0,21.38,10.23,1.17,0,8.66,5.55,14.02,21.58,1.22,83.81,41.44,"CA Residential 2016, Vers. 1.0","CSE 0.813 EXE",null,"MPCBECC",0,0.62439199999999995,1.2753799999999999E-2,0,0,7.4915999999999996E-2,0.14954500000000001,0.25846799999999998,1.0530599999999999E-2,1.1306,0.63714599999999999,0,0.53406799999999999,1.2753799999999999E-2,0,0,7.4915999999999996E-2,0.14984600000000001,0.25846799999999998,1.0530599999999999E-2,1.0405800000000001,0.54682200000000003,-9.0022599999999994E-2,-9.0323799999999996E-2,-3.2215799999999999,-6.49132,{"$nulls":9},193.905,325.42899999999997,111.69,0,0,0,505.55700000000002,950.81500000000005,2025.88,119.621,4232.8999999999996,225.79400000000001,0,0,0,108.29,0,43.669699999999999,0,0,377.75400000000002,0,0,0,0,0,0,0,0,0,0,21.92,12.38,1.17,0,8.66,0,5.55,14.03,21.58,1.22,86.51,0,0.62439199999999995,1.2753799999999999E-2,0,0,0,7.4915999999999996E-2,0.14954500000000001,0.25846799999999998,1.0530599999999999E-2,1.1306,420.762,1095.06,111.69,0,0,2135,930.00099999999998,2637.81,297.5,7627.83,350.15800000000002,0,0,0,162.852,0,65.400000000000006,0,0,578.41,0,0,0,0,0,0,0,0,0,0,34.94,41.16,1.17,0,13.03,23.83,14.92,28.35,2.86,160.26,0,2.2516400000000001,1.2753799999999999E-2,0,0,0.33579999999999999,0.11074100000000001,0.35138000000000003,4.1461199999999997E-3,3.0664600000000002,47.078499999999998,0,45.609200000000001]
["2016-09-01T10:36:24","U09R07/S","v28 12 P21 U20 R07","Proposed and Standard","FAIL",3.42,47.078499999999998,199.595,185.517,111.69,0,0,505.55700000000002,948.476,2025.88,119.621,4096.34,232.42,0,0,0,108.29,0,43.669699999999999,0,0,384.38,0,0,0,0,0,0,0,0,0,0,22.46,5.73,1.17,0,8.66,0,5.55,14.02,21.58,1.22,80.39,38.020000000000003,189.36,276.12799999999999,111.69,0,0,505.55700000000002,948.78800000000001,2025.88,119.621,4177.03,220.50200000000001,0,0,0,108.29,0,43.669699999999999,0,0,372.46199999999999,0,0,0,0,0,0,0,0,0,0,21.38,10.23,1.17,0,8.66,5.55,14.02,21.58,1.22,83.81,41.44,"CA Residential 2016, Vers. 1.0","CSE 0.813 EXE",null,"MPCBECC",0,0.26966600000000002,1.2753799999999999E-2,0,0,7.4915999999999996E-2,0.150005,0.25846799999999998,1.0530599999999999E-2,0.77634000000000003,0.28242,0,0.53406799999999999,1.2753799999999999E-2,0,0,7.4915999999999996E-2,0.14984600000000001,0.25846799999999998,1.0530599999999999E-2,1.0405800000000001,0.54682200000000003,0.26424199999999998,0.26440200000000003,-3.2215799999999999,-6.49132,{"$nulls":9},199.595,185.517,111.69,0,0,0,505.55700000000002,948.476,2025.88,119.621,4096.34,232.42,0,0,0,108.29,0,43.669699999999999,0,0,384.38,0,0,0,0,0,0,0,0,0,0,22.46,5.73,1.17,0,8.66,0,5.55,14.02,21.58,1.22,80.39,0,0.26966600000000002,1.2753799999999999E-2,0,0,0,7.4915999999999996E-2,0.150005,0.25846799999999998,1.0530599999999999E-2,0.77634000000000003,420.762,1095.06,111.69,0,0,2135,930.00099999999998,2637.81,297.5,7627.83,350.15800000000002,0,0,0,162.852,0,65.400000000000006,0,0,578.41,0,0,0,0,0,0,0,0,0,0,34.94,41.16,1.17,0,13.03,23.83,14.92,28.35,2.86,160.26,0,2.2516400000000001,1.2753799999999999E-2,0,0,0.33579999999999999,0.11074100000000001,0.35138000000000003,4.1461199999999997E-3,3.0664600000000002,47.078499999999998,0,45.609200000000001]
["2016-09-01T10:36:24","U09R07/W","v28 12 P21 U20 R07","Proposed and Standard","FAIL",-1.61,47.078499999999998,191.11799999999999,312.15600000000001,111.69,0,0,505.55700000000002,948.68700000000001,2025.88,119.621,4214.71,222.548,0,0,0,108.29,0,43.669699999999999,0,0,374.50799999999998,0,0,0,0,0,0,0,0,0,0,21.63,11.59,1.17,0,8.66,0,5.55,14.03,21.58,1.22,85.43,43.05,189.36,276.12799999999999,111.69,0,0,505.55700000000002,948.78800000000001,2025.88,119.621,4177.03,220.50200000000001,0,0,0,108.29,0,43.669699999999999,0,0,372.46199999999999,0,0,0,0,0,0,0,0,0,0,21.38,10.23,1.17,0,8.66,5.55,14.02,21.58,1.22,83.81,41.44,"CA Residential 2016, Vers. 1.0","CSE 0.813 EXE",null,"MPCBECC",0,0.59460000000000002,1.2753799999999999E-2,0,0,7.4915999999999996E-2,0.15038799999999999,0.25846799999999998,1.0530599999999999E-2,1.1016600000000001,0.60735300000000003,0,0.53406799999999999,1.2753799999999999E-2,0,0,7.4915999999999996E-2,0.14984600000000001,0.25846799999999998,1.0530599999999999E-2,1.0405800000000001,0.54682200000000003,-6.1073200000000001E-2,-6.0531700000000001E-2,-3.2215799999999999,-6.49132,{"$nulls":9},191.11799999999999,312.15600000000001,111.69,0,0,0,505.55700000000002,948.68700000000001,2025.88,119.621,4214.71,222.548,0,0,0,108.29,0,43.669699999999999,0,0,374.50799999999998,0,0,0,0,0,0,0,0,0,0,21.63,11.59,1.17,0,8.66,0,5.55,14.03,21.58,1.22,85.43,0,0.59460000000000002,1.2753799999999999E-2,0,0,0,7.4915999999999996E-2,0.15038799999999999,0.25846799999999998,1.0530599999999999E-2,1.1016600000000001,420.762,1095.06,111.69,0,0,2135,930.00099999999998,2637.81,297.5,7627.83,350.15800000000002,0,0,0,162.852,0,65.400000000000006,0,0,578.41,0,0,0,0,0,0,0,0,0,0,34.94,41.16,1.17,0,13.03,23.83,14.92,28.35,2.86,160.26,0,2.2516400000000001,1.2753799999999999E-2,0,0,0.33579999999999999,0.11074100000000001,0.35138000000000003,4.1461199999999997E-3,3.0664600000000002,47.078499999999998,0,45.609200000000001]
["2016-09-01T10:36:03","U10R01","v28 12 P69 U15 M01","Proposed and Standard","FAIL",-4.4400000000000004,57.537599999999998,334.22899999999998,1948.16,785.77200000000005,0,0,2033.7,5481.89,12062,433.91399999999999,23079.599999999999,389.19499999999999,0,0,0,1075.79,0,287.95400000000001,0,0,1752.94,0,0,0,0,0,0,0,0,0,0,11.39,21.62,2.4700000000000002,0,25.83,0,6.74,24.74,38.78,1.33,132.9,61.31,325.666,2661.26,785.77200000000005,0,0,2033.7,5501.43,12062,433.91399999999999,23803.7,379.22399999999999,0,0,0,647.79700000000003,0,287.95400000000001,0,0,1314.98,0,0,0,0,0,0,0,0,0,0,11.15,27.7,2.4700000000000002,0,15.55,6.74,24.8,38.78,1.33,128.52000000000001,56.87,"CA Residential 2016, Vers. 1.0","CSE 0.813 EXE",null,"MPCBECC",0,3.9638300000000002,8.9726299999999995E-2,0,0,0.30136400000000002,0.74732100000000001,1.54311,3.8198599999999999E-2,6.6835500000000003,4.0535500000000004,0,4.9398099999999996,8.9726299999999995E-2,0,0,0.30136400000000002,0.74921000000000004,1.54311,3.8198599999999999E-2,7.6614199999999997,5.0295399999999999,0.97787500000000005,0.97598600000000002,-3.40802,-7.8072800000000004,{"$nulls":9},334.22899999999998,1948.16,785.77200000000005,0,0,0,2033.7,5481.89,12062,433.91399999999999,23079.599999999999,389.19499999999999,0,0,0,1075.79,0,287.95400000000001,0,0,1752.94,0,0,0,0,0,0,0,0,0,0,11.39,21.62,2.4700000000000002,0,25.83,0,6.74,24.74,38.78,1.33,132.9,0,3.9638300000000002,8.9726299999999995E-2,0,0,0,0.30136400000000002,0.74732100000000001,1.54311,3.8198599999999999E-2,6.6835500000000003,1029.96,5831.04,785.77200000000005,0,0,5894.96,6547.68,10697.7,540.49900000000002,31327.7,857.13099999999997,0,0,0,1091.3900000000001,0,291.12400000000002,0,0,2239.65,0,0,0,0,0,0,0,0,0,0,25.89,54.47,2.4700000000000002,0,26.21,19.850000000000001,27.63,34.69,1.57,192.78,0,9.2231100000000001,8.9726299999999995E-2,0,0,0.92718,0.77117400000000003,1.42503,7.5326799999999999E-3,12.4438,57.537599999999998,0,55.641399999999997]
["2016-09-01T10:36:04","U10R02","v28 12 P69 U15 M01","Proposed and Standard","FAIL",-4.4400000000000004,57.537599999999998,334.22899999999998,1948.16,785.77200000000005,0,0,2033.7,5481.89,12062,433.91399999999999,23079.599999999999,389.19499999999999,0,0,0,1075.79,0,287.95400000000001,0,0,1752.94,0,0,0,0,0,0,0,0,0,0,11.39,21.62,2.4700000000000002,0,25.83,0,6.74,24.74,38.78,1.33,132.9,61.31,325.666,2661.26,785.77200000000005,0,0,2033.7,5501.43,12062,433.91399999999999,23803.7,379.22399999999999,0,0,0,647.79700000000003,0,287.95400000000001,0,0,1314.98,0,0,0,0,0,0,0,0,0,0,11.15,27.7,2.4700000000000002,0,15.55,6.74,24.8,38.78,1.33,128.52000000000001,56.87,"CA Residential 2016, Vers. 1.0","CSE 0.813 EXE",null,"MPCBECC",0,3.9638300000000002,8.9726299999999995E-2,0,0,0.30136400000000002,0.74732100000000001,1.54311,3.8198599999999999E-2,6.6835500000000003,4.0535500000000004,0,4.9398099999999996,8.9726299999999995E-2,0,0,0.30136400000000002,0.74921000000000004,1.54311,3.8198599999999999E-2,7.6614199999999997,5.0295399999999999,0.97787500000000005,0.97598600000000002,-3.40802,-7.8072800000000004,{"$nulls":9},334.22899999999998,1948.16,785.77200000000005,0,0,0,2033.7,5481.89,12062,433.91399999999999,23079.599999999999,389.19499999999999,0,0,0,1075.79,0,287.95400000000001,0,0,1752.94,0,0,0,0,0,0,0,0,0,0,11.39,21.62,2.4700000000000002,0,25.83,0,6.74,24.74,38.78,1.33,132.9,0,3.9638300000000002,8.9726299999999995E-2,0,0,0,0.30136400000000002,0.74732100000000001,1.54311,3.8198599999999999E-2,6.6835500000000003,1029.96,5831.04,785.77200000000005,0,0,5894.96,6547.68,10697.7,540.49900000000002,31327.7,857.13099999999997,0,0,0,1091.3900000000001,0,291.12400000000002,0,0,2239.65,0,0,0,0,0,0,0,0,0,0,25.89,54.47,2.4700000000000002,0,26.21,19.850000000000001,27.63,34.69,1.57,192.78,0,9.2231100000000001,8.9726299999999995E-2,0,0,0.92718,0.77117400000000003,1.42503,7.5326799999999999E-3,12.4438,57.537599999999998,0,55.641399999999997]
["2016-09-01T10:36:05","U10R03","v28 12 P69 U15 M01","Proposed and Standard","FAIL",-11.19,60.46,334.22899999999998,1948.16,785.77200000000005,0,0,2033.7,5481.89,12062,433.91399999999999,23079.599999999999,389.19499999999999,0,0,0,1366.07,0,287.95400000000001,0,0,2043.22,0,0,0,0,0,0,0,0,0,0,11.39,21.62,2.4700000000000002,0,32.58,0,6.74,24.74,38.78,1.33,139.65,68.06,325.666,2661.26,785.77200000000005,0,0,2033.7,5501.43,12062,433.91399999999999,23803.7,379.22399999999999,0,0,0,647.79700000000003,0,287.95400000000001,0,0,1314.98,0,0,0,0,0,0,0,0,0,0,11.15,27.7,2.4700000000000002,0,15.55,6.74,24.8,38.78,1.33,128.52000000000001,56.87,"CA Residential 2016, Vers. 1.0","CSE 0.813 EXE",null,"MPCBECC",0,3.9638300000000002,8.9726299999999995E-2,0,0,0.30136400000000002,0.74732100000000001,1.54311,3.8198599999999999E-2,6.6835500000000003,4.0535500000000004,0,4.9398099999999996,8.9726299999999995E-2,0,0,0.30136400000000002,0.74921000000000004,1.54311,3.8198599999999999E-2,7.6614199999999997,5.0295399999999999,0.97787500000000005,0.97598600000000002,-8.6601300000000005,-19.676500000000001,{"$nulls":9},334.22899999999998,1948.16,785.77200000000005,0,0,0,2033.7,5481.89,12062,433.91399999999999,23079.599999999999,389.19499999999999,0,0,0,1366.07,0,287.95400000000001,0,0,2043.22,0,0,0,0,0,0,0,0,0,0,11.39,21.62,2.4700000000000002,0,32.58,0,6.74,24.74,38.78,1.33,139.65,0,3.9638300000000002,8.9726299999999995E-2,0,0,0,0.30136400000000002,0.74732100000000001,1.54311,3.8198599999999999E-2,6.6835500000000003,1029.96,5831.04,785.77200000000005,0,0,5894.96,6547.68,10697.7,540.49900000000002,31327.7,857.13099999999997,0,0,0,1091.3900000000001,0,291.12400000000002,0,0,2239.65,0,0,0,0,0,0,0,0,0,0,25.89,54.47,2.4700000000000002,0,26.21,19.850000000000001,27.63,34.69,1.57,192.78,0,9.2231100000000001,8.9726299999999995E-2,0,0,0.92718,0.77117400000000003,1.42503,7.5326799999999999E-3,12.4438,60.46,0,55.641399999999997]
["2016-09-01T10:36:06","U10R04","v28 12 P69 U15 M01","Proposed and Standard","PASS",5.84,55.473300000000002,334.22899999999998,1948.16,785.77200000000005,0,0,2033.7,5481.89,12062,433.91399999999999,23079.599999999999,389.19499999999999,0,0,0,831.06799999999998,0,287.95400000000001,0,0,1508.22,0,0,0,0,0,0,0,0,0,0,11.39,21.62,2.4700000000000002,0,19.88,0,6.74,24.74,38.78,1.33,126.95,55.36,325.666,2661.26,785.77200000000005,0,0,2033.7,5501.43,12062,433.91399999999999,23803.7,379.22399999999999,0,0,0,831.06799999999998,0,287.95400000000001,0,0,1498.25,0,0,0,0,0,0,0,0,0,0,11.15,27.7,2.4700000000000002,0,19.88,6.74,24.8,38.78,1.33,132.85,61.2,"CA Residential 2016, Vers. 1.0","CSE 0.813 EXE",null,"MPCBECC",0,3.9638300000000002,8.9726299999999995E-2,0,0,0.30136400000000002,0.74732100000000001,1.54311,3.8198599999999999E-2,6.6835500000000003,4.0535500000000004,0,4.9398099999999996,8.9726299999999995E-2,0,0,0.30136400000000002,0.74921000000000004,1.54311,3.8198599999999999E-2,7.6614199999999997,5.0295399999999999,0.97787500000000005,0.97598600000000002,4.4411100000000001,9.5424799999999994,{"$nulls":9},334.22899999999998,1948.16,785.77200000000005,0,0,0,2033.7,5481.89,12062,433.91399999999999,23079.599999999999,389.19499999999999,0,0,0,831.06799999999998,0,287.95400000000001,0,0,1508.22,0,0,0,0,0,0,0,0,0,0,11.39,21.62,2.4700000000000002,0,19.88,0,6.74,24.74,38.78,1.33,126.95,0,3.9638300000000002,8.9726299999999995E-2,0,0,0,0.30136400000000002,0.74732100000000001,1.54311,3.8198599999999999E-2,6.6835500000000003,1029.96,5831.04,785.77200000000005,0,0,5894.96,6547.68,10697.7,540.49900000000002,31327.7,857.13099999999997,0,0,0,1053.81,0,291.12400000000002,0,0,2202.06,0,0,0,0,0,0,0,0,0,0,25.89,54.47,2.4700000000000002,0,25.23,19.850000000000001,27.63,34.69,1.57,191.8,0,9.2231100000000001,8.9726299999999995E-2,0,0,0.92718,0.77117400000000003,1.42503,7.5326799999999999E-3,12.4438,55.473300000000002,0,58.051400000000001]
["2016-09-01T10:36:06","U10R05","v28 12 P69 U15 M01","Proposed and Standard","PASS",5.84,54.5974,334.22899999999998,1948.16,785.77200000000005,0,594.08600000000001,2033.7,5481.89,12062,433.91399999999999,23673.7,389.19499999999999,0,0,0,1032.97,0,287.95400000000001,0,0,1710.12,0,0,0,0,0,0,0,0,0,0,11.39,21.62,2.4700000000000002,0,26.54,0,6.74,24.74,38.78,1.33,133.61000000000001,62.02,325.666,2661.26,785.77200000000005,0,594.08600000000001,2033.7,5501.43,12062,433.91399999999999,24397.8,379.22399999999999,0,0,0,1032.97,0,287.95400000000001,0,0,1700.15,0,0,0,0,0,0,0,0,0,0,11.15,27.7,2.4700000000000002,0,26.54,6.74,24.8,38.78,1.33,139.51,67.86,"CA Residential 2016, Vers. 1.0","CSE 0.813 EXE",null,"MPCBECC",0,3.9638300000000002,8.9726299999999995E-2,0,6.7837900000000007E-2,0.30136400000000002,0.74732100000000001,1.54311,3.8198599999999999E-2,6.7513899999999998,4.1213899999999999,0,4.9398099999999996,8.9726299999999995E-2,0,6.7837900000000007E-2,0.30136400000000002,0.74921000000000004,1.54311,3.8198599999999999E-2,7.72926,5.0973800000000002,0.97787500000000005,0.97598600000000002,4.2290799999999997,8.60595,{"$nulls":9},334.22899999999998,1948.16,785.77200000000005,0,594.08600000000001,0,2033.7,5481.89,12062,433.91399999999999,23673.7,389.19499999999999,0,0,0,1032.97,0,287.95400000000001,0,0,1710.12,0,0,0,0,0,0,0,0,0,0,11.39,21.62,2.4700000000000002,0,26.54,0,6.74,24.74,38.78,1.33,133.61000000000001,0,3.9638300000000002,8.9726299999999995E-2,0,6.7837900000000007E-2,0,0.30136400000000002,0.74732100000000001,1.54311,3.8198599999999999E-2,6.7513899999999998,1029.96,5831.04,785.77200000000005,0,594.08600000000001,5894.96,6547.68,10697.7,540.49900000000002,31921.7,857.13099999999997,0,0,0,1325.73,0,291.12400000000002,0,0,2473.98,0,0,0,0,0,0,0,0,0,0,25.89,54.47,2.4700000000000002,0,33.54,19.850000000000001,27.63,34.69,1.57,200.11,0,9.2231100000000001,8.9726299999999995E-2,0,6.7837900000000007E-2,0.92718,0.77117400000000003,1.42503,7.5326799999999999E-3,12.5116,54.5974,0,57.008299999999998]
["2016-09-01T10:36:31","U10R06","v28 12 P69 U15 M01","Proposed and Standard","PASS",1.0900000000000001,56.538400000000003,334.22899999999998,1948.16,785.77200000000005,0,594.08600000000001,2033.7,5481.89,12062,433.91399999999999,23673.7,389.19499999999999,0,0,0,1230.67,0,287.95400000000001,0,0,1907.82,0,0,0,0,0,0,0,0,0,0,11.39,21.62,2.4700000000000002,0,31.29,0,6.74,24.74,38.78,1.33,138.36000000000001,66.77,325.666,2661.26,785.77200000000005,0,594.08600000000001,2033.7,5501.43,12062,433.91399999999999,24397.8,379.22399999999999,0,0,0,1032.97,0,287.95400000000001,0,0,1700.15,0,0,0,0,0,0,0,0,0,0,11.15,27.7,2.4700000000000002,0,26.54,6.74,24.8,38.78,1.33,139.51,67.86,"CA Residential 2016, Vers. 1.0","CSE 0.813 EXE",null,"MPCBECC",0,3.9638300000000002,8.9726299999999995E-2,0,6.7837900000000007E-2,0.30136400000000002,0.74732100000000001,1.54311,3.8198599999999999E-2,6.7513899999999998,4.1213899999999999,0,4.9398099999999996,8.9726299999999995E-2,0,6.7837900000000007E-2,0.30136400000000002,0.74921000000000004,1.54311,3.8198599999999999E-2,7.72926,5.0973800000000002,0.97787500000000005,0.97598600000000002,0.82430899999999996,1.6062399999999999,{"$nulls":9},334.22899999999998,1948.16,785.77200000000005,0,594.08600000000001,0,2033.7,5481.89,12062,433.91399999999999,23673.7,389.19499999999999,0,0,0,1230.67,0,287.95400000000001,0,0,1907.82,0,0,0,0,0,0,0,0,0,0,11.39,21.62,2.4700000000000002,0,31.29,0,6.74,24.74,38.78,1.33,138.36000000000001,0,3.9638300000000002,8.9726299999999995E-2,0,6.7837900000000007E-2,0,0.30136400000000002,0.74732100000000001,1.54311,3.8198599999999999E-2,6.7513899999999998,1029.96,5831.04,785.77200000000005,0,594.08600000000001,5894.96,6547.68,10697.7,540.49900000000002,31921.7,857.13099999999997,0,0,0,1325.73,0,291.12400000000002,0,0,2473.98,0,0,0,0,0,0,0,0,0,0,25.89,54.47,2.4700000000000002,0,33.54,19.850000000000001,27.63,34.69,1.57,200.11,0,9.2231100000000001,8.9726299999999995E-2,0,6.7837900000000007E-2,0.92718,0.77117400000000003,1.42503,7.5326799999999999E-3,12.5116,56.538400000000003,0,57.008299999999998]
["2016-09-01T10:36:06","U10R07","v28 12 P69 U15 M01","Proposed and Standard","PASS",5.84,54.658499999999997,334.22899999999998,1948.16,785.77200000000005,0,0,2033.7,5481.89,12062,433.91399999999999,23079.599999999999,389.19499999999999,0,0,0,681.08900000000006,0,287.95400000000001,0,0,1358.24,0,0,0,0,0,0,0,0,0,0,11.39,21.62,2.4700000000000002,0,16.34,0,6.74,24.74,38.78,1.33,123.41,51.82,325.666,2661.26,785.77200000000005,0,0,2033.7,5501.43,12062,433.91399999999999,23803.7,379.22399999999999,0,0,0,681.08900000000006,0,287.95400000000001,0,0,1348.27,0,0,0,0,0,0,0,0,0,0,11.15,27.7,2.4700000000000002,0,16.34,6.74,24.8,38.78,1.33,129.31,57.66,"CA Residential 2016, Vers. 1.0","CSE 0.813 EXE",null,"MPCBECC",0,3.9638300000000002,8.9726299999999995E-2,0,0,0.30136400000000002,0.74732100000000001,1.54311,3.8198599999999999E-2,6.6835500000000003,4.0535500000000004,0,4.9398099999999996,8.9726299999999995E-2,0,0,0.30136400000000002,0.74921000000000004,1.54311,3.8198599999999999E-2,7.6614199999999997,5.0295399999999999,0.97787500000000005,0.97598600000000002,4.5626800000000003,10.128299999999999,{"$nulls":9},334.22899999999998,1948.16,785.77200000000005,0,0,0,2033.7,5481.89,12062,433.91399999999999,23079.599999999999,389.19499999999999,0,0,0,681.08900000000006,0,287.95400000000001,0,0,1358.24,0,0,0,0,0,0,0,0,0,0,11.39,21.62,2.4700000000000002,0,16.34,0,6.74,24.74,38.78,1.33,123.41,0,3.9638300000000002,8.9726299999999995E-2,0,0,0,0.30136400000000002,0.74732100000000001,1.54311,3.8198599999999999E-2,6.6835500000000003,1029.96,5831.04,785.77200000000005,0,0,5894.96,6547.68,10697.7,540.49900000000002,31327.7,857.13099999999997,0,0,0,992.93100000000004,0,291.12400000000002,0,0,2141.19,0,0,0,0,0,0,0,0,0,0,25.89,54.47,2.4700000000000002,0,23.82,19.850000000000001,27.63,34.69,1.57,190.39,0,9.2231100000000001,8.9726299999999995E-2,0,0,0.92718,0.77117400000000003,1.42503,7.5326799999999999E-3,12.4438,54.658499999999997,0,57.271700000000003]
["2016-09-01T10:36:06","U10R08","v28 12 P69 U15 M01","Proposed and Standard","PASS",5.84,53.665700000000001,334.22899999999998,1948.16,785.77200000000005,0,594.08600000000001,2033.7,5481.89,12062,433.91399999999999,23673.7,389.19499999999999,0,0,0,895.19600000000003,0,287.95400000000001,0,0,1572.35,0,0,0,0,0,0,0,0,0,0,11.39,21.62,2.4700000000000002,0,23.28,0,6.74,24.74,38.78,1.33,130.35,58.76,325.666,2661.26,785.77200000000005,0,594.08600000000001,2033.7,5501.43,12062,433.91399999999999,24397.8,379.22399999999999,0,0,0,895.19600000000003,0,287.95400000000001,0,0,1562.37,0,0,0,0,0,0,0,0,0,0,11.15,27.7,2.4700000000000002,0,23.28,6.74,24.8,38.78,1.33,136.25,64.599999999999994,"CA Residential 2016, Vers. 1.0","CSE 0.813 EXE",null,"MPCBECC",0,3.9638300000000002,8.9726299999999995E-2,0,6.7837900000000007E-2,0.30136400000000002,0.74732100000000001,1.54311,3.8198599999999999E-2,6.7513899999999998,4.1213899999999999,0,4.9398099999999996,8.9726299999999995E-2,0,6.7837900000000007E-2,0.30136400000000002,0.74921000000000004,1.54311,3.8198599999999999E-2,7.72926,5.0973800000000002,0.97787500000000005,0.97598600000000002,4.3302699999999996,9.0402400000000007,{"$nulls":9},334.22899999999998,1948.16,785.77200000000005,0,594.08600000000001,0,2033.7,5481.89,12062,433.91399999999999,23673.7,389.19499999999999,0,0,0,895.19600000000003,0,287.95400000000001,0,0,1572.35,0,0,0,0,0,0,0,0,0,0,11.39,21.62,2.4700000000000002,0,23.28,0,6.74,24.74,38.78,1.33,130.35,0,3.9638300000000002,8.9726299999999995E-2,0,6.7837900000000007E-2,0,0.30136400000000002,0.74732100000000001,1.54311,3.8198599999999999E-2,6.7513899999999998,1029.96,5831.04,785.77200000000005,0,594.08600000000001,5894.96,6547.68,10697.7,540.49900000000002,31921.7,857.13099999999997,0,0,0,1288.5,0,291.12400000000002,0,0,2436.75,0,0,0,0,0,0,0,0,0,0,25.89,54.47,2.4700000000000002,0,32.700000000000003,19.850000000000001,27.63,34.69,1.57,199.27,0,9.2231100000000001,8.9726299999999995E-2,0,6.7837900000000007E-2,0.92718,0.77117400000000003,1.42503,7.5326799999999999E-3,12.5116,53.665700000000001,0,56.094700000000003]
["2016-09-01T10:36:06","U10R09","v28 12 P69 U15 M01","Proposed and Standard","PASS",5.16,55.132599999999996,334.22899999999998,1948.16,785.77200000000005,0,0,2033.7,5481.89,12062,433.91399999999999,23079.599999999999,389.19499999999999,0,0,0,946.64300000000003,0,287.95400000000001,0,0,1623.79,0,0,0,0,0,0,0,0,0,0,11.39,21.62,2.4700000000000002,0,22.66,0,6.74,24.74,38.78,1.33,129.72999999999999,58.14,325.666,2661.26,785.77200000000005,0,0,2033.7,5501.43,12062,433.91399999999999,23803.7,379.22399999999999,0,0,0,918.17200000000003,0,287.95400000000001,0,0,1585.35,0,0,0,0,0,0,0,0,0,0,11.15,27.7,2.4700000000000002,0,21.98,6.74,24.8,38.78,1.33,134.94999999999999,63.3,"CA Residential 2016, Vers. 1.0","CSE 0.813 EXE",null,"MPCBECC",0,3.9638300000000002,8.9726299999999995E-2,0,0,0.30136400000000002,0.74732100000000001,1.54311,3.8198599999999999E-2,6.6835500000000003,4.0535500000000004,0,4.9398099999999996,8.9726299999999995E-2,0,0,0.30136400000000002,0.74921000000000004,1.54311,3.8198599999999999E-2,7.6614199999999997,5.0295399999999999,0.97787500000000005,0.97598600000000002,3.8681000000000001,8.1516599999999997,{"$nulls":9},334.22899999999998,1948.16,785.77200000000005,0,0,0,2033.7,5481.89,12062,433.91399999999999,23079.599999999999,389.19499999999999,0,0,0,946.64300000000003,0,287.95400000000001,0,0,1623.79,0,0,0,0,0,0,0,0,0,0,11.39,21.62,2.4700000000000002,0,22.66,0,6.74,24.74,38.78,1.33,129.72999999999999,0,3.9638300000000002,8.9726299999999995E-2,0,0,0,0.30136400000000002,0.74732100000000001,1.54311,3.8198599999999999E-2,6.6835500000000003,1029.96,5831.04,785.77200000000005,0,0,5894.96,6547.68,10697.7,540.49900000000002,31327.7,857.13099999999997,0,0,0,1177.2,0,291.12400000000002,0,0,2325.4499999999998,0,0,0,0,0,0,0,0,0,0,25.89,54.47,2.4700000000000002,0,28.2,19.850000000000001,27.63,34.69,1.57,194.77,0,9.2231100000000001,8.9726299999999995E-2,0,0,0.92718,0.77117400000000003,1.42503,7.5326799999999999E-3,12.4438,55.132599999999996,0,57.350999999999999]
["2016-09-01T10:36:31","U10R10","v28 12 P69 U15 M01","Proposed and Standard","PASS",5.1700100000000004,54.196599999999997,334.22899999999998,1948.16,785.77200000000005,0,594.08600000000001,2033.7,5481.89,12062,433.91399999999999,23673.7,389.19499999999999,0,0,0,1166.0999999999999,0,287.95400000000001,0,0,1843.25,0,0,0,0,0,0,0,0,0,0,11.39,21.62,2.4700000000000002,0,29.73,0,6.74,24.74,38.78,1.33,136.80000000000001,65.209999999999994,325.666,2661.26,785.77200000000005,0,594.08600000000001,2033.7,5501.43,12062,433.91399999999999,24397.8,379.22399999999999,0,0,0,1137.6300000000001,0,287.95400000000001,0,0,1804.81,0,0,0,0,0,0,0,0,0,0,11.15,27.7,2.4700000000000002,0,29.06,6.74,24.8,38.78,1.33,142.03,70.38,"CA Residential 2016, Vers. 1.0","CSE 0.813 EXE",null,"MPCBECC",0,3.9638300000000002,8.9726299999999995E-2,0,6.7837900000000007E-2,0.30136400000000002,0.74732100000000001,1.54311,3.8198599999999999E-2,6.7513899999999998,4.1213899999999999,0,4.9398099999999996,8.9726299999999995E-2,0,6.7837900000000007E-2,0.30136400000000002,0.74921000000000004,1.54311,3.8198599999999999E-2,7.72926,5.0973800000000002,0.97787500000000005,0.97598600000000002,3.6823199999999998,7.3458399999999999,{"$nulls":9},334.22899999999998,1948.16,785.77200000000005,0,594.08600000000001,0,2033.7,5481.89,12062,433.91399999999999,23673.7,389.19499999999999,0,0,0,1166.0999999999999,0,287.95400000000001,0,0,1843.25,0,0,0,0,0,0,0,0,0,0,11.39,21.62,2.4700000000000002,0,29.73,0,6.74,24.74,38.78,1.33,136.80000000000001,0,3.9638300000000002,8.9726299999999995E-2,0,6.7837900000000007E-2,0,0.30136400000000002,0.74732100000000001,1.54311,3.8198599999999999E-2,6.7513899999999998,1029.96,5831.04,785.77200000000005,0,594.08600000000001,5894.96,6547.68,10697.7,540.49900000000002,31921.7,857.13099999999997,0,0,0,1472.76,0,291.12400000000002,0,0,2621.02,0,0,0,0,0,0,0,0,0,0,25.89,54.47,2.4700000000000002,0,37.08,19.850000000000001,27.63,34.69,1.57,203.65,0,9.2231100000000001,8.9726299999999995E-2,0,6.7837900000000007E-2,0.92718,0.77117400000000003,1.42503,7.5326799999999999E-3,12.5116,54.196599999999997,0,56.268599999999999]
["2016-09-01T10:35:56","U11R01","v28 12 P21 U20 R01","Proposed and Standard","PASS",4.04,43.378,179.28899999999999,212.96899999999999,111.69,0,0,505.55700000000002,943.90800000000002,2025.88,119.621,4098.92,208.77500000000001,0,0,0,108.29,0,43.669699999999999,0,0,360.73500000000001,0,0,0,0,0,0,0,0,0,0,20.18,7.39,1.17,0,8.66,0,5.55,13.96,21.58,1.22,79.709999999999994,37.4,189.36,276.12799999999999,111.69,0,0,505.55700000000002,948.78800000000001,2025.88,119.621,4177.03,220.50200000000001,0,0,0,108.29,0,43.669699999999999,0,0,372.46199999999999,0,0,0,0,0,0,0,0,0,0,21.38,10.23,1.17,0,8.66,5.55,14.02,21.58,1.22,83.81,41.44,"CA Residential 2016, Vers. 1.0","CSE 0.813 EXE",null,"MPCBECC",0,0.400474,1.2753799999999999E-2,0,0,7.4915999999999996E-2,0.14868500000000001,0.25846799999999998,1.0530599999999999E-2,0.90582700000000005,0.41322799999999998,0,0.53406799999999999,1.2753799999999999E-2,0,0,7.4915999999999996E-2,0.14984600000000001,0.25846799999999998,1.0530599999999999E-2,1.0405800000000001,0.54682200000000003,0.13475500000000001,0.13359399999999999,4.8920199999999996,9.7490400000000008,{"$nulls":9},179.28899999999999,212.96899999999999,111.69,0,0,0,505.55700000000002,943.90800000000002,2025.88,119.621,4098.92,208.77500000000001,0,0,0,108.29,0,43.669699999999999,0,0,360.73500000000001,0,0,0,0,0,0,0,0,0,0,20.18,7.39,1.17,0,8.66,0,5.55,13.96,21.58,1.22,79.709999999999994,0,0.400474,1.2753799999999999E-2,0,0,0,7.4915999999999996E-2,0.14868500000000001,0.25846799999999998,1.0530599999999999E-2,0.90582700000000005,420.762,1095.06,111.69,0,0,2135,930.00099999999998,2637.81,297.5,7627.83,350.15800000000002,0,0,0,162.852,0,65.400000000000006,0,0,578.41,0,0,0,0,0,0,0,0,0,0,34.94,41.16,1.17,0,13.03,23.83,14.92,28.35,2.86,160.26,0,2.2516400000000001,1.2753799999999999E-2,0,0,0.33579999999999999,0.11074100000000001,0.35138000000000003,4.1461199999999997E-3,3.0664600000000002,43.378,0,45.609200000000001]
["2016-09-01T10:35:54","U11R02","v28 12 P21 U20 R02","Proposed and Standard","PASS",4.95,45.7682,180.268,209.738,111.69,0,0,505.55700000000002,2016.12,2025.88,119.621,5168.87,0,0,0,0,0,0,0,0,0,0,20.991499999999998,0,0,0,10.829000000000001,0,0,0,0,31.820499999999999,37.54,7.22,1.17,0,16.95,0,5.55,22.62,21.58,1.22,113.85,62.88,190.35599999999999,272.22899999999998,111.69,0,0,505.55700000000002,2021.01,2025.88,119.621,5246.34,0,0,0,0,0,0,0,0,0,0,22.1661,0,0,0,10.829000000000001,0,0,0,0,32.995199999999997,39.659999999999997,10.050000000000001,1.17,0,16.95,5.55,22.68,21.58,1.22,118.86,67.83,"CA Residential 2016, Vers. 1.0","CSE 0.813 EXE",null,"MPCBECC",0,0.38973799999999997,1.2753799999999999E-2,0,0,7.4915999999999996E-2,0.29206700000000002,0.25846799999999998,1.0530599999999999E-2,1.03847,0.40249200000000002,0,0.52325200000000005,1.2753799999999999E-2,0,0,7.4915999999999996E-2,0.29323100000000002,0.25846799999999998,1.0530599999999999E-2,1.1731499999999999,0.53600599999999998,0.13467799999999999,0.13351399999999999,4.2150400000000001,7.2976599999999996,{"$nulls":9},180.268,209.738,111.69,0,0,0,505.55700000000002,2016.12,2025.88,119.621,5168.87,0,0,0,0,0,0,0,0,0,0,20.991499999999998,0,0,0,10.829000000000001,0,0,0,0,31.820499999999999,37.54,7.22,1.17,0,16.95,0,5.55,22.62,21.58,1.22,113.85,0,0.38973799999999997,1.2753799999999999E-2,0,0,0,7.4915999999999996E-2,0.29206700000000002,0.25846799999999998,1.0530599999999999E-2,1.03847,427.78,1054.75,111.69,0,0,2135,2349,2531,297.5,8906.7199999999993,0,0,0,0,0,0,0,0,0,0,35.599800000000002,0,0,0,16.2852,0,0,0,0,51.885100000000001,64.64,40.19,1.17,0,25.48,23.83,25.03,27.2,2.86,210.4,0,2.20757,1.2753799999999999E-2,0,0,0.33579999999999999,0.299765,0.33715200000000001,4.1461199999999997E-3,3.19719,45.7682,0,47.782200000000003]
["2016-09-01T10:35:58","U11R03","v28 12 P21 U20 R03","Proposed and Standard","FAIL",-13.56,53.777299999999997,179.029,213.31,111.69,0,2555.89,505.55700000000002,944.49,2025.88,119.621,6655.47,208.471,0,0,0,0,0,43.669699999999999,0,0,252.14099999999999,0,0,0,0,0,0,0,0,0,0,20.149999999999999,7.41,1.17,0,26.27,0,5.55,13.96,21.58,1.22,97.31,55,189.36,276.12799999999999,111.69,0,0,505.55700000000002,948.78800000000001,2025.88,119.621,4177.03,220.50200000000001,0,0,0,108.29,0,43.669699999999999,0,0,372.46199999999999,0,0,0,0,0,0,0,0,0,0,21.38,10.23,1.17,0,8.66,5.55,14.02,21.58,1.22,83.81,41.44,"CA Residential 2016, Vers. 1.0","CSE 0.813 EXE",null,"MPCBECC",0,0.40151300000000001,1.2753799999999999E-2,0,0.22148200000000001,7.4915999999999996E-2,0.148724,0.25846799999999998,1.0530599999999999E-2,1.12839,0.63574799999999998,0,0.53406799999999999,1.2753799999999999E-2,0,0,7.4915999999999996E-2,0.14984600000000001,0.25846799999999998,1.0530599999999999E-2,1.0405800000000001,0.54682200000000003,-8.7804800000000002E-2,-8.8926599999999995E-2,-16.107900000000001,-32.722000000000001,{"$nulls":9},179.029,213.31,111.69,0,2555.89,0,505.55700000000002,944.49,2025.88,119.621,6655.47,208.471,0,0,0,0,0,43.669699999999999,0,0,252.14099999999999,0,0,0,0,0,0,0,0,0,0,20.149999999999999,7.41,1.17,0,26.27,0,5.55,13.96,21.58,1.22,97.31,0,0.40151300000000001,1.2753799999999999E-2,0,0.22148200000000001,0,7.4915999999999996E-2,0.148724,0.25846799999999998,1.0530599999999999E-2,1.12839,419.964,1096.8499999999999,111.69,0,2655.69,2135,930.00099999999998,2637.81,297.5,10284.5,349.49299999999999,0,0,0,0,0,65.400000000000006,0,0,414.89299999999997,0,0,0,0,0,0,0,0,0,0,34.869999999999997,41.2,1.17,0,27.53,23.83,14.92,28.35,2.86,174.73,0,2.2534100000000001,1.2753799999999999E-2,0,0.20327500000000001,0.33579999999999999,0.11074100000000001,0.35138000000000003,4.1461199999999997E-3,3.2715100000000001,53.777299999999997,0,46.316699999999997]
["2016-09-01T10:35:58","U11R04","v28 12 P21 U20 R04","Proposed and Standard","FAIL",-4.32,56.7577,180.00899999999999,210.066,111.69,0,2555.89,505.55700000000002,2016.7,2025.88,119.621,7725.41,0,0,0,0,0,0,0,0,0,0,20.961300000000001,0,0,0,0,0,0,0,0,20.961300000000001,37.479999999999997,7.23,1.17,0,26.27,0,5.55,22.63,21.58,1.22,123.13,72.150000000000006,190.35599999999999,272.22899999999998,111.69,0,0,505.55700000000002,2021.01,2025.88,119.621,5246.34,0,0,0,0,0,0,0,0,0,0,22.1661,0,0,0,10.829000000000001,0,0,0,0,32.995199999999997,39.659999999999997,10.050000000000001,1.17,0,16.95,5.55,22.68,21.58,1.22,118.86,67.83,"CA Residential 2016, Vers. 1.0","CSE 0.813 EXE",null,"MPCBECC",0,0.390706,1.2753799999999999E-2,0,0.22148200000000001,7.4915999999999996E-2,0.29210599999999998,0.25846799999999998,1.0530599999999999E-2,1.2609600000000001,0.624942,0,0.52325200000000005,1.2753799999999999E-2,0,0,7.4915999999999996E-2,0.29323100000000002,0.25846799999999998,1.0530599999999999E-2,1.1731499999999999,0.53600599999999998,-8.7811200000000006E-2,-8.8935600000000004E-2,-3.59246,-6.3688599999999997,{"$nulls":9},180.00899999999999,210.066,111.69,0,2555.89,0,505.55700000000002,2016.7,2025.88,119.621,7725.41,0,0,0,0,0,0,0,0,0,0,20.961300000000001,0,0,0,0,0,0,0,0,20.961300000000001,37.479999999999997,7.23,1.17,0,26.27,0,5.55,22.63,21.58,1.22,123.13,0,0.390706,1.2753799999999999E-2,0,0.22148200000000001,0,7.4915999999999996E-2,0.29210599999999998,0.25846799999999998,1.0530599999999999E-2,1.2609600000000001,426.97899999999998,1056.53,111.69,0,2655.7,2135,2349,2531,297.5,11563.4,0,0,0,0,0,0,0,0,0,0,35.533099999999997,0,0,0,0,0,0,0,0,35.533099999999997,64.52,40.229999999999997,1.17,0,27.53,23.83,25.03,27.2,2.86,212.37,0,2.2093600000000002,1.2753799999999999E-2,0,0.20327500000000001,0.33579999999999999,0.299765,0.33715200000000001,4.1461199999999997E-3,3.40225,56.7577,0,54.789499999999997]
["2016-09-01T10:35:57","U11R05","v28 12 P21 U20 R05","Proposed and Standard","PASS",1.61,45.360599999999998,181.23,208.952,111.69,0,1130.92,505.55700000000002,938.48299999999995,2025.88,119.621,5222.33,211.035,0,0,0,0,0,43.669699999999999,0,0,254.70500000000001,0,0,0,0,0,0,0,0,0,0,20.399999999999999,7.2,1.17,0,11.06,0,5.55,13.9,21.58,1.22,82.08,39.83,189.36,276.12799999999999,111.69,0,0,505.55700000000002,948.78800000000001,2025.88,119.621,4177.03,220.50200000000001,0,0,0,108.29,0,43.669699999999999,0,0,372.46199999999999,0,0,0,0,0,0,0,0,0,0,21.38,10.23,1.17,0,8.66,5.55,14.02,21.58,1.22,83.81,41.44,"CA Residential 2016, Vers. 1.0","CSE 0.813 EXE",null,"MPCBECC",0,0.38859700000000003,1.2753799999999999E-2,0,5.3186299999999999E-2,7.4915999999999996E-2,0.14812400000000001,0.25846799999999998,1.0530599999999999E-2,0.94657500000000006,0.45453700000000002,0,0.53406799999999999,1.2753799999999999E-2,0,0,7.4915999999999996E-2,0.14984600000000001,0.25846799999999998,1.0530599999999999E-2,1.0405800000000001,0.54682200000000003,9.4007300000000002E-2,9.2284900000000003E-2,2.0642,3.8851399999999998,{"$nulls":9},181.23,208.952,111.69,0,1130.92,0,505.55700000000002,938.48299999999995,2025.88,119.621,5222.33,211.035,0,0,0,0,0,43.669699999999999,0,0,254.70500000000001,0,0,0,0,0,0,0,0,0,0,20.399999999999999,7.2,1.17,0,11.06,0,5.55,13.9,21.58,1.22,82.08,0,0.38859700000000003,1.2753799999999999E-2,0,5.3186299999999999E-2,0,7.4915999999999996E-2,0.14812400000000001,0.25846799999999998,1.0530599999999999E-2,0.94657500000000006,419.964,1096.8499999999999,111.69,0,2655.69,2135,930.00099999999998,2637.81,297.5,10284.5,349.49299999999999,0,0,0,0,0,65.400000000000006,0,0,414.89299999999997,0,0,0,0,0,0,0,0,0,0,34.869999999999997,41.2,1.17,0,27.53,23.83,14.92,28.35,2.86,174.73,0,2.2534100000000001,1.2753799999999999E-2,0,0.20327500000000001,0.33579999999999999,0.11074100000000001,0.35138000000000003,4.1461199999999997E-3,3.2715100000000001,45.360599999999998,0,46.316699999999997]
["2016-09-01T10:35:58","U11R06","v28 12 P21 U20 R06","Proposed and Standard","PASS",10.63,49.834200000000003,182.215,205.81100000000001,111.69,0,1130.93,505.55700000000002,2010.69,2025.88,119.621,6292.39,0,0,0,0,0,0,0,0,0,0,21.2182,0,0,0,0,0,0,0,0,21.2182,37.94,7.03,1.17,0,11.06,0,5.55,22.56,21.58,1.22,108.11,57.2,190.35599999999999,272.22899999999998,111.69,0,0,505.55700000000002,2021.01,2025.88,119.621,5246.34,0,0,0,0,0,0,0,0,0,0,22.1661,0,0,0,10.829000000000001,0,0,0,0,32.995199999999997,39.659999999999997,10.050000000000001,1.17,0,16.95,5.55,22.68,21.58,1.22,118.86,67.83,"CA Residential 2016, Vers. 1.0","CSE 0.813 EXE",null,"MPCBECC",0,0.378108,1.2753799999999999E-2,0,5.3186700000000003E-2,7.4915999999999996E-2,0.29150599999999999,0.25846799999999998,1.0530599999999999E-2,1.0794699999999999,0.44404900000000003,0,0.52325200000000005,1.2753799999999999E-2,0,0,7.4915999999999996E-2,0.29323100000000002,0.25846799999999998,1.0530599999999999E-2,1.1731499999999999,0.53600599999999998,9.3682199999999993E-2,9.1956999999999997E-2,9.0442499999999999,15.6715,{"$nulls":9},182.215,205.81100000000001,111.69,0,1130.93,0,505.55700000000002,2010.69,2025.88,119.621,6292.39,0,0,0,0,0,0,0,0,0,0,21.2182,0,0,0,0,0,0,0,0,21.2182,37.94,7.03,1.17,0,11.06,0,5.55,22.56,21.58,1.22,108.11,0,0.378108,1.2753799999999999E-2,0,5.3186700000000003E-2,0,7.4915999999999996E-2,0.29150599999999999,0.25846799999999998,1.0530599999999999E-2,1.0794699999999999,426.97899999999998,1056.53,111.69,0,2655.7,2135,2349,2531,297.5,11563.4,0,0,0,0,0,0,0,0,0,0,35.533099999999997,0,0,0,0,0,0,0,0,35.533099999999997,64.52,40.229999999999997,1.17,0,27.53,23.83,25.03,27.2,2.86,212.37,0,2.2093600000000002,1.2753799999999999E-2,0,0.20327500000000001,0.33579999999999999,0.299765,0.33715200000000001,4.1461199999999997E-3,3.40225,49.834200000000003,0,54.789499999999997]
["2016-09-01T10:35:58","U11R07","v28 12 P21 U20 R07","Proposed and Standard","PASS",4.75,43.258499999999998,2082.31,202.53299999999999,111.69,0,0,505.55700000000002,946.505,2025.88,119.621,5994.1,0,0,0,0,108.29,0,43.669699999999999,0,0,151.96,0,0,0,0,0,0,0,0,0,0,18.55,6.9,1.17,0,8.66,0,5.55,13.98,21.58,1.22,77.61,35.28,2238.8200000000002,276.16500000000002,111.69,0,0,505.55700000000002,951.41,2025.88,119.621,6229.15,0,0,0,0,108.29,0,43.669699999999999,0,0,151.96,0,0,0,0,0,0,0,0,0,0,19.97,10.23,1.17,0,8.66,5.55,14.04,21.58,1.22,82.42,40.03,"CA Residential 2016, Vers. 1.0","CSE 0.813 EXE",null,"MPCBECC",0,0.36092999999999997,1.2753799999999999E-2,0,0,7.4915999999999996E-2,0.14865100000000001,0.25846799999999998,1.0530599999999999E-2,0.86624999999999996,0.37368400000000002,0,0.53406900000000002,1.2753799999999999E-2,0,0,7.4915999999999996E-2,0.14984600000000001,0.25846799999999998,1.0530599999999999E-2,1.0405800000000001,0.54682200000000003,0.17433399999999999,0.17313799999999999,5.83596,11.866099999999999,{"$nulls":9},2082.31,202.53299999999999,111.69,0,0,0,505.55700000000002,946.505,2025.88,119.621,5994.1,0,0,0,0,108.29,0,43.669699999999999,0,0,151.96,0,0,0,0,0,0,0,0,0,0,18.55,6.9,1.17,0,8.66,0,5.55,13.98,21.58,1.22,77.61,0,0.36092999999999997,1.2753799999999999E-2,0,0,0,7.4915999999999996E-2,0.14865100000000001,0.25846799999999998,1.0530599999999999E-2,0.86624999999999996,3690.89,1095.0899999999999,111.69,0,0,2135,930.00099999999998,2637.81,297.5,10898,0,0,0,0,162.852,0,65.400000000000006,0,0,228.25200000000001,0,0,0,0,0,0,0,0,0,0,32.94,41.16,1.17,0,13.03,23.83,14.92,28.35,2.86,158.26,0,2.2516400000000001,1.2753799999999999E-2,0,0,0.33579999999999999,0.11074100000000001,0.35138000000000003,4.1461199999999997E-3,3.0664600000000002,43.258499999999998,0,45.939500000000002]
["2016-09-01T10:35:58","U11R08","v28 12 P21 U20 R08","Proposed and Standard","PASS",4.75,44.363399999999999,2091.65,199.37799999999999,111.69,0,0,505.55700000000002,2018.72,2025.88,119.621,7072.5,0,0,0,0,0,0,0,0,0,0,0,0,0,0,10.829000000000001,0,0,0,0,10.829000000000001,18.63,6.73,1.17,0,16.95,0,5.55,22.64,21.58,1.22,94.47,43.48,2248.63,272.25599999999997,111.69,0,0,505.55700000000002,2023.63,2025.88,119.621,7307.27,0,0,0,0,0,0,0,0,0,0,0,0,0,0,10.829000000000001,0,0,0,0,10.829000000000001,20.059999999999999,10.050000000000001,1.17,0,16.95,5.55,22.7,21.58,1.22,99.28,48.23,"CA Residential 2016, Vers. 1.0","CSE 0.813 EXE",null,"MPCBECC",0,0.35071600000000003,1.2753799999999999E-2,0,0,7.4915999999999996E-2,0.29203400000000002,0.25846799999999998,1.0530599999999999E-2,0.99941800000000003,0.36347000000000002,0,0.52325299999999997,1.2753799999999999E-2,0,0,7.4915999999999996E-2,0.29323100000000002,0.25846799999999998,1.0530599999999999E-2,1.1731499999999999,0.53600599999999998,0.173733,0.17253599999999999,4.8448799999999999,9.8486399999999996,{"$nulls":9},2091.65,199.37799999999999,111.69,0,0,0,505.55700000000002,2018.72,2025.88,119.621,7072.5,0,0,0,0,0,0,0,0,0,0,0,0,0,0,10.829000000000001,0,0,0,0,10.829000000000001,18.63,6.73,1.17,0,16.95,0,5.55,22.64,21.58,1.22,94.47,0,0.35071600000000003,1.2753799999999999E-2,0,0,0,7.4915999999999996E-2,0.29203400000000002,0.25846799999999998,1.0530599999999999E-2,0.99941800000000003,3743.38,1054.78,111.69,0,0,2135,2349,2531,297.5,12222.3,0,0,0,0,0,0,0,0,0,0,0,0,0,0,16.2852,0,0,0,0,16.2852,33.409999999999997,40.19,1.17,0,25.48,23.83,25.03,27.2,2.86,179.17,0,2.20757,1.2753799999999999E-2,0,0,0.33579999999999999,0.299765,0.33715200000000001,4.1461199999999997E-3,3.19719,44.363399999999999,0,46.622199999999999]
["2016-09-01T10:35:58","U11R09","v28 12 P21 U20 R09","Proposed and Standard","PASS",2.36,45.267299999999999,2103.04,198.74199999999999,111.69,0,1130.6500000000001,505.55700000000002,941.09799999999996,2025.88,119.621,7136.28,0,0,0,0,0,0,43.669699999999999,0,0,43.669699999999999,0,0,0,0,0,0,0,0,0,0,18.73,6.71,1.17,0,11.06,0,5.55,13.93,21.58,1.22,79.95,37.67,2238.8200000000002,276.16500000000002,111.69,0,0,505.55700000000002,951.41,2025.88,119.621,6229.15,0,0,0,0,108.29,0,43.669699999999999,0,0,151.96,0,0,0,0,0,0,0,0,0,0,19.97,10.23,1.17,0,8.66,5.55,14.04,21.58,1.22,82.42,40.03,"CA Residential 2016, Vers. 1.0","CSE 0.813 EXE",null,"MPCBECC",0,0.34998299999999999,1.2753799999999999E-2,0,5.3185700000000002E-2,7.4915999999999996E-2,0.148091,0.25846799999999998,1.0530599999999999E-2,0.90792799999999996,0.41592200000000001,0,0.53406900000000002,1.2753799999999999E-2,0,0,7.4915999999999996E-2,0.14984600000000001,0.25846799999999998,1.0530599999999999E-2,1.0405800000000001,0.54682200000000003,0.132655,0.13089999999999999,2.9968499999999998,5.8955799999999998,{"$nulls":9},2103.04,198.74199999999999,111.69,0,1130.6500000000001,0,505.55700000000002,941.09799999999996,2025.88,119.621,7136.28,0,0,0,0,0,0,43.669699999999999,0,0,43.669699999999999,0,0,0,0,0,0,0,0,0,0,18.73,6.71,1.17,0,11.06,0,5.55,13.93,21.58,1.22,79.95,0,0.34998299999999999,1.2753799999999999E-2,0,5.3185700000000002E-2,0,7.4915999999999996E-2,0.148091,0.25846799999999998,1.0530599999999999E-2,0.90792799999999996,3684.68,1096.8800000000001,111.69,0,2655.67,2135,930.00099999999998,2637.81,297.5,13549.2,0,0,0,0,0,0,65.400000000000006,0,0,65.400000000000006,0,0,0,0,0,0,0,0,0,0,32.880000000000003,41.2,1.17,0,27.53,23.83,14.92,28.35,2.86,172.74,0,2.2534100000000001,1.2753799999999999E-2,0,0.20327500000000001,0.33579999999999999,0.11074100000000001,0.35138000000000003,4.1461199999999997E-3,3.2715100000000001,45.267299999999999,0,46.665799999999997]
["2016-09-01T10:35:58","U11R10","v28 12 P21 U20 R10","Proposed and Standard","PASS",10.63,48.863100000000003,2112.36,195.67,111.69,0,1130.6600000000001,505.55700000000002,2013.31,2025.88,119.621,8214.75,0,0,0,0,0,0,0,0,0,0,0,0,0,0,0,0,0,0,0,0,18.82,6.55,1.17,0,11.06,0,5.55,22.59,21.58,1.22,88.54,37.6,2248.63,272.25599999999997,111.69,0,0,505.55700000000002,2023.63,2025.88,119.621,7307.27,0,0,0,0,0,0,0,0,0,0,0,0,0,0,10.829000000000001,0,0,0,0,10.829000000000001,20.059999999999999,10.050000000000001,1.17,0,16.95,5.55,22.7,21.58,1.22,99.28,48.23,"CA Residential 2016, Vers. 1.0","CSE 0.813 EXE",null,"MPCBECC",0,0.33998899999999999,1.2753799999999999E-2,0,5.31861E-2,7.4915999999999996E-2,0.29147400000000001,0.25846799999999998,1.0530599999999999E-2,1.04132,0.40592899999999998,0,0.52325299999999997,1.2753799999999999E-2,0,0,7.4915999999999996E-2,0.29323100000000002,0.25846799999999998,1.0530599999999999E-2,1.1731499999999999,0.53600599999999998,0.13183500000000001,0.130078,10.8179,22.040199999999999,{"$nulls":9},2112.36,195.67,111.69,0,1130.6600000000001,0,505.55700000000002,2013.31,2025.88,119.621,8214.75,0,0,0,0,0,0,0,0,0,0,0,0,0,0,0,0,0,0,0,0,18.82,6.55,1.17,0,11.06,0,5.55,22.59,21.58,1.22,88.54,0,0.33998899999999999,1.2753799999999999E-2,0,5.31861E-2,0,7.4915999999999996E-2,0.29147400000000001,0.25846799999999998,1.0530599999999999E-2,1.04132,3737.17,1056.55,111.69,0,2655.68,2135,2349,2531,297.5,14873.6,0,0,0,0,0,0,0,0,0,0,0,0,0,0,0,0,0,0,0,0,33.35,40.229999999999997,1.17,0,27.53,23.83,25.03,27.2,2.86,181.2,0,2.2093600000000002,1.2753799999999999E-2,0,0.20327500000000001,0.33579999999999999,0.299765,0.33715200000000001,4.1461199999999997E-3,3.40225,48.863100000000003,0,54.790300000000002]
["2016-09-01T10:35:35","U12R01","v28 E New Construction","Proposed and Standard","FAIL",-191.57,138.08500000000001,362.798,3032.15,97.236000000000004,0,0,355.303,782.95,2025.88,84.538300000000007,6740.86,439.36099999999999,0,0,0,157.20699999999999,0,43.669699999999999,0,0,640.23800000000006,0,0,0,0,0,0,0,0,0,0,61.74,156.72999999999999,1.48,0,18.34,0,5.69,17.7,31.47,1.25,294.39999999999998,238.29,129.09800000000001,224.947,97.236000000000004,0,0,355.303,778.43600000000004,2025.88,84.538300000000007,3695.44,150.32900000000001,0,0,0,104.508,0,43.669699999999999,0,0,298.50700000000001,0,0,0,0,0,0,0,0,0,0,21.24,11.81,1.48,0,12.19,5.69,17.600000000000001,31.47,1.25,102.73,46.72,"CA Residential 2016, Vers. 1.0","CSE 0.813 EXE",null,"MPCBECC",0,5.6989599999999996,1.11033E-2,0,0,5.2650500000000003E-2,0.119451,0.25846799999999998,7.44212E-3,6.1480800000000002,5.7100600000000004,0,0.42153200000000002,1.11033E-2,0,0,5.2650500000000003E-2,0.11767900000000001,0.25846799999999998,7.44212E-3,0.86887499999999995,0.43263499999999999,-5.2792000000000003,-5.2774299999999998,-186.57599999999999,-410.03899999999999,{"$nulls":9},362.798,3032.15,97.236000000000004,0,0,0,355.303,782.95,2025.88,84.538300000000007,6740.86,439.36099999999999,0,0,0,157.20699999999999,0,43.669699999999999,0,0,640.23800000000006,0,0,0,0,0,0,0,0,0,0,61.74,156.72999999999999,1.48,0,18.34,0,5.69,17.7,31.47,1.25,294.39999999999998,0,5.6989599999999996,1.11033E-2,0,0,0,5.2650500000000003E-2,0.119451,0.25846799999999998,7.44212E-3,6.1480800000000002,261.45999999999998,910.25400000000002,97.236000000000004,0,0,1607,930.00099999999998,2037.2,264.5,6107.65,217.58699999999999,0,0,0,159.21199999999999,0,65.400000000000006,0,0,442.19799999999998,0,0,0,0,0,0,0,0,0,0,31.67,45.53,1.48,0,18.57,26.16,21.76,31.93,3.7,180.8,0,1.6559999999999999,1.11033E-2,0,0,0.25275399999999998,0.11074100000000001,0.27137299999999998,3.6862100000000001E-3,2.30566,138.08500000000001,0,48.184399999999997]
["2016-09-01T10:35:32","U12R02","v28 E Add/Alt","Proposed and Standard","PASS",0,0,352.95499999999998,3104.4,0,0,0,355.303,783.59199999999998,2025.88,84.538300000000007,6706.67,427.44099999999997,0,0,0,157.20699999999999,0,43.669699999999999,0,0,628.31700000000001,0,0,0,0,0,0,0,0,0,0,60.09,162.55000000000001,0,0,18.34,0,5.69,17.71,31.47,1.25,297.10000000000002,240.98,352.95499999999998,3104.4,0,0,0,355.303,783.59199999999998,2025.88,84.538300000000007,6706.67,427.44099999999997,0,0,0,157.20699999999999,0,43.669699999999999,0,0,628.31700000000001,0,0,0,0,0,0,0,0,0,0,60.09,162.55000000000001,0,0,18.34,5.69,17.71,31.47,1.25,297.10000000000002,240.98,"CA Residential 2016, Vers. 1.0","CSE 0.813 EXE",null,"MPCBECC",0,5.9353600000000002,0,0,0,5.2650500000000003E-2,0.119435,0.25846799999999998,7.44212E-3,6.3733500000000003,5.9353600000000002,0,5.9353600000000002,0,0,0,5.2650500000000003E-2,0.119435,0.25846799999999998,7.44212E-3,6.3733500000000003,5.9353600000000002,0,0,0,0]
["2016-09-01T10:35:48","U12R03","v28 EA","Proposed and Standard","FAIL",-3.36,0,379.42700000000002,3026.54,0,0,0,395.20800000000003,783.40099999999995,2025.88,96.498500000000007,6706.96,457.65300000000002,0,0,0,158.54900000000001,0,43.669699999999999,0,0,659.87099999999998,0,0,0,0,0,0,0,0,0,0,55.69,138.63999999999999,0,0,15.99,0,5.47,15.31,27.21,1.24,259.55,210.32,372.97300000000001,2973.06,0,0,0,395.20800000000003,783.45600000000002,2025.88,96.498500000000007,6647.07,450.13799999999998,0,0,0,158.54900000000001,0,43.669699999999999,0,0,652.35599999999999,0,0,0,0,0,0,0,0,0,0,54.78,136.19,0,0,15.99,5.47,15.31,27.21,1.24,256.19,206.96,"CA Residential 2016, Vers. 1.0","CSE 0.813 EXE",null,"MPCBECC",0,5.8392200000000001,0,0,0,5.8563799999999999E-2,0.119352,0.25846799999999998,8.4950000000000008E-3,6.2840999999999996,5.8392200000000001,0,5.7310999999999996,0,0,0,5.8563799999999999E-2,0.119352,0.25846799999999998,8.4950000000000008E-3,6.17598,5.7310999999999996,-0.108123,-0.108123,-1.3115300000000001,-1.6234999999999999]
["2016-09-01T10:36:09","U12R04","v28 EAA R38 U1.28","Proposed and Standard","PASS",22.32,0,348.827,2416.5500000000002,0,0,0,395.20800000000003,782.30200000000002,2025.88,96.498500000000007,6065.27,420.59199999999998,0,0,0,158.54900000000001,0,43.669699999999999,0,0,622.81100000000004,0,0,0,0,0,0,0,0,0,0,51.15,117.5,0,0,15.99,0,5.47,15.3,27.21,1.24,233.86,184.64,372.97300000000001,2973.06,0,0,0,395.20800000000003,783.45600000000002,2025.88,96.498500000000007,6647.07,450.13799999999998,0,0,0,158.54900000000001,0,43.669699999999999,0,0,652.35599999999999,0,0,0,0,0,0,0,0,0,0,54.78,136.19,0,0,15.99,5.47,15.31,27.21,1.24,256.19,206.96,"CA Residential 2016, Vers. 1.0","CSE 0.813 EXE",null,"MPCBECC",0,5.0465999999999998,0,0,0,5.8563799999999999E-2,0.11924999999999999,0.25846799999999998,8.4950000000000008E-3,5.4913800000000004,5.0465999999999998,0,5.7310999999999996,0,0,0,5.8563799999999999E-2,0.119352,0.25846799999999998,8.4950000000000008E-3,6.17598,5.7310999999999996,0.68459700000000001,0.68449499999999996,8.7161899999999992,10.784700000000001]
["2016-09-01T10:35:52","U12R05","v28 EAA R38V U41","Proposed and Standard","PASS",23.46,0,321.78800000000001,1726.6,0,0,0,395.20800000000003,780.4,2025.88,96.498500000000007,5346.37,387.846,0,0,0,158.54900000000001,0,43.669699999999999,0,0,590.06500000000005,0,0,0,0,0,0,0,0,0,0,47.12,87.53,0,0,15.99,0,5.47,15.27,27.21,1.24,199.83,150.63999999999999,344.774,2277.04,0,0,0,395.20800000000003,781.95600000000002,2025.88,96.498500000000007,5921.36,415.98700000000002,0,0,0,158.54900000000001,0,43.669699999999999,0,0,618.20600000000002,0,0,0,0,0,0,0,0,0,0,50.58,107.53,0,0,15.99,5.47,15.29,27.21,1.24,223.31,174.1,"CA Residential 2016, Vers. 1.0","CSE 0.813 EXE",null,"MPCBECC",0,3.7418200000000001,0,0,0,5.8563799999999999E-2,0.11885900000000001,0.25846799999999998,8.4950000000000008E-3,4.18621,3.7418200000000001,0,4.5141900000000001,0,0,0,5.8563799999999999E-2,0.119043,0.25846799999999998,8.4950000000000008E-3,4.9587599999999998,4.5141900000000001,0.77255200000000002,0.77236800000000005,10.5145,13.475]
["2016-09-01T10:35:52","U12R06","v28 EAA R38V U41V","Proposed and Standard","PASS",23.46,0,321.78800000000001,1726.6,0,0,0,395.20800000000003,780.4,2025.88,96.498500000000007,5346.37,387.846,0,0,0,158.54900000000001,0,43.669699999999999,0,0,590.06500000000005,0,0,0,0,0,0,0,0,0,0,47.12,87.53,0,0,15.99,0,5.47,15.27,27.21,1.24,199.83,150.63999999999999,344.774,2277.04,0,0,0,395.20800000000003,781.95600000000002,2025.88,96.498500000000007,5921.36,415.98700000000002,0,0,0,158.54900000000001,0,43.669699999999999,0,0,618.20600000000002,0,0,0,0,0,0,0,0,0,0,50.58,107.53,0,0,15.99,5.47,15.29,27.21,1.24,223.31,174.1,"CA Residential 2016, Vers. 1.0","CSE 0.813 EXE",null,"MPCBECC",0,3.7418200000000001,0,0,0,5.8563799999999999E-2,0.11885900000000001,0.25846799999999998,8.4950000000000008E-3,4.18621,3.7418200000000001,0,4.5141900000000001,0,0,0,5.8563799999999999E-2,0.119043,0.25846799999999998,8.4950000000000008E-3,4.9587599999999998,4.5141900000000001,0.77255200000000002,0.77236800000000005,10.5145,13.475]
["2016-09-01T10:35:52","U12R07","v28 EAA R38V U40","Proposed and Standard","PASS",24.2,0,321.59500000000003,1704.66,0,0,0,395.20800000000003,780.30200000000002,2025.88,96.498500000000007,5324.14,387.613,0,0,0,158.54900000000001,0,43.669699999999999,0,0,589.83199999999999,0,0,0,0,0,0,0,0,0,0,47.09,86.82,0,0,15.99,0,5.47,15.27,27.21,1.24,199.09,149.9,344.774,2277.04,0,0,0,395.20800000000003,781.95600000000002,2025.88,96.498500000000007,5921.36,415.98700000000002,0,0,0,158.54900000000001,0,43.669699999999999,0,0,618.20600000000002,0,0,0,0,0,0,0,0,0,0,50.58,107.53,0,0,15.99,5.47,15.29,27.21,1.24,223.31,174.1,"CA Residential 2016, Vers. 1.0","CSE 0.813 EXE",null,"MPCBECC",0,3.7126399999999999,0,0,0,5.8563799999999999E-2,0.118836,0.25846799999999998,8.4950000000000008E-3,4.157,3.7126399999999999,0,4.5141900000000001,0,0,0,5.8563799999999999E-2,0.119043,0.25846799999999998,8.4950000000000008E-3,4.9587599999999998,4.5141900000000001,0.80175700000000005,0.80154999999999998,10.8459,13.9001]
["2016-09-01T10:36:13","U12R08","v28 EAA R38V U40V","Proposed and Standard","PASS",57.06,0,321.59500000000003,1704.66,0,0,0,395.20800000000003,780.30200000000002,2025.88,96.498500000000007,5324.14,387.613,0,0,0,158.54900000000001,0,43.669699999999999,0,0,589.83199999999999,0,0,0,0,0,0,0,0,0,0,47.09,86.82,0,0,15.99,0,5.47,15.27,27.21,1.24,199.09,149.9,372.97300000000001,2973.06,0,0,0,395.20800000000003,783.45600000000002,2025.88,96.498500000000007,6647.07,450.13799999999998,0,0,0,158.54900000000001,0,43.669699999999999,0,0,652.35599999999999,0,0,0,0,0,0,0,0,0,0,54.78,136.19,0,0,15.99,5.47,15.31,27.21,1.24,256.19,206.96,"CA Residential 2016, Vers. 1.0","CSE 0.813 EXE",null,"MPCBECC",0,3.7126399999999999,0,0,0,5.8563799999999999E-2,0.118836,0.25846799999999998,8.4950000000000008E-3,4.157,3.7126399999999999,0,5.7310999999999996,0,0,0,5.8563799999999999E-2,0.119352,0.25846799999999998,8.4950000000000008E-3,6.17598,5.7310999999999996,2.0189699999999999,2.0184600000000001,22.2881,27.570599999999999]
["2016-09-01T10:35:51","U12R09","v28 EAA R38V U39","Proposed and Standard","PASS",25.01,0,321.42,1684.67,0,0,0,395.20800000000003,780.20799999999997,2025.88,96.498500000000007,5303.89,387.40100000000001,0,0,0,158.54900000000001,0,43.669699999999999,0,0,589.62,0,0,0,0,0,0,0,0,0,0,47.06,86.04,0,0,15.99,0,5.47,15.27,27.21,1.24,198.28,149.09,344.774,2277.04,0,0,0,395.20800000000003,781.95600000000002,2025.88,96.498500000000007,5921.36,415.98700000000002,0,0,0,158.54900000000001,0,43.669699999999999,0,0,618.20600000000002,0,0,0,0,0,0,0,0,0,0,50.58,107.53,0,0,15.99,5.47,15.29,27.21,1.24,223.31,174.1,"CA Residential 2016, Vers. 1.0","CSE 0.813 EXE",null,"MPCBECC",0,3.6792099999999999,0,0,0,5.8563799999999999E-2,0.11881899999999999,0.25846799999999998,8.4950000000000008E-3,4.1235499999999998,3.6792099999999999,0,4.5141900000000001,0,0,0,5.8563799999999999E-2,0.119043,0.25846799999999998,8.4950000000000008E-3,4.9587599999999998,4.5141900000000001,0.83520799999999995,0.83498499999999998,11.208600000000001,14.3653]
["2016-09-01T10:35:48","U12R10","v28 EAA R38V U39V","Proposed and Standard","PASS",57.87,0,321.42,1684.67,0,0,0,395.20800000000003,780.20799999999997,2025.88,96.498500000000007,5303.89,387.40100000000001,0,0,0,158.54900000000001,0,43.669699999999999,0,0,589.62,0,0,0,0,0,0,0,0,0,0,47.06,86.04,0,0,15.99,0,5.47,15.27,27.21,1.24,198.28,149.09,372.97300000000001,2973.06,0,0,0,395.20800000000003,783.45600000000002,2025.88,96.498500000000007,6647.07,450.13799999999998,0,0,0,158.54900000000001,0,43.669699999999999,0,0,652.35599999999999,0,0,0,0,0,0,0,0,0,0,54.78,136.19,0,0,15.99,5.47,15.31,27.21,1.24,256.19,206.96,"CA Residential 2016, Vers. 1.0","CSE 0.813 EXE",null,"MPCBECC",0,3.6792099999999999,0,0,0,5.8563799999999999E-2,0.11881899999999999,0.25846799999999998,8.4950000000000008E-3,4.1235499999999998,3.6792099999999999,0,5.7310999999999996,0,0,0,5.8563799999999999E-2,0.119352,0.25846799999999998,8.4950000000000008E-3,6.17598,5.7310999999999996,2.0524200000000001,2.0518900000000002,22.604299999999999,27.9619]
["2016-09-01T10:35:56","U13R01","v28 EAA R38V R11","Proposed and Standard","PASS",22.06,0,245.38200000000001,2012.79,0,0,0,395.20800000000003,785.596,2025.88,96.498500000000007,5561.35,295.31299999999999,0,0,0,158.54900000000001,0,43.669699999999999,0,0,497.53199999999998,0,0,0,0,0,0,0,0,0,0,36.04,96.39,0,0,15.99,0,5.47,15.33,27.21,1.24,197.67,148.41999999999999,270.13799999999998,2573.0500000000002,0,0,0,395.20800000000003,786.83199999999999,2025.88,96.498500000000007,6147.61,325.59800000000001,0,0,0,158.54900000000001,0,43.669699999999999,0,0,527.81700000000001,0,0,0,0,0,0,0,0,0,0,39.76,114.73,0,0,15.99,5.47,15.35,27.21,1.24,219.75,170.48,"CA Residential 2016, Vers. 1.0","CSE 0.813 EXE",null,"MPCBECC",0,4.1247499999999997,0,0,0,5.8563799999999999E-2,0.11919399999999999,0.25846799999999998,8.4950000000000008E-3,4.5694699999999999,4.1247499999999997,0,4.8068200000000001,0,0,0,5.8563799999999999E-2,0.11935900000000001,0.25846799999999998,8.4950000000000008E-3,5.2517100000000001,4.8068200000000001,0.68223800000000001,0.68207200000000001,10.047800000000001,12.9399]
["2016-09-01T10:35:56","U13R02","v28 EAA R38V R11V","Proposed and Standard","PASS",22.06,0,245.38200000000001,2012.79,0,0,0,395.20800000000003,785.596,2025.88,96.498500000000007,5561.35,295.31299999999999,0,0,0,158.54900000000001,0,43.669699999999999,0,0,497.53199999999998,0,0,0,0,0,0,0,0,0,0,36.04,96.39,0,0,15.99,0,5.47,15.33,27.21,1.24,197.67,148.41999999999999,270.13799999999998,2573.0500000000002,0,0,0,395.20800000000003,786.83199999999999,2025.88,96.498500000000007,6147.61,325.59800000000001,0,0,0,158.54900000000001,0,43.669699999999999,0,0,527.81700000000001,0,0,0,0,0,0,0,0,0,0,39.76,114.73,0,0,15.99,5.47,15.35,27.21,1.24,219.75,170.48,"CA Residential 2016, Vers. 1.0","CSE 0.813 EXE",null,"MPCBECC",0,4.1247499999999997,0,0,0,5.8563799999999999E-2,0.11919399999999999,0.25846799999999998,8.4950000000000008E-3,4.5694699999999999,4.1247499999999997,0,4.8068200000000001,0,0,0,5.8563799999999999E-2,0.11935900000000001,0.25846799999999998,8.4950000000000008E-3,5.2517100000000001,4.8068200000000001,0.68223800000000001,0.68207200000000001,10.047800000000001,12.9399]
["2016-09-01T10:35:56","U13R03","v28 EAA R38V R13","Proposed and Standard","PASS",24.31,0,239.03299999999999,1997.1,0,0,0,395.20800000000003,785.85900000000004,2025.88,96.498500000000007,5539.58,287.625,0,0,0,158.54900000000001,0,43.669699999999999,0,0,489.84300000000002,0,0,0,0,0,0,0,0,0,0,35.11,95.07,0,0,15.99,0,5.47,15.34,27.21,1.24,195.43,146.16999999999999,270.13799999999998,2573.0500000000002,0,0,0,395.20800000000003,786.83199999999999,2025.88,96.498500000000007,6147.61,325.59800000000001,0,0,0,158.54900000000001,0,43.669699999999999,0,0,527.81700000000001,0,0,0,0,0,0,0,0,0,0,39.76,114.73,0,0,15.99,5.47,15.35,27.21,1.24,219.75,170.48,"CA Residential 2016, Vers. 1.0","CSE 0.813 EXE",null,"MPCBECC",0,4.0682299999999998,0,0,0,5.8563799999999999E-2,0.119212,0.25846799999999998,8.4950000000000008E-3,4.5129700000000001,4.0682299999999998,0,4.8068200000000001,0,0,0,5.8563799999999999E-2,0.11935900000000001,0.25846799999999998,8.4950000000000008E-3,5.2517100000000001,4.8068200000000001,0.73873100000000003,0.73858400000000002,11.0671,14.2597]
["2016-09-01T10:36:18","U13R04","v28 EAA R38V R13V","Proposed and Standard","PASS",60.79,0,239.03299999999999,1997.1,0,0,0,395.20800000000003,785.85900000000004,2025.88,96.498500000000007,5539.58,287.625,0,0,0,158.54900000000001,0,43.669699999999999,0,0,489.84300000000002,0,0,0,0,0,0,0,0,0,0,35.11,95.07,0,0,15.99,0,5.47,15.34,27.21,1.24,195.43,146.16999999999999,372.97300000000001,2973.06,0,0,0,395.20800000000003,783.45600000000002,2025.88,96.498500000000007,6647.07,450.13799999999998,0,0,0,158.54900000000001,0,43.669699999999999,0,0,652.35599999999999,0,0,0,0,0,0,0,0,0,0,54.78,136.19,0,0,15.99,5.47,15.31,27.21,1.24,256.19,206.96,"CA Residential 2016, Vers. 1.0","CSE 0.813 EXE",null,"MPCBECC",0,4.0682299999999998,0,0,0,5.8563799999999999E-2,0.119212,0.25846799999999998,8.4950000000000008E-3,4.5129700000000001,4.0682299999999998,0,5.7310999999999996,0,0,0,5.8563799999999999E-2,0.119352,0.25846799999999998,8.4950000000000008E-3,6.17598,5.7310999999999996,1.663,1.66286,23.716799999999999,29.372800000000002]
["2016-09-01T10:35:57","U13R05","v28 EAA R38V HVAC Worse","Proposed and Standard","FAIL",-14.33,0,318.80599999999998,1741.33,0,0,0,395.20800000000003,782.32,2025.88,96.498500000000007,5360.05,375.45499999999998,0,0,0,158.54900000000001,0,43.669699999999999,0,0,577.67399999999998,0,0,0,0,0,0,0,0,0,0,45.74,83.79,0,0,15.99,0,5.47,15.3,27.21,1.24,194.74,145.52000000000001,338.142,1468.52,0,0,0,395.20800000000003,783.49699999999996,2025.88,96.498500000000007,5107.74,393.75299999999999,0,0,0,158.54900000000001,0,43.669699999999999,0,0,595.971,0,0,0,0,0,0,0,0,0,0,48.05,67.150000000000006,0,0,15.99,5.47,15.31,27.21,1.24,180.42,131.19,"CA Residential 2016, Vers. 1.0","CSE 0.813 EXE",null,"MPCBECC",0,3.5987200000000001,0,0,0,5.8563799999999999E-2,0.119226,0.25846799999999998,8.4950000000000008E-3,4.0434799999999997,3.5987200000000001,0,2.82917,0,0,0,5.8563799999999999E-2,0.119325,0.25846799999999998,8.4950000000000008E-3,3.2740200000000002,2.82917,-0.76945399999999997,-0.76955300000000004,-7.9370399999999997,-10.9231]
["2016-09-01T10:35:57","U13R06","v28 EAA R38V HVAC WorseV","Proposed and Standard","FAIL",-14.33,0,318.80599999999998,1741.33,0,0,0,395.20800000000003,782.32,2025.88,96.498500000000007,5360.05,375.45499999999998,0,0,0,158.54900000000001,0,43.669699999999999,0,0,577.67399999999998,0,0,0,0,0,0,0,0,0,0,45.74,83.79,0,0,15.99,0,5.47,15.3,27.21,1.24,194.74,145.52000000000001,338.142,1468.52,0,0,0,395.20800000000003,783.49699999999996,2025.88,96.498500000000007,5107.74,393.75299999999999,0,0,0,158.54900000000001,0,43.669699999999999,0,0,595.971,0,0,0,0,0,0,0,0,0,0,48.05,67.150000000000006,0,0,15.99,5.47,15.31,27.21,1.24,180.42,131.19,"CA Residential 2016, Vers. 1.0","CSE 0.813 EXE",null,"MPCBECC",0,3.5987200000000001,0,0,0,5.8563799999999999E-2,0.119226,0.25846799999999998,8.4950000000000008E-3,4.0434799999999997,3.5987200000000001,0,2.82917,0,0,0,5.8563799999999999E-2,0.119325,0.25846799999999998,8.4950000000000008E-3,3.2740200000000002,2.82917,-0.76945399999999997,-0.76955300000000004,-7.9370399999999997,-10.9231]
["2016-09-01T10:35:57","U13R07","v28 EAA R38V HVAC Equal","Proposed and Standard","PASS",12.45,0,313.46699999999998,1201.3399999999999,0,0,0,395.20800000000003,782.31799999999998,2025.88,96.498500000000007,4814.71,365.01900000000001,0,0,0,158.54900000000001,0,43.669699999999999,0,0,567.23800000000006,0,0,0,0,0,0,0,0,0,0,44.51,58.24,0,0,15.99,0,5.47,15.3,27.21,1.24,167.96,118.74,338.142,1468.52,0,0,0,395.20800000000003,783.49699999999996,2025.88,96.498500000000007,5107.74,393.75299999999999,0,0,0,158.54900000000001,0,43.669699999999999,0,0,595.971,0,0,0,0,0,0,0,0,0,0,48.05,67.150000000000006,0,0,15.99,5.47,15.31,27.21,1.24,180.42,131.19,"CA Residential 2016, Vers. 1.0","CSE 0.813 EXE",null,"MPCBECC",0,2.5088599999999999,0,0,0,5.8563799999999999E-2,0.11922000000000001,0.25846799999999998,8.4950000000000008E-3,2.9536099999999998,2.5088599999999999,0,2.82917,0,0,0,5.8563799999999999E-2,0.119325,0.25846799999999998,8.4950000000000008E-3,3.2740200000000002,2.82917,0.32041500000000001,0.32030900000000001,6.9061000000000003,9.4900500000000001]
["2016-09-01T10:36:18","U13R08","v28 EAA R38V HVAC EqualV","Proposed and Standard","PASS",88.22,0,313.46699999999998,1201.3399999999999,0,0,0,395.20800000000003,782.31799999999998,2025.88,96.498500000000007,4814.71,365.01900000000001,0,0,0,158.54900000000001,0,43.669699999999999,0,0,567.23800000000006,0,0,0,0,0,0,0,0,0,0,44.51,58.24,0,0,15.99,0,5.47,15.3,27.21,1.24,167.96,118.74,372.97300000000001,2973.06,0,0,0,395.20800000000003,783.45600000000002,2025.88,96.498500000000007,6647.07,450.13799999999998,0,0,0,158.54900000000001,0,43.669699999999999,0,0,652.35599999999999,0,0,0,0,0,0,0,0,0,0,54.78,136.19,0,0,15.99,5.47,15.31,27.21,1.24,256.19,206.96,"CA Residential 2016, Vers. 1.0","CSE 0.813 EXE",null,"MPCBECC",0,2.5088599999999999,0,0,0,5.8563799999999999E-2,0.11922000000000001,0.25846799999999998,8.4950000000000008E-3,2.9536099999999998,2.5088599999999999,0,5.7310999999999996,0,0,0,5.8563799999999999E-2,0.119352,0.25846799999999998,8.4950000000000008E-3,6.17598,5.7310999999999996,3.2223700000000002,3.2222400000000002,34.439300000000003,42.626600000000003]
["2016-09-01T10:35:56","U13R09","v28 EAA R38V HVAC Better","Proposed and Standard","PASS",30.96,0,174.87200000000001,960.94100000000003,0,0,0,395.20800000000003,782.31,2025.88,96.498500000000007,4435.71,317.99299999999999,0,0,0,158.54900000000001,0,43.669699999999999,0,0,520.21199999999999,0,0,0,0,0,0,0,0,0,0,37.659999999999997,46.58,0,0,15.99,0,5.47,15.3,27.21,1.24,149.44999999999999,100.23,338.142,1468.52,0,0,0,395.20800000000003,783.49699999999996,2025.88,96.498500000000007,5107.74,393.75299999999999,0,0,0,158.54900000000001,0,43.669699999999999,0,0,595.971,0,0,0,0,0,0,0,0,0,0,48.05,67.150000000000006,0,0,15.99,5.47,15.31,27.21,1.24,180.42,131.19,"CA Residential 2016, Vers. 1.0","CSE 0.813 EXE",null,"MPCBECC",0,2.0061800000000001,0,0,0,5.8563799999999999E-2,0.11919200000000001,0.25846799999999998,8.4950000000000008E-3,2.4508899999999998,2.0061800000000001,0,2.82917,0,0,0,5.8563799999999999E-2,0.119325,0.25846799999999998,8.4950000000000008E-3,3.2740200000000002,2.82917,0.82312799999999997,0.82299500000000003,17.165500000000002,23.599399999999999]
["2016-09-01T10:35:57","U13R10","v28 EAA R38V HVAC BetterV","Proposed and Standard","PASS",106.73,0,174.87200000000001,960.94100000000003,0,0,0,395.20800000000003,782.31,2025.88,96.498500000000007,4435.71,317.99299999999999,0,0,0,158.54900000000001,0,43.669699999999999,0,0,520.21199999999999,0,0,0,0,0,0,0,0,0,0,37.659999999999997,46.58,0,0,15.99,0,5.47,15.3,27.21,1.24,149.44999999999999,100.23,372.97300000000001,2973.06,0,0,0,395.20800000000003,783.45600000000002,2025.88,96.498500000000007,6647.07,450.13799999999998,0,0,0,158.54900000000001,0,43.669699999999999,0,0,652.35599999999999,0,0,0,0,0,0,0,0,0,0,54.78,136.19,0,0,15.99,5.47,15.31,27.21,1.24,256.19,206.96,"CA Residential 2016, Vers. 1.0","CSE 0.813 EXE",null,"MPCBECC",0,2.0061800000000001,0,0,0,5.8563799999999999E-2,0.11919200000000001,0.25846799999999998,8.4950000000000008E-3,2.4508899999999998,2.0061800000000001,0,5.7310999999999996,0,0,0,5.8563799999999999E-2,0.119352,0.25846799999999998,8.4950000000000008E-3,6.17598,5.7310999999999996,3.7250800000000002,3.72492,41.664400000000001,51.570399999999999]
["2016-08-30T13:44:49","U13R10","v27 EAA R38V HVAC BetterV","Proposed and Standard","PASS",106.73,0,174.87200000000001,960.94100000000003,0,0,0,395.20800000000003,782.31,2025.88,96.498500000000007,4435.71,317.99299999999999,0,0,0,158.54900000000001,0,43.669699999999999,0,0,520.21199999999999,0,0,0,0,0,0,0,0,0,0,37.659999999999997,46.58,0,0,15.99,0,5.47,15.3,27.21,1.24,149.44999999999999,100.23,372.97300000000001,2973.06,0,0,0,395.20800000000003,783.45600000000002,2025.88,96.498500000000007,6647.07,450.13799999999998,0,0,0,158.54900000000001,0,43.669699999999999,0,0,652.35599999999999,0,0,0,0,0,0,0,0,0,0,54.78,136.19,0,0,15.99,5.47,15.31,27.21,1.24,256.19,206.96,"CA Residential 2016, Vers. 1.0","CSE 0.813 EXE",null,"MPCBECC",0,2.0061800000000001,0,0,0,5.8563799999999999E-2,0.11919200000000001,0.25846799999999998,8.4950000000000008E-3,2.4508899999999998,2.0061800000000001,0,5.7310999999999996,0,0,0,5.8563799999999999E-2,0.119352,0.25846799999999998,8.4950000000000008E-3,6.17598,5.7310999999999996,3.7250800000000002,3.72492,41.664400000000001,51.570399999999999]

{"sheet":"CandidateLookups","index":7,"n_rows":1000,"n_cols":15,"rows_kept":1000,"cut":false,"hidden":false,"merged":[]}
["This tab should not be modified. Contains reference lookup data that drive rest of spreadsheet",{"$nulls":10},"Filename","Filename","Filename"]
["These are preset to match the format of the CBECC-Res AnalysisResults.csv file as of 11/18/2013 with PV Credit Column Added",{"$nulls":10},"Without","Without","Column"]
[{"$nulls":11},"Path","Extension"]
["CandidateFile","IA","If the column for the file name is changed, column L of this tab must be updated",{"$nulls":8},{"$f":"TRIM(RIGHT(SUBSTITUTE(IF(Candidate!B4=\"\",Candidate!CO4,Candidate!B4),\"\\\",REPT(\" \",100)),100))","v":"U01R01"},{"$f":"TRIM(LEFT(SUBSTITUTE(L4,\".\",REPT(\" \",100)),100))","v":"U01R01"},{"$f":"IF(LEFT(RIGHT(M4,2),1)<>\"/\",RIGHT(M4,6),INDEX(CandidateFileArray,MATCH(RIGHT(M4,8),CandidateFileList,0),2))","v":"U01R01"},"Column N may need to be modified for different software. "]
["Candidate",{"$f":"\"'\"&A5&\"'!\"&\"$A$1:$\"&CandidateFile&\"$1000\"","v":"'Candidate'!$A$1:$IA$1000"},null,null,"Array that includes all data that needs to be searched in results",{"$nulls":6},{"$f":"TRIM(RIGHT(SUBSTITUTE(IF(Candidate!B5=\"\",Candidate!CO5,Candidate!B5),\"\\\",REPT(\" \",100)),100))","v":"U01R02"},{"$f":"TRIM(LEFT(SUBSTITUTE(L5,\".\",REPT(\" \",100)),100))","v":"U01R02"},"U01R02","to return just the filename such as T01R01."]
[{"$f":"A5&\"FileName\"","v":"CandidateFileName"},{"$f":"\"'\"&A5&\"Lookups'!\"&\"$N$1:$N$1000\"","v":"'CandidateLookups'!$N$1:$N$1000"},null,null,"Column that includes only the file name (eg T02R01)",{"$nulls":6},{"$f":"TRIM(RIGHT(SUBSTITUTE(IF(Candidate!B6=\"\",Candidate!CO6,Candidate!B6),\"\\\",REPT(\" \",100)),100))","v":"U01R03"},"U01R03","U01R03","The filename must be in the same row as in the Reference tab"]
[{"$nulls":11},{"$f":"TRIM(RIGHT(SUBSTITUTE(IF(Candidate!B7=\"\",Candidate!CO7,Candidate!B7),\"\\\",REPT(\" \",100)),100))","v":"U01R04"},"U01R04","U01R04",{"$f":"IF(LEFT(RIGHT(Reference!CO7,2),1)<>\"/\",\"\",RIGHT(Reference!CO7,6))","v":""}]
[null,"Column",{"$nulls":9},{"$f":"TRIM(RIGHT(SUBSTITUTE(IF(Candidate!B8=\"\",Candidate!CO8,Candidate!B8),\"\\\",REPT(\" \",100)),100))","v":"U01R05"},"U01R05","U01R05","Column L removes path name if present"]
[null,"Number",{"$nulls":9},{"$f":"TRIM(RIGHT(SUBSTITUTE(IF(Candidate!B9=\"\",Candidate!CO9,Candidate!B9),\"\\\",REPT(\" \",100)),100))","v":"U01R06"},"U01R06","U01R06","Column M removes extension if present"]
["Proposed",{"$nulls":10},{"$f":"TRIM(RIGHT(SUBSTITUTE(IF(Candidate!B10=\"\",Candidate!CO10,Candidate!B10),\"\\\",REPT(\" \",100)),100))","v":"U01R07"},"U01R07","U01R07","Column N removes /N,/E,/W,/S and replaces with filename if present"]
[{"$f":"A5&A10&\"SpcHeat\"","v":"CandidateProposedSpcHeat"},38,{"$nulls":9},{"$f":"TRIM(RIGHT(SUBSTITUTE(IF(Candidate!B11=\"\",Candidate!CO11,Candidate!B11),\"\\\",REPT(\" \",100)),100))","v":"U01R08"},"U01R08","U01R08"]
[{"$f":"A5&A10&\"SpcCool\"","v":"CandidateProposedSpcCool"},39,{"$nulls":9},{"$f":"TRIM(RIGHT(SUBSTITUTE(IF(Candidate!B12=\"\",Candidate!CO12,Candidate!B12),\"\\\",REPT(\" \",100)),100))","v":"U01R09"},"U01R09","U01R09"]
[{"$f":"A5&A10&\"IAQVent\"","v":"CandidateProposedIAQVent"},40,{"$nulls":9},{"$f":"TRIM(RIGHT(SUBSTITUTE(IF(Candidate!B13=\"\",Candidate!CO13,Candidate!B13),\"\\\",REPT(\" \",100)),100))","v":"U01R10"},"U01R10","U01R10"]
[{"$f":"A5&A10&\"OtherHVAC\"","v":"CandidateProposedOtherHVAC"},41,{"$nulls":9},{"$f":"TRIM(RIGHT(SUBSTITUTE(IF(Candidate!B14=\"\",Candidate!CO14,Candidate!B14),\"\\\",REPT(\" \",100)),100))","v":"U01R11"},"U01R11","U01R11"]
[{"$f":"A5&A10&\"WtrHeat\"","v":"CandidateProposedWtrHeat"},42,{"$nulls":9},{"$f":"TRIM(RIGHT(SUBSTITUTE(IF(Candidate!B15=\"\",Candidate!CO15,Candidate!B15),\"\\\",REPT(\" \",100)),100))","v":"U01R12"},"U01R12","U01R12"]
[{"$f":"A5&A10&\"Solar\"","v":"CandidateProposedSolar"},43,null,null,"Software does not have this value, so point to 0 column for now",{"$nulls":6},{"$f":"TRIM(RIGHT(SUBSTITUTE(IF(Candidate!B16=\"\",Candidate!CO16,Candidate!B16),\"\\\",REPT(\" \",100)),100))","v":"U01R13"},"U01R13","U01R13"]
[{"$f":"A5&A10&\"Total\"","v":"CandidateProposedTotal"},49,{"$nulls":9},{"$f":"TRIM(RIGHT(SUBSTITUTE(IF(Candidate!B17=\"\",Candidate!CO17,Candidate!B17),\"\\\",REPT(\" \",100)),100))","v":"U01R14"},"U01R14","U01R14"]
["CandidateProposedEDR",7,{"$nulls":9},{"$f":"TRIM(RIGHT(SUBSTITUTE(IF(Candidate!B18=\"\",Candidate!CO18,Candidate!B18),\"\\\",REPT(\" \",100)),100))","v":"U01R15"},"U01R15","U01R15"]
["Standard",{"$nulls":10},{"$f":"TRIM(RIGHT(SUBSTITUTE(IF(Candidate!B19=\"\",Candidate!CO19,Candidate!B19),\"\\\",REPT(\" \",100)),100))","v":"U01R16"},"U01R16","U01R16"]
[{"$f":"A5&A19&\"SpcHeat\"","v":"CandidateStandardSpcHeat"},80,{"$nulls":9},{"$f":"TRIM(RIGHT(SUBSTITUTE(IF(Candidate!B20=\"\",Candidate!CO20,Candidate!B20),\"\\\",REPT(\" \",100)),100))","v":"U02R01"},"U02R01","U02R01"]
[{"$f":"A5&A19&\"SpcCool\"","v":"CandidateStandardSpcCool"},81,{"$nulls":9},{"$f":"TRIM(RIGHT(SUBSTITUTE(IF(Candidate!B21=\"\",Candidate!CO21,Candidate!B21),\"\\\",REPT(\" \",100)),100))","v":"U02R02"},"U02R02","U02R02"]
[{"$f":"A5&A19&\"IAQVent\"","v":"CandidateStandardIAQVent"},82,{"$nulls":9},{"$f":"TRIM(RIGHT(SUBSTITUTE(IF(Candidate!B22=\"\",Candidate!CO22,Candidate!B22),\"\\\",REPT(\" \",100)),100))","v":"U02R03"},"U02R03","U02R03"]
[{"$f":"A5&A19&\"OtherHVAC\"","v":"CandidateStandardOtherHVAC"},83,{"$nulls":9},{"$f":"TRIM(RIGHT(SUBSTITUTE(IF(Candidate!B23=\"\",Candidate!CO23,Candidate!B23),\"\\\",REPT(\" \",100)),100))","v":"U02R04"},"U02R04","U02R04"]
[{"$f":"A5&A19&\"WtrHeat\"","v":"CandidateStandardWtrHeat"},84,{"$nulls":9},{"$f":"TRIM(RIGHT(SUBSTITUTE(IF(Candidate!B24=\"\",Candidate!CO24,Candidate!B24),\"\\\",REPT(\" \",100)),100))","v":"U02R05"},"U02R05","U02R05"]
[{"$f":"A5&A19&\"Solar\"","v":"CandidateStandardSolar"},0,null,null,"Software does not have this value, so point to 0 column for now",{"$nulls":6},{"$f":"TRIM(RIGHT(SUBSTITUTE(IF(Candidate!B25=\"\",Candidate!CO25,Candidate!B25),\"\\\",REPT(\" \",100)),100))","v":"U02R06"},"U02R06","U02R06"]
[{"$f":"A5&A19&\"Total\"","v":"CandidateStandardTotal"},90,{"$nulls":9},{"$f":"TRIM(RIGHT(SUBSTITUTE(IF(Candidate!B26=\"\",Candidate!CO26,Candidate!B26),\"\\\",REPT(\" \",100)),100))","v":"U02R07"},"U02R07","U02R07"]
["CandidateStandardEDR",235,{"$nulls":9},{"$f":"TRIM(RIGHT(SUBSTITUTE(IF(Candidate!B27=\"\",Candidate!CO27,Candidate!B27),\"\\\",REPT(\" \",100)),100))","v":"U02R08"},"U02R08","U02R08"]
[{"$nulls":11},{"$f":"TRIM(RIGHT(SUBSTITUTE(IF(Candidate!B28=\"\",Candidate!CO28,Candidate!B28),\"\\\",REPT(\" \",100)),100))","v":"U02R09"},"U02R09","U02R09"]
[{"$f":"A5&\"FileArray\"","v":"CandidateFileArray"},"From","To",{"$nulls":8},{"$f":"TRIM(RIGHT(SUBSTITUTE(IF(Candidate!B29=\"\",Candidate!CO29,Candidate!B29),\"\\\",REPT(\" \",100)),100))","v":"U02R10"},"U02R10","U02R10"]
[null,"U09R02/N","U09R05",null,"The T09 multiple orientation run case only uses 4 input files.",{"$nulls":6},{"$f":"TRIM(RIGHT(SUBSTITUTE(IF(Candidate!B30=\"\",Candidate!CO30,Candidate!B30),\"\\\",REPT(\" \",100)),100))","v":"U02R11"},"U02R11","U02R11"]
[null,"U09R02/E","U09R02",null,"The data in this table is used to map the 4 file names into the T09 names",{"$nulls":6},{"$f":"TRIM(RIGHT(SUBSTITUTE(IF(Candidate!B31=\"\",Candidate!CO31,Candidate!B31),\"\\\",REPT(\" \",100)),100))","v":"U02R12"},"U02R12","U02R12"]
[null,"U09R02/S","U09R03",{"$nulls":8},{"$f":"TRIM(RIGHT(SUBSTITUTE(IF(Candidate!B32=\"\",Candidate!CO32,Candidate!B32),\"\\\",REPT(\" \",100)),100))","v":"U02R13"},"U02R13","U02R13"]
[null,"U09R02/W","U09R04",null,"Reorded in v18 to make east facing first map to work with CBECC-Res",{"$nulls":6},{"$f":"TRIM(RIGHT(SUBSTITUTE(IF(Candidate!B33=\"\",Candidate!CO33,Candidate!B33),\"\\\",REPT(\" \",100)),100))","v":"U02R14"},"U02R14","U02R14"]
[null,"U09R07/N","U09R10",{"$nulls":8},{"$f":"TRIM(RIGHT(SUBSTITUTE(IF(Candidate!B34=\"\",Candidate!CO34,Candidate!B34),\"\\\",REPT(\" \",100)),100))","v":"U02R15"},"U02R15","U02R15"]
[null,"U09R07/E","U09R07",{"$nulls":8},{"$f":"TRIM(RIGHT(SUBSTITUTE(IF(Candidate!B35=\"\",Candidate!CO35,Candidate!B35),\"\\\",REPT(\" \",100)),100))","v":"U02R16"},"U02R16","U02R16"]
[null,"U09R07/S","U09R08",{"$nulls":8},{"$f":"TRIM(RIGHT(SUBSTITUTE(IF(Candidate!B36=\"\",Candidate!CO36,Candidate!B36),\"\\\",REPT(\" \",100)),100))","v":"U03R01"},"U03R01","U03R01"]
[null,"U09R07/W","U09R09",{"$nulls":8},{"$f":"TRIM(RIGHT(SUBSTITUTE(IF(Candidate!B37=\"\",Candidate!CO37,Candidate!B37),\"\\\",REPT(\" \",100)),100))","v":"U03R02"},"U03R02","U03R02"]
[{"$nulls":11},{"$f":"TRIM(RIGHT(SUBSTITUTE(IF(Candidate!B38=\"\",Candidate!CO38,Candidate!B38),\"\\\",REPT(\" \",100)),100))","v":"U03R03"},"U03R03","U03R03"]
[{"$nulls":11},{"$f":"TRIM(RIGHT(SUBSTITUTE(IF(Candidate!B39=\"\",Candidate!CO39,Candidate!B39),\"\\\",REPT(\" \",100)),100))","v":"U03R04"},"U03R04","U03R04"]
[{"$nulls":11},{"$f":"TRIM(RIGHT(SUBSTITUTE(IF(Candidate!B40=\"\",Candidate!CO40,Candidate!B40),\"\\\",REPT(\" \",100)),100))","v":"U03R05"},"U03R05","U03R05"]
[{"$nulls":11},{"$f":"TRIM(RIGHT(SUBSTITUTE(IF(Candidate!B41=\"\",Candidate!CO41,Candidate!B41),\"\\\",REPT(\" \",100)),100))","v":"U03R06"},"U03R06","U03R06"]
[{"$nulls":11},{"$f":"TRIM(RIGHT(SUBSTITUTE(IF(Candidate!B42=\"\",Candidate!CO42,Candidate!B42),\"\\\",REPT(\" \",100)),100))","v":"U03R07"},"U03R07","U03R07"]
[{"$nulls":11},{"$f":"TRIM(RIGHT(SUBSTITUTE(IF(Candidate!B43=\"\",Candidate!CO43,Candidate!B43),\"\\\",REPT(\" \",100)),100))","v":"U03R08"},"U03R08","U03R08"]
[{"$nulls":11},{"$f":"TRIM(RIGHT(SUBSTITUTE(IF(Candidate!B44=\"\",Candidate!CO44,Candidate!B44),\"\\\",REPT(\" \",100)),100))","v":"U03R09"},"U03R09","U03R09"]
[{"$nulls":11},{"$f":"TRIM(RIGHT(SUBSTITUTE(IF(Candidate!B45=\"\",Candidate!CO45,Candidate!B45),\"\\\",REPT(\" \",100)),100))","v":"U03R10"},"U03R10","U03R10"]
[{"$nulls":11},{"$f":"TRIM(RIGHT(SUBSTITUTE(IF(Candidate!B46=\"\",Candidate!CO46,Candidate!B46),\"\\\",REPT(\" \",100)),100))","v":"U03R11"},"U03R11","U03R11"]
[{"$nulls":11},{"$f":"TRIM(RIGHT(SUBSTITUTE(IF(Candidate!B47=\"\",Candidate!CO47,Candidate!B47),\"\\\",REPT(\" \",100)),100))","v":"U03R12"},"U03R12","U03R12"]
[{"$nulls":11},{"$f":"TRIM(RIGHT(SUBSTITUTE(IF(Candidate!B48=\"\",Candidate!CO48,Candidate!B48),\"\\\",REPT(\" \",100)),100))","v":"U03R13"},"U03R13","U03R13"]
[{"$nulls":11},{"$f":"TRIM(RIGHT(SUBSTITUTE(IF(Candidate!B49=\"\",Candidate!CO49,Candidate!B49),\"\\\",REPT(\" \",100)),100))","v":"U03R14"},"U03R14","U03R14"]
[{"$nulls":11},{"$f":"TRIM(RIGHT(SUBSTITUTE(IF(Candidate!B50=\"\",Candidate!CO50,Candidate!B50),\"\\\",REPT(\" \",100)),100))","v":"U03R15"},"U03R15","U03R15"]
[{"$nulls":11},{"$f":"TRIM(RIGHT(SUBSTITUTE(IF(Candidate!B51=\"\",Candidate!CO51,Candidate!B51),\"\\\",REPT(\" \",100)),100))","v":"U03R16"},"U03R16","U03R16"]
[{"$nulls":11},{"$f":"TRIM(RIGHT(SUBSTITUTE(IF(Candidate!B52=\"\",Candidate!CO52,Candidate!B52),\"\\\",REPT(\" \",100)),100))","v":"U04R01"},"U04R01","U04R01"]
[{"$nulls":11},{"$f":"TRIM(RIGHT(SUBSTITUTE(IF(Candidate!B53=\"\",Candidate!CO53,Candidate!B53),\"\\\",REPT(\" \",100)),100))","v":"U04R02"},"U04R02","U04R02"]
[{"$nulls":11},{"$f":"TRIM(RIGHT(SUBSTITUTE(IF(Candidate!B54=\"\",Candidate!CO54,Candidate!B54),\"\\\",REPT(\" \",100)),100))","v":"U04R03"},"U04R03","U04R03"]
[{"$nulls":11},{"$f":"TRIM(RIGHT(SUBSTITUTE(IF(Candidate!B55=\"\",Candidate!CO55,Candidate!B55),\"\\\",REPT(\" \",100)),100))","v":"U04R04"},"U04R04","U04R04"]
[{"$nulls":11},{"$f":"TRIM(RIGHT(SUBSTITUTE(IF(Candidate!B56=\"\",Candidate!CO56,Candidate!B56),\"\\\",REPT(\" \",100)),100))","v":"U04R05"},"U04R05","U04R05"]
[{"$nulls":11},{"$f":"TRIM(RIGHT(SUBSTITUTE(IF(Candidate!B57=\"\",Candidate!CO57,Candidate!B57),\"\\\",REPT(\" \",100)),100))","v":"U04R06"},"U04R06","U04R06"]
[{"$nulls":11},{"$f":"TRIM(RIGHT(SUBSTITUTE(IF(Candidate!B58=\"\",Candidate!CO58,Candidate!B58),\"\\\",REPT(\" \",100)),100))","v":"U04R07"},"U04R07","U04R07"]
[{"$nulls":11},{"$f":"TRIM(RIGHT(SUBSTITUTE(IF(Candidate!B59=\"\",Candidate!CO59,Candidate!B59),\"\\\",REPT(\" \",100)),100))","v":"U04R08"},"U04R08","U04R08"]
[{"$nulls":11},{"$f":"TRIM(RIGHT(SUBSTITUTE(IF(Candidate!B60=\"\",Candidate!CO60,Candidate!B60),\"\\\",REPT(\" \",100)),100))","v":"U04R09"},"U04R09","U04R09"]
[{"$nulls":11},{"$f":"TRIM(RIGHT(SUBSTITUTE(IF(Candidate!B61=\"\",Candidate!CO61,Candidate!B61),\"\\\",REPT(\" \",100)),100))","v":"U04R10"},"U04R10","U04R10"]
[{"$nulls":11},{"$f":"TRIM(RIGHT(SUBSTITUTE(IF(Candidate!B62=\"\",Candidate!CO62,Candidate!B62),\"\\\",REPT(\" \",100)),100))","v":"U04R11"},"U04R11","U04R11"]
[{"$nulls":11},{"$f":"TRIM(RIGHT(SUBSTITUTE(IF(Candidate!B63=\"\",Candidate!CO63,Candidate!B63),\"\\\",REPT(\" \",100)),100))","v":"U04R12"},"U04R12","U04R12"]
[{"$nulls":11},{"$f":"TRIM(RIGHT(SUBSTITUTE(IF(Candidate!B64=\"\",Candidate!CO64,Candidate!B64),\"\\\",REPT(\" \",100)),100))","v":"U04R13"},"U04R13","U04R13"]
[{"$nulls":11},{"$f":"TRIM(RIGHT(SUBSTITUTE(IF(Candidate!B65=\"\",Candidate!CO65,Candidate!B65),\"\\\",REPT(\" \",100)),100))","v":"U04R14"},"U04R14","U04R14"]
[{"$nulls":11},{"$f":"TRIM(RIGHT(SUBSTITUTE(IF(Candidate!B66=\"\",Candidate!CO66,Candidate!B66),\"\\\",REPT(\" \",100)),100))","v":"U04R15"},"U04R15","U04R15"]
[{"$nulls":11},{"$f":"TRIM(RIGHT(SUBSTITUTE(IF(Candidate!B67=\"\",Candidate!CO67,Candidate!B67),\"\\\",REPT(\" \",100)),100))","v":"U04R16"},"U04R16","U04R16"]
[{"$nulls":11},{"$f":"TRIM(RIGHT(SUBSTITUTE(IF(Candidate!B68=\"\",Candidate!CO68,Candidate!B68),\"\\\",REPT(\" \",100)),100))","v":"U05R01"},"U05R01",{"$f":"IF(LEFT(RIGHT(M68,2),1)<>\"/\",RIGHT(M68,6),INDEX(CandidateFileArray,MATCH(RIGHT(M68,8),CandidateFileList,0),2))","v":"U05R01"}]
[{"$nulls":11},{"$f":"TRIM(RIGHT(SUBSTITUTE(IF(Candidate!B69=\"\",Candidate!CO69,Candidate!B69),\"\\\",REPT(\" \",100)),100))","v":"U05R02"},{"$f":"TRIM(LEFT(SUBSTITUTE(L69,\".\",REPT(\" \",100)),100))","v":"U05R02"},"U05R02"]
[{"$nulls":11},{"$f":"TRIM(RIGHT(SUBSTITUTE(IF(Candidate!B70=\"\",Candidate!CO70,Candidate!B70),\"\\\",REPT(\" \",100)),100))","v":"U05R03"},"U05R03","U05R03"]
[{"$nulls":11},{"$f":"TRIM(RIGHT(SUBSTITUTE(IF(Candidate!B71=\"\",Candidate!CO71,Candidate!B71),\"\\\",REPT(\" \",100)),100))","v":"U05R04"},"U05R04","U05R04"]
[{"$nulls":11},{"$f":"TRIM(RIGHT(SUBSTITUTE(IF(Candidate!B72=\"\",Candidate!CO72,Candidate!B72),\"\\\",REPT(\" \",100)),100))","v":"U05R05"},"U05R05","U05R05"]
[{"$nulls":11},{"$f":"TRIM(RIGHT(SUBSTITUTE(IF(Candidate!B73=\"\",Candidate!CO73,Candidate!B73),\"\\\",REPT(\" \",100)),100))","v":"U05R06"},"U05R06","U05R06"]
[{"$nulls":11},{"$f":"TRIM(RIGHT(SUBSTITUTE(IF(Candidate!B74=\"\",Candidate!CO74,Candidate!B74),\"\\\",REPT(\" \",100)),100))","v":"U05R07"},"U05R07","U05R07"]
[{"$nulls":11},{"$f":"TRIM(RIGHT(SUBSTITUTE(IF(Candidate!B75=\"\",Candidate!CO75,Candidate!B75),\"\\\",REPT(\" \",100)),100))","v":"U05R08"},"U05R08","U05R08"]
[{"$nulls":11},{"$f":"TRIM(RIGHT(SUBSTITUTE(IF(Candidate!B76=\"\",Candidate!CO76,Candidate!B76),\"\\\",REPT(\" \",100)),100))","v":"U05R09"},"U05R09","U05R09"]
[{"$nulls":11},{"$f":"TRIM(RIGHT(SUBSTITUTE(IF(Candidate!B77=\"\",Candidate!CO77,Candidate!B77),\"\\\",REPT(\" \",100)),100))","v":"U05R10"},"U05R10","U05R10"]
[{"$nulls":11},{"$f":"TRIM(RIGHT(SUBSTITUTE(IF(Candidate!B78=\"\",Candidate!CO78,Candidate!B78),\"\\\",REPT(\" \",100)),100))","v":"U05R11"},"U05R11","U05R11"]
[{"$nulls":11},{"$f":"TRIM(RIGHT(SUBSTITUTE(IF(Candidate!B79=\"\",Candidate!CO79,Candidate!B79),\"\\\",REPT(\" \",100)),100))","v":"U05R12"},"U05R12","U05R12"]
[{"$nulls":11},{"$f":"TRIM(RIGHT(SUBSTITUTE(IF(Candidate!B80=\"\",Candidate!CO80,Candidate!B80),\"\\\",REPT(\" \",100)),100))","v":"U05R13"},"U05R13","U05R13"]
[{"$nulls":11},{"$f":"TRIM(RIGHT(SUBSTITUTE(IF(Candidate!B81=\"\",Candidate!CO81,Candidate!B81),\"\\\",REPT(\" \",100)),100))","v":"U05R14"},"U05R14","U05R14"]
[{"$nulls":11},{"$f":"TRIM(RIGHT(SUBSTITUTE(IF(Candidate!B82=\"\",Candidate!CO82,Candidate!B82),\"\\\",REPT(\" \",100)),100))","v":"U05R15"},"U05R15","U05R15"]
[{"$nulls":11},{"$f":"TRIM(RIGHT(SUBSTITUTE(IF(Candidate!B83=\"\",Candidate!CO83,Candidate!B83),\"\\\",REPT(\" \",100)),100))","v":"U05R16"},"U05R16","U05R16"]
[{"$nulls":11},{"$f":"TRIM(RIGHT(SUBSTITUTE(IF(Candidate!B84=\"\",Candidate!CO84,Candidate!B84),\"\\\",REPT(\" \",100)),100))","v":"U06R01"},"U06R01","U06R01"]
[{"$nulls":11},{"$f":"TRIM(RIGHT(SUBSTITUTE(IF(Candidate!B85=\"\",Candidate!CO85,Candidate!B85),\"\\\",REPT(\" \",100)),100))","v":"U06R02"},"U06R02","U06R02"]
[{"$nulls":11},{"$f":"TRIM(RIGHT(SUBSTITUTE(IF(Candidate!B86=\"\",Candidate!CO86,Candidate!B86),\"\\\",REPT(\" \",100)),100))","v":"U06R03"},"U06R03","U06R03"]
[{"$nulls":11},{"$f":"TRIM(RIGHT(SUBSTITUTE(IF(Candidate!B87=\"\",Candidate!CO87,Candidate!B87),\"\\\",REPT(\" \",100)),100))","v":"U06R04"},"U06R04","U06R04"]
[{"$nulls":11},{"$f":"TRIM(RIGHT(SUBSTITUTE(IF(Candidate!B88=\"\",Candidate!CO88,Candidate!B88),\"\\\",REPT(\" \",100)),100))","v":"U06R05"},"U06R05","U06R05"]
[{"$nulls":11},{"$f":"TRIM(RIGHT(SUBSTITUTE(IF(Candidate!B89=\"\",Candidate!CO89,Candidate!B89),\"\\\",REPT(\" \",100)),100))","v":"U06R06"},"U06R06","U06R06"]
[{"$nulls":11},{"$f":"TRIM(RIGHT(SUBSTITUTE(IF(Candidate!B90=\"\",Candidate!CO90,Candidate!B90),\"\\\",REPT(\" \",100)),100))","v":"U06R07"},"U06R07","U06R07"]
[{"$nulls":11},{"$f":"TRIM(RIGHT(SUBSTITUTE(IF(Candidate!B91=\"\",Candidate!CO91,Candidate!B91),\"\\\",REPT(\" \",100)),100))","v":"U06R08"},"U06R08","U06R08"]
[{"$nulls":11},{"$f":"TRIM(RIGHT(SUBSTITUTE(IF(Candidate!B92=\"\",Candidate!CO92,Candidate!B92),\"\\\",REPT(\" \",100)),100))","v":"U06R09"},"U06R09","U06R09"]
[{"$nulls":11},{"$f":"TRIM(RIGHT(SUBSTITUTE(IF(Candidate!B93=\"\",Candidate!CO93,Candidate!B93),\"\\\",REPT(\" \",100)),100))","v":"U06R10"},"U06R10","U06R10"]
[{"$nulls":11},{"$f":"TRIM(RIGHT(SUBSTITUTE(IF(Candidate!B94=\"\",Candidate!CO94,Candidate!B94),\"\\\",REPT(\" \",100)),100))","v":"U06R11"},"U06R11","U06R11"]
[{"$nulls":11},{"$f":"TRIM(RIGHT(SUBSTITUTE(IF(Candidate!B95=\"\",Candidate!CO95,Candidate!B95),\"\\\",REPT(\" \",100)),100))","v":"U06R12"},"U06R12","U06R12"]
[{"$nulls":11},{"$f":"TRIM(RIGHT(SUBSTITUTE(IF(Candidate!B96=\"\",Candidate!CO96,Candidate!B96),\"\\\",REPT(\" \",100)),100))","v":"U06R13"},"U06R13","U06R13"]
[{"$nulls":11},{"$f":"TRIM(RIGHT(SUBSTITUTE(IF(Candidate!B97=\"\",Candidate!CO97,Candidate!B97),\"\\\",REPT(\" \",100)),100))","v":"U06R14"},"U06R14","U06R14"]
[{"$nulls":11},{"$f":"TRIM(RIGHT(SUBSTITUTE(IF(Candidate!B98=\"\",Candidate!CO98,Candidate!B98),\"\\\",REPT(\" \",100)),100))","v":"U06R15"},"U06R15","U06R15"]
[{"$nulls":11},{"$f":"TRIM(RIGHT(SUBSTITUTE(IF(Candidate!B99=\"\",Candidate!CO99,Candidate!B99),\"\\\",REPT(\" \",100)),100))","v":"U06R16"},"U06R16","U06R16"]
[{"$nulls":11},{"$f":"TRIM(RIGHT(SUBSTITUTE(IF(Candidate!B100=\"\",Candidate!CO100,Candidate!B100),\"\\\",REPT(\" \",100)),100))","v":"U07R01"},"U07R01","U07R01"]
[{"$nulls":11},{"$f":"TRIM(RIGHT(SUBSTITUTE(IF(Candidate!B101=\"\",Candidate!CO101,Candidate!B101),\"\\\",REPT(\" \",100)),100))","v":"U07R02"},"U07R02","U07R02"]
[{"$nulls":11},{"$f":"TRIM(RIGHT(SUBSTITUTE(IF(Candidate!B102=\"\",Candidate!CO102,Candidate!B102),\"\\\",REPT(\" \",100)),100))","v":"U07R03"},"U07R03","U07R03"]
[{"$nulls":11},{"$f":"TRIM(RIGHT(SUBSTITUTE(IF(Candidate!B103=\"\",Candidate!CO103,Candidate!B103),\"\\\",REPT(\" \",100)),100))","v":"U07R04"},"U07R04","U07R04"]
[{"$nulls":11},{"$f":"TRIM(RIGHT(SUBSTITUTE(IF(Candidate!B104=\"\",Candidate!CO104,Candidate!B104),\"\\\",REPT(\" \",100)),100))","v":"U07R05"},"U07R05","U07R05"]
[{"$nulls":11},{"$f":"TRIM(RIGHT(SUBSTITUTE(IF(Candidate!B105=\"\",Candidate!CO105,Candidate!B105),\"\\\",REPT(\" \",100)),100))","v":"U07R06"},"U07R06","U07R06"]
[{"$nulls":11},{"$f":"TRIM(RIGHT(SUBSTITUTE(IF(Candidate!B106=\"\",Candidate!CO106,Candidate!B106),\"\\\",REPT(\" \",100)),100))","v":"U07R07"},"U07R07","U07R07"]
[{"$nulls":11},{"$f":"TRIM(RIGHT(SUBSTITUTE(IF(Candidate!B107=\"\",Candidate!CO107,Candidate!B107),\"\\\",REPT(\" \",100)),100))","v":"U07R08"},"U07R08","U07R08"]
[{"$nulls":11},{"$f":"TRIM(RIGHT(SUBSTITUTE(IF(Candidate!B108=\"\",Candidate!CO108,Candidate!B108),\"\\\",REPT(\" \",100)),100))","v":"U07R09"},"U07R09","U07R09"]
[{"$nulls":11},{"$f":"TRIM(RIGHT(SUBSTITUTE(IF(Candidate!B109=\"\",Candidate!CO109,Candidate!B109),\"\\\",REPT(\" \",100)),100))","v":"U07R10"},"U07R10","U07R10"]
[{"$nulls":11},{"$f":"TRIM(RIGHT(SUBSTITUTE(IF(Candidate!B110=\"\",Candidate!CO110,Candidate!B110),\"\\\",REPT(\" \",100)),100))","v":"U08R01"},"U08R01","U08R01"]
[{"$nulls":11},{"$f":"TRIM(RIGHT(SUBSTITUTE(IF(Candidate!B111=\"\",Candidate!CO111,Candidate!B111),\"\\\",REPT(\" \",100)),100))","v":"U08R02"},"U08R02","U08R02"]
[{"$nulls":11},{"$f":"TRIM(RIGHT(SUBSTITUTE(IF(Candidate!B112=\"\",Candidate!CO112,Candidate!B112),\"\\\",REPT(\" \",100)),100))","v":"U08R03"},"U08R03","U08R03"]
[{"$nulls":11},{"$f":"TRIM(RIGHT(SUBSTITUTE(IF(Candidate!B113=\"\",Candidate!CO113,Candidate!B113),\"\\\",REPT(\" \",100)),100))","v":"U08R04"},"U08R04","U08R04"]
[{"$nulls":11},{"$f":"TRIM(RIGHT(SUBSTITUTE(IF(Candidate!B114=\"\",Candidate!CO114,Candidate!B114),\"\\\",REPT(\" \",100)),100))","v":"U08R05"},"U08R05","U08R05"]
[{"$nulls":11},{"$f":"TRIM(RIGHT(SUBSTITUTE(IF(Candidate!B115=\"\",Candidate!CO115,Candidate!B115),\"\\\",REPT(\" \",100)),100))","v":"U08R06"},"U08R06","U08R06"]
[{"$nulls":11},{"$f":"TRIM(RIGHT(SUBSTITUTE(IF(Candidate!B116=\"\",Candidate!CO116,Candidate!B116),\"\\\",REPT(\" \",100)),100))","v":"U08R07"},"U08R07","U08R07"]
[{"$nulls":11},{"$f":"TRIM(RIGHT(SUBSTITUTE(IF(Candidate!B117=\"\",Candidate!CO117,Candidate!B117),\"\\\",REPT(\" \",100)),100))","v":"U08R08"},"U08R08","U08R08"]
[{"$nulls":11},{"$f":"TRIM(RIGHT(SUBSTITUTE(IF(Candidate!B118=\"\",Candidate!CO118,Candidate!B118),\"\\\",REPT(\" \",100)),100))","v":"U08R09"},"U08R09","U08R09"]
[{"$nulls":11},{"$f":"TRIM(RIGHT(SUBSTITUTE(IF(Candidate!B119=\"\",Candidate!CO119,Candidate!B119),\"\\\",REPT(\" \",100)),100))","v":"U08R10"},"U08R10","U08R10"]
[{"$nulls":11},{"$f":"TRIM(RIGHT(SUBSTITUTE(IF(Candidate!B120=\"\",Candidate!CO120,Candidate!B120),\"\\\",REPT(\" \",100)),100))","v":"U09R01"},"U09R01","U09R01"]
[{"$nulls":11},{"$f":"TRIM(RIGHT(SUBSTITUTE(IF(Candidate!B121=\"\",Candidate!CO121,Candidate!B121),\"\\\",REPT(\" \",100)),100))","v":"U09R02/N"},"U09R02/N","U09R05"]
[{"$nulls":11},{"$f":"TRIM(RIGHT(SUBSTITUTE(IF(Candidate!B122=\"\",Candidate!CO122,Candidate!B122),\"\\\",REPT(\" \",100)),100))","v":"U09R02/E"},"U09R02/E","U09R02"]
[{"$nulls":11},{"$f":"TRIM(RIGHT(SUBSTITUTE(IF(Candidate!B123=\"\",Candidate!CO123,Candidate!B123),\"\\\",REPT(\" \",100)),100))","v":"U09R02/S"},"U09R02/S","U09R03"]
[{"$nulls":11},{"$f":"TRIM(RIGHT(SUBSTITUTE(IF(Candidate!B124=\"\",Candidate!CO124,Candidate!B124),\"\\\",REPT(\" \",100)),100))","v":"U09R02/W"},"U09R02/W","U09R04"]
[{"$nulls":11},{"$f":"TRIM(RIGHT(SUBSTITUTE(IF(Candidate!B125=\"\",Candidate!CO125,Candidate!B125),\"\\\",REPT(\" \",100)),100))","v":"U09R06"},"U09R06","U09R06"]
[{"$nulls":11},{"$f":"TRIM(RIGHT(SUBSTITUTE(IF(Candidate!B126=\"\",Candidate!CO126,Candidate!B126),\"\\\",REPT(\" \",100)),100))","v":"U09R07/N"},"U09R07/N","U09R10"]
[{"$nulls":11},{"$f":"TRIM(RIGHT(SUBSTITUTE(IF(Candidate!B127=\"\",Candidate!CO127,Candidate!B127),\"\\\",REPT(\" \",100)),100))","v":"U09R07/E"},"U09R07/E","U09R07"]
[{"$nulls":11},{"$f":"TRIM(RIGHT(SUBSTITUTE(IF(Candidate!B128=\"\",Candidate!CO128,Candidate!B128),\"\\\",REPT(\" \",100)),100))","v":"U09R07/S"},"U09R07/S","U09R08"]
[{"$nulls":11},{"$f":"TRIM(RIGHT(SUBSTITUTE(IF(Candidate!B129=\"\",Candidate!CO129,Candidate!B129),\"\\\",REPT(\" \",100)),100))","v":"U09R07/W"},"U09R07/W","U09R09"]
[{"$nulls":11},{"$f":"TRIM(RIGHT(SUBSTITUTE(IF(Candidate!B130=\"\",Candidate!CO130,Candidate!B130),\"\\\",REPT(\" \",100)),100))","v":"U10R01"},"U10R01","U10R01"]
[{"$nulls":11},{"$f":"TRIM(RIGHT(SUBSTITUTE(IF(Candidate!B131=\"\",Candidate!CO131,Candidate!B131),\"\\\",REPT(\" \",100)),100))","v":"U10R02"},"U10R02","U10R02"]
[{"$nulls":11},{"$f":"TRIM(RIGHT(SUBSTITUTE(IF(Candidate!B132=\"\",Candidate!CO132,Candidate!B132),\"\\\",REPT(\" \",100)),100))","v":"U10R03"},"U10R03",{"$f":"IF(LEFT(RIGHT(M132,2),1)<>\"/\",RIGHT(M132,6),INDEX(CandidateFileArray,MATCH(RIGHT(M132,8),CandidateFileList,0),2))","v":"U10R03"}]
[{"$nulls":11},{"$f":"TRIM(RIGHT(SUBSTITUTE(IF(Candidate!B133=\"\",Candidate!CO133,Candidate!B133),\"\\\",REPT(\" \",100)),100))","v":"U10R04"},{"$f":"TRIM(LEFT(SUBSTITUTE(L133,\".\",REPT(\" \",100)),100))","v":"U10R04"},"U10R04"]
[{"$nulls":11},{"$f":"TRIM(RIGHT(SUBSTITUTE(IF(Candidate!B134=\"\",Candidate!CO134,Candidate!B134),\"\\\",REPT(\" \",100)),100))","v":"U10R05"},"U10R05","U10R05"]
[{"$nulls":11},{"$f":"TRIM(RIGHT(SUBSTITUTE(IF(Candidate!B135=\"\",Candidate!CO135,Candidate!B135),\"\\\",REPT(\" \",100)),100))","v":"U10R06"},"U10R06","U10R06"]
[{"$nulls":11},{"$f":"TRIM(RIGHT(SUBSTITUTE(IF(Candidate!B136=\"\",Candidate!CO136,Candidate!B136),\"\\\",REPT(\" \",100)),100))","v":"U10R07"},"U10R07","U10R07"]
[{"$nulls":11},{"$f":"TRIM(RIGHT(SUBSTITUTE(IF(Candidate!B137=\"\",Candidate!CO137,Candidate!B137),\"\\\",REPT(\" \",100)),100))","v":"U10R08"},"U10R08","U10R08"]
[{"$nulls":11},{"$f":"TRIM(RIGHT(SUBSTITUTE(IF(Candidate!B138=\"\",Candidate!CO138,Candidate!B138),\"\\\",REPT(\" \",100)),100))","v":"U10R09"},"U10R09","U10R09"]
[{"$nulls":11},{"$f":"TRIM(RIGHT(SUBSTITUTE(IF(Candidate!B139=\"\",Candidate!CO139,Candidate!B139),\"\\\",REPT(\" \",100)),100))","v":"U10R10"},"U10R10","U10R10"]
[{"$nulls":11},{"$f":"TRIM(RIGHT(SUBSTITUTE(IF(Candidate!B140=\"\",Candidate!CO140,Candidate!B140),\"\\\",REPT(\" \",100)),100))","v":"U11R01"},"U11R01","U11R01"]
[{"$nulls":11},{"$f":"TRIM(RIGHT(SUBSTITUTE(IF(Candidate!B141=\"\",Candidate!CO141,Candidate!B141),\"\\\",REPT(\" \",100)),100))","v":"U11R02"},"U11R02","U11R02"]
[{"$nulls":11},{"$f":"TRIM(RIGHT(SUBSTITUTE(IF(Candidate!B142=\"\",Candidate!CO142,Candidate!B142),\"\\\",REPT(\" \",100)),100))","v":"U11R03"},"U11R03","U11R03"]
[{"$nulls":11},{"$f":"TRIM(RIGHT(SUBSTITUTE(IF(Candidate!B143=\"\",Candidate!CO143,Candidate!B143),\"\\\",REPT(\" \",100)),100))","v":"U11R04"},"U11R04","U11R04"]
[{"$nulls":11},{"$f":"TRIM(RIGHT(SUBSTITUTE(IF(Candidate!B144=\"\",Candidate!CO144,Candidate!B144),\"\\\",REPT(\" \",100)),100))","v":"U11R05"},"U11R05","U11R05"]
[{"$nulls":11},{"$f":"TRIM(RIGHT(SUBSTITUTE(IF(Candidate!B145=\"\",Candidate!CO145,Candidate!B145),\"\\\",REPT(\" \",100)),100))","v":"U11R06"},"U11R06","U11R06"]
[{"$nulls":11},{"$f":"TRIM(RIGHT(SUBSTITUTE(IF(Candidate!B146=\"\",Candidate!CO146,Candidate!B146),\"\\\",REPT(\" \",100)),100))","v":"U11R07"},"U11R07","U11R07"]
[{"$nulls":11},{"$f":"TRIM(RIGHT(SUBSTITUTE(IF(Candidate!B147=\"\",Candidate!CO147,Candidate!B147),\"\\\",REPT(\" \",100)),100))","v":"U11R08"},"U11R08","U11R08"]
[{"$nulls":11},{"$f":"TRIM(RIGHT(SUBSTITUTE(IF(Candidate!B148=\"\",Candidate!CO148,Candidate!B148),\"\\\",REPT(\" \",100)),100))","v":"U11R09"},"U11R09","U11R09"]
[{"$nulls":11},{"$f":"TRIM(RIGHT(SUBSTITUTE(IF(Candidate!B149=\"\",Candidate!CO149,Candidate!B149),\"\\\",REPT(\" \",100)),100))","v":"U11R10"},"U11R10","U11R10"]
[{"$nulls":11},{"$f":"TRIM(RIGHT(SUBSTITUTE(IF(Candidate!B150=\"\",Candidate!CO150,Candidate!B150),\"\\\",REPT(\" \",100)),100))","v":"U12R01"},"U12R01","U12R01"]
[{"$nulls":11},{"$f":"TRIM(RIGHT(SUBSTITUTE(IF(Candidate!B151=\"\",Candidate!CO151,Candidate!B151),\"\\\",REPT(\" \",100)),100))","v":"U12R02"},"U12R02","U12R02"]
[{"$nulls":11},{"$f":"TRIM(RIGHT(SUBSTITUTE(IF(Candidate!B152=\"\",Candidate!CO152,Candidate!B152),\"\\\",REPT(\" \",100)),100))","v":"U12R03"},"U12R03","U12R03"]
[{"$nulls":11},{"$f":"TRIM(RIGHT(SUBSTITUTE(IF(Candidate!B153=\"\",Candidate!CO153,Candidate!B153),\"\\\",REPT(\" \",100)),100))","v":"U12R04"},"U12R04","U12R04"]
[{"$nulls":11},{"$f":"TRIM(RIGHT(SUBSTITUTE(IF(Candidate!B154=\"\",Candidate!CO154,Candidate!B154),\"\\\",REPT(\" \",100)),100))","v":"U12R05"},"U12R05","U12R05"]
[{"$nulls":11},{"$f":"TRIM(RIGHT(SUBSTITUTE(IF(Candidate!B155=\"\",Candidate!CO155,Candidate!B155),\"\\\",REPT(\" \",100)),100))","v":"U12R06"},"U12R06","U12R06"]
[{"$nulls":11},{"$f":"TRIM(RIGHT(SUBSTITUTE(IF(Candidate!B156=\"\",Candidate!CO156,Candidate!B156),\"\\\",REPT(\" \",100)),100))","v":"U12R07"},"U12R07","U12R07"]
[{"$nulls":11},{"$f":"TRIM(RIGHT(SUBSTITUTE(IF(Candidate!B157=\"\",Candidate!CO157,Candidate!B157),\"\\\",REPT(\" \",100)),100))","v":"U12R08"},"U12R08","U12R08"]
[{"$nulls":11},{"$f":"TRIM(RIGHT(SUBSTITUTE(IF(Candidate!B158=\"\",Candidate!CO158,Candidate!B158),\"\\\",REPT(\" \",100)),100))","v":"U12R09"},"U12R09","U12R09"]
[{"$nulls":11},{"$f":"TRIM(RIGHT(SUBSTITUTE(IF(Candidate!B159=\"\",Candidate!CO159,Candidate!B159),\"\\\",REPT(\" \",100)),100))","v":"U12R10"},"U12R10","U12R10"]
[{"$nulls":11},{"$f":"TRIM(RIGHT(SUBSTITUTE(IF(Candidate!B160=\"\",Candidate!CO160,Candidate!B160),\"\\\",REPT(\" \",100)),100))","v":"U13R01"},"U13R01","U13R01"]
[{"$nulls":11},{"$f":"TRIM(RIGHT(SUBSTITUTE(IF(Candidate!B161=\"\",Candidate!CO161,Candidate!B161),\"\\\",REPT(\" \",100)),100))","v":"U13R02"},"U13R02","U13R02"]
[{"$nulls":11},{"$f":"TRIM(RIGHT(SUBSTITUTE(IF(Candidate!B162=\"\",Candidate!CO162,Candidate!B162),\"\\\",REPT(\" \",100)),100))","v":"U13R03"},"U13R03","U13R03"]
[{"$nulls":11},{"$f":"TRIM(RIGHT(SUBSTITUTE(IF(Candidate!B163=\"\",Candidate!CO163,Candidate!B163),\"\\\",REPT(\" \",100)),100))","v":"U13R04"},"U13R04","U13R04"]
[{"$nulls":11},{"$f":"TRIM(RIGHT(SUBSTITUTE(IF(Candidate!B164=\"\",Candidate!CO164,Candidate!B164),\"\\\",REPT(\" \",100)),100))","v":"U13R05"},"U13R05","U13R05"]
[{"$nulls":11},{"$f":"TRIM(RIGHT(SUBSTITUTE(IF(Candidate!B165=\"\",Candidate!CO165,Candidate!B165),\"\\\",REPT(\" \",100)),100))","v":"U13R06"},"U13R06","U13R06"]
[{"$nulls":11},{"$f":"TRIM(RIGHT(SUBSTITUTE(IF(Candidate!B166=\"\",Candidate!CO166,Candidate!B166),\"\\\",REPT(\" \",100)),100))","v":"U13R07"},"U13R07","U13R07"]
[{"$nulls":11},{"$f":"TRIM(RIGHT(SUBSTITUTE(IF(Candidate!B167=\"\",Candidate!CO167,Candidate!B167),\"\\\",REPT(\" \",100)),100))","v":"U13R08"},"U13R08","U13R08"]
[{"$nulls":11},{"$f":"TRIM(RIGHT(SUBSTITUTE(IF(Candidate!B168=\"\",Candidate!CO168,Candidate!B168),\"\\\",REPT(\" \",100)),100))","v":"U13R09"},"U13R09","U13R09"]
[{"$nulls":11},{"$f":"TRIM(RIGHT(SUBSTITUTE(IF(Candidate!B169=\"\",Candidate!CO169,Candidate!B169),\"\\\",REPT(\" \",100)),100))","v":"U13R10"},"U13R10","U13R10"]
[{"$nulls":11},{"$f":"TRIM(RIGHT(SUBSTITUTE(Candidate!B170,\"\\\",REPT(\" \",100)),100))","v":"U13R10"},"U13R10","U13R10"]
[{"$nulls":11},{"$f":"TRIM(RIGHT(SUBSTITUTE(Candidate!B171,\"\\\",REPT(\" \",100)),100))","v":""},"",""]
[{"$nulls":11},{"$f":"TRIM(RIGHT(SUBSTITUTE(Candidate!B172,\"\\\",REPT(\" \",100)),100))","v":""},"",""]
[{"$nulls":11},{"$f":"TRIM(RIGHT(SUBSTITUTE(Candidate!B173,\"\\\",REPT(\" \",100)),100))","v":""},"",""]
[{"$nulls":11},{"$f":"TRIM(RIGHT(SUBSTITUTE(Candidate!B174,\"\\\",REPT(\" \",100)),100))","v":""},"",""]
[{"$nulls":11},{"$f":"TRIM(RIGHT(SUBSTITUTE(Candidate!B175,\"\\\",REPT(\" \",100)),100))","v":""},"",""]
[{"$nulls":11},{"$f":"TRIM(RIGHT(SUBSTITUTE(Candidate!B176,\"\\\",REPT(\" \",100)),100))","v":""},"",""]
[{"$nulls":11},{"$f":"TRIM(RIGHT(SUBSTITUTE(Candidate!B177,\"\\\",REPT(\" \",100)),100))","v":""},"",""]
[{"$nulls":11},{"$f":"TRIM(RIGHT(SUBSTITUTE(Candidate!B178,\"\\\",REPT(\" \",100)),100))","v":""},"",""]
[{"$nulls":11},{"$f":"TRIM(RIGHT(SUBSTITUTE(Candidate!B179,\"\\\",REPT(\" \",100)),100))","v":""},"",""]
[{"$nulls":11},{"$f":"TRIM(RIGHT(SUBSTITUTE(Candidate!B180,\"\\\",REPT(\" \",100)),100))","v":""},"",""]
[{"$nulls":11},{"$f":"TRIM(RIGHT(SUBSTITUTE(Candidate!B181,\"\\\",REPT(\" \",100)),100))","v":""},"",""]
[{"$nulls":11},{"$f":"TRIM(RIGHT(SUBSTITUTE(Candidate!B182,\"\\\",REPT(\" \",100)),100))","v":""},"",""]
[{"$nulls":11},{"$f":"TRIM(RIGHT(SUBSTITUTE(Candidate!B183,\"\\\",REPT(\" \",100)),100))","v":""},"",""]
[{"$nulls":11},{"$f":"TRIM(RIGHT(SUBSTITUTE(Candidate!B184,\"\\\",REPT(\" \",100)),100))","v":""},"",""]
[{"$nulls":11},{"$f":"TRIM(RIGHT(SUBSTITUTE(Candidate!B185,\"\\\",REPT(\" \",100)),100))","v":""},"",""]
[{"$nulls":11},{"$f":"TRIM(RIGHT(SUBSTITUTE(Candidate!B186,\"\\\",REPT(\" \",100)),100))","v":""},"",""]
[{"$nulls":11},{"$f":"TRIM(RIGHT(SUBSTITUTE(Candidate!B187,\"\\\",REPT(\" \",100)),100))","v":""},"",""]
[{"$nulls":11},{"$f":"TRIM(RIGHT(SUBSTITUTE(Candidate!B188,\"\\\",REPT(\" \",100)),100))","v":""},"",""]
[{"$nulls":11},{"$f":"TRIM(RIGHT(SUBSTITUTE(Candidate!B189,\"\\\",REPT(\" \",100)),100))","v":""},"",""]
[{"$nulls":11},{"$f":"TRIM(RIGHT(SUBSTITUTE(Candidate!B190,\"\\\",REPT(\" \",100)),100))","v":""},"",""]
[{"$nulls":11},{"$f":"TRIM(RIGHT(SUBSTITUTE(Candidate!B191,\"\\\",REPT(\" \",100)),100))","v":""},"",""]
[{"$nulls":11},{"$f":"TRIM(RIGHT(SUBSTITUTE(Candidate!B192,\"\\\",REPT(\" \",100)),100))","v":""},"",""]
[{"$nulls":11},{"$f":"TRIM(RIGHT(SUBSTITUTE(Candidate!B193,\"\\\",REPT(\" \",100)),100))","v":""},"",""]
[{"$nulls":11},{"$f":"TRIM(RIGHT(SUBSTITUTE(Candidate!B194,\"\\\",REPT(\" \",100)),100))","v":""},"",""]
[{"$nulls":11},{"$f":"TRIM(RIGHT(SUBSTITUTE(Candidate!B195,\"\\\",REPT(\" \",100)),100))","v":""},"",""]
[{"$nulls":11},{"$f":"TRIM(RIGHT(SUBSTITUTE(Candidate!B196,\"\\\",REPT(\" \",100)),100))","v":""},"",{"$f":"IF(LEFT(RIGHT(M196,2),1)<>\"/\",RIGHT(M196,6),INDEX(CandidateFileArray,MATCH(RIGHT(M196,8),CandidateFileList,0),2))","v":""}]
[{"$nulls":11},{"$f":"TRIM(RIGHT(SUBSTITUTE(Candidate!B197,\"\\\",REPT(\" \",100)),100))","v":""},{"$f":"TRIM(LEFT(SUBSTITUTE(L197,\".\",REPT(\" \",100)),100))","v":""},""]
[{"$nulls":11},{"$f":"TRIM(RIGHT(SUBSTITUTE(Candidate!B198,\"\\\",REPT(\" \",100)),100))","v":""},"",""]
[{"$nulls":11},{"$f":"TRIM(RIGHT(SUBSTITUTE(Candidate!B199,\"\\\",REPT(\" \",100)),100))","v":""},"",""]
[{"$nulls":11},{"$f":"TRIM(RIGHT(SUBSTITUTE(Candidate!B200,\"\\\",REPT(\" \",100)),100))","v":""},"",""]
[{"$nulls":11},{"$f":"TRIM(RIGHT(SUBSTITUTE(Candidate!B201,\"\\\",REPT(\" \",100)),100))","v":""},"",""]
[{"$nulls":11},{"$f":"TRIM(RIGHT(SUBSTITUTE(Candidate!B202,\"\\\",REPT(\" \",100)),100))","v":""},"",""]
[{"$nulls":11},{"$f":"TRIM(RIGHT(SUBSTITUTE(Candidate!B203,\"\\\",REPT(\" \",100)),100))","v":""},"",""]
[{"$nulls":11},{"$f":"TRIM(RIGHT(SUBSTITUTE(Candidate!B204,\"\\\",REPT(\" \",100)),100))","v":""},"",""]
[{"$nulls":11},{"$f":"TRIM(RIGHT(SUBSTITUTE(Candidate!B205,\"\\\",REPT(\" \",100)),100))","v":""},"",""]
[{"$nulls":11},{"$f":"TRIM(RIGHT(SUBSTITUTE(Candidate!B206,\"\\\",REPT(\" \",100)),100))","v":""},"",""]
[{"$nulls":11},{"$f":"TRIM(RIGHT(SUBSTITUTE(Candidate!B207,\"\\\",REPT(\" \",100)),100))","v":""},"",""]
[{"$nulls":11},{"$f":"TRIM(RIGHT(SUBSTITUTE(Candidate!B208,\"\\\",REPT(\" \",100)),100))","v":""},"",""]
[{"$nulls":11},{"$f":"TRIM(RIGHT(SUBSTITUTE(Candidate!B209,\"\\\",REPT(\" \",100)),100))","v":""},"",""]
[{"$nulls":11},{"$f":"TRIM(RIGHT(SUBSTITUTE(Candidate!B210,\"\\\",REPT(\" \",100)),100))","v":""},"",""]
[{"$nulls":11},{"$f":"TRIM(RIGHT(SUBSTITUTE(Candidate!B211,\"\\\",REPT(\" \",100)),100))","v":""},"",""]
[{"$nulls":11},{"$f":"TRIM(RIGHT(SUBSTITUTE(Candidate!B212,\"\\\",REPT(\" \",100)),100))","v":""},"",""]
[{"$nulls":11},{"$f":"TRIM(RIGHT(SUBSTITUTE(Candidate!B213,\"\\\",REPT(\" \",100)),100))","v":""},"",""]
[{"$nulls":11},{"$f":"TRIM(RIGHT(SUBSTITUTE(Candidate!B214,\"\\\",REPT(\" \",100)),100))","v":""},"",""]
[{"$nulls":11},{"$f":"TRIM(RIGHT(SUBSTITUTE(Candidate!B215,\"\\\",REPT(\" \",100)),100))","v":""},"",""]
[{"$nulls":11},{"$f":"TRIM(RIGHT(SUBSTITUTE(Candidate!B216,\"\\\",REPT(\" \",100)),100))","v":""},"",""]
[{"$nulls":11},{"$f":"TRIM(RIGHT(SUBSTITUTE(Candidate!B217,\"\\\",REPT(\" \",100)),100))","v":""},"",""]
[{"$nulls":11},{"$f":"TRIM(RIGHT(SUBSTITUTE(Candidate!B218,\"\\\",REPT(\" \",100)),100))","v":""},"",""]
[{"$nulls":11},{"$f":"TRIM(RIGHT(SUBSTITUTE(Candidate!B219,\"\\\",REPT(\" \",100)),100))","v":""},"",""]
[{"$nulls":11},{"$f":"TRIM(RIGHT(SUBSTITUTE(Candidate!B220,\"\\\",REPT(\" \",100)),100))","v":""},"",""]
[{"$nulls":11},{"$f":"TRIM(RIGHT(SUBSTITUTE(Candidate!B221,\"\\\",REPT(\" \",100)),100))","v":""},"",""]
[{"$nulls":11},{"$f":"TRIM(RIGHT(SUBSTITUTE(Candidate!B222,\"\\\",REPT(\" \",100)),100))","v":""},"",""]
[{"$nulls":11},{"$f":"TRIM(RIGHT(SUBSTITUTE(Candidate!B223,\"\\\",REPT(\" \",100)),100))","v":""},"",""]
[{"$nulls":11},{"$f":"TRIM(RIGHT(SUBSTITUTE(Candidate!B224,\"\\\",REPT(\" \",100)),100))","v":""},"",""]
[{"$nulls":11},{"$f":"TRIM(RIGHT(SUBSTITUTE(Candidate!B225,\"\\\",REPT(\" \",100)),100))","v":""},"",""]
[{"$nulls":11},{"$f":"TRIM(RIGHT(SUBSTITUTE(Candidate!B226,\"\\\",REPT(\" \",100)),100))","v":""},"",""]
[{"$nulls":11},{"$f":"TRIM(RIGHT(SUBSTITUTE(Candidate!B227,\"\\\",REPT(\" \",100)),100))","v":""},"",""]
[{"$nulls":11},{"$f":"TRIM(RIGHT(SUBSTITUTE(Candidate!B228,\"\\\",REPT(\" \",100)),100))","v":""},"",""]
[{"$nulls":11},{"$f":"TRIM(RIGHT(SUBSTITUTE(Candidate!B229,\"\\\",REPT(\" \",100)),100))","v":""},"",""]
[{"$nulls":11},{"$f":"TRIM(RIGHT(SUBSTITUTE(Candidate!B230,\"\\\",REPT(\" \",100)),100))","v":""},"",""]
[{"$nulls":11},{"$f":"TRIM(RIGHT(SUBSTITUTE(Candidate!B231,\"\\\",REPT(\" \",100)),100))","v":""},"",""]
[{"$nulls":11},{"$f":"TRIM(RIGHT(SUBSTITUTE(Candidate!B232,\"\\\",REPT(\" \",100)),100))","v":""},"",""]
[{"$nulls":11},{"$f":"TRIM(RIGHT(SUBSTITUTE(Candidate!B233,\"\\\",REPT(\" \",100)),100))","v":""},"",""]
[{"$nulls":11},{"$f":"TRIM(RIGHT(SUBSTITUTE(Candidate!B234,\"\\\",REPT(\" \",100)),100))","v":""},"",""]
[{"$nulls":11},{"$f":"TRIM(RIGHT(SUBSTITUTE(Candidate!B235,\"\\\",REPT(\" \",100)),100))","v":""},"",""]
[{"$nulls":11},{"$f":"TRIM(RIGHT(SUBSTITUTE(Candidate!B236,\"\\\",REPT(\" \",100)),100))","v":""},"",""]
[{"$nulls":11},{"$f":"TRIM(RIGHT(SUBSTITUTE(Candidate!B237,\"\\\",REPT(\" \",100)),100))","v":""},"",""]
[{"$nulls":11},{"$f":"TRIM(RIGHT(SUBSTITUTE(Candidate!B238,\"\\\",REPT(\" \",100)),100))","v":""},"",""]
[{"$nulls":11},{"$f":"TRIM(RIGHT(SUBSTITUTE(Candidate!B239,\"\\\",REPT(\" \",100)),100))","v":""},"",""]
[{"$nulls":11},{"$f":"TRIM(RIGHT(SUBSTITUTE(Candidate!B240,\"\\\",REPT(\" \",100)),100))","v":""},"",""]
[{"$nulls":11},{"$f":"TRIM(RIGHT(SUBSTITUTE(Candidate!B241,\"\\\",REPT(\" \",100)),100))","v":""},"",""]
[{"$nulls":11},{"$f":"TRIM(RIGHT(SUBSTITUTE(Candidate!B242,\"\\\",REPT(\" \",100)),100))","v":""},"",""]
[{"$nulls":11},{"$f":"TRIM(RIGHT(SUBSTITUTE(Candidate!B243,\"\\\",REPT(\" \",100)),100))","v":""},"",""]
[{"$nulls":11},{"$f":"TRIM(RIGHT(SUBSTITUTE(Candidate!B244,\"\\\",REPT(\" \",100)),100))","v":""},"",""]
[{"$nulls":11},{"$f":"TRIM(RIGHT(SUBSTITUTE(Candidate!B245,\"\\\",REPT(\" \",100)),100))","v":""},"",""]
[{"$nulls":11},{"$f":"TRIM(RIGHT(SUBSTITUTE(Candidate!B246,\"\\\",REPT(\" \",100)),100))","v":""},"",""]
[{"$nulls":11},{"$f":"TRIM(RIGHT(SUBSTITUTE(Candidate!B247,\"\\\",REPT(\" \",100)),100))","v":""},"",""]
[{"$nulls":11},{"$f":"TRIM(RIGHT(SUBSTITUTE(Candidate!B248,\"\\\",REPT(\" \",100)),100))","v":""},"",""]
[{"$nulls":11},{"$f":"TRIM(RIGHT(SUBSTITUTE(Candidate!B249,\"\\\",REPT(\" \",100)),100))","v":""},"",""]
[{"$nulls":11},{"$f":"TRIM(RIGHT(SUBSTITUTE(Candidate!B250,\"\\\",REPT(\" \",100)),100))","v":""},"",""]
[{"$nulls":11},{"$f":"TRIM(RIGHT(SUBSTITUTE(Candidate!B251,\"\\\",REPT(\" \",100)),100))","v":""},"",""]
[{"$nulls":11},{"$f":"TRIM(RIGHT(SUBSTITUTE(Candidate!B252,\"\\\",REPT(\" \",100)),100))","v":""},"",""]
[{"$nulls":11},{"$f":"TRIM(RIGHT(SUBSTITUTE(Candidate!B253,\"\\\",REPT(\" \",100)),100))","v":""},"",""]
[{"$nulls":11},{"$f":"TRIM(RIGHT(SUBSTITUTE(Candidate!B254,\"\\\",REPT(\" \",100)),100))","v":""},"",""]
[{"$nulls":11},{"$f":"TRIM(RIGHT(SUBSTITUTE(Candidate!B255,\"\\\",REPT(\" \",100)),100))","v":""},"",""]
[{"$nulls":11},{"$f":"TRIM(RIGHT(SUBSTITUTE(Candidate!B256,\"\\\",REPT(\" \",100)),100))","v":""},"",""]
[{"$nulls":11},{"$f":"TRIM(RIGHT(SUBSTITUTE(Candidate!B257,\"\\\",REPT(\" \",100)),100))","v":""},"",""]
[{"$nulls":11},{"$f":"TRIM(RIGHT(SUBSTITUTE(Candidate!B258,\"\\\",REPT(\" \",100)),100))","v":""},"",""]
[{"$nulls":11},{"$f":"TRIM(RIGHT(SUBSTITUTE(Candidate!B259,\"\\\",REPT(\" \",100)),100))","v":""},"",""]
[{"$nulls":11},{"$f":"TRIM(RIGHT(SUBSTITUTE(Candidate!B260,\"\\\",REPT(\" \",100)),100))","v":""},"",{"$f":"IF(LEFT(RIGHT(M260,2),1)<>\"/\",RIGHT(M260,6),INDEX(CandidateFileArray,MATCH(RIGHT(M260,8),CandidateFileList,0),2))","v":""}]
[{"$nulls":11},{"$f":"TRIM(RIGHT(SUBSTITUTE(Candidate!B261,\"\\\",REPT(\" \",100)),100))","v":""},{"$f":"TRIM(LEFT(SUBSTITUTE(L261,\".\",REPT(\" \",100)),100))","v":""},""]
[{"$nulls":11},{"$f":"TRIM(RIGHT(SUBSTITUTE(Candidate!B262,\"\\\",REPT(\" \",100)),100))","v":""},"",""]
[{"$nulls":11},{"$f":"TRIM(RIGHT(SUBSTITUTE(Candidate!B263,\"\\\",REPT(\" \",100)),100))","v":""},"",""]
[{"$nulls":11},{"$f":"TRIM(RIGHT(SUBSTITUTE(Candidate!B264,\"\\\",REPT(\" \",100)),100))","v":""},"",""]
[{"$nulls":11},{"$f":"TRIM(RIGHT(SUBSTITUTE(Candidate!B265,\"\\\",REPT(\" \",100)),100))","v":""},"",""]
[{"$nulls":11},{"$f":"TRIM(RIGHT(SUBSTITUTE(Candidate!B266,\"\\\",REPT(\" \",100)),100))","v":""},"",""]
[{"$nulls":11},{"$f":"TRIM(RIGHT(SUBSTITUTE(Candidate!B267,\"\\\",REPT(\" \",100)),100))","v":""},"",""]
[{"$nulls":11},{"$f":"TRIM(RIGHT(SUBSTITUTE(Candidate!B268,\"\\\",REPT(\" \",100)),100))","v":""},"",""]
[{"$nulls":11},{"$f":"TRIM(RIGHT(SUBSTITUTE(Candidate!B269,\"\\\",REPT(\" \",100)),100))","v":""},"",""]
[{"$nulls":11},{"$f":"TRIM(RIGHT(SUBSTITUTE(Candidate!B270,\"\\\",REPT(\" \",100)),100))","v":""},"",""]
[{"$nulls":11},{"$f":"TRIM(RIGHT(SUBSTITUTE(Candidate!B271,\"\\\",REPT(\" \",100)),100))","v":""},"",""]
[{"$nulls":11},{"$f":"TRIM(RIGHT(SUBSTITUTE(Candidate!B272,\"\\\",REPT(\" \",100)),100))","v":""},"",""]
[{"$nulls":11},{"$f":"TRIM(RIGHT(SUBSTITUTE(Candidate!B273,\"\\\",REPT(\" \",100)),100))","v":""},"",""]
[{"$nulls":11},{"$f":"TRIM(RIGHT(SUBSTITUTE(Candidate!B274,\"\\\",REPT(\" \",100)),100))","v":""},"",""]
[{"$nulls":11},{"$f":"TRIM(RIGHT(SUBSTITUTE(Candidate!B275,\"\\\",REPT(\" \",100)),100))","v":""},"",""]
[{"$nulls":11},{"$f":"TRIM(RIGHT(SUBSTITUTE(Candidate!B276,\"\\\",REPT(\" \",100)),100))","v":""},"",""]
[{"$nulls":11},{"$f":"TRIM(RIGHT(SUBSTITUTE(Candidate!B277,\"\\\",REPT(\" \",100)),100))","v":""},"",""]
[{"$nulls":11},{"$f":"TRIM(RIGHT(SUBSTITUTE(Candidate!B278,\"\\\",REPT(\" \",100)),100))","v":""},"",""]
[{"$nulls":11},{"$f":"TRIM(RIGHT(SUBSTITUTE(Candidate!B279,\"\\\",REPT(\" \",100)),100))","v":""},"",""]
[{"$nulls":11},{"$f":"TRIM(RIGHT(SUBSTITUTE(Candidate!B280,\"\\\",REPT(\" \",100)),100))","v":""},"",""]
[{"$nulls":11},{"$f":"TRIM(RIGHT(SUBSTITUTE(Candidate!B281,\"\\\",REPT(\" \",100)),100))","v":""},"",""]
[{"$nulls":11},{"$f":"TRIM(RIGHT(SUBSTITUTE(Candidate!B282,\"\\\",REPT(\" \",100)),100))","v":""},"",""]
[{"$nulls":11},{"$f":"TRIM(RIGHT(SUBSTITUTE(Candidate!B283,\"\\\",REPT(\" \",100)),100))","v":""},"",""]
[{"$nulls":11},{"$f":"TRIM(RIGHT(SUBSTITUTE(Candidate!B284,\"\\\",REPT(\" \",100)),100))","v":""},"",""]
[{"$nulls":11},{"$f":"TRIM(RIGHT(SUBSTITUTE(Candidate!B285,\"\\\",REPT(\" \",100)),100))","v":""},"",""]
[{"$nulls":11},{"$f":"TRIM(RIGHT(SUBSTITUTE(Candidate!B286,\"\\\",REPT(\" \",100)),100))","v":""},"",""]
[{"$nulls":11},{"$f":"TRIM(RIGHT(SUBSTITUTE(Candidate!B287,\"\\\",REPT(\" \",100)),100))","v":""},"",""]
[{"$nulls":11},{"$f":"TRIM(RIGHT(SUBSTITUTE(Candidate!B288,\"\\\",REPT(\" \",100)),100))","v":""},"",""]
[{"$nulls":11},{"$f":"TRIM(RIGHT(SUBSTITUTE(Candidate!B289,\"\\\",REPT(\" \",100)),100))","v":""},"",""]
[{"$nulls":11},{"$f":"TRIM(RIGHT(SUBSTITUTE(Candidate!B290,\"\\\",REPT(\" \",100)),100))","v":""},"",""]
[{"$nulls":11},{"$f":"TRIM(RIGHT(SUBSTITUTE(Candidate!B291,\"\\\",REPT(\" \",100)),100))","v":""},"",""]
[{"$nulls":11},{"$f":"TRIM(RIGHT(SUBSTITUTE(Candidate!B292,\"\\\",REPT(\" \",100)),100))","v":""},"",""]
[{"$nulls":11},{"$f":"TRIM(RIGHT(SUBSTITUTE(Candidate!B293,\"\\\",REPT(\" \",100)),100))","v":""},"",""]
[{"$nulls":11},{"$f":"TRIM(RIGHT(SUBSTITUTE(Candidate!B294,\"\\\",REPT(\" \",100)),100))","v":""},"",""]
[{"$nulls":11},{"$f":"TRIM(RIGHT(SUBSTITUTE(Candidate!B295,\"\\\",REPT(\" \",100)),100))","v":""},"",""]
[{"$nulls":11},{"$f":"TRIM(RIGHT(SUBSTITUTE(Candidate!B296,\"\\\",REPT(\" \",100)),100))","v":""},"",""]
[{"$nulls":11},{"$f":"TRIM(RIGHT(SUBSTITUTE(Candidate!B297,\"\\\",REPT(\" \",100)),100))","v":""},"",""]
[{"$nulls":11},{"$f":"TRIM(RIGHT(SUBSTITUTE(Candidate!B298,\"\\\",REPT(\" \",100)),100))","v":""},"",""]
[{"$nulls":11},{"$f":"TRIM(RIGHT(SUBSTITUTE(Candidate!B299,\"\\\",REPT(\" \",100)),100))","v":""},"",""]
[{"$nulls":11},{"$f":"TRIM(RIGHT(SUBSTITUTE(Candidate!B300,\"\\\",REPT(\" \",100)),100))","v":""},"",""]
[{"$nulls":11},{"$f":"TRIM(RIGHT(SUBSTITUTE(Candidate!B301,\"\\\",REPT(\" \",100)),100))","v":""},"",""]
[{"$nulls":11},{"$f":"TRIM(RIGHT(SUBSTITUTE(Candidate!B302,\"\\\",REPT(\" \",100)),100))","v":""},"",""]
[{"$nulls":11},{"$f":"TRIM(RIGHT(SUBSTITUTE(Candidate!B303,\"\\\",REPT(\" \",100)),100))","v":""},"",""]
[{"$nulls":11},{"$f":"TRIM(RIGHT(SUBSTITUTE(Candidate!B304,\"\\\",REPT(\" \",100)),100))","v":""},"",""]
[{"$nulls":11},{"$f":"TRIM(RIGHT(SUBSTITUTE(Candidate!B305,\"\\\",REPT(\" \",100)),100))","v":""},"",""]
[{"$nulls":11},{"$f":"TRIM(RIGHT(SUBSTITUTE(Candidate!B306,\"\\\",REPT(\" \",100)),100))","v":""},"",""]
[{"$nulls":11},{"$f":"TRIM(RIGHT(SUBSTITUTE(Candidate!B307,\"\\\",REPT(\" \",100)),100))","v":""},"",""]
[{"$nulls":11},{"$f":"TRIM(RIGHT(SUBSTITUTE(Candidate!B308,\"\\\",REPT(\" \",100)),100))","v":""},"",""]
[{"$nulls":11},{"$f":"TRIM(RIGHT(SUBSTITUTE(Candidate!B309,\"\\\",REPT(\" \",100)),100))","v":""},"",""]
[{"$nulls":11},{"$f":"TRIM(RIGHT(SUBSTITUTE(Candidate!B310,\"\\\",REPT(\" \",100)),100))","v":""},"",""]
[{"$nulls":11},{"$f":"TRIM(RIGHT(SUBSTITUTE(Candidate!B311,\"\\\",REPT(\" \",100)),100))","v":""},"",""]
[{"$nulls":11},{"$f":"TRIM(RIGHT(SUBSTITUTE(Candidate!B312,\"\\\",REPT(\" \",100)),100))","v":""},"",""]
[{"$nulls":11},{"$f":"TRIM(RIGHT(SUBSTITUTE(Candidate!B313,\"\\\",REPT(\" \",100)),100))","v":""},"",""]
[{"$nulls":11},{"$f":"TRIM(RIGHT(SUBSTITUTE(Candidate!B314,\"\\\",REPT(\" \",100)),100))","v":""},"",""]
[{"$nulls":11},{"$f":"TRIM(RIGHT(SUBSTITUTE(Candidate!B315,\"\\\",REPT(\" \",100)),100))","v":""},"",""]
[{"$nulls":11},{"$f":"TRIM(RIGHT(SUBSTITUTE(Candidate!B316,\"\\\",REPT(\" \",100)),100))","v":""},"",""]
[{"$nulls":11},{"$f":"TRIM(RIGHT(SUBSTITUTE(Candidate!B317,\"\\\",REPT(\" \",100)),100))","v":""},"",""]
[{"$nulls":11},{"$f":"TRIM(RIGHT(SUBSTITUTE(Candidate!B318,\"\\\",REPT(\" \",100)),100))","v":""},"",""]
[{"$nulls":11},{"$f":"TRIM(RIGHT(SUBSTITUTE(Candidate!B319,\"\\\",REPT(\" \",100)),100))","v":""},"",""]
[{"$nulls":11},{"$f":"TRIM(RIGHT(SUBSTITUTE(Candidate!B320,\"\\\",REPT(\" \",100)),100))","v":""},"",""]
[{"$nulls":11},{"$f":"TRIM(RIGHT(SUBSTITUTE(Candidate!B321,\"\\\",REPT(\" \",100)),100))","v":""},"",""]
[{"$nulls":11},{"$f":"TRIM(RIGHT(SUBSTITUTE(Candidate!B322,\"\\\",REPT(\" \",100)),100))","v":""},"",""]
[{"$nulls":11},{"$f":"TRIM(RIGHT(SUBSTITUTE(Candidate!B323,\"\\\",REPT(\" \",100)),100))","v":""},"",""]
[{"$nulls":11},{"$f":"TRIM(RIGHT(SUBSTITUTE(Candidate!B324,\"\\\",REPT(\" \",100)),100))","v":""},"",{"$f":"IF(LEFT(RIGHT(M324,2),1)<>\"/\",RIGHT(M324,6),INDEX(CandidateFileArray,MATCH(RIGHT(M324,8),CandidateFileList,0),2))","v":""}]
[{"$nulls":11},{"$f":"TRIM(RIGHT(SUBSTITUTE(Candidate!B325,\"\\\",REPT(\" \",100)),100))","v":""},{"$f":"TRIM(LEFT(SUBSTITUTE(L325,\".\",REPT(\" \",100)),100))","v":""},""]
[{"$nulls":11},{"$f":"TRIM(RIGHT(SUBSTITUTE(Candidate!B326,\"\\\",REPT(\" \",100)),100))","v":""},"",""]
[{"$nulls":11},{"$f":"TRIM(RIGHT(SUBSTITUTE(Candidate!B327,\"\\\",REPT(\" \",100)),100))","v":""},"",""]
[{"$nulls":11},{"$f":"TRIM(RIGHT(SUBSTITUTE(Candidate!B328,\"\\\",REPT(\" \",100)),100))","v":""},"",""]
[{"$nulls":11},{"$f":"TRIM(RIGHT(SUBSTITUTE(Candidate!B329,\"\\\",REPT(\" \",100)),100))","v":""},"",""]
[{"$nulls":11},{"$f":"TRIM(RIGHT(SUBSTITUTE(Candidate!B330,\"\\\",REPT(\" \",100)),100))","v":""},"",""]
[{"$nulls":11},{"$f":"TRIM(RIGHT(SUBSTITUTE(Candidate!B331,\"\\\",REPT(\" \",100)),100))","v":""},"",""]
[{"$nulls":11},{"$f":"TRIM(RIGHT(SUBSTITUTE(Candidate!B332,\"\\\",REPT(\" \",100)),100))","v":""},"",""]
[{"$nulls":11},{"$f":"TRIM(RIGHT(SUBSTITUTE(Candidate!B333,\"\\\",REPT(\" \",100)),100))","v":""},"",""]
[{"$nulls":11},{"$f":"TRIM(RIGHT(SUBSTITUTE(Candidate!B334,\"\\\",REPT(\" \",100)),100))","v":""},"",""]
[{"$nulls":11},{"$f":"TRIM(RIGHT(SUBSTITUTE(Candidate!B335,\"\\\",REPT(\" \",100)),100))","v":""},"",""]
[{"$nulls":11},{"$f":"TRIM(RIGHT(SUBSTITUTE(Candidate!B336,\"\\\",REPT(\" \",100)),100))","v":""},"",""]
[{"$nulls":11},{"$f":"TRIM(RIGHT(SUBSTITUTE(Candidate!B337,\"\\\",REPT(\" \",100)),100))","v":""},"",""]
[{"$nulls":11},{"$f":"TRIM(RIGHT(SUBSTITUTE(Candidate!B338,\"\\\",REPT(\" \",100)),100))","v":""},"",""]
[{"$nulls":11},{"$f":"TRIM(RIGHT(SUBSTITUTE(Candidate!B339,\"\\\",REPT(\" \",100)),100))","v":""},"",""]
[{"$nulls":11},{"$f":"TRIM(RIGHT(SUBSTITUTE(Candidate!B340,\"\\\",REPT(\" \",100)),100))","v":""},"",""]
[{"$nulls":11},{"$f":"TRIM(RIGHT(SUBSTITUTE(Candidate!B341,\"\\\",REPT(\" \",100)),100))","v":""},"",""]
[{"$nulls":11},{"$f":"TRIM(RIGHT(SUBSTITUTE(Candidate!B342,\"\\\",REPT(\" \",100)),100))","v":""},"",""]
[{"$nulls":11},{"$f":"TRIM(RIGHT(SUBSTITUTE(Candidate!B343,\"\\\",REPT(\" \",100)),100))","v":""},"",""]
[{"$nulls":11},{"$f":"TRIM(RIGHT(SUBSTITUTE(Candidate!B344,\"\\\",REPT(\" \",100)),100))","v":""},"",""]
[{"$nulls":11},{"$f":"TRIM(RIGHT(SUBSTITUTE(Candidate!B345,\"\\\",REPT(\" \",100)),100))","v":""},"",""]
[{"$nulls":11},{"$f":"TRIM(RIGHT(SUBSTITUTE(Candidate!B346,\"\\\",REPT(\" \",100)),100))","v":""},"",""]
[{"$nulls":11},{"$f":"TRIM(RIGHT(SUBSTITUTE(Candidate!B347,\"\\\",REPT(\" \",100)),100))","v":""},"",""]
[{"$nulls":11},{"$f":"TRIM(RIGHT(SUBSTITUTE(Candidate!B348,\"\\\",REPT(\" \",100)),100))","v":""},"",""]
[{"$nulls":11},{"$f":"TRIM(RIGHT(SUBSTITUTE(Candidate!B349,\"\\\",REPT(\" \",100)),100))","v":""},"",""]
[{"$nulls":11},{"$f":"TRIM(RIGHT(SUBSTITUTE(Candidate!B350,\"\\\",REPT(\" \",100)),100))","v":""},"",""]
[{"$nulls":11},{"$f":"TRIM(RIGHT(SUBSTITUTE(Candidate!B351,\"\\\",REPT(\" \",100)),100))","v":""},"",""]
[{"$nulls":11},{"$f":"TRIM(RIGHT(SUBSTITUTE(Candidate!B352,\"\\\",REPT(\" \",100)),100))","v":""},"",""]
[{"$nulls":11},{"$f":"TRIM(RIGHT(SUBSTITUTE(Candidate!B353,\"\\\",REPT(\" \",100)),100))","v":""},"",""]
[{"$nulls":11},{"$f":"TRIM(RIGHT(SUBSTITUTE(Candidate!B354,\"\\\",REPT(\" \",100)),100))","v":""},"",""]
[{"$nulls":11},{"$f":"TRIM(RIGHT(SUBSTITUTE(Candidate!B355,\"\\\",REPT(\" \",100)),100))","v":""},"",""]
[{"$nulls":11},{"$f":"TRIM(RIGHT(SUBSTITUTE(Candidate!B356,\"\\\",REPT(\" \",100)),100))","v":""},"",""]
[{"$nulls":11},{"$f":"TRIM(RIGHT(SUBSTITUTE(Candidate!B357,\"\\\",REPT(\" \",100)),100))","v":""},"",""]
[{"$nulls":11},{"$f":"TRIM(RIGHT(SUBSTITUTE(Candidate!B358,\"\\\",REPT(\" \",100)),100))","v":""},"",""]
[{"$nulls":11},{"$f":"TRIM(RIGHT(SUBSTITUTE(Candidate!B359,\"\\\",REPT(\" \",100)),100))","v":""},"",""]
[{"$nulls":11},{"$f":"TRIM(RIGHT(SUBSTITUTE(Candidate!B360,\"\\\",REPT(\" \",100)),100))","v":""},"",""]
[{"$nulls":11},{"$f":"TRIM(RIGHT(SUBSTITUTE(Candidate!B361,\"\\\",REPT(\" \",100)),100))","v":""},"",""]
[{"$nulls":11},{"$f":"TRIM(RIGHT(SUBSTITUTE(Candidate!B362,\"\\\",REPT(\" \",100)),100))","v":""},"",""]
[{"$nulls":11},{"$f":"TRIM(RIGHT(SUBSTITUTE(Candidate!B363,\"\\\",REPT(\" \",100)),100))","v":""},"",""]
[{"$nulls":11},{"$f":"TRIM(RIGHT(SUBSTITUTE(Candidate!B364,\"\\\",REPT(\" \",100)),100))","v":""},"",""]
[{"$nulls":11},{"$f":"TRIM(RIGHT(SUBSTITUTE(Candidate!B365,\"\\\",REPT(\" \",100)),100))","v":""},"",""]
[{"$nulls":11},{"$f":"TRIM(RIGHT(SUBSTITUTE(Candidate!B366,\"\\\",REPT(\" \",100)),100))","v":""},"",""]
[{"$nulls":11},{"$f":"TRIM(RIGHT(SUBSTITUTE(Candidate!B367,\"\\\",REPT(\" \",100)),100))","v":""},"",""]
[{"$nulls":11},{"$f":"TRIM(RIGHT(SUBSTITUTE(Candidate!B368,\"\\\",REPT(\" \",100)),100))","v":""},"",""]
[{"$nulls":11},{"$f":"TRIM(RIGHT(SUBSTITUTE(Candidate!B369,\"\\\",REPT(\" \",100)),100))","v":""},"",""]
[{"$nulls":11},{"$f":"TRIM(RIGHT(SUBSTITUTE(Candidate!B370,\"\\\",REPT(\" \",100)),100))","v":""},"",""]
[{"$nulls":11},{"$f":"TRIM(RIGHT(SUBSTITUTE(Candidate!B371,\"\\\",REPT(\" \",100)),100))","v":""},"",""]
[{"$nulls":11},{"$f":"TRIM(RIGHT(SUBSTITUTE(Candidate!B372,\"\\\",REPT(\" \",100)),100))","v":""},"",""]
[{"$nulls":11},{"$f":"TRIM(RIGHT(SUBSTITUTE(Candidate!B373,\"\\\",REPT(\" \",100)),100))","v":""},"",""]
[{"$nulls":11},{"$f":"TRIM(RIGHT(SUBSTITUTE(Candidate!B374,\"\\\",REPT(\" \",100)),100))","v":""},"",""]
[{"$nulls":11},{"$f":"TRIM(RIGHT(SUBSTITUTE(Candidate!B375,\"\\\",REPT(\" \",100)),100))","v":""},"",""]
[{"$nulls":11},{"$f":"TRIM(RIGHT(SUBSTITUTE(Candidate!B376,\"\\\",REPT(\" \",100)),100))","v":""},"",""]
[{"$nulls":11},{"$f":"TRIM(RIGHT(SUBSTITUTE(Candidate!B377,\"\\\",REPT(\" \",100)),100))","v":""},"",""]
[{"$nulls":11},{"$f":"TRIM(RIGHT(SUBSTITUTE(Candidate!B378,\"\\\",REPT(\" \",100)),100))","v":""},"",""]
[{"$nulls":11},{"$f":"TRIM(RIGHT(SUBSTITUTE(Candidate!B379,\"\\\",REPT(\" \",100)),100))","v":""},"",""]
[{"$nulls":11},{"$f":"TRIM(RIGHT(SUBSTITUTE(Candidate!B380,\"\\\",REPT(\" \",100)),100))","v":""},"",""]
[{"$nulls":11},{"$f":"TRIM(RIGHT(SUBSTITUTE(Candidate!B381,\"\\\",REPT(\" \",100)),100))","v":""},"",""]
[{"$nulls":11},{"$f":"TRIM(RIGHT(SUBSTITUTE(Candidate!B382,\"\\\",REPT(\" \",100)),100))","v":""},"",""]
[{"$nulls":11},{"$f":"TRIM(RIGHT(SUBSTITUTE(Candidate!B383,\"\\\",REPT(\" \",100)),100))","v":""},"",""]
[{"$nulls":11},{"$f":"TRIM(RIGHT(SUBSTITUTE(Candidate!B384,\"\\\",REPT(\" \",100)),100))","v":""},"",""]
[{"$nulls":11},{"$f":"TRIM(RIGHT(SUBSTITUTE(Candidate!B385,\"\\\",REPT(\" \",100)),100))","v":""},"",""]
[{"$nulls":11},{"$f":"TRIM(RIGHT(SUBSTITUTE(Candidate!B386,\"\\\",REPT(\" \",100)),100))","v":""},"",""]
[{"$nulls":11},{"$f":"TRIM(RIGHT(SUBSTITUTE(Candidate!B387,\"\\\",REPT(\" \",100)),100))","v":""},"",""]
[{"$nulls":11},{"$f":"TRIM(RIGHT(SUBSTITUTE(Candidate!B388,\"\\\",REPT(\" \",100)),100))","v":""},"",{"$f":"IF(LEFT(RIGHT(M388,2),1)<>\"/\",RIGHT(M388,6),INDEX(CandidateFileArray,MATCH(RIGHT(M388,8),CandidateFileList,0),2))","v":""}]
[{"$nulls":11},{"$f":"TRIM(RIGHT(SUBSTITUTE(Candidate!B389,\"\\\",REPT(\" \",100)),100))","v":""},{"$f":"TRIM(LEFT(SUBSTITUTE(L389,\".\",REPT(\" \",100)),100))","v":""},""]
[{"$nulls":11},{"$f":"TRIM(RIGHT(SUBSTITUTE(Candidate!B390,\"\\\",REPT(\" \",100)),100))","v":""},"",""]
[{"$nulls":11},{"$f":"TRIM(RIGHT(SUBSTITUTE(Candidate!B391,\"\\\",REPT(\" \",100)),100))","v":""},"",""]
[{"$nulls":11},{"$f":"TRIM(RIGHT(SUBSTITUTE(Candidate!B392,\"\\\",REPT(\" \",100)),100))","v":""},"",""]
[{"$nulls":11},{"$f":"TRIM(RIGHT(SUBSTITUTE(Candidate!B393,\"\\\",REPT(\" \",100)),100))","v":""},"",""]
[{"$nulls":11},{"$f":"TRIM(RIGHT(SUBSTITUTE(Candidate!B394,\"\\\",REPT(\" \",100)),100))","v":""},"",""]
[{"$nulls":11},{"$f":"TRIM(RIGHT(SUBSTITUTE(Candidate!B395,\"\\\",REPT(\" \",100)),100))","v":""},"",""]
[{"$nulls":11},{"$f":"TRIM(RIGHT(SUBSTITUTE(Candidate!B396,\"\\\",REPT(\" \",100)),100))","v":""},"",""]
[{"$nulls":11},{"$f":"TRIM(RIGHT(SUBSTITUTE(Candidate!B397,\"\\\",REPT(\" \",100)),100))","v":""},"",""]
[{"$nulls":11},{"$f":"TRIM(RIGHT(SUBSTITUTE(Candidate!B398,\"\\\",REPT(\" \",100)),100))","v":""},"",""]
[{"$nulls":11},{"$f":"TRIM(RIGHT(SUBSTITUTE(Candidate!B399,\"\\\",REPT(\" \",100)),100))","v":""},"",""]
[{"$nulls":11},{"$f":"TRIM(RIGHT(SUBSTITUTE(Candidate!B400,\"\\\",REPT(\" \",100)),100))","v":""},"",""]
[{"$nulls":11},{"$f":"TRIM(RIGHT(SUBSTITUTE(Candidate!B401,\"\\\",REPT(\" \",100)),100))","v":""},"",""]
[{"$nulls":11},{"$f":"TRIM(RIGHT(SUBSTITUTE(Candidate!B402,\"\\\",REPT(\" \",100)),100))","v":""},"",""]
[{"$nulls":11},{"$f":"TRIM(RIGHT(SUBSTITUTE(Candidate!B403,\"\\\",REPT(\" \",100)),100))","v":""},"",""]
[{"$nulls":11},{"$f":"TRIM(RIGHT(SUBSTITUTE(Candidate!B404,\"\\\",REPT(\" \",100)),100))","v":""},"",""]
[{"$nulls":11},{"$f":"TRIM(RIGHT(SUBSTITUTE(Candidate!B405,\"\\\",REPT(\" \",100)),100))","v":""},"",""]
[{"$nulls":11},{"$f":"TRIM(RIGHT(SUBSTITUTE(Candidate!B406,\"\\\",REPT(\" \",100)),100))","v":""},"",""]
[{"$nulls":11},{"$f":"TRIM(RIGHT(SUBSTITUTE(Candidate!B407,\"\\\",REPT(\" \",100)),100))","v":""},"",""]
[{"$nulls":11},{"$f":"TRIM(RIGHT(SUBSTITUTE(Candidate!B408,\"\\\",REPT(\" \",100)),100))","v":""},"",""]
[{"$nulls":11},{"$f":"TRIM(RIGHT(SUBSTITUTE(Candidate!B409,\"\\\",REPT(\" \",100)),100))","v":""},"",""]
[{"$nulls":11},{"$f":"TRIM(RIGHT(SUBSTITUTE(Candidate!B410,\"\\\",REPT(\" \",100)),100))","v":""},"",""]
[{"$nulls":11},{"$f":"TRIM(RIGHT(SUBSTITUTE(Candidate!B411,\"\\\",REPT(\" \",100)),100))","v":""},"",""]
[{"$nulls":11},{"$f":"TRIM(RIGHT(SUBSTITUTE(Candidate!B412,\"\\\",REPT(\" \",100)),100))","v":""},"",""]
[{"$nulls":11},{"$f":"TRIM(RIGHT(SUBSTITUTE(Candidate!B413,\"\\\",REPT(\" \",100)),100))","v":""},"",""]
[{"$nulls":11},{"$f":"TRIM(RIGHT(SUBSTITUTE(Candidate!B414,\"\\\",REPT(\" \",100)),100))","v":""},"",""]
[{"$nulls":11},{"$f":"TRIM(RIGHT(SUBSTITUTE(Candidate!B415,\"\\\",REPT(\" \",100)),100))","v":""},"",""]
[{"$nulls":11},{"$f":"TRIM(RIGHT(SUBSTITUTE(Candidate!B416,\"\\\",REPT(\" \",100)),100))","v":""},"",""]
[{"$nulls":11},{"$f":"TRIM(RIGHT(SUBSTITUTE(Candidate!B417,\"\\\",REPT(\" \",100)),100))","v":""},"",""]
[{"$nulls":11},{"$f":"TRIM(RIGHT(SUBSTITUTE(Candidate!B418,\"\\\",REPT(\" \",100)),100))","v":""},"",""]
[{"$nulls":11},{"$f":"TRIM(RIGHT(SUBSTITUTE(Candidate!B419,\"\\\",REPT(\" \",100)),100))","v":""},"",""]
[{"$nulls":11},{"$f":"TRIM(RIGHT(SUBSTITUTE(Candidate!B420,\"\\\",REPT(\" \",100)),100))","v":""},"",""]
[{"$nulls":11},{"$f":"TRIM(RIGHT(SUBSTITUTE(Candidate!B421,\"\\\",REPT(\" \",100)),100))","v":""},"",""]
[{"$nulls":11},{"$f":"TRIM(RIGHT(SUBSTITUTE(Candidate!B422,\"\\\",REPT(\" \",100)),100))","v":""},"",""]
[{"$nulls":11},{"$f":"TRIM(RIGHT(SUBSTITUTE(Candidate!B423,\"\\\",REPT(\" \",100)),100))","v":""},"",""]
[{"$nulls":11},{"$f":"TRIM(RIGHT(SUBSTITUTE(Candidate!B424,\"\\\",REPT(\" \",100)),100))","v":""},"",""]
[{"$nulls":11},{"$f":"TRIM(RIGHT(SUBSTITUTE(Candidate!B425,\"\\\",REPT(\" \",100)),100))","v":""},"",""]
[{"$nulls":11},{"$f":"TRIM(RIGHT(SUBSTITUTE(Candidate!B426,\"\\\",REPT(\" \",100)),100))","v":""},"",""]
[{"$nulls":11},{"$f":"TRIM(RIGHT(SUBSTITUTE(Candidate!B427,\"\\\",REPT(\" \",100)),100))","v":""},"",""]
[{"$nulls":11},{"$f":"TRIM(RIGHT(SUBSTITUTE(Candidate!B428,\"\\\",REPT(\" \",100)),100))","v":""},"",""]
[{"$nulls":11},{"$f":"TRIM(RIGHT(SUBSTITUTE(Candidate!B429,\"\\\",REPT(\" \",100)),100))","v":""},"",""]
[{"$nulls":11},{"$f":"TRIM(RIGHT(SUBSTITUTE(Candidate!B430,\"\\\",REPT(\" \",100)),100))","v":""},"",""]
[{"$nulls":11},{"$f":"TRIM(RIGHT(SUBSTITUTE(Candidate!B431,\"\\\",REPT(\" \",100)),100))","v":""},"",""]
[{"$nulls":11},{"$f":"TRIM(RIGHT(SUBSTITUTE(Candidate!B432,\"\\\",REPT(\" \",100)),100))","v":""},"",""]
[{"$nulls":11},{"$f":"TRIM(RIGHT(SUBSTITUTE(Candidate!B433,\"\\\",REPT(\" \",100)),100))","v":""},"",""]
[{"$nulls":11},{"$f":"TRIM(RIGHT(SUBSTITUTE(Candidate!B434,\"\\\",REPT(\" \",100)),100))","v":""},"",""]
[{"$nulls":11},{"$f":"TRIM(RIGHT(SUBSTITUTE(Candidate!B435,\"\\\",REPT(\" \",100)),100))","v":""},"",""]
[{"$nulls":11},{"$f":"TRIM(RIGHT(SUBSTITUTE(Candidate!B436,\"\\\",REPT(\" \",100)),100))","v":""},"",""]
[{"$nulls":11},{"$f":"TRIM(RIGHT(SUBSTITUTE(Candidate!B437,\"\\\",REPT(\" \",100)),100))","v":""},"",""]
[{"$nulls":11},{"$f":"TRIM(RIGHT(SUBSTITUTE(Candidate!B438,\"\\\",REPT(\" \",100)),100))","v":""},"",""]
[{"$nulls":11},{"$f":"TRIM(RIGHT(SUBSTITUTE(Candidate!B439,\"\\\",REPT(\" \",100)),100))","v":""},"",""]
[{"$nulls":11},{"$f":"TRIM(RIGHT(SUBSTITUTE(Candidate!B440,\"\\\",REPT(\" \",100)),100))","v":""},"",""]
[{"$nulls":11},{"$f":"TRIM(RIGHT(SUBSTITUTE(Candidate!B441,\"\\\",REPT(\" \",100)),100))","v":""},"",""]
[{"$nulls":11},{"$f":"TRIM(RIGHT(SUBSTITUTE(Candidate!B442,\"\\\",REPT(\" \",100)),100))","v":""},"",""]
[{"$nulls":11},{"$f":"TRIM(RIGHT(SUBSTITUTE(Candidate!B443,\"\\\",REPT(\" \",100)),100))","v":""},"",""]
[{"$nulls":11},{"$f":"TRIM(RIGHT(SUBSTITUTE(Candidate!B444,\"\\\",REPT(\" \",100)),100))","v":""},"",""]
[{"$nulls":11},{"$f":"TRIM(RIGHT(SUBSTITUTE(Candidate!B445,\"\\\",REPT(\" \",100)),100))","v":""},"",""]
[{"$nulls":11},{"$f":"TRIM(RIGHT(SUBSTITUTE(Candidate!B446,\"\\\",REPT(\" \",100)),100))","v":""},"",""]
[{"$nulls":11},{"$f":"TRIM(RIGHT(SUBSTITUTE(Candidate!B447,\"\\\",REPT(\" \",100)),100))","v":""},"",""]
[{"$nulls":11},{"$f":"TRIM(RIGHT(SUBSTITUTE(Candidate!B448,\"\\\",REPT(\" \",100)),100))","v":""},"",""]
[{"$nulls":11},{"$f":"TRIM(RIGHT(SUBSTITUTE(Candidate!B449,\"\\\",REPT(\" \",100)),100))","v":""},"",""]
[{"$nulls":11},{"$f":"TRIM(RIGHT(SUBSTITUTE(Candidate!B450,\"\\\",REPT(\" \",100)),100))","v":""},"",""]
[{"$nulls":11},{"$f":"TRIM(RIGHT(SUBSTITUTE(Candidate!B451,\"\\\",REPT(\" \",100)),100))","v":""},"",""]
[{"$nulls":11},{"$f":"TRIM(RIGHT(SUBSTITUTE(Candidate!B452,\"\\\",REPT(\" \",100)),100))","v":""},"",{"$f":"IF(LEFT(RIGHT(M452,2),1)<>\"/\",RIGHT(M452,6),INDEX(CandidateFileArray,MATCH(RIGHT(M452,8),CandidateFileList,0),2))","v":""}]
[{"$nulls":11},{"$f":"TRIM(RIGHT(SUBSTITUTE(Candidate!B453,\"\\\",REPT(\" \",100)),100))","v":""},{"$f":"TRIM(LEFT(SUBSTITUTE(L453,\".\",REPT(\" \",100)),100))","v":""},""]
[{"$nulls":11},{"$f":"TRIM(RIGHT(SUBSTITUTE(Candidate!B454,\"\\\",REPT(\" \",100)),100))","v":""},"",""]
[{"$nulls":11},{"$f":"TRIM(RIGHT(SUBSTITUTE(Candidate!B455,\"\\\",REPT(\" \",100)),100))","v":""},"",""]
[{"$nulls":11},{"$f":"TRIM(RIGHT(SUBSTITUTE(Candidate!B456,\"\\\",REPT(\" \",100)),100))","v":""},"",""]
[{"$nulls":11},{"$f":"TRIM(RIGHT(SUBSTITUTE(Candidate!B457,\"\\\",REPT(\" \",100)),100))","v":""},"",""]
[{"$nulls":11},{"$f":"TRIM(RIGHT(SUBSTITUTE(Candidate!B458,\"\\\",REPT(\" \",100)),100))","v":""},"",""]
[{"$nulls":11},{"$f":"TRIM(RIGHT(SUBSTITUTE(Candidate!B459,\"\\\",REPT(\" \",100)),100))","v":""},"",""]
[{"$nulls":11},{"$f":"TRIM(RIGHT(SUBSTITUTE(Candidate!B460,\"\\\",REPT(\" \",100)),100))","v":""},"",""]
[{"$nulls":11},{"$f":"TRIM(RIGHT(SUBSTITUTE(Candidate!B461,\"\\\",REPT(\" \",100)),100))","v":""},"",""]
[{"$nulls":11},{"$f":"TRIM(RIGHT(SUBSTITUTE(Candidate!B462,\"\\\",REPT(\" \",100)),100))","v":""},"",""]
[{"$nulls":11},{"$f":"TRIM(RIGHT(SUBSTITUTE(Candidate!B463,\"\\\",REPT(\" \",100)),100))","v":""},"",""]
[{"$nulls":11},{"$f":"TRIM(RIGHT(SUBSTITUTE(Candidate!B464,\"\\\",REPT(\" \",100)),100))","v":""},"",""]
[{"$nulls":11},{"$f":"TRIM(RIGHT(SUBSTITUTE(Candidate!B465,\"\\\",REPT(\" \",100)),100))","v":""},"",""]
[{"$nulls":11},{"$f":"TRIM(RIGHT(SUBSTITUTE(Candidate!B466,\"\\\",REPT(\" \",100)),100))","v":""},"",""]
[{"$nulls":11},{"$f":"TRIM(RIGHT(SUBSTITUTE(Candidate!B467,\"\\\",REPT(\" \",100)),100))","v":""},"",""]
[{"$nulls":11},{"$f":"TRIM(RIGHT(SUBSTITUTE(Candidate!B468,\"\\\",REPT(\" \",100)),100))","v":""},"",""]
[{"$nulls":11},{"$f":"TRIM(RIGHT(SUBSTITUTE(Candidate!B469,\"\\\",REPT(\" \",100)),100))","v":""},"",""]
[{"$nulls":11},{"$f":"TRIM(RIGHT(SUBSTITUTE(Candidate!B470,\"\\\",REPT(\" \",100)),100))","v":""},"",""]
[{"$nulls":11},{"$f":"TRIM(RIGHT(SUBSTITUTE(Candidate!B471,\"\\\",REPT(\" \",100)),100))","v":""},"",""]
[{"$nulls":11},{"$f":"TRIM(RIGHT(SUBSTITUTE(Candidate!B472,\"\\\",REPT(\" \",100)),100))","v":""},"",""]
[{"$nulls":11},{"$f":"TRIM(RIGHT(SUBSTITUTE(Candidate!B473,\"\\\",REPT(\" \",100)),100))","v":""},"",""]
[{"$nulls":11},{"$f":"TRIM(RIGHT(SUBSTITUTE(Candidate!B474,\"\\\",REPT(\" \",100)),100))","v":""},"",""]
[{"$nulls":11},{"$f":"TRIM(RIGHT(SUBSTITUTE(Candidate!B475,\"\\\",REPT(\" \",100)),100))","v":""},"",""]
[{"$nulls":11},{"$f":"TRIM(RIGHT(SUBSTITUTE(Candidate!B476,\"\\\",REPT(\" \",100)),100))","v":""},"",""]
[{"$nulls":11},{"$f":"TRIM(RIGHT(SUBSTITUTE(Candidate!B477,\"\\\",REPT(\" \",100)),100))","v":""},"",""]
[{"$nulls":11},{"$f":"TRIM(RIGHT(SUBSTITUTE(Candidate!B478,\"\\\",REPT(\" \",100)),100))","v":""},"",""]
[{"$nulls":11},{"$f":"TRIM(RIGHT(SUBSTITUTE(Candidate!B479,\"\\\",REPT(\" \",100)),100))","v":""},"",""]
[{"$nulls":11},{"$f":"TRIM(RIGHT(SUBSTITUTE(Candidate!B480,\"\\\",REPT(\" \",100)),100))","v":""},"",""]
[{"$nulls":11},{"$f":"TRIM(RIGHT(SUBSTITUTE(Candidate!B481,\"\\\",REPT(\" \",100)),100))","v":""},"",""]
[{"$nulls":11},{"$f":"TRIM(RIGHT(SUBSTITUTE(Candidate!B482,\"\\\",REPT(\" \",100)),100))","v":""},"",""]
[{"$nulls":11},{"$f":"TRIM(RIGHT(SUBSTITUTE(Candidate!B483,\"\\\",REPT(\" \",100)),100))","v":""},"",""]
[{"$nulls":11},{"$f":"TRIM(RIGHT(SUBSTITUTE(Candidate!B484,\"\\\",REPT(\" \",100)),100))","v":""},"",""]
[{"$nulls":11},{"$f":"TRIM(RIGHT(SUBSTITUTE(Candidate!B485,\"\\\",REPT(\" \",100)),100))","v":""},"",""]
[{"$nulls":11},{"$f":"TRIM(RIGHT(SUBSTITUTE(Candidate!B486,\"\\\",REPT(\" \",100)),100))","v":""},"",""]
[{"$nulls":11},{"$f":"TRIM(RIGHT(SUBSTITUTE(Candidate!B487,\"\\\",REPT(\" \",100)),100))","v":""},"",""]
[{"$nulls":11},{"$f":"TRIM(RIGHT(SUBSTITUTE(Candidate!B488,\"\\\",REPT(\" \",100)),100))","v":""},"",""]
[{"$nulls":11},{"$f":"TRIM(RIGHT(SUBSTITUTE(Candidate!B489,\"\\\",REPT(\" \",100)),100))","v":""},"",""]
[{"$nulls":11},{"$f":"TRIM(RIGHT(SUBSTITUTE(Candidate!B490,\"\\\",REPT(\" \",100)),100))","v":""},"",""]
[{"$nulls":11},{"$f":"TRIM(RIGHT(SUBSTITUTE(Candidate!B491,\"\\\",REPT(\" \",100)),100))","v":""},"",""]
[{"$nulls":11},{"$f":"TRIM(RIGHT(SUBSTITUTE(Candidate!B492,\"\\\",REPT(\" \",100)),100))","v":""},"",""]
[{"$nulls":11},{"$f":"TRIM(RIGHT(SUBSTITUTE(Candidate!B493,\"\\\",REPT(\" \",100)),100))","v":""},"",""]
[{"$nulls":11},{"$f":"TRIM(RIGHT(SUBSTITUTE(Candidate!B494,\"\\\",REPT(\" \",100)),100))","v":""},"",""]
[{"$nulls":11},{"$f":"TRIM(RIGHT(SUBSTITUTE(Candidate!B495,\"\\\",REPT(\" \",100)),100))","v":""},"",""]
[{"$nulls":11},{"$f":"TRIM(RIGHT(SUBSTITUTE(Candidate!B496,\"\\\",REPT(\" \",100)),100))","v":""},"",""]
[{"$nulls":11},{"$f":"TRIM(RIGHT(SUBSTITUTE(Candidate!B497,\"\\\",REPT(\" \",100)),100))","v":""},"",""]
[{"$nulls":11},{"$f":"TRIM(RIGHT(SUBSTITUTE(Candidate!B498,\"\\\",REPT(\" \",100)),100))","v":""},"",""]
[{"$nulls":11},{"$f":"TRIM(RIGHT(SUBSTITUTE(Candidate!B499,\"\\\",REPT(\" \",100)),100))","v":""},"",""]
[{"$nulls":11},{"$f":"TRIM(RIGHT(SUBSTITUTE(Candidate!B500,\"\\\",REPT(\" \",100)),100))","v":""},"",""]
[{"$nulls":11},{"$f":"TRIM(RIGHT(SUBSTITUTE(Candidate!B501,\"\\\",REPT(\" \",100)),100))","v":""},"",""]
[{"$nulls":11},{"$f":"TRIM(RIGHT(SUBSTITUTE(Candidate!B502,\"\\\",REPT(\" \",100)),100))","v":""},"",""]
[{"$nulls":11},{"$f":"TRIM(RIGHT(SUBSTITUTE(Candidate!B503,\"\\\",REPT(\" \",100)),100))","v":""},"",""]
[{"$nulls":11},{"$f":"TRIM(RIGHT(SUBSTITUTE(Candidate!B504,\"\\\",REPT(\" \",100)),100))","v":""},"",""]
[{"$nulls":11},{"$f":"TRIM(RIGHT(SUBSTITUTE(Candidate!B505,\"\\\",REPT(\" \",100)),100))","v":""},"",""]
[{"$nulls":11},{"$f":"TRIM(RIGHT(SUBSTITUTE(Candidate!B506,\"\\\",REPT(\" \",100)),100))","v":""},"",""]
[{"$nulls":11},{"$f":"TRIM(RIGHT(SUBSTITUTE(Candidate!B507,\"\\\",REPT(\" \",100)),100))","v":""},"",""]
[{"$nulls":11},{"$f":"TRIM(RIGHT(SUBSTITUTE(Candidate!B508,\"\\\",REPT(\" \",100)),100))","v":""},"",""]
[{"$nulls":11},{"$f":"TRIM(RIGHT(SUBSTITUTE(Candidate!B509,\"\\\",REPT(\" \",100)),100))","v":""},"",""]
[{"$nulls":11},{"$f":"TRIM(RIGHT(SUBSTITUTE(Candidate!B510,\"\\\",REPT(\" \",100)),100))","v":""},"",""]
[{"$nulls":11},{"$f":"TRIM(RIGHT(SUBSTITUTE(Candidate!B511,\"\\\",REPT(\" \",100)),100))","v":""},"",""]
[{"$nulls":13},{"$f":"IF(LEFT(RIGHT(Candidate!CO512,2),1)<>\"/\",RIGHT(Candidate!CO512,6),INDEX(CandidateFileArray,MATCH(RIGHT(Candidate!CO512,8),CandidateFileList,0),2))","v":""}]
[{"$nulls":13},{"$f":"IF(LEFT(RIGHT(Candidate!CO513,2),1)<>\"/\",RIGHT(Candidate!CO513,6),INDEX(CandidateFileArray,MATCH(RIGHT(Candidate!CO513,8),CandidateFileList,0),2))","v":""}]
[{"$nulls":13},{"$f":"IF(LEFT(RIGHT(Candidate!CO514,2),1)<>\"/\",RIGHT(Candidate!CO514,6),INDEX(CandidateFileArray,MATCH(RIGHT(Candidate!CO514,8),CandidateFileList,0),2))","v":""}]
[{"$nulls":13},{"$f":"IF(LEFT(RIGHT(Candidate!CO515,2),1)<>\"/\",RIGHT(Candidate!CO515,6),INDEX(CandidateFileArray,MATCH(RIGHT(Candidate!CO515,8),CandidateFileList,0),2))","v":""}]
[{"$nulls":13},{"$f":"IF(LEFT(RIGHT(Candidate!CO516,2),1)<>\"/\",RIGHT(Candidate!CO516,6),INDEX(CandidateFileArray,MATCH(RIGHT(Candidate!CO516,8),CandidateFileList,0),2))","v":""}]
[{"$nulls":13},{"$f":"IF(LEFT(RIGHT(Candidate!CO517,2),1)<>\"/\",RIGHT(Candidate!CO517,6),INDEX(CandidateFileArray,MATCH(RIGHT(Candidate!CO517,8),CandidateFileList,0),2))","v":""}]
[{"$nulls":13},{"$f":"IF(LEFT(RIGHT(Candidate!CO518,2),1)<>\"/\",RIGHT(Candidate!CO518,6),INDEX(CandidateFileArray,MATCH(RIGHT(Candidate!CO518,8),CandidateFileList,0),2))","v":""}]
[{"$nulls":13},{"$f":"IF(LEFT(RIGHT(Candidate!CO519,2),1)<>\"/\",RIGHT(Candidate!CO519,6),INDEX(CandidateFileArray,MATCH(RIGHT(Candidate!CO519,8),CandidateFileList,0),2))","v":""}]
[{"$nulls":13},{"$f":"IF(LEFT(RIGHT(Candidate!CO520,2),1)<>\"/\",RIGHT(Candidate!CO520,6),INDEX(CandidateFileArray,MATCH(RIGHT(Candidate!CO520,8),CandidateFileList,0),2))","v":""}]
[{"$nulls":13},{"$f":"IF(LEFT(RIGHT(Candidate!CO521,2),1)<>\"/\",RIGHT(Candidate!CO521,6),INDEX(CandidateFileArray,MATCH(RIGHT(Candidate!CO521,8),CandidateFileList,0),2))","v":""}]
[{"$nulls":13},{"$f":"IF(LEFT(RIGHT(Candidate!CO522,2),1)<>\"/\",RIGHT(Candidate!CO522,6),INDEX(CandidateFileArray,MATCH(RIGHT(Candidate!CO522,8),CandidateFileList,0),2))","v":""}]
[{"$nulls":13},{"$f":"IF(LEFT(RIGHT(Candidate!CO523,2),1)<>\"/\",RIGHT(Candidate!CO523,6),INDEX(CandidateFileArray,MATCH(RIGHT(Candidate!CO523,8),CandidateFileList,0),2))","v":""}]
[{"$nulls":13},{"$f":"IF(LEFT(RIGHT(Candidate!CO524,2),1)<>\"/\",RIGHT(Candidate!CO524,6),INDEX(CandidateFileArray,MATCH(RIGHT(Candidate!CO524,8),CandidateFileList,0),2))","v":""}]
[{"$nulls":13},{"$f":"IF(LEFT(RIGHT(Candidate!CO525,2),1)<>\"/\",RIGHT(Candidate!CO525,6),INDEX(CandidateFileArray,MATCH(RIGHT(Candidate!CO525,8),CandidateFileList,0),2))","v":""}]
[{"$nulls":13},{"$f":"IF(LEFT(RIGHT(Candidate!CO526,2),1)<>\"/\",RIGHT(Candidate!CO526,6),INDEX(CandidateFileArray,MATCH(RIGHT(Candidate!CO526,8),CandidateFileList,0),2))","v":""}]
[{"$nulls":13},{"$f":"IF(LEFT(RIGHT(Candidate!CO527,2),1)<>\"/\",RIGHT(Candidate!CO527,6),INDEX(CandidateFileArray,MATCH(RIGHT(Candidate!CO527,8),CandidateFileList,0),2))","v":""}]
[{"$nulls":13},{"$f":"IF(LEFT(RIGHT(Candidate!CO528,2),1)<>\"/\",RIGHT(Candidate!CO528,6),INDEX(CandidateFileArray,MATCH(RIGHT(Candidate!CO528,8),CandidateFileList,0),2))","v":""}]
[{"$nulls":13},{"$f":"IF(LEFT(RIGHT(Candidate!CO529,2),1)<>\"/\",RIGHT(Candidate!CO529,6),INDEX(CandidateFileArray,MATCH(RIGHT(Candidate!CO529,8),CandidateFileList,0),2))","v":""}]
[{"$nulls":13},{"$f":"IF(LEFT(RIGHT(Candidate!CO530,2),1)<>\"/\",RIGHT(Candidate!CO530,6),INDEX(CandidateFileArray,MATCH(RIGHT(Candidate!CO530,8),CandidateFileList,0),2))","v":""}]
[{"$nulls":13},{"$f":"IF(LEFT(RIGHT(Candidate!CO531,2),1)<>\"/\",RIGHT(Candidate!CO531,6),INDEX(CandidateFileArray,MATCH(RIGHT(Candidate!CO531,8),CandidateFileList,0),2))","v":""}]
[{"$nulls":13},{"$f":"IF(LEFT(RIGHT(Candidate!CO532,2),1)<>\"/\",RIGHT(Candidate!CO532,6),INDEX(CandidateFileArray,MATCH(RIGHT(Candidate!CO532,8),CandidateFileList,0),2))","v":""}]
[{"$nulls":13},{"$f":"IF(LEFT(RIGHT(Candidate!CO533,2),1)<>\"/\",RIGHT(Candidate!CO533,6),INDEX(CandidateFileArray,MATCH(RIGHT(Candidate!CO533,8),CandidateFileList,0),2))","v":""}]
[{"$nulls":13},{"$f":"IF(LEFT(RIGHT(Candidate!CO534,2),1)<>\"/\",RIGHT(Candidate!CO534,6),INDEX(CandidateFileArray,MATCH(RIGHT(Candidate!CO534,8),CandidateFileList,0),2))","v":""}]
[{"$nulls":13},{"$f":"IF(LEFT(RIGHT(Candidate!CO535,2),1)<>\"/\",RIGHT(Candidate!CO535,6),INDEX(CandidateFileArray,MATCH(RIGHT(Candidate!CO535,8),CandidateFileList,0),2))","v":""}]
[{"$nulls":13},{"$f":"IF(LEFT(RIGHT(Candidate!CO536,2),1)<>\"/\",RIGHT(Candidate!CO536,6),INDEX(CandidateFileArray,MATCH(RIGHT(Candidate!CO536,8),CandidateFileList,0),2))","v":""}]
[{"$nulls":13},{"$f":"IF(LEFT(RIGHT(Candidate!CO537,2),1)<>\"/\",RIGHT(Candidate!CO537,6),INDEX(CandidateFileArray,MATCH(RIGHT(Candidate!CO537,8),CandidateFileList,0),2))","v":""}]
[{"$nulls":13},{"$f":"IF(LEFT(RIGHT(Candidate!CO538,2),1)<>\"/\",RIGHT(Candidate!CO538,6),INDEX(CandidateFileArray,MATCH(RIGHT(Candidate!CO538,8),CandidateFileList,0),2))","v":""}]
[{"$nulls":13},{"$f":"IF(LEFT(RIGHT(Candidate!CO539,2),1)<>\"/\",RIGHT(Candidate!CO539,6),INDEX(CandidateFileArray,MATCH(RIGHT(Candidate!CO539,8),CandidateFileList,0),2))","v":""}]
[{"$nulls":13},{"$f":"IF(LEFT(RIGHT(Candidate!CO540,2),1)<>\"/\",RIGHT(Candidate!CO540,6),INDEX(CandidateFileArray,MATCH(RIGHT(Candidate!CO540,8),CandidateFileList,0),2))","v":""}]
[{"$nulls":13},{"$f":"IF(LEFT(RIGHT(Candidate!CO541,2),1)<>\"/\",RIGHT(Candidate!CO541,6),INDEX(CandidateFileArray,MATCH(RIGHT(Candidate!CO541,8),CandidateFileList,0),2))","v":""}]
[{"$nulls":13},{"$f":"IF(LEFT(RIGHT(Candidate!CO542,2),1)<>\"/\",RIGHT(Candidate!CO542,6),INDEX(CandidateFileArray,MATCH(RIGHT(Candidate!CO542,8),CandidateFileList,0),2))","v":""}]
[{"$nulls":13},{"$f":"IF(LEFT(RIGHT(Candidate!CO543,2),1)<>\"/\",RIGHT(Candidate!CO543,6),INDEX(CandidateFileArray,MATCH(RIGHT(Candidate!CO543,8),CandidateFileList,0),2))","v":""}]
[{"$nulls":13},{"$f":"IF(LEFT(RIGHT(Candidate!CO544,2),1)<>\"/\",RIGHT(Candidate!CO544,6),INDEX(CandidateFileArray,MATCH(RIGHT(Candidate!CO544,8),CandidateFileList,0),2))","v":""}]
[{"$nulls":13},{"$f":"IF(LEFT(RIGHT(Candidate!CO545,2),1)<>\"/\",RIGHT(Candidate!CO545,6),INDEX(CandidateFileArray,MATCH(RIGHT(Candidate!CO545,8),CandidateFileList,0),2))","v":""}]
[{"$nulls":13},{"$f":"IF(LEFT(RIGHT(Candidate!CO546,2),1)<>\"/\",RIGHT(Candidate!CO546,6),INDEX(CandidateFileArray,MATCH(RIGHT(Candidate!CO546,8),CandidateFileList,0),2))","v":""}]
[{"$nulls":13},{"$f":"IF(LEFT(RIGHT(Candidate!CO547,2),1)<>\"/\",RIGHT(Candidate!CO547,6),INDEX(CandidateFileArray,MATCH(RIGHT(Candidate!CO547,8),CandidateFileList,0),2))","v":""}]
[{"$nulls":13},{"$f":"IF(LEFT(RIGHT(Candidate!CO548,2),1)<>\"/\",RIGHT(Candidate!CO548,6),INDEX(CandidateFileArray,MATCH(RIGHT(Candidate!CO548,8),CandidateFileList,0),2))","v":""}]
[{"$nulls":13},{"$f":"IF(LEFT(RIGHT(Candidate!CO549,2),1)<>\"/\",RIGHT(Candidate!CO549,6),INDEX(CandidateFileArray,MATCH(RIGHT(Candidate!CO549,8),CandidateFileList,0),2))","v":""}]
[{"$nulls":13},{"$f":"IF(LEFT(RIGHT(Candidate!CO550,2),1)<>\"/\",RIGHT(Candidate!CO550,6),INDEX(CandidateFileArray,MATCH(RIGHT(Candidate!CO550,8),CandidateFileList,0),2))","v":""}]
[{"$nulls":13},{"$f":"IF(LEFT(RIGHT(Candidate!CO551,2),1)<>\"/\",RIGHT(Candidate!CO551,6),INDEX(CandidateFileArray,MATCH(RIGHT(Candidate!CO551,8),CandidateFileList,0),2))","v":""}]
[{"$nulls":13},{"$f":"IF(LEFT(RIGHT(Candidate!CO552,2),1)<>\"/\",RIGHT(Candidate!CO552,6),INDEX(CandidateFileArray,MATCH(RIGHT(Candidate!CO552,8),CandidateFileList,0),2))","v":""}]
[{"$nulls":13},{"$f":"IF(LEFT(RIGHT(Candidate!CO553,2),1)<>\"/\",RIGHT(Candidate!CO553,6),INDEX(CandidateFileArray,MATCH(RIGHT(Candidate!CO553,8),CandidateFileList,0),2))","v":""}]
[{"$nulls":13},{"$f":"IF(LEFT(RIGHT(Candidate!CO554,2),1)<>\"/\",RIGHT(Candidate!CO554,6),INDEX(CandidateFileArray,MATCH(RIGHT(Candidate!CO554,8),CandidateFileList,0),2))","v":""}]
[{"$nulls":13},{"$f":"IF(LEFT(RIGHT(Candidate!CO555,2),1)<>\"/\",RIGHT(Candidate!CO555,6),INDEX(CandidateFileArray,MATCH(RIGHT(Candidate!CO555,8),CandidateFileList,0),2))","v":""}]
[{"$nulls":13},{"$f":"IF(LEFT(RIGHT(Candidate!CO556,2),1)<>\"/\",RIGHT(Candidate!CO556,6),INDEX(CandidateFileArray,MATCH(RIGHT(Candidate!CO556,8),CandidateFileList,0),2))","v":""}]
[{"$nulls":13},{"$f":"IF(LEFT(RIGHT(Candidate!CO557,2),1)<>\"/\",RIGHT(Candidate!CO557,6),INDEX(CandidateFileArray,MATCH(RIGHT(Candidate!CO557,8),CandidateFileList,0),2))","v":""}]
[{"$nulls":13},{"$f":"IF(LEFT(RIGHT(Candidate!CO558,2),1)<>\"/\",RIGHT(Candidate!CO558,6),INDEX(CandidateFileArray,MATCH(RIGHT(Candidate!CO558,8),CandidateFileList,0),2))","v":""}]
[{"$nulls":13},{"$f":"IF(LEFT(RIGHT(Candidate!CO559,2),1)<>\"/\",RIGHT(Candidate!CO559,6),INDEX(CandidateFileArray,MATCH(RIGHT(Candidate!CO559,8),CandidateFileList,0),2))","v":""}]
[{"$nulls":13},{"$f":"IF(LEFT(RIGHT(Candidate!CO560,2),1)<>\"/\",RIGHT(Candidate!CO560,6),INDEX(CandidateFileArray,MATCH(RIGHT(Candidate!CO560,8),CandidateFileList,0),2))","v":""}]
[{"$nulls":13},{"$f":"IF(LEFT(RIGHT(Candidate!CO561,2),1)<>\"/\",RIGHT(Candidate!CO561,6),INDEX(CandidateFileArray,MATCH(RIGHT(Candidate!CO561,8),CandidateFileList,0),2))","v":""}]
[{"$nulls":13},{"$f":"IF(LEFT(RIGHT(Candidate!CO562,2),1)<>\"/\",RIGHT(Candidate!CO562,6),INDEX(CandidateFileArray,MATCH(RIGHT(Candidate!CO562,8),CandidateFileList,0),2))","v":""}]
[{"$nulls":13},{"$f":"IF(LEFT(RIGHT(Candidate!CO563,2),1)<>\"/\",RIGHT(Candidate!CO563,6),INDEX(CandidateFileArray,MATCH(RIGHT(Candidate!CO563,8),CandidateFileList,0),2))","v":""}]
[{"$nulls":13},{"$f":"IF(LEFT(RIGHT(Candidate!CO564,2),1)<>\"/\",RIGHT(Candidate!CO564,6),INDEX(CandidateFileArray,MATCH(RIGHT(Candidate!CO564,8),CandidateFileList,0),2))","v":""}]
[{"$nulls":13},{"$f":"IF(LEFT(RIGHT(Candidate!CO565,2),1)<>\"/\",RIGHT(Candidate!CO565,6),INDEX(CandidateFileArray,MATCH(RIGHT(Candidate!CO565,8),CandidateFileList,0),2))","v":""}]
[{"$nulls":13},{"$f":"IF(LEFT(RIGHT(Candidate!CO566,2),1)<>\"/\",RIGHT(Candidate!CO566,6),INDEX(CandidateFileArray,MATCH(RIGHT(Candidate!CO566,8),CandidateFileList,0),2))","v":""}]
[{"$nulls":13},{"$f":"IF(LEFT(RIGHT(Candidate!CO567,2),1)<>\"/\",RIGHT(Candidate!CO567,6),INDEX(CandidateFileArray,MATCH(RIGHT(Candidate!CO567,8),CandidateFileList,0),2))","v":""}]
[{"$nulls":13},{"$f":"IF(LEFT(RIGHT(Candidate!CO568,2),1)<>\"/\",RIGHT(Candidate!CO568,6),INDEX(CandidateFileArray,MATCH(RIGHT(Candidate!CO568,8),CandidateFileList,0),2))","v":""}]
[{"$nulls":13},{"$f":"IF(LEFT(RIGHT(Candidate!CO569,2),1)<>\"/\",RIGHT(Candidate!CO569,6),INDEX(CandidateFileArray,MATCH(RIGHT(Candidate!CO569,8),CandidateFileList,0),2))","v":""}]
[{"$nulls":13},{"$f":"IF(LEFT(RIGHT(Candidate!CO570,2),1)<>\"/\",RIGHT(Candidate!CO570,6),INDEX(CandidateFileArray,MATCH(RIGHT(Candidate!CO570,8),CandidateFileList,0),2))","v":""}]
[{"$nulls":13},{"$f":"IF(LEFT(RIGHT(Candidate!CO571,2),1)<>\"/\",RIGHT(Candidate!CO571,6),INDEX(CandidateFileArray,MATCH(RIGHT(Candidate!CO571,8),CandidateFileList,0),2))","v":""}]
[{"$nulls":13},{"$f":"IF(LEFT(RIGHT(Candidate!CO572,2),1)<>\"/\",RIGHT(Candidate!CO572,6),INDEX(CandidateFileArray,MATCH(RIGHT(Candidate!CO572,8),CandidateFileList,0),2))","v":""}]
[{"$nulls":13},{"$f":"IF(LEFT(RIGHT(Candidate!CO573,2),1)<>\"/\",RIGHT(Candidate!CO573,6),INDEX(CandidateFileArray,MATCH(RIGHT(Candidate!CO573,8),CandidateFileList,0),2))","v":""}]
[{"$nulls":13},{"$f":"IF(LEFT(RIGHT(Candidate!CO574,2),1)<>\"/\",RIGHT(Candidate!CO574,6),INDEX(CandidateFileArray,MATCH(RIGHT(Candidate!CO574,8),CandidateFileList,0),2))","v":""}]
[{"$nulls":13},{"$f":"IF(LEFT(RIGHT(Candidate!CO575,2),1)<>\"/\",RIGHT(Candidate!CO575,6),INDEX(CandidateFileArray,MATCH(RIGHT(Candidate!CO575,8),CandidateFileList,0),2))","v":""}]
[{"$nulls":13},{"$f":"IF(LEFT(RIGHT(Candidate!CO576,2),1)<>\"/\",RIGHT(Candidate!CO576,6),INDEX(CandidateFileArray,MATCH(RIGHT(Candidate!CO576,8),CandidateFileList,0),2))","v":""}]
[{"$nulls":13},{"$f":"IF(LEFT(RIGHT(Candidate!CO577,2),1)<>\"/\",RIGHT(Candidate!CO577,6),INDEX(CandidateFileArray,MATCH(RIGHT(Candidate!CO577,8),CandidateFileList,0),2))","v":""}]
[{"$nulls":13},{"$f":"IF(LEFT(RIGHT(Candidate!CO578,2),1)<>\"/\",RIGHT(Candidate!CO578,6),INDEX(CandidateFileArray,MATCH(RIGHT(Candidate!CO578,8),CandidateFileList,0),2))","v":""}]
[{"$nulls":13},{"$f":"IF(LEFT(RIGHT(Candidate!CO579,2),1)<>\"/\",RIGHT(Candidate!CO579,6),INDEX(CandidateFileArray,MATCH(RIGHT(Candidate!CO579,8),CandidateFileList,0),2))","v":""}]
[{"$nulls":13},{"$f":"IF(LEFT(RIGHT(Candidate!CO580,2),1)<>\"/\",RIGHT(Candidate!CO580,6),INDEX(CandidateFileArray,MATCH(RIGHT(Candidate!CO580,8),CandidateFileList,0),2))","v":""}]
[{"$nulls":13},{"$f":"IF(LEFT(RIGHT(Candidate!CO581,2),1)<>\"/\",RIGHT(Candidate!CO581,6),INDEX(CandidateFileArray,MATCH(RIGHT(Candidate!CO581,8),CandidateFileList,0),2))","v":""}]
[{"$nulls":13},{"$f":"IF(LEFT(RIGHT(Candidate!CO582,2),1)<>\"/\",RIGHT(Candidate!CO582,6),INDEX(CandidateFileArray,MATCH(RIGHT(Candidate!CO582,8),CandidateFileList,0),2))","v":""}]
[{"$nulls":13},{"$f":"IF(LEFT(RIGHT(Candidate!CO583,2),1)<>\"/\",RIGHT(Candidate!CO583,6),INDEX(CandidateFileArray,MATCH(RIGHT(Candidate!CO583,8),CandidateFileList,0),2))","v":""}]
[{"$nulls":13},{"$f":"IF(LEFT(RIGHT(Candidate!CO584,2),1)<>\"/\",RIGHT(Candidate!CO584,6),INDEX(CandidateFileArray,MATCH(RIGHT(Candidate!CO584,8),CandidateFileList,0),2))","v":""}]
[{"$nulls":13},{"$f":"IF(LEFT(RIGHT(Candidate!CO585,2),1)<>\"/\",RIGHT(Candidate!CO585,6),INDEX(CandidateFileArray,MATCH(RIGHT(Candidate!CO585,8),CandidateFileList,0),2))","v":""}]
[{"$nulls":13},{"$f":"IF(LEFT(RIGHT(Candidate!CO586,2),1)<>\"/\",RIGHT(Candidate!CO586,6),INDEX(CandidateFileArray,MATCH(RIGHT(Candidate!CO586,8),CandidateFileList,0),2))","v":""}]
[{"$nulls":13},{"$f":"IF(LEFT(RIGHT(Candidate!CO587,2),1)<>\"/\",RIGHT(Candidate!CO587,6),INDEX(CandidateFileArray,MATCH(RIGHT(Candidate!CO587,8),CandidateFileList,0),2))","v":""}]
[{"$nulls":13},{"$f":"IF(LEFT(RIGHT(Candidate!CO588,2),1)<>\"/\",RIGHT(Candidate!CO588,6),INDEX(CandidateFileArray,MATCH(RIGHT(Candidate!CO588,8),CandidateFileList,0),2))","v":""}]
[{"$nulls":13},{"$f":"IF(LEFT(RIGHT(Candidate!CO589,2),1)<>\"/\",RIGHT(Candidate!CO589,6),INDEX(CandidateFileArray,MATCH(RIGHT(Candidate!CO589,8),CandidateFileList,0),2))","v":""}]
[{"$nulls":13},{"$f":"IF(LEFT(RIGHT(Candidate!CO590,2),1)<>\"/\",RIGHT(Candidate!CO590,6),INDEX(CandidateFileArray,MATCH(RIGHT(Candidate!CO590,8),CandidateFileList,0),2))","v":""}]
[{"$nulls":13},{"$f":"IF(LEFT(RIGHT(Candidate!CO591,2),1)<>\"/\",RIGHT(Candidate!CO591,6),INDEX(CandidateFileArray,MATCH(RIGHT(Candidate!CO591,8),CandidateFileList,0),2))","v":""}]
[{"$nulls":13},{"$f":"IF(LEFT(RIGHT(Candidate!CO592,2),1)<>\"/\",RIGHT(Candidate!CO592,6),INDEX(CandidateFileArray,MATCH(RIGHT(Candidate!CO592,8),CandidateFileList,0),2))","v":""}]
[{"$nulls":13},{"$f":"IF(LEFT(RIGHT(Candidate!CO593,2),1)<>\"/\",RIGHT(Candidate!CO593,6),INDEX(CandidateFileArray,MATCH(RIGHT(Candidate!CO593,8),CandidateFileList,0),2))","v":""}]
[{"$nulls":13},{"$f":"IF(LEFT(RIGHT(Candidate!CO594,2),1)<>\"/\",RIGHT(Candidate!CO594,6),INDEX(CandidateFileArray,MATCH(RIGHT(Candidate!CO594,8),CandidateFileList,0),2))","v":""}]
[{"$nulls":13},{"$f":"IF(LEFT(RIGHT(Candidate!CO595,2),1)<>\"/\",RIGHT(Candidate!CO595,6),INDEX(CandidateFileArray,MATCH(RIGHT(Candidate!CO595,8),CandidateFileList,0),2))","v":""}]
[{"$nulls":13},{"$f":"IF(LEFT(RIGHT(Candidate!CO596,2),1)<>\"/\",RIGHT(Candidate!CO596,6),INDEX(CandidateFileArray,MATCH(RIGHT(Candidate!CO596,8),CandidateFileList,0),2))","v":""}]
[{"$nulls":13},{"$f":"IF(LEFT(RIGHT(Candidate!CO597,2),1)<>\"/\",RIGHT(Candidate!CO597,6),INDEX(CandidateFileArray,MATCH(RIGHT(Candidate!CO597,8),CandidateFileList,0),2))","v":""}]
[{"$nulls":13},{"$f":"IF(LEFT(RIGHT(Candidate!CO598,2),1)<>\"/\",RIGHT(Candidate!CO598,6),INDEX(CandidateFileArray,MATCH(RIGHT(Candidate!CO598,8),CandidateFileList,0),2))","v":""}]
[{"$nulls":13},{"$f":"IF(LEFT(RIGHT(Candidate!CO599,2),1)<>\"/\",RIGHT(Candidate!CO599,6),INDEX(CandidateFileArray,MATCH(RIGHT(Candidate!CO599,8),CandidateFileList,0),2))","v":""}]
[{"$nulls":13},{"$f":"IF(LEFT(RIGHT(Candidate!CO600,2),1)<>\"/\",RIGHT(Candidate!CO600,6),INDEX(CandidateFileArray,MATCH(RIGHT(Candidate!CO600,8),CandidateFileList,0),2))","v":""}]
[{"$nulls":13},{"$f":"IF(LEFT(RIGHT(Candidate!CO601,2),1)<>\"/\",RIGHT(Candidate!CO601,6),INDEX(CandidateFileArray,MATCH(RIGHT(Candidate!CO601,8),CandidateFileList,0),2))","v":""}]
[{"$nulls":13},{"$f":"IF(LEFT(RIGHT(Candidate!CO602,2),1)<>\"/\",RIGHT(Candidate!CO602,6),INDEX(CandidateFileArray,MATCH(RIGHT(Candidate!CO602,8),CandidateFileList,0),2))","v":""}]
[{"$nulls":13},{"$f":"IF(LEFT(RIGHT(Candidate!CO603,2),1)<>\"/\",RIGHT(Candidate!CO603,6),INDEX(CandidateFileArray,MATCH(RIGHT(Candidate!CO603,8),CandidateFileList,0),2))","v":""}]
[{"$nulls":13},{"$f":"IF(LEFT(RIGHT(Candidate!CO604,2),1)<>\"/\",RIGHT(Candidate!CO604,6),INDEX(CandidateFileArray,MATCH(RIGHT(Candidate!CO604,8),CandidateFileList,0),2))","v":""}]
[{"$nulls":13},{"$f":"IF(LEFT(RIGHT(Candidate!CO605,2),1)<>\"/\",RIGHT(Candidate!CO605,6),INDEX(CandidateFileArray,MATCH(RIGHT(Candidate!CO605,8),CandidateFileList,0),2))","v":""}]
[{"$nulls":13},{"$f":"IF(LEFT(RIGHT(Candidate!CO606,2),1)<>\"/\",RIGHT(Candidate!CO606,6),INDEX(CandidateFileArray,MATCH(RIGHT(Candidate!CO606,8),CandidateFileList,0),2))","v":""}]
[{"$nulls":13},{"$f":"IF(LEFT(RIGHT(Candidate!CO607,2),1)<>\"/\",RIGHT(Candidate!CO607,6),INDEX(CandidateFileArray,MATCH(RIGHT(Candidate!CO607,8),CandidateFileList,0),2))","v":""}]
[{"$nulls":13},{"$f":"IF(LEFT(RIGHT(Candidate!CO608,2),1)<>\"/\",RIGHT(Candidate!CO608,6),INDEX(CandidateFileArray,MATCH(RIGHT(Candidate!CO608,8),CandidateFileList,0),2))","v":""}]
[{"$nulls":13},{"$f":"IF(LEFT(RIGHT(Candidate!CO609,2),1)<>\"/\",RIGHT(Candidate!CO609,6),INDEX(CandidateFileArray,MATCH(RIGHT(Candidate!CO609,8),CandidateFileList,0),2))","v":""}]
[{"$nulls":13},{"$f":"IF(LEFT(RIGHT(Candidate!CO610,2),1)<>\"/\",RIGHT(Candidate!CO610,6),INDEX(CandidateFileArray,MATCH(RIGHT(Candidate!CO610,8),CandidateFileList,0),2))","v":""}]
[{"$nulls":13},{"$f":"IF(LEFT(RIGHT(Candidate!CO611,2),1)<>\"/\",RIGHT(Candidate!CO611,6),INDEX(CandidateFileArray,MATCH(RIGHT(Candidate!CO611,8),CandidateFileList,0),2))","v":""}]
[{"$nulls":13},{"$f":"IF(LEFT(RIGHT(Candidate!CO612,2),1)<>\"/\",RIGHT(Candidate!CO612,6),INDEX(CandidateFileArray,MATCH(RIGHT(Candidate!CO612,8),CandidateFileList,0),2))","v":""}]
[{"$nulls":13},{"$f":"IF(LEFT(RIGHT(Candidate!CO613,2),1)<>\"/\",RIGHT(Candidate!CO613,6),INDEX(CandidateFileArray,MATCH(RIGHT(Candidate!CO613,8),CandidateFileList,0),2))","v":""}]
[{"$nulls":13},{"$f":"IF(LEFT(RIGHT(Candidate!CO614,2),1)<>\"/\",RIGHT(Candidate!CO614,6),INDEX(CandidateFileArray,MATCH(RIGHT(Candidate!CO614,8),CandidateFileList,0),2))","v":""}]
[{"$nulls":13},{"$f":"IF(LEFT(RIGHT(Candidate!CO615,2),1)<>\"/\",RIGHT(Candidate!CO615,6),INDEX(CandidateFileArray,MATCH(RIGHT(Candidate!CO615,8),CandidateFileList,0),2))","v":""}]
[{"$nulls":13},{"$f":"IF(LEFT(RIGHT(Candidate!CO616,2),1)<>\"/\",RIGHT(Candidate!CO616,6),INDEX(CandidateFileArray,MATCH(RIGHT(Candidate!CO616,8),CandidateFileList,0),2))","v":""}]
[{"$nulls":13},{"$f":"IF(LEFT(RIGHT(Candidate!CO617,2),1)<>\"/\",RIGHT(Candidate!CO617,6),INDEX(CandidateFileArray,MATCH(RIGHT(Candidate!CO617,8),CandidateFileList,0),2))","v":""}]
[{"$nulls":13},{"$f":"IF(LEFT(RIGHT(Candidate!CO618,2),1)<>\"/\",RIGHT(Candidate!CO618,6),INDEX(CandidateFileArray,MATCH(RIGHT(Candidate!CO618,8),CandidateFileList,0),2))","v":""}]
[{"$nulls":13},{"$f":"IF(LEFT(RIGHT(Candidate!CO619,2),1)<>\"/\",RIGHT(Candidate!CO619,6),INDEX(CandidateFileArray,MATCH(RIGHT(Candidate!CO619,8),CandidateFileList,0),2))","v":""}]
[{"$nulls":13},{"$f":"IF(LEFT(RIGHT(Candidate!CO620,2),1)<>\"/\",RIGHT(Candidate!CO620,6),INDEX(CandidateFileArray,MATCH(RIGHT(Candidate!CO620,8),CandidateFileList,0),2))","v":""}]
[{"$nulls":13},{"$f":"IF(LEFT(RIGHT(Candidate!CO621,2),1)<>\"/\",RIGHT(Candidate!CO621,6),INDEX(CandidateFileArray,MATCH(RIGHT(Candidate!CO621,8),CandidateFileList,0),2))","v":""}]
[{"$nulls":13},{"$f":"IF(LEFT(RIGHT(Candidate!CO622,2),1)<>\"/\",RIGHT(Candidate!CO622,6),INDEX(CandidateFileArray,MATCH(RIGHT(Candidate!CO622,8),CandidateFileList,0),2))","v":""}]
[{"$nulls":13},{"$f":"IF(LEFT(RIGHT(Candidate!CO623,2),1)<>\"/\",RIGHT(Candidate!CO623,6),INDEX(CandidateFileArray,MATCH(RIGHT(Candidate!CO623,8),CandidateFileList,0),2))","v":""}]
[{"$nulls":13},{"$f":"IF(LEFT(RIGHT(Candidate!CO624,2),1)<>\"/\",RIGHT(Candidate!CO624,6),INDEX(CandidateFileArray,MATCH(RIGHT(Candidate!CO624,8),CandidateFileList,0),2))","v":""}]
[{"$nulls":13},{"$f":"IF(LEFT(RIGHT(Candidate!CO625,2),1)<>\"/\",RIGHT(Candidate!CO625,6),INDEX(CandidateFileArray,MATCH(RIGHT(Candidate!CO625,8),CandidateFileList,0),2))","v":""}]
[{"$nulls":13},{"$f":"IF(LEFT(RIGHT(Candidate!CO626,2),1)<>\"/\",RIGHT(Candidate!CO626,6),INDEX(CandidateFileArray,MATCH(RIGHT(Candidate!CO626,8),CandidateFileList,0),2))","v":""}]
[{"$nulls":13},{"$f":"IF(LEFT(RIGHT(Candidate!CO627,2),1)<>\"/\",RIGHT(Candidate!CO627,6),INDEX(CandidateFileArray,MATCH(RIGHT(Candidate!CO627,8),CandidateFileList,0),2))","v":""}]
[{"$nulls":13},{"$f":"IF(LEFT(RIGHT(Candidate!CO628,2),1)<>\"/\",RIGHT(Candidate!CO628,6),INDEX(CandidateFileArray,MATCH(RIGHT(Candidate!CO628,8),CandidateFileList,0),2))","v":""}]
[{"$nulls":13},{"$f":"IF(LEFT(RIGHT(Candidate!CO629,2),1)<>\"/\",RIGHT(Candidate!CO629,6),INDEX(CandidateFileArray,MATCH(RIGHT(Candidate!CO629,8),CandidateFileList,0),2))","v":""}]
[{"$nulls":13},{"$f":"IF(LEFT(RIGHT(Candidate!CO630,2),1)<>\"/\",RIGHT(Candidate!CO630,6),INDEX(CandidateFileArray,MATCH(RIGHT(Candidate!CO630,8),CandidateFileList,0),2))","v":""}]
[{"$nulls":13},{"$f":"IF(LEFT(RIGHT(Candidate!CO631,2),1)<>\"/\",RIGHT(Candidate!CO631,6),INDEX(CandidateFileArray,MATCH(RIGHT(Candidate!CO631,8),CandidateFileList,0),2))","v":""}]
[{"$nulls":13},{"$f":"IF(LEFT(RIGHT(Candidate!CO632,2),1)<>\"/\",RIGHT(Candidate!CO632,6),INDEX(CandidateFileArray,MATCH(RIGHT(Candidate!CO632,8),CandidateFileList,0),2))","v":""}]
[{"$nulls":13},{"$f":"IF(LEFT(RIGHT(Candidate!CO633,2),1)<>\"/\",RIGHT(Candidate!CO633,6),INDEX(CandidateFileArray,MATCH(RIGHT(Candidate!CO633,8),CandidateFileList,0),2))","v":""}]
[{"$nulls":13},{"$f":"IF(LEFT(RIGHT(Candidate!CO634,2),1)<>\"/\",RIGHT(Candidate!CO634,6),INDEX(CandidateFileArray,MATCH(RIGHT(Candidate!CO634,8),CandidateFileList,0),2))","v":""}]
[{"$nulls":13},{"$f":"IF(LEFT(RIGHT(Candidate!CO635,2),1)<>\"/\",RIGHT(Candidate!CO635,6),INDEX(CandidateFileArray,MATCH(RIGHT(Candidate!CO635,8),CandidateFileList,0),2))","v":""}]
[{"$nulls":13},{"$f":"IF(LEFT(RIGHT(Candidate!CO636,2),1)<>\"/\",RIGHT(Candidate!CO636,6),INDEX(CandidateFileArray,MATCH(RIGHT(Candidate!CO636,8),CandidateFileList,0),2))","v":""}]
[{"$nulls":13},{"$f":"IF(LEFT(RIGHT(Candidate!CO637,2),1)<>\"/\",RIGHT(Candidate!CO637,6),INDEX(CandidateFileArray,MATCH(RIGHT(Candidate!CO637,8),CandidateFileList,0),2))","v":""}]
[{"$nulls":13},{"$f":"IF(LEFT(RIGHT(Candidate!CO638,2),1)<>\"/\",RIGHT(Candidate!CO638,6),INDEX(CandidateFileArray,MATCH(RIGHT(Candidate!CO638,8),CandidateFileList,0),2))","v":""}]
[{"$nulls":13},{"$f":"IF(LEFT(RIGHT(Candidate!CO639,2),1)<>\"/\",RIGHT(Candidate!CO639,6),INDEX(CandidateFileArray,MATCH(RIGHT(Candidate!CO639,8),CandidateFileList,0),2))","v":""}]
[{"$nulls":13},{"$f":"IF(LEFT(RIGHT(Candidate!CO640,2),1)<>\"/\",RIGHT(Candidate!CO640,6),INDEX(CandidateFileArray,MATCH(RIGHT(Candidate!CO640,8),CandidateFileList,0),2))","v":""}]
[{"$nulls":13},{"$f":"IF(LEFT(RIGHT(Candidate!CO641,2),1)<>\"/\",RIGHT(Candidate!CO641,6),INDEX(CandidateFileArray,MATCH(RIGHT(Candidate!CO641,8),CandidateFileList,0),2))","v":""}]
[{"$nulls":13},{"$f":"IF(LEFT(RIGHT(Candidate!CO642,2),1)<>\"/\",RIGHT(Candidate!CO642,6),INDEX(CandidateFileArray,MATCH(RIGHT(Candidate!CO642,8),CandidateFileList,0),2))","v":""}]
[{"$nulls":13},{"$f":"IF(LEFT(RIGHT(Candidate!CO643,2),1)<>\"/\",RIGHT(Candidate!CO643,6),INDEX(CandidateFileArray,MATCH(RIGHT(Candidate!CO643,8),CandidateFileList,0),2))","v":""}]
[{"$nulls":13},{"$f":"IF(LEFT(RIGHT(Candidate!CO644,2),1)<>\"/\",RIGHT(Candidate!CO644,6),INDEX(CandidateFileArray,MATCH(RIGHT(Candidate!CO644,8),CandidateFileList,0),2))","v":""}]
[{"$nulls":13},{"$f":"IF(LEFT(RIGHT(Candidate!CO645,2),1)<>\"/\",RIGHT(Candidate!CO645,6),INDEX(CandidateFileArray,MATCH(RIGHT(Candidate!CO645,8),CandidateFileList,0),2))","v":""}]
[{"$nulls":13},{"$f":"IF(LEFT(RIGHT(Candidate!CO646,2),1)<>\"/\",RIGHT(Candidate!CO646,6),INDEX(CandidateFileArray,MATCH(RIGHT(Candidate!CO646,8),CandidateFileList,0),2))","v":""}]
[{"$nulls":13},{"$f":"IF(LEFT(RIGHT(Candidate!CO647,2),1)<>\"/\",RIGHT(Candidate!CO647,6),INDEX(CandidateFileArray,MATCH(RIGHT(Candidate!CO647,8),CandidateFileList,0),2))","v":""}]
[{"$nulls":13},{"$f":"IF(LEFT(RIGHT(Candidate!CO648,2),1)<>\"/\",RIGHT(Candidate!CO648,6),INDEX(CandidateFileArray,MATCH(RIGHT(Candidate!CO648,8),CandidateFileList,0),2))","v":""}]
[{"$nulls":13},{"$f":"IF(LEFT(RIGHT(Candidate!CO649,2),1)<>\"/\",RIGHT(Candidate!CO649,6),INDEX(CandidateFileArray,MATCH(RIGHT(Candidate!CO649,8),CandidateFileList,0),2))","v":""}]
[{"$nulls":13},{"$f":"IF(LEFT(RIGHT(Candidate!CO650,2),1)<>\"/\",RIGHT(Candidate!CO650,6),INDEX(CandidateFileArray,MATCH(RIGHT(Candidate!CO650,8),CandidateFileList,0),2))","v":""}]
[{"$nulls":13},{"$f":"IF(LEFT(RIGHT(Candidate!CO651,2),1)<>\"/\",RIGHT(Candidate!CO651,6),INDEX(CandidateFileArray,MATCH(RIGHT(Candidate!CO651,8),CandidateFileList,0),2))","v":""}]
[{"$nulls":13},{"$f":"IF(LEFT(RIGHT(Candidate!CO652,2),1)<>\"/\",RIGHT(Candidate!CO652,6),INDEX(CandidateFileArray,MATCH(RIGHT(Candidate!CO652,8),CandidateFileList,0),2))","v":""}]
[{"$nulls":13},{"$f":"IF(LEFT(RIGHT(Candidate!CO653,2),1)<>\"/\",RIGHT(Candidate!CO653,6),INDEX(CandidateFileArray,MATCH(RIGHT(Candidate!CO653,8),CandidateFileList,0),2))","v":""}]
[{"$nulls":13},{"$f":"IF(LEFT(RIGHT(Candidate!CO654,2),1)<>\"/\",RIGHT(Candidate!CO654,6),INDEX(CandidateFileArray,MATCH(RIGHT(Candidate!CO654,8),CandidateFileList,0),2))","v":""}]
[{"$nulls":13},{"$f":"IF(LEFT(RIGHT(Candidate!CO655,2),1)<>\"/\",RIGHT(Candidate!CO655,6),INDEX(CandidateFileArray,MATCH(RIGHT(Candidate!CO655,8),CandidateFileList,0),2))","v":""}]
[{"$nulls":13},{"$f":"IF(LEFT(RIGHT(Candidate!CO656,2),1)<>\"/\",RIGHT(Candidate!CO656,6),INDEX(CandidateFileArray,MATCH(RIGHT(Candidate!CO656,8),CandidateFileList,0),2))","v":""}]
[{"$nulls":13},{"$f":"IF(LEFT(RIGHT(Candidate!CO657,2),1)<>\"/\",RIGHT(Candidate!CO657,6),INDEX(CandidateFileArray,MATCH(RIGHT(Candidate!CO657,8),CandidateFileList,0),2))","v":""}]
[{"$nulls":13},{"$f":"IF(LEFT(RIGHT(Candidate!CO658,2),1)<>\"/\",RIGHT(Candidate!CO658,6),INDEX(CandidateFileArray,MATCH(RIGHT(Candidate!CO658,8),CandidateFileList,0),2))","v":""}]
[{"$nulls":13},{"$f":"IF(LEFT(RIGHT(Candidate!CO659,2),1)<>\"/\",RIGHT(Candidate!CO659,6),INDEX(CandidateFileArray,MATCH(RIGHT(Candidate!CO659,8),CandidateFileList,0),2))","v":""}]
[{"$nulls":13},{"$f":"IF(LEFT(RIGHT(Candidate!CO660,2),1)<>\"/\",RIGHT(Candidate!CO660,6),INDEX(CandidateFileArray,MATCH(RIGHT(Candidate!CO660,8),CandidateFileList,0),2))","v":""}]
[{"$nulls":13},{"$f":"IF(LEFT(RIGHT(Candidate!CO661,2),1)<>\"/\",RIGHT(Candidate!CO661,6),INDEX(CandidateFileArray,MATCH(RIGHT(Candidate!CO661,8),CandidateFileList,0),2))","v":""}]
[{"$nulls":13},{"$f":"IF(LEFT(RIGHT(Candidate!CO662,2),1)<>\"/\",RIGHT(Candidate!CO662,6),INDEX(CandidateFileArray,MATCH(RIGHT(Candidate!CO662,8),CandidateFileList,0),2))","v":""}]
[{"$nulls":13},{"$f":"IF(LEFT(RIGHT(Candidate!CO663,2),1)<>\"/\",RIGHT(Candidate!CO663,6),INDEX(CandidateFileArray,MATCH(RIGHT(Candidate!CO663,8),CandidateFileList,0),2))","v":""}]
[{"$nulls":13},{"$f":"IF(LEFT(RIGHT(Candidate!CO664,2),1)<>\"/\",RIGHT(Candidate!CO664,6),INDEX(CandidateFileArray,MATCH(RIGHT(Candidate!CO664,8),CandidateFileList,0),2))","v":""}]
[{"$nulls":13},{"$f":"IF(LEFT(RIGHT(Candidate!CO665,2),1)<>\"/\",RIGHT(Candidate!CO665,6),INDEX(CandidateFileArray,MATCH(RIGHT(Candidate!CO665,8),CandidateFileList,0),2))","v":""}]
[{"$nulls":13},{"$f":"IF(LEFT(RIGHT(Candidate!CO666,2),1)<>\"/\",RIGHT(Candidate!CO666,6),INDEX(CandidateFileArray,MATCH(RIGHT(Candidate!CO666,8),CandidateFileList,0),2))","v":""}]
[{"$nulls":13},{"$f":"IF(LEFT(RIGHT(Candidate!CO667,2),1)<>\"/\",RIGHT(Candidate!CO667,6),INDEX(CandidateFileArray,MATCH(RIGHT(Candidate!CO667,8),CandidateFileList,0),2))","v":""}]
[{"$nulls":13},{"$f":"IF(LEFT(RIGHT(Candidate!CO668,2),1)<>\"/\",RIGHT(Candidate!CO668,6),INDEX(CandidateFileArray,MATCH(RIGHT(Candidate!CO668,8),CandidateFileList,0),2))","v":""}]
[{"$nulls":13},{"$f":"IF(LEFT(RIGHT(Candidate!CO669,2),1)<>\"/\",RIGHT(Candidate!CO669,6),INDEX(CandidateFileArray,MATCH(RIGHT(Candidate!CO669,8),CandidateFileList,0),2))","v":""}]
[{"$nulls":13},{"$f":"IF(LEFT(RIGHT(Candidate!CO670,2),1)<>\"/\",RIGHT(Candidate!CO670,6),INDEX(CandidateFileArray,MATCH(RIGHT(Candidate!CO670,8),CandidateFileList,0),2))","v":""}]
[{"$nulls":13},{"$f":"IF(LEFT(RIGHT(Candidate!CO671,2),1)<>\"/\",RIGHT(Candidate!CO671,6),INDEX(CandidateFileArray,MATCH(RIGHT(Candidate!CO671,8),CandidateFileList,0),2))","v":""}]
[{"$nulls":13},{"$f":"IF(LEFT(RIGHT(Candidate!CO672,2),1)<>\"/\",RIGHT(Candidate!CO672,6),INDEX(CandidateFileArray,MATCH(RIGHT(Candidate!CO672,8),CandidateFileList,0),2))","v":""}]
[{"$nulls":13},{"$f":"IF(LEFT(RIGHT(Candidate!CO673,2),1)<>\"/\",RIGHT(Candidate!CO673,6),INDEX(CandidateFileArray,MATCH(RIGHT(Candidate!CO673,8),CandidateFileList,0),2))","v":""}]
[{"$nulls":13},{"$f":"IF(LEFT(RIGHT(Candidate!CO674,2),1)<>\"/\",RIGHT(Candidate!CO674,6),INDEX(CandidateFileArray,MATCH(RIGHT(Candidate!CO674,8),CandidateFileList,0),2))","v":""}]
[{"$nulls":13},{"$f":"IF(LEFT(RIGHT(Candidate!CO675,2),1)<>\"/\",RIGHT(Candidate!CO675,6),INDEX(CandidateFileArray,MATCH(RIGHT(Candidate!CO675,8),CandidateFileList,0),2))","v":""}]
[{"$nulls":13},{"$f":"IF(LEFT(RIGHT(Candidate!CO676,2),1)<>\"/\",RIGHT(Candidate!CO676,6),INDEX(CandidateFileArray,MATCH(RIGHT(Candidate!CO676,8),CandidateFileList,0),2))","v":""}]
[{"$nulls":13},{"$f":"IF(LEFT(RIGHT(Candidate!CO677,2),1)<>\"/\",RIGHT(Candidate!CO677,6),INDEX(CandidateFileArray,MATCH(RIGHT(Candidate!CO677,8),CandidateFileList,0),2))","v":""}]
[{"$nulls":13},{"$f":"IF(LEFT(RIGHT(Candidate!CO678,2),1)<>\"/\",RIGHT(Candidate!CO678,6),INDEX(CandidateFileArray,MATCH(RIGHT(Candidate!CO678,8),CandidateFileList,0),2))","v":""}]
[{"$nulls":13},{"$f":"IF(LEFT(RIGHT(Candidate!CO679,2),1)<>\"/\",RIGHT(Candidate!CO679,6),INDEX(CandidateFileArray,MATCH(RIGHT(Candidate!CO679,8),CandidateFileList,0),2))","v":""}]
[{"$nulls":13},{"$f":"IF(LEFT(RIGHT(Candidate!CO680,2),1)<>\"/\",RIGHT(Candidate!CO680,6),INDEX(CandidateFileArray,MATCH(RIGHT(Candidate!CO680,8),CandidateFileList,0),2))","v":""}]
[{"$nulls":13},{"$f":"IF(LEFT(RIGHT(Candidate!CO681,2),1)<>\"/\",RIGHT(Candidate!CO681,6),INDEX(CandidateFileArray,MATCH(RIGHT(Candidate!CO681,8),CandidateFileList,0),2))","v":""}]
[{"$nulls":13},{"$f":"IF(LEFT(RIGHT(Candidate!CO682,2),1)<>\"/\",RIGHT(Candidate!CO682,6),INDEX(CandidateFileArray,MATCH(RIGHT(Candidate!CO682,8),CandidateFileList,0),2))","v":""}]
[{"$nulls":13},{"$f":"IF(LEFT(RIGHT(Candidate!CO683,2),1)<>\"/\",RIGHT(Candidate!CO683,6),INDEX(CandidateFileArray,MATCH(RIGHT(Candidate!CO683,8),CandidateFileList,0),2))","v":""}]
[{"$nulls":13},{"$f":"IF(LEFT(RIGHT(Candidate!CO684,2),1)<>\"/\",RIGHT(Candidate!CO684,6),INDEX(CandidateFileArray,MATCH(RIGHT(Candidate!CO684,8),CandidateFileList,0),2))","v":""}]
[{"$nulls":13},{"$f":"IF(LEFT(RIGHT(Candidate!CO685,2),1)<>\"/\",RIGHT(Candidate!CO685,6),INDEX(CandidateFileArray,MATCH(RIGHT(Candidate!CO685,8),CandidateFileList,0),2))","v":""}]
[{"$nulls":13},{"$f":"IF(LEFT(RIGHT(Candidate!CO686,2),1)<>\"/\",RIGHT(Candidate!CO686,6),INDEX(CandidateFileArray,MATCH(RIGHT(Candidate!CO686,8),CandidateFileList,0),2))","v":""}]
[{"$nulls":13},{"$f":"IF(LEFT(RIGHT(Candidate!CO687,2),1)<>\"/\",RIGHT(Candidate!CO687,6),INDEX(CandidateFileArray,MATCH(RIGHT(Candidate!CO687,8),CandidateFileList,0),2))","v":""}]
[{"$nulls":13},{"$f":"IF(LEFT(RIGHT(Candidate!CO688,2),1)<>\"/\",RIGHT(Candidate!CO688,6),INDEX(CandidateFileArray,MATCH(RIGHT(Candidate!CO688,8),CandidateFileList,0),2))","v":""}]
[{"$nulls":13},{"$f":"IF(LEFT(RIGHT(Candidate!CO689,2),1)<>\"/\",RIGHT(Candidate!CO689,6),INDEX(CandidateFileArray,MATCH(RIGHT(Candidate!CO689,8),CandidateFileList,0),2))","v":""}]
[{"$nulls":13},{"$f":"IF(LEFT(RIGHT(Candidate!CO690,2),1)<>\"/\",RIGHT(Candidate!CO690,6),INDEX(CandidateFileArray,MATCH(RIGHT(Candidate!CO690,8),CandidateFileList,0),2))","v":""}]
[{"$nulls":13},{"$f":"IF(LEFT(RIGHT(Candidate!CO691,2),1)<>\"/\",RIGHT(Candidate!CO691,6),INDEX(CandidateFileArray,MATCH(RIGHT(Candidate!CO691,8),CandidateFileList,0),2))","v":""}]
[{"$nulls":13},{"$f":"IF(LEFT(RIGHT(Candidate!CO692,2),1)<>\"/\",RIGHT(Candidate!CO692,6),INDEX(CandidateFileArray,MATCH(RIGHT(Candidate!CO692,8),CandidateFileList,0),2))","v":""}]
[{"$nulls":13},{"$f":"IF(LEFT(RIGHT(Candidate!CO693,2),1)<>\"/\",RIGHT(Candidate!CO693,6),INDEX(CandidateFileArray,MATCH(RIGHT(Candidate!CO693,8),CandidateFileList,0),2))","v":""}]
[{"$nulls":13},{"$f":"IF(LEFT(RIGHT(Candidate!CO694,2),1)<>\"/\",RIGHT(Candidate!CO694,6),INDEX(CandidateFileArray,MATCH(RIGHT(Candidate!CO694,8),CandidateFileList,0),2))","v":""}]
[{"$nulls":13},{"$f":"IF(LEFT(RIGHT(Candidate!CO695,2),1)<>\"/\",RIGHT(Candidate!CO695,6),INDEX(CandidateFileArray,MATCH(RIGHT(Candidate!CO695,8),CandidateFileList,0),2))","v":""}]
[{"$nulls":13},{"$f":"IF(LEFT(RIGHT(Candidate!CO696,2),1)<>\"/\",RIGHT(Candidate!CO696,6),INDEX(CandidateFileArray,MATCH(RIGHT(Candidate!CO696,8),CandidateFileList,0),2))","v":""}]
[{"$nulls":13},{"$f":"IF(LEFT(RIGHT(Candidate!CO697,2),1)<>\"/\",RIGHT(Candidate!CO697,6),INDEX(CandidateFileArray,MATCH(RIGHT(Candidate!CO697,8),CandidateFileList,0),2))","v":""}]
[{"$nulls":13},{"$f":"IF(LEFT(RIGHT(Candidate!CO698,2),1)<>\"/\",RIGHT(Candidate!CO698,6),INDEX(CandidateFileArray,MATCH(RIGHT(Candidate!CO698,8),CandidateFileList,0),2))","v":""}]
[{"$nulls":13},{"$f":"IF(LEFT(RIGHT(Candidate!CO699,2),1)<>\"/\",RIGHT(Candidate!CO699,6),INDEX(CandidateFileArray,MATCH(RIGHT(Candidate!CO699,8),CandidateFileList,0),2))","v":""}]
[{"$nulls":13},{"$f":"IF(LEFT(RIGHT(Candidate!CO700,2),1)<>\"/\",RIGHT(Candidate!CO700,6),INDEX(CandidateFileArray,MATCH(RIGHT(Candidate!CO700,8),CandidateFileList,0),2))","v":""}]
[{"$nulls":13},{"$f":"IF(LEFT(RIGHT(Candidate!CO701,2),1)<>\"/\",RIGHT(Candidate!CO701,6),INDEX(CandidateFileArray,MATCH(RIGHT(Candidate!CO701,8),CandidateFileList,0),2))","v":""}]
[{"$nulls":13},{"$f":"IF(LEFT(RIGHT(Candidate!CO702,2),1)<>\"/\",RIGHT(Candidate!CO702,6),INDEX(CandidateFileArray,MATCH(RIGHT(Candidate!CO702,8),CandidateFileList,0),2))","v":""}]
[{"$nulls":13},{"$f":"IF(LEFT(RIGHT(Candidate!CO703,2),1)<>\"/\",RIGHT(Candidate!CO703,6),INDEX(CandidateFileArray,MATCH(RIGHT(Candidate!CO703,8),CandidateFileList,0),2))","v":""}]
[{"$nulls":13},{"$f":"IF(LEFT(RIGHT(Candidate!CO704,2),1)<>\"/\",RIGHT(Candidate!CO704,6),INDEX(CandidateFileArray,MATCH(RIGHT(Candidate!CO704,8),CandidateFileList,0),2))","v":""}]
[{"$nulls":13},{"$f":"IF(LEFT(RIGHT(Candidate!CO705,2),1)<>\"/\",RIGHT(Candidate!CO705,6),INDEX(CandidateFileArray,MATCH(RIGHT(Candidate!CO705,8),CandidateFileList,0),2))","v":""}]
[{"$nulls":13},{"$f":"IF(LEFT(RIGHT(Candidate!CO706,2),1)<>\"/\",RIGHT(Candidate!CO706,6),INDEX(CandidateFileArray,MATCH(RIGHT(Candidate!CO706,8),CandidateFileList,0),2))","v":""}]
[{"$nulls":13},{"$f":"IF(LEFT(RIGHT(Candidate!CO707,2),1)<>\"/\",RIGHT(Candidate!CO707,6),INDEX(CandidateFileArray,MATCH(RIGHT(Candidate!CO707,8),CandidateFileList,0),2))","v":""}]
[{"$nulls":13},{"$f":"IF(LEFT(RIGHT(Candidate!CO708,2),1)<>\"/\",RIGHT(Candidate!CO708,6),INDEX(CandidateFileArray,MATCH(RIGHT(Candidate!CO708,8),CandidateFileList,0),2))","v":""}]
[{"$nulls":13},{"$f":"IF(LEFT(RIGHT(Candidate!CO709,2),1)<>\"/\",RIGHT(Candidate!CO709,6),INDEX(CandidateFileArray,MATCH(RIGHT(Candidate!CO709,8),CandidateFileList,0),2))","v":""}]
[{"$nulls":13},{"$f":"IF(LEFT(RIGHT(Candidate!CO710,2),1)<>\"/\",RIGHT(Candidate!CO710,6),INDEX(CandidateFileArray,MATCH(RIGHT(Candidate!CO710,8),CandidateFileList,0),2))","v":""}]
[{"$nulls":13},{"$f":"IF(LEFT(RIGHT(Candidate!CO711,2),1)<>\"/\",RIGHT(Candidate!CO711,6),INDEX(CandidateFileArray,MATCH(RIGHT(Candidate!CO711,8),CandidateFileList,0),2))","v":""}]
[{"$nulls":13},{"$f":"IF(LEFT(RIGHT(Candidate!CO712,2),1)<>\"/\",RIGHT(Candidate!CO712,6),INDEX(CandidateFileArray,MATCH(RIGHT(Candidate!CO712,8),CandidateFileList,0),2))","v":""}]
[{"$nulls":13},{"$f":"IF(LEFT(RIGHT(Candidate!CO713,2),1)<>\"/\",RIGHT(Candidate!CO713,6),INDEX(CandidateFileArray,MATCH(RIGHT(Candidate!CO713,8),CandidateFileList,0),2))","v":""}]
[{"$nulls":13},{"$f":"IF(LEFT(RIGHT(Candidate!CO714,2),1)<>\"/\",RIGHT(Candidate!CO714,6),INDEX(CandidateFileArray,MATCH(RIGHT(Candidate!CO714,8),CandidateFileList,0),2))","v":""}]
[{"$nulls":13},{"$f":"IF(LEFT(RIGHT(Candidate!CO715,2),1)<>\"/\",RIGHT(Candidate!CO715,6),INDEX(CandidateFileArray,MATCH(RIGHT(Candidate!CO715,8),CandidateFileList,0),2))","v":""}]
[{"$nulls":13},{"$f":"IF(LEFT(RIGHT(Candidate!CO716,2),1)<>\"/\",RIGHT(Candidate!CO716,6),INDEX(CandidateFileArray,MATCH(RIGHT(Candidate!CO716,8),CandidateFileList,0),2))","v":""}]
[{"$nulls":13},{"$f":"IF(LEFT(RIGHT(Candidate!CO717,2),1)<>\"/\",RIGHT(Candidate!CO717,6),INDEX(CandidateFileArray,MATCH(RIGHT(Candidate!CO717,8),CandidateFileList,0),2))","v":""}]
[{"$nulls":13},{"$f":"IF(LEFT(RIGHT(Candidate!CO718,2),1)<>\"/\",RIGHT(Candidate!CO718,6),INDEX(CandidateFileArray,MATCH(RIGHT(Candidate!CO718,8),CandidateFileList,0),2))","v":""}]
[{"$nulls":13},{"$f":"IF(LEFT(RIGHT(Candidate!CO719,2),1)<>\"/\",RIGHT(Candidate!CO719,6),INDEX(CandidateFileArray,MATCH(RIGHT(Candidate!CO719,8),CandidateFileList,0),2))","v":""}]
[{"$nulls":13},{"$f":"IF(LEFT(RIGHT(Candidate!CO720,2),1)<>\"/\",RIGHT(Candidate!CO720,6),INDEX(CandidateFileArray,MATCH(RIGHT(Candidate!CO720,8),CandidateFileList,0),2))","v":""}]
[{"$nulls":13},{"$f":"IF(LEFT(RIGHT(Candidate!CO721,2),1)<>\"/\",RIGHT(Candidate!CO721,6),INDEX(CandidateFileArray,MATCH(RIGHT(Candidate!CO721,8),CandidateFileList,0),2))","v":""}]
[{"$nulls":13},{"$f":"IF(LEFT(RIGHT(Candidate!CO722,2),1)<>\"/\",RIGHT(Candidate!CO722,6),INDEX(CandidateFileArray,MATCH(RIGHT(Candidate!CO722,8),CandidateFileList,0),2))","v":""}]
[{"$nulls":13},{"$f":"IF(LEFT(RIGHT(Candidate!CO723,2),1)<>\"/\",RIGHT(Candidate!CO723,6),INDEX(CandidateFileArray,MATCH(RIGHT(Candidate!CO723,8),CandidateFileList,0),2))","v":""}]
[{"$nulls":13},{"$f":"IF(LEFT(RIGHT(Candidate!CO724,2),1)<>\"/\",RIGHT(Candidate!CO724,6),INDEX(CandidateFileArray,MATCH(RIGHT(Candidate!CO724,8),CandidateFileList,0),2))","v":""}]
[{"$nulls":13},{"$f":"IF(LEFT(RIGHT(Candidate!CO725,2),1)<>\"/\",RIGHT(Candidate!CO725,6),INDEX(CandidateFileArray,MATCH(RIGHT(Candidate!CO725,8),CandidateFileList,0),2))","v":""}]
[{"$nulls":13},{"$f":"IF(LEFT(RIGHT(Candidate!CO726,2),1)<>\"/\",RIGHT(Candidate!CO726,6),INDEX(CandidateFileArray,MATCH(RIGHT(Candidate!CO726,8),CandidateFileList,0),2))","v":""}]
[{"$nulls":13},{"$f":"IF(LEFT(RIGHT(Candidate!CO727,2),1)<>\"/\",RIGHT(Candidate!CO727,6),INDEX(CandidateFileArray,MATCH(RIGHT(Candidate!CO727,8),CandidateFileList,0),2))","v":""}]
[{"$nulls":13},{"$f":"IF(LEFT(RIGHT(Candidate!CO728,2),1)<>\"/\",RIGHT(Candidate!CO728,6),INDEX(CandidateFileArray,MATCH(RIGHT(Candidate!CO728,8),CandidateFileList,0),2))","v":""}]
[{"$nulls":13},{"$f":"IF(LEFT(RIGHT(Candidate!CO729,2),1)<>\"/\",RIGHT(Candidate!CO729,6),INDEX(CandidateFileArray,MATCH(RIGHT(Candidate!CO729,8),CandidateFileList,0),2))","v":""}]
[{"$nulls":13},{"$f":"IF(LEFT(RIGHT(Candidate!CO730,2),1)<>\"/\",RIGHT(Candidate!CO730,6),INDEX(CandidateFileArray,MATCH(RIGHT(Candidate!CO730,8),CandidateFileList,0),2))","v":""}]
[{"$nulls":13},{"$f":"IF(LEFT(RIGHT(Candidate!CO731,2),1)<>\"/\",RIGHT(Candidate!CO731,6),INDEX(CandidateFileArray,MATCH(RIGHT(Candidate!CO731,8),CandidateFileList,0),2))","v":""}]
[{"$nulls":13},{"$f":"IF(LEFT(RIGHT(Candidate!CO732,2),1)<>\"/\",RIGHT(Candidate!CO732,6),INDEX(CandidateFileArray,MATCH(RIGHT(Candidate!CO732,8),CandidateFileList,0),2))","v":""}]
[{"$nulls":13},{"$f":"IF(LEFT(RIGHT(Candidate!CO733,2),1)<>\"/\",RIGHT(Candidate!CO733,6),INDEX(CandidateFileArray,MATCH(RIGHT(Candidate!CO733,8),CandidateFileList,0),2))","v":""}]
[{"$nulls":13},{"$f":"IF(LEFT(RIGHT(Candidate!CO734,2),1)<>\"/\",RIGHT(Candidate!CO734,6),INDEX(CandidateFileArray,MATCH(RIGHT(Candidate!CO734,8),CandidateFileList,0),2))","v":""}]
[{"$nulls":13},{"$f":"IF(LEFT(RIGHT(Candidate!CO735,2),1)<>\"/\",RIGHT(Candidate!CO735,6),INDEX(CandidateFileArray,MATCH(RIGHT(Candidate!CO735,8),CandidateFileList,0),2))","v":""}]
[{"$nulls":13},{"$f":"IF(LEFT(RIGHT(Candidate!CO736,2),1)<>\"/\",RIGHT(Candidate!CO736,6),INDEX(CandidateFileArray,MATCH(RIGHT(Candidate!CO736,8),CandidateFileList,0),2))","v":""}]
[{"$nulls":13},{"$f":"IF(LEFT(RIGHT(Candidate!CO737,2),1)<>\"/\",RIGHT(Candidate!CO737,6),INDEX(CandidateFileArray,MATCH(RIGHT(Candidate!CO737,8),CandidateFileList,0),2))","v":""}]
[{"$nulls":13},{"$f":"IF(LEFT(RIGHT(Candidate!CO738,2),1)<>\"/\",RIGHT(Candidate!CO738,6),INDEX(CandidateFileArray,MATCH(RIGHT(Candidate!CO738,8),CandidateFileList,0),2))","v":""}]
[{"$nulls":13},{"$f":"IF(LEFT(RIGHT(Candidate!CO739,2),1)<>\"/\",RIGHT(Candidate!CO739,6),INDEX(CandidateFileArray,MATCH(RIGHT(Candidate!CO739,8),CandidateFileList,0),2))","v":""}]
[{"$nulls":13},{"$f":"IF(LEFT(RIGHT(Candidate!CO740,2),1)<>\"/\",RIGHT(Candidate!CO740,6),INDEX(CandidateFileArray,MATCH(RIGHT(Candidate!CO740,8),CandidateFileList,0),2))","v":""}]
[{"$nulls":13},{"$f":"IF(LEFT(RIGHT(Candidate!CO741,2),1)<>\"/\",RIGHT(Candidate!CO741,6),INDEX(CandidateFileArray,MATCH(RIGHT(Candidate!CO741,8),CandidateFileList,0),2))","v":""}]
[{"$nulls":13},{"$f":"IF(LEFT(RIGHT(Candidate!CO742,2),1)<>\"/\",RIGHT(Candidate!CO742,6),INDEX(CandidateFileArray,MATCH(RIGHT(Candidate!CO742,8),CandidateFileList,0),2))","v":""}]
[{"$nulls":13},{"$f":"IF(LEFT(RIGHT(Candidate!CO743,2),1)<>\"/\",RIGHT(Candidate!CO743,6),INDEX(CandidateFileArray,MATCH(RIGHT(Candidate!CO743,8),CandidateFileList,0),2))","v":""}]
[{"$nulls":13},{"$f":"IF(LEFT(RIGHT(Candidate!CO744,2),1)<>\"/\",RIGHT(Candidate!CO744,6),INDEX(CandidateFileArray,MATCH(RIGHT(Candidate!CO744,8),CandidateFileList,0),2))","v":""}]
[{"$nulls":13},{"$f":"IF(LEFT(RIGHT(Candidate!CO745,2),1)<>\"/\",RIGHT(Candidate!CO745,6),INDEX(CandidateFileArray,MATCH(RIGHT(Candidate!CO745,8),CandidateFileList,0),2))","v":""}]
[{"$nulls":13},{"$f":"IF(LEFT(RIGHT(Candidate!CO746,2),1)<>\"/\",RIGHT(Candidate!CO746,6),INDEX(CandidateFileArray,MATCH(RIGHT(Candidate!CO746,8),CandidateFileList,0),2))","v":""}]
[{"$nulls":13},{"$f":"IF(LEFT(RIGHT(Candidate!CO747,2),1)<>\"/\",RIGHT(Candidate!CO747,6),INDEX(CandidateFileArray,MATCH(RIGHT(Candidate!CO747,8),CandidateFileList,0),2))","v":""}]
[{"$nulls":13},{"$f":"IF(LEFT(RIGHT(Candidate!CO748,2),1)<>\"/\",RIGHT(Candidate!CO748,6),INDEX(CandidateFileArray,MATCH(RIGHT(Candidate!CO748,8),CandidateFileList,0),2))","v":""}]
[{"$nulls":13},{"$f":"IF(LEFT(RIGHT(Candidate!CO749,2),1)<>\"/\",RIGHT(Candidate!CO749,6),INDEX(CandidateFileArray,MATCH(RIGHT(Candidate!CO749,8),CandidateFileList,0),2))","v":""}]
[{"$nulls":13},{"$f":"IF(LEFT(RIGHT(Candidate!CO750,2),1)<>\"/\",RIGHT(Candidate!CO750,6),INDEX(CandidateFileArray,MATCH(RIGHT(Candidate!CO750,8),CandidateFileList,0),2))","v":""}]
[{"$nulls":13},{"$f":"IF(LEFT(RIGHT(Candidate!CO751,2),1)<>\"/\",RIGHT(Candidate!CO751,6),INDEX(CandidateFileArray,MATCH(RIGHT(Candidate!CO751,8),CandidateFileList,0),2))","v":""}]
[{"$nulls":13},{"$f":"IF(LEFT(RIGHT(Candidate!CO752,2),1)<>\"/\",RIGHT(Candidate!CO752,6),INDEX(CandidateFileArray,MATCH(RIGHT(Candidate!CO752,8),CandidateFileList,0),2))","v":""}]
[{"$nulls":13},{"$f":"IF(LEFT(RIGHT(Candidate!CO753,2),1)<>\"/\",RIGHT(Candidate!CO753,6),INDEX(CandidateFileArray,MATCH(RIGHT(Candidate!CO753,8),CandidateFileList,0),2))","v":""}]
[{"$nulls":13},{"$f":"IF(LEFT(RIGHT(Candidate!CO754,2),1)<>\"/\",RIGHT(Candidate!CO754,6),INDEX(CandidateFileArray,MATCH(RIGHT(Candidate!CO754,8),CandidateFileList,0),2))","v":""}]
[{"$nulls":13},{"$f":"IF(LEFT(RIGHT(Candidate!CO755,2),1)<>\"/\",RIGHT(Candidate!CO755,6),INDEX(CandidateFileArray,MATCH(RIGHT(Candidate!CO755,8),CandidateFileList,0),2))","v":""}]
[{"$nulls":13},{"$f":"IF(LEFT(RIGHT(Candidate!CO756,2),1)<>\"/\",RIGHT(Candidate!CO756,6),INDEX(CandidateFileArray,MATCH(RIGHT(Candidate!CO756,8),CandidateFileList,0),2))","v":""}]
[{"$nulls":13},{"$f":"IF(LEFT(RIGHT(Candidate!CO757,2),1)<>\"/\",RIGHT(Candidate!CO757,6),INDEX(CandidateFileArray,MATCH(RIGHT(Candidate!CO757,8),CandidateFileList,0),2))","v":""}]
[{"$nulls":13},{"$f":"IF(LEFT(RIGHT(Candidate!CO758,2),1)<>\"/\",RIGHT(Candidate!CO758,6),INDEX(CandidateFileArray,MATCH(RIGHT(Candidate!CO758,8),CandidateFileList,0),2))","v":""}]
[{"$nulls":13},{"$f":"IF(LEFT(RIGHT(Candidate!CO759,2),1)<>\"/\",RIGHT(Candidate!CO759,6),INDEX(CandidateFileArray,MATCH(RIGHT(Candidate!CO759,8),CandidateFileList,0),2))","v":""}]
[{"$nulls":13},{"$f":"IF(LEFT(RIGHT(Candidate!CO760,2),1)<>\"/\",RIGHT(Candidate!CO760,6),INDEX(CandidateFileArray,MATCH(RIGHT(Candidate!CO760,8),CandidateFileList,0),2))","v":""}]
[{"$nulls":13},{"$f":"IF(LEFT(RIGHT(Candidate!CO761,2),1)<>\"/\",RIGHT(Candidate!CO761,6),INDEX(CandidateFileArray,MATCH(RIGHT(Candidate!CO761,8),CandidateFileList,0),2))","v":""}]
[{"$nulls":13},{"$f":"IF(LEFT(RIGHT(Candidate!CO762,2),1)<>\"/\",RIGHT(Candidate!CO762,6),INDEX(CandidateFileArray,MATCH(RIGHT(Candidate!CO762,8),CandidateFileList,0),2))","v":""}]
[{"$nulls":13},{"$f":"IF(LEFT(RIGHT(Candidate!CO763,2),1)<>\"/\",RIGHT(Candidate!CO763,6),INDEX(CandidateFileArray,MATCH(RIGHT(Candidate!CO763,8),CandidateFileList,0),2))","v":""}]
[{"$nulls":13},{"$f":"IF(LEFT(RIGHT(Candidate!CO764,2),1)<>\"/\",RIGHT(Candidate!CO764,6),INDEX(CandidateFileArray,MATCH(RIGHT(Candidate!CO764,8),CandidateFileList,0),2))","v":""}]
[{"$nulls":13},{"$f":"IF(LEFT(RIGHT(Candidate!CO765,2),1)<>\"/\",RIGHT(Candidate!CO765,6),INDEX(CandidateFileArray,MATCH(RIGHT(Candidate!CO765,8),CandidateFileList,0),2))","v":""}]
[{"$nulls":13},{"$f":"IF(LEFT(RIGHT(Candidate!CO766,2),1)<>\"/\",RIGHT(Candidate!CO766,6),INDEX(CandidateFileArray,MATCH(RIGHT(Candidate!CO766,8),CandidateFileList,0),2))","v":""}]
[{"$nulls":13},{"$f":"IF(LEFT(RIGHT(Candidate!CO767,2),1)<>\"/\",RIGHT(Candidate!CO767,6),INDEX(CandidateFileArray,MATCH(RIGHT(Candidate!CO767,8),CandidateFileList,0),2))","v":""}]
[{"$nulls":13},{"$f":"IF(LEFT(RIGHT(Candidate!CO768,2),1)<>\"/\",RIGHT(Candidate!CO768,6),INDEX(CandidateFileArray,MATCH(RIGHT(Candidate!CO768,8),CandidateFileList,0),2))","v":""}]
[{"$nulls":13},{"$f":"IF(LEFT(RIGHT(Candidate!CO769,2),1)<>\"/\",RIGHT(Candidate!CO769,6),INDEX(CandidateFileArray,MATCH(RIGHT(Candidate!CO769,8),CandidateFileList,0),2))","v":""}]
[{"$nulls":13},{"$f":"IF(LEFT(RIGHT(Candidate!CO770,2),1)<>\"/\",RIGHT(Candidate!CO770,6),INDEX(CandidateFileArray,MATCH(RIGHT(Candidate!CO770,8),CandidateFileList,0),2))","v":""}]
[{"$nulls":13},{"$f":"IF(LEFT(RIGHT(Candidate!CO771,2),1)<>\"/\",RIGHT(Candidate!CO771,6),INDEX(CandidateFileArray,MATCH(RIGHT(Candidate!CO771,8),CandidateFileList,0),2))","v":""}]
[{"$nulls":13},{"$f":"IF(LEFT(RIGHT(Candidate!CO772,2),1)<>\"/\",RIGHT(Candidate!CO772,6),INDEX(CandidateFileArray,MATCH(RIGHT(Candidate!CO772,8),CandidateFileList,0),2))","v":""}]
[{"$nulls":13},{"$f":"IF(LEFT(RIGHT(Candidate!CO773,2),1)<>\"/\",RIGHT(Candidate!CO773,6),INDEX(CandidateFileArray,MATCH(RIGHT(Candidate!CO773,8),CandidateFileList,0),2))","v":""}]
[{"$nulls":13},{"$f":"IF(LEFT(RIGHT(Candidate!CO774,2),1)<>\"/\",RIGHT(Candidate!CO774,6),INDEX(CandidateFileArray,MATCH(RIGHT(Candidate!CO774,8),CandidateFileList,0),2))","v":""}]
[{"$nulls":13},{"$f":"IF(LEFT(RIGHT(Candidate!CO775,2),1)<>\"/\",RIGHT(Candidate!CO775,6),INDEX(CandidateFileArray,MATCH(RIGHT(Candidate!CO775,8),CandidateFileList,0),2))","v":""}]
[{"$nulls":13},{"$f":"IF(LEFT(RIGHT(Candidate!CO776,2),1)<>\"/\",RIGHT(Candidate!CO776,6),INDEX(CandidateFileArray,MATCH(RIGHT(Candidate!CO776,8),CandidateFileList,0),2))","v":""}]
[{"$nulls":13},{"$f":"IF(LEFT(RIGHT(Candidate!CO777,2),1)<>\"/\",RIGHT(Candidate!CO777,6),INDEX(CandidateFileArray,MATCH(RIGHT(Candidate!CO777,8),CandidateFileList,0),2))","v":""}]
[{"$nulls":13},{"$f":"IF(LEFT(RIGHT(Candidate!CO778,2),1)<>\"/\",RIGHT(Candidate!CO778,6),INDEX(CandidateFileArray,MATCH(RIGHT(Candidate!CO778,8),CandidateFileList,0),2))","v":""}]
[{"$nulls":13},{"$f":"IF(LEFT(RIGHT(Candidate!CO779,2),1)<>\"/\",RIGHT(Candidate!CO779,6),INDEX(CandidateFileArray,MATCH(RIGHT(Candidate!CO779,8),CandidateFileList,0),2))","v":""}]
[{"$nulls":13},{"$f":"IF(LEFT(RIGHT(Candidate!CO780,2),1)<>\"/\",RIGHT(Candidate!CO780,6),INDEX(CandidateFileArray,MATCH(RIGHT(Candidate!CO780,8),CandidateFileList,0),2))","v":""}]
[{"$nulls":13},{"$f":"IF(LEFT(RIGHT(Candidate!CO781,2),1)<>\"/\",RIGHT(Candidate!CO781,6),INDEX(CandidateFileArray,MATCH(RIGHT(Candidate!CO781,8),CandidateFileList,0),2))","v":""}]
[{"$nulls":13},{"$f":"IF(LEFT(RIGHT(Candidate!CO782,2),1)<>\"/\",RIGHT(Candidate!CO782,6),INDEX(CandidateFileArray,MATCH(RIGHT(Candidate!CO782,8),CandidateFileList,0),2))","v":""}]
[{"$nulls":13},{"$f":"IF(LEFT(RIGHT(Candidate!CO783,2),1)<>\"/\",RIGHT(Candidate!CO783,6),INDEX(CandidateFileArray,MATCH(RIGHT(Candidate!CO783,8),CandidateFileList,0),2))","v":""}]
[{"$nulls":13},{"$f":"IF(LEFT(RIGHT(Candidate!CO784,2),1)<>\"/\",RIGHT(Candidate!CO784,6),INDEX(CandidateFileArray,MATCH(RIGHT(Candidate!CO784,8),CandidateFileList,0),2))","v":""}]
[{"$nulls":13},{"$f":"IF(LEFT(RIGHT(Candidate!CO785,2),1)<>\"/\",RIGHT(Candidate!CO785,6),INDEX(CandidateFileArray,MATCH(RIGHT(Candidate!CO785,8),CandidateFileList,0),2))","v":""}]
[{"$nulls":13},{"$f":"IF(LEFT(RIGHT(Candidate!CO786,2),1)<>\"/\",RIGHT(Candidate!CO786,6),INDEX(CandidateFileArray,MATCH(RIGHT(Candidate!CO786,8),CandidateFileList,0),2))","v":""}]
[{"$nulls":13},{"$f":"IF(LEFT(RIGHT(Candidate!CO787,2),1)<>\"/\",RIGHT(Candidate!CO787,6),INDEX(CandidateFileArray,MATCH(RIGHT(Candidate!CO787,8),CandidateFileList,0),2))","v":""}]
[{"$nulls":13},{"$f":"IF(LEFT(RIGHT(Candidate!CO788,2),1)<>\"/\",RIGHT(Candidate!CO788,6),INDEX(CandidateFileArray,MATCH(RIGHT(Candidate!CO788,8),CandidateFileList,0),2))","v":""}]
[{"$nulls":13},{"$f":"IF(LEFT(RIGHT(Candidate!CO789,2),1)<>\"/\",RIGHT(Candidate!CO789,6),INDEX(CandidateFileArray,MATCH(RIGHT(Candidate!CO789,8),CandidateFileList,0),2))","v":""}]
[{"$nulls":13},{"$f":"IF(LEFT(RIGHT(Candidate!CO790,2),1)<>\"/\",RIGHT(Candidate!CO790,6),INDEX(CandidateFileArray,MATCH(RIGHT(Candidate!CO790,8),CandidateFileList,0),2))","v":""}]
[{"$nulls":13},{"$f":"IF(LEFT(RIGHT(Candidate!CO791,2),1)<>\"/\",RIGHT(Candidate!CO791,6),INDEX(CandidateFileArray,MATCH(RIGHT(Candidate!CO791,8),CandidateFileList,0),2))","v":""}]
[{"$nulls":13},{"$f":"IF(LEFT(RIGHT(Candidate!CO792,2),1)<>\"/\",RIGHT(Candidate!CO792,6),INDEX(CandidateFileArray,MATCH(RIGHT(Candidate!CO792,8),CandidateFileList,0),2))","v":""}]
[{"$nulls":13},{"$f":"IF(LEFT(RIGHT(Candidate!CO793,2),1)<>\"/\",RIGHT(Candidate!CO793,6),INDEX(CandidateFileArray,MATCH(RIGHT(Candidate!CO793,8),CandidateFileList,0),2))","v":""}]
[{"$nulls":13},{"$f":"IF(LEFT(RIGHT(Candidate!CO794,2),1)<>\"/\",RIGHT(Candidate!CO794,6),INDEX(CandidateFileArray,MATCH(RIGHT(Candidate!CO794,8),CandidateFileList,0),2))","v":""}]
[{"$nulls":13},{"$f":"IF(LEFT(RIGHT(Candidate!CO795,2),1)<>\"/\",RIGHT(Candidate!CO795,6),INDEX(CandidateFileArray,MATCH(RIGHT(Candidate!CO795,8),CandidateFileList,0),2))","v":""}]
[{"$nulls":13},{"$f":"IF(LEFT(RIGHT(Candidate!CO796,2),1)<>\"/\",RIGHT(Candidate!CO796,6),INDEX(CandidateFileArray,MATCH(RIGHT(Candidate!CO796,8),CandidateFileList,0),2))","v":""}]
[{"$nulls":13},{"$f":"IF(LEFT(RIGHT(Candidate!CO797,2),1)<>\"/\",RIGHT(Candidate!CO797,6),INDEX(CandidateFileArray,MATCH(RIGHT(Candidate!CO797,8),CandidateFileList,0),2))","v":""}]
[{"$nulls":13},{"$f":"IF(LEFT(RIGHT(Candidate!CO798,2),1)<>\"/\",RIGHT(Candidate!CO798,6),INDEX(CandidateFileArray,MATCH(RIGHT(Candidate!CO798,8),CandidateFileList,0),2))","v":""}]
[{"$nulls":13},{"$f":"IF(LEFT(RIGHT(Candidate!CO799,2),1)<>\"/\",RIGHT(Candidate!CO799,6),INDEX(CandidateFileArray,MATCH(RIGHT(Candidate!CO799,8),CandidateFileList,0),2))","v":""}]
[{"$nulls":13},{"$f":"IF(LEFT(RIGHT(Candidate!CO800,2),1)<>\"/\",RIGHT(Candidate!CO800,6),INDEX(CandidateFileArray,MATCH(RIGHT(Candidate!CO800,8),CandidateFileList,0),2))","v":""}]
[{"$nulls":13},{"$f":"IF(LEFT(RIGHT(Candidate!CO801,2),1)<>\"/\",RIGHT(Candidate!CO801,6),INDEX(CandidateFileArray,MATCH(RIGHT(Candidate!CO801,8),CandidateFileList,0),2))","v":""}]
[{"$nulls":13},{"$f":"IF(LEFT(RIGHT(Candidate!CO802,2),1)<>\"/\",RIGHT(Candidate!CO802,6),INDEX(CandidateFileArray,MATCH(RIGHT(Candidate!CO802,8),CandidateFileList,0),2))","v":""}]
[{"$nulls":13},{"$f":"IF(LEFT(RIGHT(Candidate!CO803,2),1)<>\"/\",RIGHT(Candidate!CO803,6),INDEX(CandidateFileArray,MATCH(RIGHT(Candidate!CO803,8),CandidateFileList,0),2))","v":""}]
[{"$nulls":13},{"$f":"IF(LEFT(RIGHT(Candidate!CO804,2),1)<>\"/\",RIGHT(Candidate!CO804,6),INDEX(CandidateFileArray,MATCH(RIGHT(Candidate!CO804,8),CandidateFileList,0),2))","v":""}]
[{"$nulls":13},{"$f":"IF(LEFT(RIGHT(Candidate!CO805,2),1)<>\"/\",RIGHT(Candidate!CO805,6),INDEX(CandidateFileArray,MATCH(RIGHT(Candidate!CO805,8),CandidateFileList,0),2))","v":""}]
[{"$nulls":13},{"$f":"IF(LEFT(RIGHT(Candidate!CO806,2),1)<>\"/\",RIGHT(Candidate!CO806,6),INDEX(CandidateFileArray,MATCH(RIGHT(Candidate!CO806,8),CandidateFileList,0),2))","v":""}]
[{"$nulls":13},{"$f":"IF(LEFT(RIGHT(Candidate!CO807,2),1)<>\"/\",RIGHT(Candidate!CO807,6),INDEX(CandidateFileArray,MATCH(RIGHT(Candidate!CO807,8),CandidateFileList,0),2))","v":""}]
[{"$nulls":13},{"$f":"IF(LEFT(RIGHT(Candidate!CO808,2),1)<>\"/\",RIGHT(Candidate!CO808,6),INDEX(CandidateFileArray,MATCH(RIGHT(Candidate!CO808,8),CandidateFileList,0),2))","v":""}]
[{"$nulls":13},{"$f":"IF(LEFT(RIGHT(Candidate!CO809,2),1)<>\"/\",RIGHT(Candidate!CO809,6),INDEX(CandidateFileArray,MATCH(RIGHT(Candidate!CO809,8),CandidateFileList,0),2))","v":""}]
[{"$nulls":13},{"$f":"IF(LEFT(RIGHT(Candidate!CO810,2),1)<>\"/\",RIGHT(Candidate!CO810,6),INDEX(CandidateFileArray,MATCH(RIGHT(Candidate!CO810,8),CandidateFileList,0),2))","v":""}]
[{"$nulls":13},{"$f":"IF(LEFT(RIGHT(Candidate!CO811,2),1)<>\"/\",RIGHT(Candidate!CO811,6),INDEX(CandidateFileArray,MATCH(RIGHT(Candidate!CO811,8),CandidateFileList,0),2))","v":""}]
[{"$nulls":13},{"$f":"IF(LEFT(RIGHT(Candidate!CO812,2),1)<>\"/\",RIGHT(Candidate!CO812,6),INDEX(CandidateFileArray,MATCH(RIGHT(Candidate!CO812,8),CandidateFileList,0),2))","v":""}]
[{"$nulls":13},{"$f":"IF(LEFT(RIGHT(Candidate!CO813,2),1)<>\"/\",RIGHT(Candidate!CO813,6),INDEX(CandidateFileArray,MATCH(RIGHT(Candidate!CO813,8),CandidateFileList,0),2))","v":""}]
[{"$nulls":13},{"$f":"IF(LEFT(RIGHT(Candidate!CO814,2),1)<>\"/\",RIGHT(Candidate!CO814,6),INDEX(CandidateFileArray,MATCH(RIGHT(Candidate!CO814,8),CandidateFileList,0),2))","v":""}]
[{"$nulls":13},{"$f":"IF(LEFT(RIGHT(Candidate!CO815,2),1)<>\"/\",RIGHT(Candidate!CO815,6),INDEX(CandidateFileArray,MATCH(RIGHT(Candidate!CO815,8),CandidateFileList,0),2))","v":""}]
[{"$nulls":13},{"$f":"IF(LEFT(RIGHT(Candidate!CO816,2),1)<>\"/\",RIGHT(Candidate!CO816,6),INDEX(CandidateFileArray,MATCH(RIGHT(Candidate!CO816,8),CandidateFileList,0),2))","v":""}]
[{"$nulls":13},{"$f":"IF(LEFT(RIGHT(Candidate!CO817,2),1)<>\"/\",RIGHT(Candidate!CO817,6),INDEX(CandidateFileArray,MATCH(RIGHT(Candidate!CO817,8),CandidateFileList,0),2))","v":""}]
[{"$nulls":13},{"$f":"IF(LEFT(RIGHT(Candidate!CO818,2),1)<>\"/\",RIGHT(Candidate!CO818,6),INDEX(CandidateFileArray,MATCH(RIGHT(Candidate!CO818,8),CandidateFileList,0),2))","v":""}]
[{"$nulls":13},{"$f":"IF(LEFT(RIGHT(Candidate!CO819,2),1)<>\"/\",RIGHT(Candidate!CO819,6),INDEX(CandidateFileArray,MATCH(RIGHT(Candidate!CO819,8),CandidateFileList,0),2))","v":""}]
[{"$nulls":13},{"$f":"IF(LEFT(RIGHT(Candidate!CO820,2),1)<>\"/\",RIGHT(Candidate!CO820,6),INDEX(CandidateFileArray,MATCH(RIGHT(Candidate!CO820,8),CandidateFileList,0),2))","v":""}]
[{"$nulls":13},{"$f":"IF(LEFT(RIGHT(Candidate!CO821,2),1)<>\"/\",RIGHT(Candidate!CO821,6),INDEX(CandidateFileArray,MATCH(RIGHT(Candidate!CO821,8),CandidateFileList,0),2))","v":""}]
[{"$nulls":13},{"$f":"IF(LEFT(RIGHT(Candidate!CO822,2),1)<>\"/\",RIGHT(Candidate!CO822,6),INDEX(CandidateFileArray,MATCH(RIGHT(Candidate!CO822,8),CandidateFileList,0),2))","v":""}]
[{"$nulls":13},{"$f":"IF(LEFT(RIGHT(Candidate!CO823,2),1)<>\"/\",RIGHT(Candidate!CO823,6),INDEX(CandidateFileArray,MATCH(RIGHT(Candidate!CO823,8),CandidateFileList,0),2))","v":""}]
[{"$nulls":13},{"$f":"IF(LEFT(RIGHT(Candidate!CO824,2),1)<>\"/\",RIGHT(Candidate!CO824,6),INDEX(CandidateFileArray,MATCH(RIGHT(Candidate!CO824,8),CandidateFileList,0),2))","v":""}]
[{"$nulls":13},{"$f":"IF(LEFT(RIGHT(Candidate!CO825,2),1)<>\"/\",RIGHT(Candidate!CO825,6),INDEX(CandidateFileArray,MATCH(RIGHT(Candidate!CO825,8),CandidateFileList,0),2))","v":""}]
[{"$nulls":13},{"$f":"IF(LEFT(RIGHT(Candidate!CO826,2),1)<>\"/\",RIGHT(Candidate!CO826,6),INDEX(CandidateFileArray,MATCH(RIGHT(Candidate!CO826,8),CandidateFileList,0),2))","v":""}]
[{"$nulls":13},{"$f":"IF(LEFT(RIGHT(Candidate!CO827,2),1)<>\"/\",RIGHT(Candidate!CO827,6),INDEX(CandidateFileArray,MATCH(RIGHT(Candidate!CO827,8),CandidateFileList,0),2))","v":""}]
[{"$nulls":13},{"$f":"IF(LEFT(RIGHT(Candidate!CO828,2),1)<>\"/\",RIGHT(Candidate!CO828,6),INDEX(CandidateFileArray,MATCH(RIGHT(Candidate!CO828,8),CandidateFileList,0),2))","v":""}]
[{"$nulls":13},{"$f":"IF(LEFT(RIGHT(Candidate!CO829,2),1)<>\"/\",RIGHT(Candidate!CO829,6),INDEX(CandidateFileArray,MATCH(RIGHT(Candidate!CO829,8),CandidateFileList,0),2))","v":""}]
[{"$nulls":13},{"$f":"IF(LEFT(RIGHT(Candidate!CO830,2),1)<>\"/\",RIGHT(Candidate!CO830,6),INDEX(CandidateFileArray,MATCH(RIGHT(Candidate!CO830,8),CandidateFileList,0),2))","v":""}]
[{"$nulls":13},{"$f":"IF(LEFT(RIGHT(Candidate!CO831,2),1)<>\"/\",RIGHT(Candidate!CO831,6),INDEX(CandidateFileArray,MATCH(RIGHT(Candidate!CO831,8),CandidateFileList,0),2))","v":""}]
[{"$nulls":13},{"$f":"IF(LEFT(RIGHT(Candidate!CO832,2),1)<>\"/\",RIGHT(Candidate!CO832,6),INDEX(CandidateFileArray,MATCH(RIGHT(Candidate!CO832,8),CandidateFileList,0),2))","v":""}]
[{"$nulls":13},{"$f":"IF(LEFT(RIGHT(Candidate!CO833,2),1)<>\"/\",RIGHT(Candidate!CO833,6),INDEX(CandidateFileArray,MATCH(RIGHT(Candidate!CO833,8),CandidateFileList,0),2))","v":""}]
[{"$nulls":13},{"$f":"IF(LEFT(RIGHT(Candidate!CO834,2),1)<>\"/\",RIGHT(Candidate!CO834,6),INDEX(CandidateFileArray,MATCH(RIGHT(Candidate!CO834,8),CandidateFileList,0),2))","v":""}]
[{"$nulls":13},{"$f":"IF(LEFT(RIGHT(Candidate!CO835,2),1)<>\"/\",RIGHT(Candidate!CO835,6),INDEX(CandidateFileArray,MATCH(RIGHT(Candidate!CO835,8),CandidateFileList,0),2))","v":""}]
[{"$nulls":13},{"$f":"IF(LEFT(RIGHT(Candidate!CO836,2),1)<>\"/\",RIGHT(Candidate!CO836,6),INDEX(CandidateFileArray,MATCH(RIGHT(Candidate!CO836,8),CandidateFileList,0),2))","v":""}]
[{"$nulls":13},{"$f":"IF(LEFT(RIGHT(Candidate!CO837,2),1)<>\"/\",RIGHT(Candidate!CO837,6),INDEX(CandidateFileArray,MATCH(RIGHT(Candidate!CO837,8),CandidateFileList,0),2))","v":""}]
[{"$nulls":13},{"$f":"IF(LEFT(RIGHT(Candidate!CO838,2),1)<>\"/\",RIGHT(Candidate!CO838,6),INDEX(CandidateFileArray,MATCH(RIGHT(Candidate!CO838,8),CandidateFileList,0),2))","v":""}]
[{"$nulls":13},{"$f":"IF(LEFT(RIGHT(Candidate!CO839,2),1)<>\"/\",RIGHT(Candidate!CO839,6),INDEX(CandidateFileArray,MATCH(RIGHT(Candidate!CO839,8),CandidateFileList,0),2))","v":""}]
[{"$nulls":13},{"$f":"IF(LEFT(RIGHT(Candidate!CO840,2),1)<>\"/\",RIGHT(Candidate!CO840,6),INDEX(CandidateFileArray,MATCH(RIGHT(Candidate!CO840,8),CandidateFileList,0),2))","v":""}]
[{"$nulls":13},{"$f":"IF(LEFT(RIGHT(Candidate!CO841,2),1)<>\"/\",RIGHT(Candidate!CO841,6),INDEX(CandidateFileArray,MATCH(RIGHT(Candidate!CO841,8),CandidateFileList,0),2))","v":""}]
[{"$nulls":13},{"$f":"IF(LEFT(RIGHT(Candidate!CO842,2),1)<>\"/\",RIGHT(Candidate!CO842,6),INDEX(CandidateFileArray,MATCH(RIGHT(Candidate!CO842,8),CandidateFileList,0),2))","v":""}]
[{"$nulls":13},{"$f":"IF(LEFT(RIGHT(Candidate!CO843,2),1)<>\"/\",RIGHT(Candidate!CO843,6),INDEX(CandidateFileArray,MATCH(RIGHT(Candidate!CO843,8),CandidateFileList,0),2))","v":""}]
[{"$nulls":13},{"$f":"IF(LEFT(RIGHT(Candidate!CO844,2),1)<>\"/\",RIGHT(Candidate!CO844,6),INDEX(CandidateFileArray,MATCH(RIGHT(Candidate!CO844,8),CandidateFileList,0),2))","v":""}]
[{"$nulls":13},{"$f":"IF(LEFT(RIGHT(Candidate!CO845,2),1)<>\"/\",RIGHT(Candidate!CO845,6),INDEX(CandidateFileArray,MATCH(RIGHT(Candidate!CO845,8),CandidateFileList,0),2))","v":""}]
[{"$nulls":13},{"$f":"IF(LEFT(RIGHT(Candidate!CO846,2),1)<>\"/\",RIGHT(Candidate!CO846,6),INDEX(CandidateFileArray,MATCH(RIGHT(Candidate!CO846,8),CandidateFileList,0),2))","v":""}]
[{"$nulls":13},{"$f":"IF(LEFT(RIGHT(Candidate!CO847,2),1)<>\"/\",RIGHT(Candidate!CO847,6),INDEX(CandidateFileArray,MATCH(RIGHT(Candidate!CO847,8),CandidateFileList,0),2))","v":""}]
[{"$nulls":13},{"$f":"IF(LEFT(RIGHT(Candidate!CO848,2),1)<>\"/\",RIGHT(Candidate!CO848,6),INDEX(CandidateFileArray,MATCH(RIGHT(Candidate!CO848,8),CandidateFileList,0),2))","v":""}]
[{"$nulls":13},{"$f":"IF(LEFT(RIGHT(Candidate!CO849,2),1)<>\"/\",RIGHT(Candidate!CO849,6),INDEX(CandidateFileArray,MATCH(RIGHT(Candidate!CO849,8),CandidateFileList,0),2))","v":""}]
[{"$nulls":13},{"$f":"IF(LEFT(RIGHT(Candidate!CO850,2),1)<>\"/\",RIGHT(Candidate!CO850,6),INDEX(CandidateFileArray,MATCH(RIGHT(Candidate!CO850,8),CandidateFileList,0),2))","v":""}]
[{"$nulls":13},{"$f":"IF(LEFT(RIGHT(Candidate!CO851,2),1)<>\"/\",RIGHT(Candidate!CO851,6),INDEX(CandidateFileArray,MATCH(RIGHT(Candidate!CO851,8),CandidateFileList,0),2))","v":""}]
[{"$nulls":13},{"$f":"IF(LEFT(RIGHT(Candidate!CO852,2),1)<>\"/\",RIGHT(Candidate!CO852,6),INDEX(CandidateFileArray,MATCH(RIGHT(Candidate!CO852,8),CandidateFileList,0),2))","v":""}]
[{"$nulls":13},{"$f":"IF(LEFT(RIGHT(Candidate!CO853,2),1)<>\"/\",RIGHT(Candidate!CO853,6),INDEX(CandidateFileArray,MATCH(RIGHT(Candidate!CO853,8),CandidateFileList,0),2))","v":""}]
[{"$nulls":13},{"$f":"IF(LEFT(RIGHT(Candidate!CO854,2),1)<>\"/\",RIGHT(Candidate!CO854,6),INDEX(CandidateFileArray,MATCH(RIGHT(Candidate!CO854,8),CandidateFileList,0),2))","v":""}]
[{"$nulls":13},{"$f":"IF(LEFT(RIGHT(Candidate!CO855,2),1)<>\"/\",RIGHT(Candidate!CO855,6),INDEX(CandidateFileArray,MATCH(RIGHT(Candidate!CO855,8),CandidateFileList,0),2))","v":""}]
[{"$nulls":13},{"$f":"IF(LEFT(RIGHT(Candidate!CO856,2),1)<>\"/\",RIGHT(Candidate!CO856,6),INDEX(CandidateFileArray,MATCH(RIGHT(Candidate!CO856,8),CandidateFileList,0),2))","v":""}]
[{"$nulls":13},{"$f":"IF(LEFT(RIGHT(Candidate!CO857,2),1)<>\"/\",RIGHT(Candidate!CO857,6),INDEX(CandidateFileArray,MATCH(RIGHT(Candidate!CO857,8),CandidateFileList,0),2))","v":""}]
[{"$nulls":13},{"$f":"IF(LEFT(RIGHT(Candidate!CO858,2),1)<>\"/\",RIGHT(Candidate!CO858,6),INDEX(CandidateFileArray,MATCH(RIGHT(Candidate!CO858,8),CandidateFileList,0),2))","v":""}]
[{"$nulls":13},{"$f":"IF(LEFT(RIGHT(Candidate!CO859,2),1)<>\"/\",RIGHT(Candidate!CO859,6),INDEX(CandidateFileArray,MATCH(RIGHT(Candidate!CO859,8),CandidateFileList,0),2))","v":""}]
[{"$nulls":13},{"$f":"IF(LEFT(RIGHT(Candidate!CO860,2),1)<>\"/\",RIGHT(Candidate!CO860,6),INDEX(CandidateFileArray,MATCH(RIGHT(Candidate!CO860,8),CandidateFileList,0),2))","v":""}]
[{"$nulls":13},{"$f":"IF(LEFT(RIGHT(Candidate!CO861,2),1)<>\"/\",RIGHT(Candidate!CO861,6),INDEX(CandidateFileArray,MATCH(RIGHT(Candidate!CO861,8),CandidateFileList,0),2))","v":""}]
[{"$nulls":13},{"$f":"IF(LEFT(RIGHT(Candidate!CO862,2),1)<>\"/\",RIGHT(Candidate!CO862,6),INDEX(CandidateFileArray,MATCH(RIGHT(Candidate!CO862,8),CandidateFileList,0),2))","v":""}]
[{"$nulls":13},{"$f":"IF(LEFT(RIGHT(Candidate!CO863,2),1)<>\"/\",RIGHT(Candidate!CO863,6),INDEX(CandidateFileArray,MATCH(RIGHT(Candidate!CO863,8),CandidateFileList,0),2))","v":""}]
[{"$nulls":13},{"$f":"IF(LEFT(RIGHT(Candidate!CO864,2),1)<>\"/\",RIGHT(Candidate!CO864,6),INDEX(CandidateFileArray,MATCH(RIGHT(Candidate!CO864,8),CandidateFileList,0),2))","v":""}]
[{"$nulls":13},{"$f":"IF(LEFT(RIGHT(Candidate!CO865,2),1)<>\"/\",RIGHT(Candidate!CO865,6),INDEX(CandidateFileArray,MATCH(RIGHT(Candidate!CO865,8),CandidateFileList,0),2))","v":""}]
[{"$nulls":13},{"$f":"IF(LEFT(RIGHT(Candidate!CO866,2),1)<>\"/\",RIGHT(Candidate!CO866,6),INDEX(CandidateFileArray,MATCH(RIGHT(Candidate!CO866,8),CandidateFileList,0),2))","v":""}]
[{"$nulls":13},{"$f":"IF(LEFT(RIGHT(Candidate!CO867,2),1)<>\"/\",RIGHT(Candidate!CO867,6),INDEX(CandidateFileArray,MATCH(RIGHT(Candidate!CO867,8),CandidateFileList,0),2))","v":""}]
[{"$nulls":13},{"$f":"IF(LEFT(RIGHT(Candidate!CO868,2),1)<>\"/\",RIGHT(Candidate!CO868,6),INDEX(CandidateFileArray,MATCH(RIGHT(Candidate!CO868,8),CandidateFileList,0),2))","v":""}]
[{"$nulls":13},{"$f":"IF(LEFT(RIGHT(Candidate!CO869,2),1)<>\"/\",RIGHT(Candidate!CO869,6),INDEX(CandidateFileArray,MATCH(RIGHT(Candidate!CO869,8),CandidateFileList,0),2))","v":""}]
[{"$nulls":13},{"$f":"IF(LEFT(RIGHT(Candidate!CO870,2),1)<>\"/\",RIGHT(Candidate!CO870,6),INDEX(CandidateFileArray,MATCH(RIGHT(Candidate!CO870,8),CandidateFileList,0),2))","v":""}]
[{"$nulls":13},{"$f":"IF(LEFT(RIGHT(Candidate!CO871,2),1)<>\"/\",RIGHT(Candidate!CO871,6),INDEX(CandidateFileArray,MATCH(RIGHT(Candidate!CO871,8),CandidateFileList,0),2))","v":""}]
[{"$nulls":13},{"$f":"IF(LEFT(RIGHT(Candidate!CO872,2),1)<>\"/\",RIGHT(Candidate!CO872,6),INDEX(CandidateFileArray,MATCH(RIGHT(Candidate!CO872,8),CandidateFileList,0),2))","v":""}]
[{"$nulls":13},{"$f":"IF(LEFT(RIGHT(Candidate!CO873,2),1)<>\"/\",RIGHT(Candidate!CO873,6),INDEX(CandidateFileArray,MATCH(RIGHT(Candidate!CO873,8),CandidateFileList,0),2))","v":""}]
[{"$nulls":13},{"$f":"IF(LEFT(RIGHT(Candidate!CO874,2),1)<>\"/\",RIGHT(Candidate!CO874,6),INDEX(CandidateFileArray,MATCH(RIGHT(Candidate!CO874,8),CandidateFileList,0),2))","v":""}]
[{"$nulls":13},{"$f":"IF(LEFT(RIGHT(Candidate!CO875,2),1)<>\"/\",RIGHT(Candidate!CO875,6),INDEX(CandidateFileArray,MATCH(RIGHT(Candidate!CO875,8),CandidateFileList,0),2))","v":""}]
[{"$nulls":13},{"$f":"IF(LEFT(RIGHT(Candidate!CO876,2),1)<>\"/\",RIGHT(Candidate!CO876,6),INDEX(CandidateFileArray,MATCH(RIGHT(Candidate!CO876,8),CandidateFileList,0),2))","v":""}]
[{"$nulls":13},{"$f":"IF(LEFT(RIGHT(Candidate!CO877,2),1)<>\"/\",RIGHT(Candidate!CO877,6),INDEX(CandidateFileArray,MATCH(RIGHT(Candidate!CO877,8),CandidateFileList,0),2))","v":""}]
[{"$nulls":13},{"$f":"IF(LEFT(RIGHT(Candidate!CO878,2),1)<>\"/\",RIGHT(Candidate!CO878,6),INDEX(CandidateFileArray,MATCH(RIGHT(Candidate!CO878,8),CandidateFileList,0),2))","v":""}]
[{"$nulls":13},{"$f":"IF(LEFT(RIGHT(Candidate!CO879,2),1)<>\"/\",RIGHT(Candidate!CO879,6),INDEX(CandidateFileArray,MATCH(RIGHT(Candidate!CO879,8),CandidateFileList,0),2))","v":""}]
[{"$nulls":13},{"$f":"IF(LEFT(RIGHT(Candidate!CO880,2),1)<>\"/\",RIGHT(Candidate!CO880,6),INDEX(CandidateFileArray,MATCH(RIGHT(Candidate!CO880,8),CandidateFileList,0),2))","v":""}]
[{"$nulls":13},{"$f":"IF(LEFT(RIGHT(Candidate!CO881,2),1)<>\"/\",RIGHT(Candidate!CO881,6),INDEX(CandidateFileArray,MATCH(RIGHT(Candidate!CO881,8),CandidateFileList,0),2))","v":""}]
[{"$nulls":13},{"$f":"IF(LEFT(RIGHT(Candidate!CO882,2),1)<>\"/\",RIGHT(Candidate!CO882,6),INDEX(CandidateFileArray,MATCH(RIGHT(Candidate!CO882,8),CandidateFileList,0),2))","v":""}]
[{"$nulls":13},{"$f":"IF(LEFT(RIGHT(Candidate!CO883,2),1)<>\"/\",RIGHT(Candidate!CO883,6),INDEX(CandidateFileArray,MATCH(RIGHT(Candidate!CO883,8),CandidateFileList,0),2))","v":""}]
[{"$nulls":13},{"$f":"IF(LEFT(RIGHT(Candidate!CO884,2),1)<>\"/\",RIGHT(Candidate!CO884,6),INDEX(CandidateFileArray,MATCH(RIGHT(Candidate!CO884,8),CandidateFileList,0),2))","v":""}]
[{"$nulls":13},{"$f":"IF(LEFT(RIGHT(Candidate!CO885,2),1)<>\"/\",RIGHT(Candidate!CO885,6),INDEX(CandidateFileArray,MATCH(RIGHT(Candidate!CO885,8),CandidateFileList,0),2))","v":""}]
[{"$nulls":13},{"$f":"IF(LEFT(RIGHT(Candidate!CO886,2),1)<>\"/\",RIGHT(Candidate!CO886,6),INDEX(CandidateFileArray,MATCH(RIGHT(Candidate!CO886,8),CandidateFileList,0),2))","v":""}]
[{"$nulls":13},{"$f":"IF(LEFT(RIGHT(Candidate!CO887,2),1)<>\"/\",RIGHT(Candidate!CO887,6),INDEX(CandidateFileArray,MATCH(RIGHT(Candidate!CO887,8),CandidateFileList,0),2))","v":""}]
[{"$nulls":13},{"$f":"IF(LEFT(RIGHT(Candidate!CO888,2),1)<>\"/\",RIGHT(Candidate!CO888,6),INDEX(CandidateFileArray,MATCH(RIGHT(Candidate!CO888,8),CandidateFileList,0),2))","v":""}]
[{"$nulls":13},{"$f":"IF(LEFT(RIGHT(Candidate!CO889,2),1)<>\"/\",RIGHT(Candidate!CO889,6),INDEX(CandidateFileArray,MATCH(RIGHT(Candidate!CO889,8),CandidateFileList,0),2))","v":""}]
[{"$nulls":13},{"$f":"IF(LEFT(RIGHT(Candidate!CO890,2),1)<>\"/\",RIGHT(Candidate!CO890,6),INDEX(CandidateFileArray,MATCH(RIGHT(Candidate!CO890,8),CandidateFileList,0),2))","v":""}]
[{"$nulls":13},{"$f":"IF(LEFT(RIGHT(Candidate!CO891,2),1)<>\"/\",RIGHT(Candidate!CO891,6),INDEX(CandidateFileArray,MATCH(RIGHT(Candidate!CO891,8),CandidateFileList,0),2))","v":""}]
[{"$nulls":13},{"$f":"IF(LEFT(RIGHT(Candidate!CO892,2),1)<>\"/\",RIGHT(Candidate!CO892,6),INDEX(CandidateFileArray,MATCH(RIGHT(Candidate!CO892,8),CandidateFileList,0),2))","v":""}]
[{"$nulls":13},{"$f":"IF(LEFT(RIGHT(Candidate!CO893,2),1)<>\"/\",RIGHT(Candidate!CO893,6),INDEX(CandidateFileArray,MATCH(RIGHT(Candidate!CO893,8),CandidateFileList,0),2))","v":""}]
[{"$nulls":13},{"$f":"IF(LEFT(RIGHT(Candidate!CO894,2),1)<>\"/\",RIGHT(Candidate!CO894,6),INDEX(CandidateFileArray,MATCH(RIGHT(Candidate!CO894,8),CandidateFileList,0),2))","v":""}]
[{"$nulls":13},{"$f":"IF(LEFT(RIGHT(Candidate!CO895,2),1)<>\"/\",RIGHT(Candidate!CO895,6),INDEX(CandidateFileArray,MATCH(RIGHT(Candidate!CO895,8),CandidateFileList,0),2))","v":""}]
[{"$nulls":13},{"$f":"IF(LEFT(RIGHT(Candidate!CO896,2),1)<>\"/\",RIGHT(Candidate!CO896,6),INDEX(CandidateFileArray,MATCH(RIGHT(Candidate!CO896,8),CandidateFileList,0),2))","v":""}]
[{"$nulls":13},{"$f":"IF(LEFT(RIGHT(Candidate!CO897,2),1)<>\"/\",RIGHT(Candidate!CO897,6),INDEX(CandidateFileArray,MATCH(RIGHT(Candidate!CO897,8),CandidateFileList,0),2))","v":""}]
[{"$nulls":13},{"$f":"IF(LEFT(RIGHT(Candidate!CO898,2),1)<>\"/\",RIGHT(Candidate!CO898,6),INDEX(CandidateFileArray,MATCH(RIGHT(Candidate!CO898,8),CandidateFileList,0),2))","v":""}]
[{"$nulls":13},{"$f":"IF(LEFT(RIGHT(Candidate!CO899,2),1)<>\"/\",RIGHT(Candidate!CO899,6),INDEX(CandidateFileArray,MATCH(RIGHT(Candidate!CO899,8),CandidateFileList,0),2))","v":""}]
[{"$nulls":13},{"$f":"IF(LEFT(RIGHT(Candidate!CO900,2),1)<>\"/\",RIGHT(Candidate!CO900,6),INDEX(CandidateFileArray,MATCH(RIGHT(Candidate!CO900,8),CandidateFileList,0),2))","v":""}]
[{"$nulls":13},{"$f":"IF(LEFT(RIGHT(Candidate!CO901,2),1)<>\"/\",RIGHT(Candidate!CO901,6),INDEX(CandidateFileArray,MATCH(RIGHT(Candidate!CO901,8),CandidateFileList,0),2))","v":""}]
[{"$nulls":13},{"$f":"IF(LEFT(RIGHT(Candidate!CO902,2),1)<>\"/\",RIGHT(Candidate!CO902,6),INDEX(CandidateFileArray,MATCH(RIGHT(Candidate!CO902,8),CandidateFileList,0),2))","v":""}]
[{"$nulls":13},{"$f":"IF(LEFT(RIGHT(Candidate!CO903,2),1)<>\"/\",RIGHT(Candidate!CO903,6),INDEX(CandidateFileArray,MATCH(RIGHT(Candidate!CO903,8),CandidateFileList,0),2))","v":""}]
[{"$nulls":13},{"$f":"IF(LEFT(RIGHT(Candidate!CO904,2),1)<>\"/\",RIGHT(Candidate!CO904,6),INDEX(CandidateFileArray,MATCH(RIGHT(Candidate!CO904,8),CandidateFileList,0),2))","v":""}]
[{"$nulls":13},{"$f":"IF(LEFT(RIGHT(Candidate!CO905,2),1)<>\"/\",RIGHT(Candidate!CO905,6),INDEX(CandidateFileArray,MATCH(RIGHT(Candidate!CO905,8),CandidateFileList,0),2))","v":""}]
[{"$nulls":13},{"$f":"IF(LEFT(RIGHT(Candidate!CO906,2),1)<>\"/\",RIGHT(Candidate!CO906,6),INDEX(CandidateFileArray,MATCH(RIGHT(Candidate!CO906,8),CandidateFileList,0),2))","v":""}]
[{"$nulls":13},{"$f":"IF(LEFT(RIGHT(Candidate!CO907,2),1)<>\"/\",RIGHT(Candidate!CO907,6),INDEX(CandidateFileArray,MATCH(RIGHT(Candidate!CO907,8),CandidateFileList,0),2))","v":""}]
[{"$nulls":13},{"$f":"IF(LEFT(RIGHT(Candidate!CO908,2),1)<>\"/\",RIGHT(Candidate!CO908,6),INDEX(CandidateFileArray,MATCH(RIGHT(Candidate!CO908,8),CandidateFileList,0),2))","v":""}]
[{"$nulls":13},{"$f":"IF(LEFT(RIGHT(Candidate!CO909,2),1)<>\"/\",RIGHT(Candidate!CO909,6),INDEX(CandidateFileArray,MATCH(RIGHT(Candidate!CO909,8),CandidateFileList,0),2))","v":""}]
[{"$nulls":13},{"$f":"IF(LEFT(RIGHT(Candidate!CO910,2),1)<>\"/\",RIGHT(Candidate!CO910,6),INDEX(CandidateFileArray,MATCH(RIGHT(Candidate!CO910,8),CandidateFileList,0),2))","v":""}]
[{"$nulls":13},{"$f":"IF(LEFT(RIGHT(Candidate!CO911,2),1)<>\"/\",RIGHT(Candidate!CO911,6),INDEX(CandidateFileArray,MATCH(RIGHT(Candidate!CO911,8),CandidateFileList,0),2))","v":""}]
[{"$nulls":13},{"$f":"IF(LEFT(RIGHT(Candidate!CO912,2),1)<>\"/\",RIGHT(Candidate!CO912,6),INDEX(CandidateFileArray,MATCH(RIGHT(Candidate!CO912,8),CandidateFileList,0),2))","v":""}]
[{"$nulls":13},{"$f":"IF(LEFT(RIGHT(Candidate!CO913,2),1)<>\"/\",RIGHT(Candidate!CO913,6),INDEX(CandidateFileArray,MATCH(RIGHT(Candidate!CO913,8),CandidateFileList,0),2))","v":""}]
[{"$nulls":13},{"$f":"IF(LEFT(RIGHT(Candidate!CO914,2),1)<>\"/\",RIGHT(Candidate!CO914,6),INDEX(CandidateFileArray,MATCH(RIGHT(Candidate!CO914,8),CandidateFileList,0),2))","v":""}]
[{"$nulls":13},{"$f":"IF(LEFT(RIGHT(Candidate!CO915,2),1)<>\"/\",RIGHT(Candidate!CO915,6),INDEX(CandidateFileArray,MATCH(RIGHT(Candidate!CO915,8),CandidateFileList,0),2))","v":""}]
[{"$nulls":13},{"$f":"IF(LEFT(RIGHT(Candidate!CO916,2),1)<>\"/\",RIGHT(Candidate!CO916,6),INDEX(CandidateFileArray,MATCH(RIGHT(Candidate!CO916,8),CandidateFileList,0),2))","v":""}]
[{"$nulls":13},{"$f":"IF(LEFT(RIGHT(Candidate!CO917,2),1)<>\"/\",RIGHT(Candidate!CO917,6),INDEX(CandidateFileArray,MATCH(RIGHT(Candidate!CO917,8),CandidateFileList,0),2))","v":""}]
[{"$nulls":13},{"$f":"IF(LEFT(RIGHT(Candidate!CO918,2),1)<>\"/\",RIGHT(Candidate!CO918,6),INDEX(CandidateFileArray,MATCH(RIGHT(Candidate!CO918,8),CandidateFileList,0),2))","v":""}]
[{"$nulls":13},{"$f":"IF(LEFT(RIGHT(Candidate!CO919,2),1)<>\"/\",RIGHT(Candidate!CO919,6),INDEX(CandidateFileArray,MATCH(RIGHT(Candidate!CO919,8),CandidateFileList,0),2))","v":""}]
[{"$nulls":13},{"$f":"IF(LEFT(RIGHT(Candidate!CO920,2),1)<>\"/\",RIGHT(Candidate!CO920,6),INDEX(CandidateFileArray,MATCH(RIGHT(Candidate!CO920,8),CandidateFileList,0),2))","v":""}]
[{"$nulls":13},{"$f":"IF(LEFT(RIGHT(Candidate!CO921,2),1)<>\"/\",RIGHT(Candidate!CO921,6),INDEX(CandidateFileArray,MATCH(RIGHT(Candidate!CO921,8),CandidateFileList,0),2))","v":""}]
[{"$nulls":13},{"$f":"IF(LEFT(RIGHT(Candidate!CO922,2),1)<>\"/\",RIGHT(Candidate!CO922,6),INDEX(CandidateFileArray,MATCH(RIGHT(Candidate!CO922,8),CandidateFileList,0),2))","v":""}]
[{"$nulls":13},{"$f":"IF(LEFT(RIGHT(Candidate!CO923,2),1)<>\"/\",RIGHT(Candidate!CO923,6),INDEX(CandidateFileArray,MATCH(RIGHT(Candidate!CO923,8),CandidateFileList,0),2))","v":""}]
[{"$nulls":13},{"$f":"IF(LEFT(RIGHT(Candidate!CO924,2),1)<>\"/\",RIGHT(Candidate!CO924,6),INDEX(CandidateFileArray,MATCH(RIGHT(Candidate!CO924,8),CandidateFileList,0),2))","v":""}]
[{"$nulls":13},{"$f":"IF(LEFT(RIGHT(Candidate!CO925,2),1)<>\"/\",RIGHT(Candidate!CO925,6),INDEX(CandidateFileArray,MATCH(RIGHT(Candidate!CO925,8),CandidateFileList,0),2))","v":""}]
[{"$nulls":13},{"$f":"IF(LEFT(RIGHT(Candidate!CO926,2),1)<>\"/\",RIGHT(Candidate!CO926,6),INDEX(CandidateFileArray,MATCH(RIGHT(Candidate!CO926,8),CandidateFileList,0),2))","v":""}]
[{"$nulls":13},{"$f":"IF(LEFT(RIGHT(Candidate!CO927,2),1)<>\"/\",RIGHT(Candidate!CO927,6),INDEX(CandidateFileArray,MATCH(RIGHT(Candidate!CO927,8),CandidateFileList,0),2))","v":""}]
[{"$nulls":13},{"$f":"IF(LEFT(RIGHT(Candidate!CO928,2),1)<>\"/\",RIGHT(Candidate!CO928,6),INDEX(CandidateFileArray,MATCH(RIGHT(Candidate!CO928,8),CandidateFileList,0),2))","v":""}]
[{"$nulls":13},{"$f":"IF(LEFT(RIGHT(Candidate!CO929,2),1)<>\"/\",RIGHT(Candidate!CO929,6),INDEX(CandidateFileArray,MATCH(RIGHT(Candidate!CO929,8),CandidateFileList,0),2))","v":""}]
[{"$nulls":13},{"$f":"IF(LEFT(RIGHT(Candidate!CO930,2),1)<>\"/\",RIGHT(Candidate!CO930,6),INDEX(CandidateFileArray,MATCH(RIGHT(Candidate!CO930,8),CandidateFileList,0),2))","v":""}]
[{"$nulls":13},{"$f":"IF(LEFT(RIGHT(Candidate!CO931,2),1)<>\"/\",RIGHT(Candidate!CO931,6),INDEX(CandidateFileArray,MATCH(RIGHT(Candidate!CO931,8),CandidateFileList,0),2))","v":""}]
[{"$nulls":13},{"$f":"IF(LEFT(RIGHT(Candidate!CO932,2),1)<>\"/\",RIGHT(Candidate!CO932,6),INDEX(CandidateFileArray,MATCH(RIGHT(Candidate!CO932,8),CandidateFileList,0),2))","v":""}]
[{"$nulls":13},{"$f":"IF(LEFT(RIGHT(Candidate!CO933,2),1)<>\"/\",RIGHT(Candidate!CO933,6),INDEX(CandidateFileArray,MATCH(RIGHT(Candidate!CO933,8),CandidateFileList,0),2))","v":""}]
[{"$nulls":13},{"$f":"IF(LEFT(RIGHT(Candidate!CO934,2),1)<>\"/\",RIGHT(Candidate!CO934,6),INDEX(CandidateFileArray,MATCH(RIGHT(Candidate!CO934,8),CandidateFileList,0),2))","v":""}]
[{"$nulls":13},{"$f":"IF(LEFT(RIGHT(Candidate!CO935,2),1)<>\"/\",RIGHT(Candidate!CO935,6),INDEX(CandidateFileArray,MATCH(RIGHT(Candidate!CO935,8),CandidateFileList,0),2))","v":""}]
[{"$nulls":13},{"$f":"IF(LEFT(RIGHT(Candidate!CO936,2),1)<>\"/\",RIGHT(Candidate!CO936,6),INDEX(CandidateFileArray,MATCH(RIGHT(Candidate!CO936,8),CandidateFileList,0),2))","v":""}]
[{"$nulls":13},{"$f":"IF(LEFT(RIGHT(Candidate!CO937,2),1)<>\"/\",RIGHT(Candidate!CO937,6),INDEX(CandidateFileArray,MATCH(RIGHT(Candidate!CO937,8),CandidateFileList,0),2))","v":""}]
[{"$nulls":13},{"$f":"IF(LEFT(RIGHT(Candidate!CO938,2),1)<>\"/\",RIGHT(Candidate!CO938,6),INDEX(CandidateFileArray,MATCH(RIGHT(Candidate!CO938,8),CandidateFileList,0),2))","v":""}]
[{"$nulls":13},{"$f":"IF(LEFT(RIGHT(Candidate!CO939,2),1)<>\"/\",RIGHT(Candidate!CO939,6),INDEX(CandidateFileArray,MATCH(RIGHT(Candidate!CO939,8),CandidateFileList,0),2))","v":""}]
[{"$nulls":13},{"$f":"IF(LEFT(RIGHT(Candidate!CO940,2),1)<>\"/\",RIGHT(Candidate!CO940,6),INDEX(CandidateFileArray,MATCH(RIGHT(Candidate!CO940,8),CandidateFileList,0),2))","v":""}]
[{"$nulls":13},{"$f":"IF(LEFT(RIGHT(Candidate!CO941,2),1)<>\"/\",RIGHT(Candidate!CO941,6),INDEX(CandidateFileArray,MATCH(RIGHT(Candidate!CO941,8),CandidateFileList,0),2))","v":""}]
[{"$nulls":13},{"$f":"IF(LEFT(RIGHT(Candidate!CO942,2),1)<>\"/\",RIGHT(Candidate!CO942,6),INDEX(CandidateFileArray,MATCH(RIGHT(Candidate!CO942,8),CandidateFileList,0),2))","v":""}]
[{"$nulls":13},{"$f":"IF(LEFT(RIGHT(Candidate!CO943,2),1)<>\"/\",RIGHT(Candidate!CO943,6),INDEX(CandidateFileArray,MATCH(RIGHT(Candidate!CO943,8),CandidateFileList,0),2))","v":""}]
[{"$nulls":13},{"$f":"IF(LEFT(RIGHT(Candidate!CO944,2),1)<>\"/\",RIGHT(Candidate!CO944,6),INDEX(CandidateFileArray,MATCH(RIGHT(Candidate!CO944,8),CandidateFileList,0),2))","v":""}]
[{"$nulls":13},{"$f":"IF(LEFT(RIGHT(Candidate!CO945,2),1)<>\"/\",RIGHT(Candidate!CO945,6),INDEX(CandidateFileArray,MATCH(RIGHT(Candidate!CO945,8),CandidateFileList,0),2))","v":""}]
[{"$nulls":13},{"$f":"IF(LEFT(RIGHT(Candidate!CO946,2),1)<>\"/\",RIGHT(Candidate!CO946,6),INDEX(CandidateFileArray,MATCH(RIGHT(Candidate!CO946,8),CandidateFileList,0),2))","v":""}]
[{"$nulls":13},{"$f":"IF(LEFT(RIGHT(Candidate!CO947,2),1)<>\"/\",RIGHT(Candidate!CO947,6),INDEX(CandidateFileArray,MATCH(RIGHT(Candidate!CO947,8),CandidateFileList,0),2))","v":""}]
[{"$nulls":13},{"$f":"IF(LEFT(RIGHT(Candidate!CO948,2),1)<>\"/\",RIGHT(Candidate!CO948,6),INDEX(CandidateFileArray,MATCH(RIGHT(Candidate!CO948,8),CandidateFileList,0),2))","v":""}]
[{"$nulls":13},{"$f":"IF(LEFT(RIGHT(Candidate!CO949,2),1)<>\"/\",RIGHT(Candidate!CO949,6),INDEX(CandidateFileArray,MATCH(RIGHT(Candidate!CO949,8),CandidateFileList,0),2))","v":""}]
[{"$nulls":13},{"$f":"IF(LEFT(RIGHT(Candidate!CO950,2),1)<>\"/\",RIGHT(Candidate!CO950,6),INDEX(CandidateFileArray,MATCH(RIGHT(Candidate!CO950,8),CandidateFileList,0),2))","v":""}]
[{"$nulls":13},{"$f":"IF(LEFT(RIGHT(Candidate!CO951,2),1)<>\"/\",RIGHT(Candidate!CO951,6),INDEX(CandidateFileArray,MATCH(RIGHT(Candidate!CO951,8),CandidateFileList,0),2))","v":""}]
[{"$nulls":13},{"$f":"IF(LEFT(RIGHT(Candidate!CO952,2),1)<>\"/\",RIGHT(Candidate!CO952,6),INDEX(CandidateFileArray,MATCH(RIGHT(Candidate!CO952,8),CandidateFileList,0),2))","v":""}]
[{"$nulls":13},{"$f":"IF(LEFT(RIGHT(Candidate!CO953,2),1)<>\"/\",RIGHT(Candidate!CO953,6),INDEX(CandidateFileArray,MATCH(RIGHT(Candidate!CO953,8),CandidateFileList,0),2))","v":""}]
[{"$nulls":13},{"$f":"IF(LEFT(RIGHT(Candidate!CO954,2),1)<>\"/\",RIGHT(Candidate!CO954,6),INDEX(CandidateFileArray,MATCH(RIGHT(Candidate!CO954,8),CandidateFileList,0),2))","v":""}]
[{"$nulls":13},{"$f":"IF(LEFT(RIGHT(Candidate!CO955,2),1)<>\"/\",RIGHT(Candidate!CO955,6),INDEX(CandidateFileArray,MATCH(RIGHT(Candidate!CO955,8),CandidateFileList,0),2))","v":""}]
[{"$nulls":13},{"$f":"IF(LEFT(RIGHT(Candidate!CO956,2),1)<>\"/\",RIGHT(Candidate!CO956,6),INDEX(CandidateFileArray,MATCH(RIGHT(Candidate!CO956,8),CandidateFileList,0),2))","v":""}]
[{"$nulls":13},{"$f":"IF(LEFT(RIGHT(Candidate!CO957,2),1)<>\"/\",RIGHT(Candidate!CO957,6),INDEX(CandidateFileArray,MATCH(RIGHT(Candidate!CO957,8),CandidateFileList,0),2))","v":""}]
[{"$nulls":13},{"$f":"IF(LEFT(RIGHT(Candidate!CO958,2),1)<>\"/\",RIGHT(Candidate!CO958,6),INDEX(CandidateFileArray,MATCH(RIGHT(Candidate!CO958,8),CandidateFileList,0),2))","v":""}]
[{"$nulls":13},{"$f":"IF(LEFT(RIGHT(Candidate!CO959,2),1)<>\"/\",RIGHT(Candidate!CO959,6),INDEX(CandidateFileArray,MATCH(RIGHT(Candidate!CO959,8),CandidateFileList,0),2))","v":""}]
[{"$nulls":13},{"$f":"IF(LEFT(RIGHT(Candidate!CO960,2),1)<>\"/\",RIGHT(Candidate!CO960,6),INDEX(CandidateFileArray,MATCH(RIGHT(Candidate!CO960,8),CandidateFileList,0),2))","v":""}]
[{"$nulls":13},{"$f":"IF(LEFT(RIGHT(Candidate!CO961,2),1)<>\"/\",RIGHT(Candidate!CO961,6),INDEX(CandidateFileArray,MATCH(RIGHT(Candidate!CO961,8),CandidateFileList,0),2))","v":""}]
[{"$nulls":13},{"$f":"IF(LEFT(RIGHT(Candidate!CO962,2),1)<>\"/\",RIGHT(Candidate!CO962,6),INDEX(CandidateFileArray,MATCH(RIGHT(Candidate!CO962,8),CandidateFileList,0),2))","v":""}]
[{"$nulls":13},{"$f":"IF(LEFT(RIGHT(Candidate!CO963,2),1)<>\"/\",RIGHT(Candidate!CO963,6),INDEX(CandidateFileArray,MATCH(RIGHT(Candidate!CO963,8),CandidateFileList,0),2))","v":""}]
[{"$nulls":13},{"$f":"IF(LEFT(RIGHT(Candidate!CO964,2),1)<>\"/\",RIGHT(Candidate!CO964,6),INDEX(CandidateFileArray,MATCH(RIGHT(Candidate!CO964,8),CandidateFileList,0),2))","v":""}]
[{"$nulls":13},{"$f":"IF(LEFT(RIGHT(Candidate!CO965,2),1)<>\"/\",RIGHT(Candidate!CO965,6),INDEX(CandidateFileArray,MATCH(RIGHT(Candidate!CO965,8),CandidateFileList,0),2))","v":""}]
[{"$nulls":13},{"$f":"IF(LEFT(RIGHT(Candidate!CO966,2),1)<>\"/\",RIGHT(Candidate!CO966,6),INDEX(CandidateFileArray,MATCH(RIGHT(Candidate!CO966,8),CandidateFileList,0),2))","v":""}]
[{"$nulls":13},{"$f":"IF(LEFT(RIGHT(Candidate!CO967,2),1)<>\"/\",RIGHT(Candidate!CO967,6),INDEX(CandidateFileArray,MATCH(RIGHT(Candidate!CO967,8),CandidateFileList,0),2))","v":""}]
[{"$nulls":13},{"$f":"IF(LEFT(RIGHT(Candidate!CO968,2),1)<>\"/\",RIGHT(Candidate!CO968,6),INDEX(CandidateFileArray,MATCH(RIGHT(Candidate!CO968,8),CandidateFileList,0),2))","v":""}]
[{"$nulls":13},{"$f":"IF(LEFT(RIGHT(Candidate!CO969,2),1)<>\"/\",RIGHT(Candidate!CO969,6),INDEX(CandidateFileArray,MATCH(RIGHT(Candidate!CO969,8),CandidateFileList,0),2))","v":""}]
[{"$nulls":13},{"$f":"IF(LEFT(RIGHT(Candidate!CO970,2),1)<>\"/\",RIGHT(Candidate!CO970,6),INDEX(CandidateFileArray,MATCH(RIGHT(Candidate!CO970,8),CandidateFileList,0),2))","v":""}]
[{"$nulls":13},{"$f":"IF(LEFT(RIGHT(Candidate!CO971,2),1)<>\"/\",RIGHT(Candidate!CO971,6),INDEX(CandidateFileArray,MATCH(RIGHT(Candidate!CO971,8),CandidateFileList,0),2))","v":""}]
[{"$nulls":13},{"$f":"IF(LEFT(RIGHT(Candidate!CO972,2),1)<>\"/\",RIGHT(Candidate!CO972,6),INDEX(CandidateFileArray,MATCH(RIGHT(Candidate!CO972,8),CandidateFileList,0),2))","v":""}]
[{"$nulls":13},{"$f":"IF(LEFT(RIGHT(Candidate!CO973,2),1)<>\"/\",RIGHT(Candidate!CO973,6),INDEX(CandidateFileArray,MATCH(RIGHT(Candidate!CO973,8),CandidateFileList,0),2))","v":""}]
[{"$nulls":13},{"$f":"IF(LEFT(RIGHT(Candidate!CO974,2),1)<>\"/\",RIGHT(Candidate!CO974,6),INDEX(CandidateFileArray,MATCH(RIGHT(Candidate!CO974,8),CandidateFileList,0),2))","v":""}]
[{"$nulls":13},{"$f":"IF(LEFT(RIGHT(Candidate!CO975,2),1)<>\"/\",RIGHT(Candidate!CO975,6),INDEX(CandidateFileArray,MATCH(RIGHT(Candidate!CO975,8),CandidateFileList,0),2))","v":""}]
[{"$nulls":13},{"$f":"IF(LEFT(RIGHT(Candidate!CO976,2),1)<>\"/\",RIGHT(Candidate!CO976,6),INDEX(CandidateFileArray,MATCH(RIGHT(Candidate!CO976,8),CandidateFileList,0),2))","v":""}]
[{"$nulls":13},{"$f":"IF(LEFT(RIGHT(Candidate!CO977,2),1)<>\"/\",RIGHT(Candidate!CO977,6),INDEX(CandidateFileArray,MATCH(RIGHT(Candidate!CO977,8),CandidateFileList,0),2))","v":""}]
[{"$nulls":13},{"$f":"IF(LEFT(RIGHT(Candidate!CO978,2),1)<>\"/\",RIGHT(Candidate!CO978,6),INDEX(CandidateFileArray,MATCH(RIGHT(Candidate!CO978,8),CandidateFileList,0),2))","v":""}]
[{"$nulls":13},{"$f":"IF(LEFT(RIGHT(Candidate!CO979,2),1)<>\"/\",RIGHT(Candidate!CO979,6),INDEX(CandidateFileArray,MATCH(RIGHT(Candidate!CO979,8),CandidateFileList,0),2))","v":""}]
[{"$nulls":13},{"$f":"IF(LEFT(RIGHT(Candidate!CO980,2),1)<>\"/\",RIGHT(Candidate!CO980,6),INDEX(CandidateFileArray,MATCH(RIGHT(Candidate!CO980,8),CandidateFileList,0),2))","v":""}]
[{"$nulls":13},{"$f":"IF(LEFT(RIGHT(Candidate!CO981,2),1)<>\"/\",RIGHT(Candidate!CO981,6),INDEX(CandidateFileArray,MATCH(RIGHT(Candidate!CO981,8),CandidateFileList,0),2))","v":""}]
[{"$nulls":13},{"$f":"IF(LEFT(RIGHT(Candidate!CO982,2),1)<>\"/\",RIGHT(Candidate!CO982,6),INDEX(CandidateFileArray,MATCH(RIGHT(Candidate!CO982,8),CandidateFileList,0),2))","v":""}]
[{"$nulls":13},{"$f":"IF(LEFT(RIGHT(Candidate!CO983,2),1)<>\"/\",RIGHT(Candidate!CO983,6),INDEX(CandidateFileArray,MATCH(RIGHT(Candidate!CO983,8),CandidateFileList,0),2))","v":""}]
[{"$nulls":13},{"$f":"IF(LEFT(RIGHT(Candidate!CO984,2),1)<>\"/\",RIGHT(Candidate!CO984,6),INDEX(CandidateFileArray,MATCH(RIGHT(Candidate!CO984,8),CandidateFileList,0),2))","v":""}]
[{"$nulls":13},{"$f":"IF(LEFT(RIGHT(Candidate!CO985,2),1)<>\"/\",RIGHT(Candidate!CO985,6),INDEX(CandidateFileArray,MATCH(RIGHT(Candidate!CO985,8),CandidateFileList,0),2))","v":""}]
[{"$nulls":13},{"$f":"IF(LEFT(RIGHT(Candidate!CO986,2),1)<>\"/\",RIGHT(Candidate!CO986,6),INDEX(CandidateFileArray,MATCH(RIGHT(Candidate!CO986,8),CandidateFileList,0),2))","v":""}]
[{"$nulls":13},{"$f":"IF(LEFT(RIGHT(Candidate!CO987,2),1)<>\"/\",RIGHT(Candidate!CO987,6),INDEX(CandidateFileArray,MATCH(RIGHT(Candidate!CO987,8),CandidateFileList,0),2))","v":""}]
[{"$nulls":13},{"$f":"IF(LEFT(RIGHT(Candidate!CO988,2),1)<>\"/\",RIGHT(Candidate!CO988,6),INDEX(CandidateFileArray,MATCH(RIGHT(Candidate!CO988,8),CandidateFileList,0),2))","v":""}]
[{"$nulls":13},{"$f":"IF(LEFT(RIGHT(Candidate!CO989,2),1)<>\"/\",RIGHT(Candidate!CO989,6),INDEX(CandidateFileArray,MATCH(RIGHT(Candidate!CO989,8),CandidateFileList,0),2))","v":""}]
[{"$nulls":13},{"$f":"IF(LEFT(RIGHT(Candidate!CO990,2),1)<>\"/\",RIGHT(Candidate!CO990,6),INDEX(CandidateFileArray,MATCH(RIGHT(Candidate!CO990,8),CandidateFileList,0),2))","v":""}]
[{"$nulls":13},{"$f":"IF(LEFT(RIGHT(Candidate!CO991,2),1)<>\"/\",RIGHT(Candidate!CO991,6),INDEX(CandidateFileArray,MATCH(RIGHT(Candidate!CO991,8),CandidateFileList,0),2))","v":""}]
[{"$nulls":13},{"$f":"IF(LEFT(RIGHT(Candidate!CO992,2),1)<>\"/\",RIGHT(Candidate!CO992,6),INDEX(CandidateFileArray,MATCH(RIGHT(Candidate!CO992,8),CandidateFileList,0),2))","v":""}]
[{"$nulls":13},{"$f":"IF(LEFT(RIGHT(Candidate!CO993,2),1)<>\"/\",RIGHT(Candidate!CO993,6),INDEX(CandidateFileArray,MATCH(RIGHT(Candidate!CO993,8),CandidateFileList,0),2))","v":""}]
[{"$nulls":13},{"$f":"IF(LEFT(RIGHT(Candidate!CO994,2),1)<>\"/\",RIGHT(Candidate!CO994,6),INDEX(CandidateFileArray,MATCH(RIGHT(Candidate!CO994,8),CandidateFileList,0),2))","v":""}]
[{"$nulls":13},{"$f":"IF(LEFT(RIGHT(Candidate!CO995,2),1)<>\"/\",RIGHT(Candidate!CO995,6),INDEX(CandidateFileArray,MATCH(RIGHT(Candidate!CO995,8),CandidateFileList,0),2))","v":""}]
[{"$nulls":13},{"$f":"IF(LEFT(RIGHT(Candidate!CO996,2),1)<>\"/\",RIGHT(Candidate!CO996,6),INDEX(CandidateFileArray,MATCH(RIGHT(Candidate!CO996,8),CandidateFileList,0),2))","v":""}]
[{"$nulls":13},{"$f":"IF(LEFT(RIGHT(Candidate!CO997,2),1)<>\"/\",RIGHT(Candidate!CO997,6),INDEX(CandidateFileArray,MATCH(RIGHT(Candidate!CO997,8),CandidateFileList,0),2))","v":""}]
[{"$nulls":13},{"$f":"IF(LEFT(RIGHT(Candidate!CO998,2),1)<>\"/\",RIGHT(Candidate!CO998,6),INDEX(CandidateFileArray,MATCH(RIGHT(Candidate!CO998,8),CandidateFileList,0),2))","v":""}]
[{"$nulls":13},{"$f":"IF(LEFT(RIGHT(Candidate!CO999,2),1)<>\"/\",RIGHT(Candidate!CO999,6),INDEX(CandidateFileArray,MATCH(RIGHT(Candidate!CO999,8),CandidateFileList,0),2))","v":""}]
[{"$nulls":13},{"$f":"IF(LEFT(RIGHT(Candidate!CO1000,2),1)<>\"/\",RIGHT(Candidate!CO1000,6),INDEX(CandidateFileArray,MATCH(RIGHT(Candidate!CO1000,8),CandidateFileList,0),2))","v":""}]

{"sheet":"CBECCLookups","index":8,"n_rows":1000,"n_cols":15,"rows_kept":1000,"cut":false,"hidden":false,"merged":[]}
["This tab should not be modified. Contains lookup data that may be copied to ReferenceLookup or CandidateLookup Tab",{"$nulls":12},"Filename"]
["These are preset to match the format of the CBECC-Res AnalysisResults.csv file as of 07/02/2013",{"$nulls":12},"Column"]
[]
[{"$nulls":13},{"$f":"RIGHT(Reference!CO4,6)","v":""},"Column N will need to be modified for different software"]
["Reference",{"$f":"\"'\"&A5&\"'!\"&\"$A$1:$CP$1000\"","v":"'Reference'!$A$1:$CP$1000"},null,null,"Array that includes all data that needs to be searched in results",{"$nulls":8},{"$f":"RIGHT(Reference!CO5,6)","v":""},"to return just the filename such as T01R01."]
[{"$f":"A5&\"FileName\"","v":"ReferenceFileName"},{"$f":"\"'\"&A5&\"Lookups'!\"&\"$N$1:$N$1000\"","v":"'ReferenceLookups'!$N$1:$N$1000"},null,null,"Column that includes only the file name (eg T02R01)",{"$nulls":8},{"$f":"RIGHT(Reference!CO6,6)","v":""}]
[{"$nulls":13},{"$f":"RIGHT(Reference!CO7,6)","v":""}]
[null,"Column",{"$nulls":11},{"$f":"RIGHT(Reference!CO8,6)","v":""}]
[null,"Number",{"$nulls":11},{"$f":"RIGHT(Reference!CO9,6)","v":""}]
["Proposed",{"$nulls":12},{"$f":"RIGHT(Reference!CO10,6)","v":""}]
[{"$f":"A5&A10&\"SpcHeat\"","v":"ReferenceProposedSpcHeat"},36,{"$nulls":11},{"$f":"RIGHT(Reference!CO11,6)","v":""}]
[{"$f":"A5&A10&\"SpcCool\"","v":"ReferenceProposedSpcCool"},37,{"$nulls":11},{"$f":"RIGHT(Reference!CO12,6)","v":""}]
[{"$f":"A5&A10&\"IAQVent\"","v":"ReferenceProposedIAQVent"},38,{"$nulls":11},{"$f":"RIGHT(Reference!CO13,6)","v":""}]
[{"$f":"A5&A10&\"OtherHVAC\"","v":"ReferenceProposedOtherHVAC"},39,{"$nulls":11},{"$f":"RIGHT(Reference!CO14,6)","v":""}]
[{"$f":"A5&A10&\"WtrHeat\"","v":"ReferenceProposedWtrHeat"},40,{"$nulls":11},{"$f":"RIGHT(Reference!CO15,6)","v":""}]
[{"$f":"A5&A10&\"Solar\"","v":"ReferenceProposedSolar"},41,null,null,"Software does not have this value, so point to 0 column for now",{"$nulls":8},{"$f":"RIGHT(Reference!CO16,6)","v":""}]
[{"$f":"A5&A10&\"Total\"","v":"ReferenceProposedTotal"},47,{"$nulls":11},{"$f":"RIGHT(Reference!CO17,6)","v":""}]
["Standard",{"$nulls":12},{"$f":"RIGHT(Reference!CO18,6)","v":""}]
[{"$f":"A5&A18&\"SpcHeat\"","v":"ReferenceStandardSpcHeat"},78,{"$nulls":11},{"$f":"RIGHT(Reference!CO19,6)","v":""}]
[{"$f":"A5&A18&\"SpcCool\"","v":"ReferenceStandardSpcCool"},79,{"$nulls":11},{"$f":"RIGHT(Reference!CO20,6)","v":""}]
[{"$f":"A5&A18&\"IAQVent\"","v":"ReferenceStandardIAQVent"},80,{"$nulls":11},{"$f":"RIGHT(Reference!CO21,6)","v":""}]
[{"$f":"A5&A18&\"OtherHVAC\"","v":"ReferenceStandardOtherHVAC"},81,{"$nulls":11},{"$f":"RIGHT(Reference!CO22,6)","v":""}]
[{"$f":"A5&A18&\"WtrHeat\"","v":"ReferenceStandardWtrHeat"},82,{"$nulls":11},{"$f":"RIGHT(Reference!CO23,6)","v":""}]
[{"$f":"A5&A18&\"Solar\"","v":"ReferenceStandardSolar"},0,null,null,"Software does not have this value, so point to 0 column for now",{"$nulls":8},{"$f":"RIGHT(Reference!CO24,6)","v":""}]
[{"$f":"A5&A18&\"Total\"","v":"ReferenceStandardTotal"},88,{"$nulls":11},{"$f":"RIGHT(Reference!CO25,6)","v":""}]
[{"$nulls":13},{"$f":"RIGHT(Reference!CO26,6)","v":""}]
[{"$nulls":13},{"$f":"RIGHT(Reference!CO27,6)","v":""}]
[{"$nulls":13},{"$f":"RIGHT(Reference!CO28,6)","v":""}]
[{"$nulls":13},{"$f":"RIGHT(Reference!CO29,6)","v":""}]
[{"$nulls":13},{"$f":"RIGHT(Reference!CO30,6)","v":""}]
[{"$nulls":13},{"$f":"RIGHT(Reference!CO31,6)","v":""}]
[{"$nulls":13},{"$f":"RIGHT(Reference!CO32,6)","v":""}]
[{"$nulls":13},{"$f":"RIGHT(Reference!CO33,6)","v":""}]
[{"$nulls":13},{"$f":"RIGHT(Reference!CO34,6)","v":""}]
[{"$nulls":13},{"$f":"RIGHT(Reference!CO35,6)","v":""}]
[{"$nulls":13},{"$f":"RIGHT(Reference!CO36,6)","v":""}]
[{"$nulls":13},{"$f":"RIGHT(Reference!CO37,6)","v":""}]
[{"$nulls":13},{"$f":"RIGHT(Reference!CO38,6)","v":""}]
[{"$nulls":13},{"$f":"RIGHT(Reference!CO39,6)","v":""}]
[{"$nulls":13},{"$f":"RIGHT(Reference!CO40,6)","v":""}]
[{"$nulls":13},{"$f":"RIGHT(Reference!CO41,6)","v":""}]
[{"$nulls":13},{"$f":"RIGHT(Reference!CO42,6)","v":""}]
[{"$nulls":13},{"$f":"RIGHT(Reference!CO43,6)","v":""}]
[{"$nulls":13},{"$f":"RIGHT(Reference!CO44,6)","v":""}]
[{"$nulls":13},{"$f":"RIGHT(Reference!CO45,6)","v":""}]
[{"$nulls":13},{"$f":"RIGHT(Reference!CO46,6)","v":""}]
[{"$nulls":13},{"$f":"RIGHT(Reference!CO47,6)","v":""}]
[{"$nulls":13},{"$f":"RIGHT(Reference!CO48,6)","v":""}]
[{"$nulls":13},{"$f":"RIGHT(Reference!CO49,6)","v":""}]
[{"$nulls":13},{"$f":"RIGHT(Reference!CO50,6)","v":""}]
[{"$nulls":13},{"$f":"RIGHT(Reference!CO51,6)","v":""}]
[{"$nulls":13},{"$f":"RIGHT(Reference!CO52,6)","v":""}]
[{"$nulls":13},{"$f":"RIGHT(Reference!CO53,6)","v":""}]
[{"$nulls":13},{"$f":"RIGHT(Reference!CO54,6)","v":""}]
[{"$nulls":13},{"$f":"RIGHT(Reference!CO55,6)","v":""}]
[{"$nulls":13},{"$f":"RIGHT(Reference!CO56,6)","v":""}]
[{"$nulls":13},{"$f":"RIGHT(Reference!CO57,6)","v":""}]
[{"$nulls":13},{"$f":"RIGHT(Reference!CO58,6)","v":""}]
[{"$nulls":13},{"$f":"RIGHT(Reference!CO59,6)","v":""}]
[{"$nulls":13},{"$f":"RIGHT(Reference!CO60,6)","v":""}]
[{"$nulls":13},{"$f":"RIGHT(Reference!CO61,6)","v":""}]
[{"$nulls":13},{"$f":"RIGHT(Reference!CO62,6)","v":""}]
[{"$nulls":13},{"$f":"RIGHT(Reference!CO63,6)","v":""}]
[{"$nulls":13},{"$f":"RIGHT(Reference!CO64,6)","v":""}]
[{"$nulls":13},{"$f":"RIGHT(Reference!CO65,6)","v":""}]
[{"$nulls":13},{"$f":"RIGHT(Reference!CO66,6)","v":""}]
[{"$nulls":13},{"$f":"RIGHT(Reference!CO67,6)","v":""}]
[{"$nulls":13},{"$f":"RIGHT(Reference!CO68,6)","v":""}]
[{"$nulls":13},{"$f":"RIGHT(Reference!CO69,6)","v":""}]
[{"$nulls":13},{"$f":"RIGHT(Reference!CO70,6)","v":""}]
[{"$nulls":13},{"$f":"RIGHT(Reference!CO71,6)","v":""}]
[{"$nulls":13},{"$f":"RIGHT(Reference!CO72,6)","v":""}]
[{"$nulls":13},{"$f":"RIGHT(Reference!CO73,6)","v":""}]
[{"$nulls":13},{"$f":"RIGHT(Reference!CO74,6)","v":""}]
[{"$nulls":13},{"$f":"RIGHT(Reference!CO75,6)","v":""}]
[{"$nulls":13},{"$f":"RIGHT(Reference!CO76,6)","v":""}]
[{"$nulls":13},{"$f":"RIGHT(Reference!CO77,6)","v":""}]
[{"$nulls":13},{"$f":"RIGHT(Reference!CO78,6)","v":""}]
[{"$nulls":13},{"$f":"RIGHT(Reference!CO79,6)","v":""}]
[{"$nulls":13},{"$f":"RIGHT(Reference!CO80,6)","v":""}]
[{"$nulls":13},{"$f":"RIGHT(Reference!CO81,6)","v":""}]
[{"$nulls":13},{"$f":"RIGHT(Reference!CO82,6)","v":""}]
[{"$nulls":13},{"$f":"RIGHT(Reference!CO83,6)","v":""}]
[{"$nulls":13},{"$f":"RIGHT(Reference!CO84,6)","v":""}]
[{"$nulls":13},{"$f":"RIGHT(Reference!CO85,6)","v":""}]
[{"$nulls":13},{"$f":"RIGHT(Reference!CO86,6)","v":""}]
[{"$nulls":13},{"$f":"RIGHT(Reference!CO87,6)","v":""}]
[{"$nulls":13},{"$f":"RIGHT(Reference!CO88,6)","v":""}]
[{"$nulls":13},{"$f":"RIGHT(Reference!CO89,6)","v":""}]
[{"$nulls":13},{"$f":"RIGHT(Reference!CO90,6)","v":""}]
[{"$nulls":13},{"$f":"RIGHT(Reference!CO91,6)","v":""}]
[{"$nulls":13},{"$f":"RIGHT(Reference!CO92,6)","v":""}]
[{"$nulls":13},{"$f":"RIGHT(Reference!CO93,6)","v":""}]
[{"$nulls":13},{"$f":"RIGHT(Reference!CO94,6)","v":""}]
[{"$nulls":13},{"$f":"RIGHT(Reference!CO95,6)","v":""}]
[{"$nulls":13},{"$f":"RIGHT(Reference!CO96,6)","v":""}]
[{"$nulls":13},{"$f":"RIGHT(Reference!CO97,6)","v":""}]
[{"$nulls":13},{"$f":"RIGHT(Reference!CO98,6)","v":""}]
[{"$nulls":13},{"$f":"RIGHT(Reference!CO99,6)","v":""}]
[{"$nulls":13},{"$f":"RIGHT(Reference!CO100,6)","v":""}]
[{"$nulls":13},{"$f":"RIGHT(Reference!CO101,6)","v":""}]
[{"$nulls":13},{"$f":"RIGHT(Reference!CO102,6)","v":""}]
[{"$nulls":13},{"$f":"RIGHT(Reference!CO103,6)","v":""}]
[{"$nulls":13},{"$f":"RIGHT(Reference!CO104,6)","v":""}]
[{"$nulls":13},{"$f":"RIGHT(Reference!CO105,6)","v":""}]
[{"$nulls":13},{"$f":"RIGHT(Reference!CO106,6)","v":""}]
[{"$nulls":13},{"$f":"RIGHT(Reference!CO107,6)","v":""}]
[{"$nulls":13},{"$f":"RIGHT(Reference!CO108,6)","v":""}]
[{"$nulls":13},{"$f":"RIGHT(Reference!CO109,6)","v":""}]
[{"$nulls":13},{"$f":"RIGHT(Reference!CO110,6)","v":""}]
[{"$nulls":13},{"$f":"RIGHT(Reference!CO111,6)","v":""}]
[{"$nulls":13},{"$f":"RIGHT(Reference!CO112,6)","v":""}]
[{"$nulls":13},{"$f":"RIGHT(Reference!CO113,6)","v":""}]
[{"$nulls":13},{"$f":"RIGHT(Reference!CO114,6)","v":""}]
[{"$nulls":13},{"$f":"RIGHT(Reference!CO115,6)","v":""}]
[{"$nulls":13},{"$f":"RIGHT(Reference!CO116,6)","v":""}]
[{"$nulls":13},{"$f":"RIGHT(Reference!CO117,6)","v":""}]
[{"$nulls":13},{"$f":"RIGHT(Reference!CO118,6)","v":""}]
[{"$nulls":13},{"$f":"RIGHT(Reference!CO119,6)","v":""}]
[{"$nulls":13},{"$f":"RIGHT(Reference!CO120,6)","v":""}]
[{"$nulls":13},{"$f":"RIGHT(Reference!CO121,6)","v":""}]
[{"$nulls":13},{"$f":"RIGHT(Reference!CO122,6)","v":""}]
[{"$nulls":13},{"$f":"RIGHT(Reference!CO123,6)","v":""}]
[{"$nulls":13},{"$f":"RIGHT(Reference!CO124,6)","v":""}]
[{"$nulls":13},{"$f":"RIGHT(Reference!CO125,6)","v":""}]
[{"$nulls":13},{"$f":"RIGHT(Reference!CO126,6)","v":""}]
[{"$nulls":13},{"$f":"RIGHT(Reference!CO127,6)","v":""}]
[{"$nulls":13},{"$f":"RIGHT(Reference!CO128,6)","v":""}]
[{"$nulls":13},{"$f":"RIGHT(Reference!CO129,6)","v":""}]
[{"$nulls":13},{"$f":"RIGHT(Reference!CO130,6)","v":""}]
[{"$nulls":13},{"$f":"RIGHT(Reference!CO131,6)","v":""}]
[{"$nulls":13},{"$f":"RIGHT(Reference!CO132,6)","v":""}]
[{"$nulls":13},{"$f":"RIGHT(Reference!CO133,6)","v":""}]
[{"$nulls":13},{"$f":"RIGHT(Reference!CO134,6)","v":""}]
[{"$nulls":13},{"$f":"RIGHT(Reference!CO135,6)","v":""}]
[{"$nulls":13},{"$f":"RIGHT(Reference!CO136,6)","v":""}]
[{"$nulls":13},{"$f":"RIGHT(Reference!CO137,6)","v":""}]
[{"$nulls":13},{"$f":"RIGHT(Reference!CO138,6)","v":""}]
[{"$nulls":13},{"$f":"RIGHT(Reference!CO139,6)","v":""}]
[{"$nulls":13},{"$f":"RIGHT(Reference!CO140,6)","v":""}]
[{"$nulls":13},{"$f":"RIGHT(Reference!CO141,6)","v":""}]
[{"$nulls":13},{"$f":"RIGHT(Reference!CO142,6)","v":""}]
[{"$nulls":13},{"$f":"RIGHT(Reference!CO143,6)","v":""}]
[{"$nulls":13},{"$f":"RIGHT(Reference!#REF!,6)","v":{"$error":"#REF!"}}]
[{"$nulls":13},{"$f":"RIGHT(Reference!CO144,6)","v":""}]
[{"$nulls":13},{"$f":"RIGHT(Reference!CO145,6)","v":""}]
[{"$nulls":13},{"$f":"RIGHT(Reference!CO146,6)","v":""}]
[{"$nulls":13},{"$f":"RIGHT(Reference!CO147,6)","v":""}]
[{"$nulls":13},{"$f":"RIGHT(Reference!CO148,6)","v":""}]
[{"$nulls":13},{"$f":"RIGHT(Reference!CO149,6)","v":""}]
[{"$nulls":13},{"$f":"RIGHT(Reference!CO150,6)","v":""}]
[{"$nulls":13},{"$f":"RIGHT(Reference!CO151,6)","v":""}]
[{"$nulls":13},{"$f":"RIGHT(Reference!CO152,6)","v":""}]
[{"$nulls":13},{"$f":"RIGHT(Reference!CO153,6)","v":""}]
[{"$nulls":13},{"$f":"RIGHT(Reference!CO154,6)","v":""}]
[{"$nulls":13},{"$f":"RIGHT(Reference!CO155,6)","v":""}]
[{"$nulls":13},{"$f":"RIGHT(Reference!CO156,6)","v":""}]
[{"$nulls":13},{"$f":"RIGHT(Reference!CO157,6)","v":""}]
[{"$nulls":13},{"$f":"RIGHT(Reference!CO158,6)","v":""}]
[{"$nulls":13},{"$f":"RIGHT(Reference!CO159,6)","v":""}]
[{"$nulls":13},{"$f":"RIGHT(Reference!CO160,6)","v":""}]
[{"$nulls":13},{"$f":"RIGHT(Reference!CO161,6)","v":""}]
[{"$nulls":13},{"$f":"RIGHT(Reference!CO162,6)","v":""}]
[{"$nulls":13},{"$f":"RIGHT(Reference!CO163,6)","v":""}]
[{"$nulls":13},{"$f":"RIGHT(Reference!CO164,6)","v":""}]
[{"$nulls":13},{"$f":"RIGHT(Reference!CO165,6)","v":""}]
[{"$nulls":13},{"$f":"RIGHT(Reference!CO166,6)","v":""}]
[{"$nulls":13},{"$f":"RIGHT(Reference!CO167,6)","v":""}]
[{"$nulls":13},{"$f":"RIGHT(Reference!CO168,6)","v":""}]
[{"$nulls":13},{"$f":"RIGHT(Reference!CO169,6)","v":""}]
[{"$nulls":13},{"$f":"RIGHT(Reference!CO170,6)","v":""}]
[{"$nulls":13},{"$f":"RIGHT(Reference!CO171,6)","v":""}]
[{"$nulls":13},{"$f":"RIGHT(Reference!CO172,6)","v":""}]
[{"$nulls":13},{"$f":"RIGHT(Reference!CO173,6)","v":""}]
[{"$nulls":13},{"$f":"RIGHT(Reference!CO174,6)","v":""}]
[{"$nulls":13},{"$f":"RIGHT(Reference!CO175,6)","v":""}]
[{"$nulls":13},{"$f":"RIGHT(Reference!CO176,6)","v":""}]
[{"$nulls":13},{"$f":"RIGHT(Reference!CO177,6)","v":""}]
[{"$nulls":13},{"$f":"RIGHT(Reference!CO178,6)","v":""}]
[{"$nulls":13},{"$f":"RIGHT(Reference!CO179,6)","v":""}]
[{"$nulls":13},{"$f":"RIGHT(Reference!CO180,6)","v":""}]
[{"$nulls":13},{"$f":"RIGHT(Reference!CO181,6)","v":""}]
[{"$nulls":13},{"$f":"RIGHT(Reference!CO182,6)","v":""}]
[{"$nulls":13},{"$f":"RIGHT(Reference!CO183,6)","v":""}]
[{"$nulls":13},{"$f":"RIGHT(Reference!CO184,6)","v":""}]
[{"$nulls":13},{"$f":"RIGHT(Reference!CO185,6)","v":""}]
[{"$nulls":13},{"$f":"RIGHT(Reference!CO186,6)","v":""}]
[{"$nulls":13},{"$f":"RIGHT(Reference!CO187,6)","v":""}]
[{"$nulls":13},{"$f":"RIGHT(Reference!CO188,6)","v":""}]
[{"$nulls":13},{"$f":"RIGHT(Reference!CO189,6)","v":""}]
[{"$nulls":13},{"$f":"RIGHT(Reference!CO190,6)","v":""}]
[{"$nulls":13},{"$f":"RIGHT(Reference!CO191,6)","v":""}]
[{"$nulls":13},{"$f":"RIGHT(Reference!CO192,6)","v":""}]
[{"$nulls":13},{"$f":"RIGHT(Reference!CO193,6)","v":""}]
[{"$nulls":13},{"$f":"RIGHT(Reference!CO194,6)","v":""}]
[{"$nulls":13},{"$f":"RIGHT(Reference!CO195,6)","v":""}]
[{"$nulls":13},{"$f":"RIGHT(Reference!CO196,6)","v":""}]
[{"$nulls":13},{"$f":"RIGHT(Reference!CO197,6)","v":""}]
[{"$nulls":13},{"$f":"RIGHT(Reference!CO198,6)","v":""}]
[{"$nulls":13},{"$f":"RIGHT(Reference!CO199,6)","v":""}]
[{"$nulls":13},{"$f":"RIGHT(Reference!CO200,6)","v":""}]
[{"$nulls":13},{"$f":"RIGHT(Reference!CO201,6)","v":""}]
[{"$nulls":13},{"$f":"RIGHT(Reference!CO202,6)","v":""}]
[{"$nulls":13},{"$f":"RIGHT(Reference!CO203,6)","v":""}]
[{"$nulls":13},{"$f":"RIGHT(Reference!CO204,6)","v":""}]
[{"$nulls":13},{"$f":"RIGHT(Reference!CO205,6)","v":""}]
[{"$nulls":13},{"$f":"RIGHT(Reference!CO206,6)","v":""}]
[{"$nulls":13},{"$f":"RIGHT(Reference!CO207,6)","v":""}]
[{"$nulls":13},{"$f":"RIGHT(Reference!CO208,6)","v":""}]
[{"$nulls":13},{"$f":"RIGHT(Reference!CO209,6)","v":""}]
[{"$nulls":13},{"$f":"RIGHT(Reference!CO210,6)","v":""}]
[{"$nulls":13},{"$f":"RIGHT(Reference!CO211,6)","v":""}]
[{"$nulls":13},{"$f":"RIGHT(Reference!CO212,6)","v":""}]
[{"$nulls":13},{"$f":"RIGHT(Reference!CO213,6)","v":""}]
[{"$nulls":13},{"$f":"RIGHT(Reference!CO214,6)","v":""}]
[{"$nulls":13},{"$f":"RIGHT(Reference!CO215,6)","v":""}]
[{"$nulls":13},{"$f":"RIGHT(Reference!CO216,6)","v":""}]
[{"$nulls":13},{"$f":"RIGHT(Reference!CO217,6)","v":""}]
[{"$nulls":13},{"$f":"RIGHT(Reference!CO218,6)","v":""}]
[{"$nulls":13},{"$f":"RIGHT(Reference!CO219,6)","v":""}]
[{"$nulls":13},{"$f":"RIGHT(Reference!CO220,6)","v":""}]
[{"$nulls":13},{"$f":"RIGHT(Reference!CO221,6)","v":""}]
[{"$nulls":13},{"$f":"RIGHT(Reference!CO222,6)","v":""}]
[{"$nulls":13},{"$f":"RIGHT(Reference!CO223,6)","v":""}]
[{"$nulls":13},{"$f":"RIGHT(Reference!CO224,6)","v":""}]
[{"$nulls":13},{"$f":"RIGHT(Reference!CO225,6)","v":""}]
[{"$nulls":13},{"$f":"RIGHT(Reference!CO226,6)","v":""}]
[{"$nulls":13},{"$f":"RIGHT(Reference!CO227,6)","v":""}]
[{"$nulls":13},{"$f":"RIGHT(Reference!CO228,6)","v":""}]
[{"$nulls":13},{"$f":"RIGHT(Reference!CO229,6)","v":""}]
[{"$nulls":13},{"$f":"RIGHT(Reference!CO230,6)","v":""}]
[{"$nulls":13},{"$f":"RIGHT(Reference!CO231,6)","v":""}]
[{"$nulls":13},{"$f":"RIGHT(Reference!CO232,6)","v":""}]
[{"$nulls":13},{"$f":"RIGHT(Reference!CO233,6)","v":""}]
[{"$nulls":13},{"$f":"RIGHT(Reference!CO234,6)","v":""}]
[{"$nulls":13},{"$f":"RIGHT(Reference!CO235,6)","v":""}]
[{"$nulls":13},{"$f":"RIGHT(Reference!CO236,6)","v":""}]
[{"$nulls":13},{"$f":"RIGHT(Reference!CO237,6)","v":""}]
[{"$nulls":13},{"$f":"RIGHT(Reference!CO238,6)","v":""}]
[{"$nulls":13},{"$f":"RIGHT(Reference!CO239,6)","v":""}]
[{"$nulls":13},{"$f":"RIGHT(Reference!CO240,6)","v":""}]
[{"$nulls":13},{"$f":"RIGHT(Reference!CO241,6)","v":""}]
[{"$nulls":13},{"$f":"RIGHT(Reference!CO242,6)","v":""}]
[{"$nulls":13},{"$f":"RIGHT(Reference!CO243,6)","v":""}]
[{"$nulls":13},{"$f":"RIGHT(Reference!CO244,6)","v":""}]
[{"$nulls":13},{"$f":"RIGHT(Reference!CO245,6)","v":""}]
[{"$nulls":13},{"$f":"RIGHT(Reference!CO246,6)","v":""}]
[{"$nulls":13},{"$f":"RIGHT(Reference!CO247,6)","v":""}]
[{"$nulls":13},{"$f":"RIGHT(Reference!CO248,6)","v":""}]
[{"$nulls":13},{"$f":"RIGHT(Reference!CO249,6)","v":""}]
[{"$nulls":13},{"$f":"RIGHT(Reference!CO250,6)","v":""}]
[{"$nulls":13},{"$f":"RIGHT(Reference!CO251,6)","v":""}]
[{"$nulls":13},{"$f":"RIGHT(Reference!CO252,6)","v":""}]
[{"$nulls":13},{"$f":"RIGHT(Reference!CO253,6)","v":""}]
[{"$nulls":13},{"$f":"RIGHT(Reference!CO254,6)","v":""}]
[{"$nulls":13},{"$f":"RIGHT(Reference!CO255,6)","v":""}]
[{"$nulls":13},{"$f":"RIGHT(Reference!CO256,6)","v":""}]
[{"$nulls":13},{"$f":"RIGHT(Reference!CO257,6)","v":""}]
[{"$nulls":13},{"$f":"RIGHT(Reference!CO258,6)","v":""}]
[{"$nulls":13},{"$f":"RIGHT(Reference!CO259,6)","v":""}]
[{"$nulls":13},{"$f":"RIGHT(Reference!CO260,6)","v":""}]
[{"$nulls":13},{"$f":"RIGHT(Reference!CO261,6)","v":""}]
[{"$nulls":13},{"$f":"RIGHT(Reference!CO262,6)","v":""}]
[{"$nulls":13},{"$f":"RIGHT(Reference!CO263,6)","v":""}]
[{"$nulls":13},{"$f":"RIGHT(Reference!CO264,6)","v":""}]
[{"$nulls":13},{"$f":"RIGHT(Reference!CO265,6)","v":""}]
[{"$nulls":13},{"$f":"RIGHT(Reference!CO266,6)","v":""}]
[{"$nulls":13},{"$f":"RIGHT(Reference!CO267,6)","v":""}]
[{"$nulls":13},{"$f":"RIGHT(Reference!CO268,6)","v":""}]
[{"$nulls":13},{"$f":"RIGHT(Reference!CO269,6)","v":""}]
[{"$nulls":13},{"$f":"RIGHT(Reference!CO270,6)","v":""}]
[{"$nulls":13},{"$f":"RIGHT(Reference!CO271,6)","v":""}]
[{"$nulls":13},{"$f":"RIGHT(Reference!CO272,6)","v":""}]
[{"$nulls":13},{"$f":"RIGHT(Reference!CO273,6)","v":""}]
[{"$nulls":13},{"$f":"RIGHT(Reference!CO274,6)","v":""}]
[{"$nulls":13},{"$f":"RIGHT(Reference!CO275,6)","v":""}]
[{"$nulls":13},{"$f":"RIGHT(Reference!CO276,6)","v":""}]
[{"$nulls":13},{"$f":"RIGHT(Reference!CO277,6)","v":""}]
[{"$nulls":13},{"$f":"RIGHT(Reference!CO278,6)","v":""}]
[{"$nulls":13},{"$f":"RIGHT(Reference!CO279,6)","v":""}]
[{"$nulls":13},{"$f":"RIGHT(Reference!CO280,6)","v":""}]
[{"$nulls":13},{"$f":"RIGHT(Reference!CO281,6)","v":""}]
[{"$nulls":13},{"$f":"RIGHT(Reference!CO282,6)","v":""}]
[{"$nulls":13},{"$f":"RIGHT(Reference!CO283,6)","v":""}]
[{"$nulls":13},{"$f":"RIGHT(Reference!CO284,6)","v":""}]
[{"$nulls":13},{"$f":"RIGHT(Reference!CO285,6)","v":""}]
[{"$nulls":13},{"$f":"RIGHT(Reference!CO286,6)","v":""}]
[{"$nulls":13},{"$f":"RIGHT(Reference!CO287,6)","v":""}]
[{"$nulls":13},{"$f":"RIGHT(Reference!CO288,6)","v":""}]
[{"$nulls":13},{"$f":"RIGHT(Reference!CO289,6)","v":""}]
[{"$nulls":13},{"$f":"RIGHT(Reference!CO290,6)","v":""}]
[{"$nulls":13},{"$f":"RIGHT(Reference!CO291,6)","v":""}]
[{"$nulls":13},{"$f":"RIGHT(Reference!CO292,6)","v":""}]
[{"$nulls":13},{"$f":"RIGHT(Reference!CO293,6)","v":""}]
[{"$nulls":13},{"$f":"RIGHT(Reference!CO294,6)","v":""}]
[{"$nulls":13},{"$f":"RIGHT(Reference!CO295,6)","v":""}]
[{"$nulls":13},{"$f":"RIGHT(Reference!CO296,6)","v":""}]
[{"$nulls":13},{"$f":"RIGHT(Reference!CO297,6)","v":""}]
[{"$nulls":13},{"$f":"RIGHT(Reference!CO298,6)","v":""}]
[{"$nulls":13},{"$f":"RIGHT(Reference!CO299,6)","v":""}]
[{"$nulls":13},{"$f":"RIGHT(Reference!CO300,6)","v":""}]
[{"$nulls":13},{"$f":"RIGHT(Reference!CO301,6)","v":""}]
[{"$nulls":13},{"$f":"RIGHT(Reference!CO302,6)","v":""}]
[{"$nulls":13},{"$f":"RIGHT(Reference!CO303,6)","v":""}]
[{"$nulls":13},{"$f":"RIGHT(Reference!CO304,6)","v":""}]
[{"$nulls":13},{"$f":"RIGHT(Reference!CO305,6)","v":""}]
[{"$nulls":13},{"$f":"RIGHT(Reference!CO306,6)","v":""}]
[{"$nulls":13},{"$f":"RIGHT(Reference!CO307,6)","v":""}]
[{"$nulls":13},{"$f":"RIGHT(Reference!CO308,6)","v":""}]
[{"$nulls":13},{"$f":"RIGHT(Reference!CO309,6)","v":""}]
[{"$nulls":13},{"$f":"RIGHT(Reference!CO310,6)","v":""}]
[{"$nulls":13},{"$f":"RIGHT(Reference!CO311,6)","v":""}]
[{"$nulls":13},{"$f":"RIGHT(Reference!CO312,6)","v":""}]
[{"$nulls":13},{"$f":"RIGHT(Reference!CO313,6)","v":""}]
[{"$nulls":13},{"$f":"RIGHT(Reference!CO314,6)","v":""}]
[{"$nulls":13},{"$f":"RIGHT(Reference!CO315,6)","v":""}]
[{"$nulls":13},{"$f":"RIGHT(Reference!CO316,6)","v":""}]
[{"$nulls":13},{"$f":"RIGHT(Reference!CO317,6)","v":""}]
[{"$nulls":13},{"$f":"RIGHT(Reference!CO318,6)","v":""}]
[{"$nulls":13},{"$f":"RIGHT(Reference!CO319,6)","v":""}]
[{"$nulls":13},{"$f":"RIGHT(Reference!CO320,6)","v":""}]
[{"$nulls":13},{"$f":"RIGHT(Reference!CO321,6)","v":""}]
[{"$nulls":13},{"$f":"RIGHT(Reference!CO322,6)","v":""}]
[{"$nulls":13},{"$f":"RIGHT(Reference!CO323,6)","v":""}]
[{"$nulls":13},{"$f":"RIGHT(Reference!CO324,6)","v":""}]
[{"$nulls":13},{"$f":"RIGHT(Reference!CO325,6)","v":""}]
[{"$nulls":13},{"$f":"RIGHT(Reference!CO326,6)","v":""}]
[{"$nulls":13},{"$f":"RIGHT(Reference!CO327,6)","v":""}]
[{"$nulls":13},{"$f":"RIGHT(Reference!CO328,6)","v":""}]
[{"$nulls":13},{"$f":"RIGHT(Reference!CO329,6)","v":""}]
[{"$nulls":13},{"$f":"RIGHT(Reference!CO330,6)","v":""}]
[{"$nulls":13},{"$f":"RIGHT(Reference!CO331,6)","v":""}]
[{"$nulls":13},{"$f":"RIGHT(Reference!CO332,6)","v":""}]
[{"$nulls":13},{"$f":"RIGHT(Reference!CO333,6)","v":""}]
[{"$nulls":13},{"$f":"RIGHT(Reference!CO334,6)","v":""}]
[{"$nulls":13},{"$f":"RIGHT(Reference!CO335,6)","v":""}]
[{"$nulls":13},{"$f":"RIGHT(Reference!CO336,6)","v":""}]
[{"$nulls":13},{"$f":"RIGHT(Reference!CO337,6)","v":""}]
[{"$nulls":13},{"$f":"RIGHT(Reference!CO338,6)","v":""}]
[{"$nulls":13},{"$f":"RIGHT(Reference!CO339,6)","v":""}]
[{"$nulls":13},{"$f":"RIGHT(Reference!CO340,6)","v":""}]
[{"$nulls":13},{"$f":"RIGHT(Reference!CO341,6)","v":""}]
[{"$nulls":13},{"$f":"RIGHT(Reference!CO342,6)","v":""}]
[{"$nulls":13},{"$f":"RIGHT(Reference!CO343,6)","v":""}]
[{"$nulls":13},{"$f":"RIGHT(Reference!CO344,6)","v":""}]
[{"$nulls":13},{"$f":"RIGHT(Reference!CO345,6)","v":""}]
[{"$nulls":13},{"$f":"RIGHT(Reference!CO346,6)","v":""}]
[{"$nulls":13},{"$f":"RIGHT(Reference!CO347,6)","v":""}]
[{"$nulls":13},{"$f":"RIGHT(Reference!CO348,6)","v":""}]
[{"$nulls":13},{"$f":"RIGHT(Reference!CO349,6)","v":""}]
[{"$nulls":13},{"$f":"RIGHT(Reference!CO350,6)","v":""}]
[{"$nulls":13},{"$f":"RIGHT(Reference!CO351,6)","v":""}]
[{"$nulls":13},{"$f":"RIGHT(Reference!CO352,6)","v":""}]
[{"$nulls":13},{"$f":"RIGHT(Reference!CO353,6)","v":""}]
[{"$nulls":13},{"$f":"RIGHT(Reference!CO354,6)","v":""}]
[{"$nulls":13},{"$f":"RIGHT(Reference!CO355,6)","v":""}]
[{"$nulls":13},{"$f":"RIGHT(Reference!CO356,6)","v":""}]
[{"$nulls":13},{"$f":"RIGHT(Reference!CO357,6)","v":""}]
[{"$nulls":13},{"$f":"RIGHT(Reference!CO358,6)","v":""}]
[{"$nulls":13},{"$f":"RIGHT(Reference!CO359,6)","v":""}]
[{"$nulls":13},{"$f":"RIGHT(Reference!CO360,6)","v":""}]
[{"$nulls":13},{"$f":"RIGHT(Reference!CO361,6)","v":""}]
[{"$nulls":13},{"$f":"RIGHT(Reference!CO362,6)","v":""}]
[{"$nulls":13},{"$f":"RIGHT(Reference!CO363,6)","v":""}]
[{"$nulls":13},{"$f":"RIGHT(Reference!CO364,6)","v":""}]
[{"$nulls":13},{"$f":"RIGHT(Reference!CO365,6)","v":""}]
[{"$nulls":13},{"$f":"RIGHT(Reference!CO366,6)","v":""}]
[{"$nulls":13},{"$f":"RIGHT(Reference!CO367,6)","v":""}]
[{"$nulls":13},{"$f":"RIGHT(Reference!CO368,6)","v":""}]
[{"$nulls":13},{"$f":"RIGHT(Reference!CO369,6)","v":""}]
[{"$nulls":13},{"$f":"RIGHT(Reference!CO370,6)","v":""}]
[{"$nulls":13},{"$f":"RIGHT(Reference!CO371,6)","v":""}]
[{"$nulls":13},{"$f":"RIGHT(Reference!CO372,6)","v":""}]
[{"$nulls":13},{"$f":"RIGHT(Reference!CO373,6)","v":""}]
[{"$nulls":13},{"$f":"RIGHT(Reference!CO374,6)","v":""}]
[{"$nulls":13},{"$f":"RIGHT(Reference!CO375,6)","v":""}]
[{"$nulls":13},{"$f":"RIGHT(Reference!CO376,6)","v":""}]
[{"$nulls":13},{"$f":"RIGHT(Reference!CO377,6)","v":""}]
[{"$nulls":13},{"$f":"RIGHT(Reference!CO378,6)","v":""}]
[{"$nulls":13},{"$f":"RIGHT(Reference!CO379,6)","v":""}]
[{"$nulls":13},{"$f":"RIGHT(Reference!CO380,6)","v":""}]
[{"$nulls":13},{"$f":"RIGHT(Reference!CO381,6)","v":""}]
[{"$nulls":13},{"$f":"RIGHT(Reference!CO382,6)","v":""}]
[{"$nulls":13},{"$f":"RIGHT(Reference!CO383,6)","v":""}]
[{"$nulls":13},{"$f":"RIGHT(Reference!CO384,6)","v":""}]
[{"$nulls":13},{"$f":"RIGHT(Reference!CO385,6)","v":""}]
[{"$nulls":13},{"$f":"RIGHT(Reference!CO386,6)","v":""}]
[{"$nulls":13},{"$f":"RIGHT(Reference!CO387,6)","v":""}]
[{"$nulls":13},{"$f":"RIGHT(Reference!CO388,6)","v":""}]
[{"$nulls":13},{"$f":"RIGHT(Reference!CO389,6)","v":""}]
[{"$nulls":13},{"$f":"RIGHT(Reference!CO390,6)","v":""}]
[{"$nulls":13},{"$f":"RIGHT(Reference!CO391,6)","v":""}]
[{"$nulls":13},{"$f":"RIGHT(Reference!CO392,6)","v":""}]
[{"$nulls":13},{"$f":"RIGHT(Reference!CO393,6)","v":""}]
[{"$nulls":13},{"$f":"RIGHT(Reference!CO394,6)","v":""}]
[{"$nulls":13},{"$f":"RIGHT(Reference!CO395,6)","v":""}]
[{"$nulls":13},{"$f":"RIGHT(Reference!CO396,6)","v":""}]
[{"$nulls":13},{"$f":"RIGHT(Reference!CO397,6)","v":""}]
[{"$nulls":13},{"$f":"RIGHT(Reference!CO398,6)","v":""}]
[{"$nulls":13},{"$f":"RIGHT(Reference!CO399,6)","v":""}]
[{"$nulls":13},{"$f":"RIGHT(Reference!CO400,6)","v":""}]
[{"$nulls":13},{"$f":"RIGHT(Reference!CO401,6)","v":""}]
[{"$nulls":13},{"$f":"RIGHT(Reference!CO402,6)","v":""}]
[{"$nulls":13},{"$f":"RIGHT(Reference!CO403,6)","v":""}]
[{"$nulls":13},{"$f":"RIGHT(Reference!CO404,6)","v":""}]
[{"$nulls":13},{"$f":"RIGHT(Reference!CO405,6)","v":""}]
[{"$nulls":13},{"$f":"RIGHT(Reference!CO406,6)","v":""}]
[{"$nulls":13},{"$f":"RIGHT(Reference!CO407,6)","v":""}]
[{"$nulls":13},{"$f":"RIGHT(Reference!CO408,6)","v":""}]
[{"$nulls":13},{"$f":"RIGHT(Reference!CO409,6)","v":""}]
[{"$nulls":13},{"$f":"RIGHT(Reference!CO410,6)","v":""}]
[{"$nulls":13},{"$f":"RIGHT(Reference!CO411,6)","v":""}]
[{"$nulls":13},{"$f":"RIGHT(Reference!CO412,6)","v":""}]
[{"$nulls":13},{"$f":"RIGHT(Reference!CO413,6)","v":""}]
[{"$nulls":13},{"$f":"RIGHT(Reference!CO414,6)","v":""}]
[{"$nulls":13},{"$f":"RIGHT(Reference!CO415,6)","v":""}]
[{"$nulls":13},{"$f":"RIGHT(Reference!CO416,6)","v":""}]
[{"$nulls":13},{"$f":"RIGHT(Reference!CO417,6)","v":""}]
[{"$nulls":13},{"$f":"RIGHT(Reference!CO418,6)","v":""}]
[{"$nulls":13},{"$f":"RIGHT(Reference!CO419,6)","v":""}]
[{"$nulls":13},{"$f":"RIGHT(Reference!CO420,6)","v":""}]
[{"$nulls":13},{"$f":"RIGHT(Reference!CO421,6)","v":""}]
[{"$nulls":13},{"$f":"RIGHT(Reference!CO422,6)","v":""}]
[{"$nulls":13},{"$f":"RIGHT(Reference!CO423,6)","v":""}]
[{"$nulls":13},{"$f":"RIGHT(Reference!CO424,6)","v":""}]
[{"$nulls":13},{"$f":"RIGHT(Reference!CO425,6)","v":""}]
[{"$nulls":13},{"$f":"RIGHT(Reference!CO426,6)","v":""}]
[{"$nulls":13},{"$f":"RIGHT(Reference!CO427,6)","v":""}]
[{"$nulls":13},{"$f":"RIGHT(Reference!CO428,6)","v":""}]
[{"$nulls":13},{"$f":"RIGHT(Reference!CO429,6)","v":""}]
[{"$nulls":13},{"$f":"RIGHT(Reference!CO430,6)","v":""}]
[{"$nulls":13},{"$f":"RIGHT(Reference!CO431,6)","v":""}]
[{"$nulls":13},{"$f":"RIGHT(Reference!CO432,6)","v":""}]
[{"$nulls":13},{"$f":"RIGHT(Reference!CO433,6)","v":""}]
[{"$nulls":13},{"$f":"RIGHT(Reference!CO434,6)","v":""}]
[{"$nulls":13},{"$f":"RIGHT(Reference!CO435,6)","v":""}]
[{"$nulls":13},{"$f":"RIGHT(Reference!CO436,6)","v":""}]
[{"$nulls":13},{"$f":"RIGHT(Reference!CO437,6)","v":""}]
[{"$nulls":13},{"$f":"RIGHT(Reference!CO438,6)","v":""}]
[{"$nulls":13},{"$f":"RIGHT(Reference!CO439,6)","v":""}]
[{"$nulls":13},{"$f":"RIGHT(Reference!CO440,6)","v":""}]
[{"$nulls":13},{"$f":"RIGHT(Reference!CO441,6)","v":""}]
[{"$nulls":13},{"$f":"RIGHT(Reference!CO442,6)","v":""}]
[{"$nulls":13},{"$f":"RIGHT(Reference!CO443,6)","v":""}]
[{"$nulls":13},{"$f":"RIGHT(Reference!CO444,6)","v":""}]
[{"$nulls":13},{"$f":"RIGHT(Reference!CO445,6)","v":""}]
[{"$nulls":13},{"$f":"RIGHT(Reference!CO446,6)","v":""}]
[{"$nulls":13},{"$f":"RIGHT(Reference!CO447,6)","v":""}]
[{"$nulls":13},{"$f":"RIGHT(Reference!CO448,6)","v":""}]
[{"$nulls":13},{"$f":"RIGHT(Reference!CO449,6)","v":""}]
[{"$nulls":13},{"$f":"RIGHT(Reference!CO450,6)","v":""}]
[{"$nulls":13},{"$f":"RIGHT(Reference!CO451,6)","v":""}]
[{"$nulls":13},{"$f":"RIGHT(Reference!CO452,6)","v":""}]
[{"$nulls":13},{"$f":"RIGHT(Reference!CO453,6)","v":""}]
[{"$nulls":13},{"$f":"RIGHT(Reference!CO454,6)","v":""}]
[{"$nulls":13},{"$f":"RIGHT(Reference!CO455,6)","v":""}]
[{"$nulls":13},{"$f":"RIGHT(Reference!CO456,6)","v":""}]
[{"$nulls":13},{"$f":"RIGHT(Reference!CO457,6)","v":""}]
[{"$nulls":13},{"$f":"RIGHT(Reference!CO458,6)","v":""}]
[{"$nulls":13},{"$f":"RIGHT(Reference!CO459,6)","v":""}]
[{"$nulls":13},{"$f":"RIGHT(Reference!CO460,6)","v":""}]
[{"$nulls":13},{"$f":"RIGHT(Reference!CO461,6)","v":""}]
[{"$nulls":13},{"$f":"RIGHT(Reference!CO462,6)","v":""}]
[{"$nulls":13},{"$f":"RIGHT(Reference!CO463,6)","v":""}]
[{"$nulls":13},{"$f":"RIGHT(Reference!CO464,6)","v":""}]
[{"$nulls":13},{"$f":"RIGHT(Reference!CO465,6)","v":""}]
[{"$nulls":13},{"$f":"RIGHT(Reference!CO466,6)","v":""}]
[{"$nulls":13},{"$f":"RIGHT(Reference!CO467,6)","v":""}]
[{"$nulls":13},{"$f":"RIGHT(Reference!CO468,6)","v":""}]
[{"$nulls":13},{"$f":"RIGHT(Reference!CO469,6)","v":""}]
[{"$nulls":13},{"$f":"RIGHT(Reference!CO470,6)","v":""}]
[{"$nulls":13},{"$f":"RIGHT(Reference!CO471,6)","v":""}]
[{"$nulls":13},{"$f":"RIGHT(Reference!CO472,6)","v":""}]
[{"$nulls":13},{"$f":"RIGHT(Reference!CO473,6)","v":""}]
[{"$nulls":13},{"$f":"RIGHT(Reference!CO474,6)","v":""}]
[{"$nulls":13},{"$f":"RIGHT(Reference!CO475,6)","v":""}]
[{"$nulls":13},{"$f":"RIGHT(Reference!CO476,6)","v":""}]
[{"$nulls":13},{"$f":"RIGHT(Reference!CO477,6)","v":""}]
[{"$nulls":13},{"$f":"RIGHT(Reference!CO478,6)","v":""}]
[{"$nulls":13},{"$f":"RIGHT(Reference!CO479,6)","v":""}]
[{"$nulls":13},{"$f":"RIGHT(Reference!CO480,6)","v":""}]
[{"$nulls":13},{"$f":"RIGHT(Reference!CO481,6)","v":""}]
[{"$nulls":13},{"$f":"RIGHT(Reference!CO482,6)","v":""}]
[{"$nulls":13},{"$f":"RIGHT(Reference!CO483,6)","v":""}]
[{"$nulls":13},{"$f":"RIGHT(Reference!CO484,6)","v":""}]
[{"$nulls":13},{"$f":"RIGHT(Reference!CO485,6)","v":""}]
[{"$nulls":13},{"$f":"RIGHT(Reference!CO486,6)","v":""}]
[{"$nulls":13},{"$f":"RIGHT(Reference!CO487,6)","v":""}]
[{"$nulls":13},{"$f":"RIGHT(Reference!CO488,6)","v":""}]
[{"$nulls":13},{"$f":"RIGHT(Reference!CO489,6)","v":""}]
[{"$nulls":13},{"$f":"RIGHT(Reference!CO490,6)","v":""}]
[{"$nulls":13},{"$f":"RIGHT(Reference!CO491,6)","v":""}]
[{"$nulls":13},{"$f":"RIGHT(Reference!CO492,6)","v":""}]
[{"$nulls":13},{"$f":"RIGHT(Reference!CO493,6)","v":""}]
[{"$nulls":13},{"$f":"RIGHT(Reference!CO494,6)","v":""}]
[{"$nulls":13},{"$f":"RIGHT(Reference!CO495,6)","v":""}]
[{"$nulls":13},{"$f":"RIGHT(Reference!CO496,6)","v":""}]
[{"$nulls":13},{"$f":"RIGHT(Reference!CO497,6)","v":""}]
[{"$nulls":13},{"$f":"RIGHT(Reference!CO498,6)","v":""}]
[{"$nulls":13},{"$f":"RIGHT(Reference!CO499,6)","v":""}]
[{"$nulls":13},{"$f":"RIGHT(Reference!CO500,6)","v":""}]
[{"$nulls":13},{"$f":"RIGHT(Reference!CO501,6)","v":""}]
[{"$nulls":13},{"$f":"RIGHT(Reference!CO502,6)","v":""}]
[{"$nulls":13},{"$f":"RIGHT(Reference!CO503,6)","v":""}]
[{"$nulls":13},{"$f":"RIGHT(Reference!CO504,6)","v":""}]
[{"$nulls":13},{"$f":"RIGHT(Reference!CO505,6)","v":""}]
[{"$nulls":13},{"$f":"RIGHT(Reference!CO506,6)","v":""}]
[{"$nulls":13},{"$f":"RIGHT(Reference!CO507,6)","v":""}]
[{"$nulls":13},{"$f":"RIGHT(Reference!CO508,6)","v":""}]
[{"$nulls":13},{"$f":"RIGHT(Reference!CO509,6)","v":""}]
[{"$nulls":13},{"$f":"RIGHT(Reference!CO510,6)","v":""}]
[{"$nulls":13},{"$f":"RIGHT(Reference!CO511,6)","v":""}]
[{"$nulls":13},{"$f":"RIGHT(Reference!CO512,6)","v":""}]
[{"$nulls":13},{"$f":"RIGHT(Reference!CO513,6)","v":""}]
[{"$nulls":13},{"$f":"RIGHT(Reference!CO514,6)","v":""}]
[{"$nulls":13},{"$f":"RIGHT(Reference!CO515,6)","v":""}]
[{"$nulls":13},{"$f":"RIGHT(Reference!CO516,6)","v":""}]
[{"$nulls":13},{"$f":"RIGHT(Reference!CO517,6)","v":""}]
[{"$nulls":13},{"$f":"RIGHT(Reference!CO518,6)","v":""}]
[{"$nulls":13},{"$f":"RIGHT(Reference!CO519,6)","v":""}]
[{"$nulls":13},{"$f":"RIGHT(Reference!CO520,6)","v":""}]
[{"$nulls":13},{"$f":"RIGHT(Reference!CO521,6)","v":""}]
[{"$nulls":13},{"$f":"RIGHT(Reference!CO522,6)","v":""}]
[{"$nulls":13},{"$f":"RIGHT(Reference!CO523,6)","v":""}]
[{"$nulls":13},{"$f":"RIGHT(Reference!CO524,6)","v":""}]
[{"$nulls":13},{"$f":"RIGHT(Reference!CO525,6)","v":""}]
[{"$nulls":13},{"$f":"RIGHT(Reference!CO526,6)","v":""}]
[{"$nulls":13},{"$f":"RIGHT(Reference!CO527,6)","v":""}]
[{"$nulls":13},{"$f":"RIGHT(Reference!CO528,6)","v":""}]
[{"$nulls":13},{"$f":"RIGHT(Reference!CO529,6)","v":""}]
[{"$nulls":13},{"$f":"RIGHT(Reference!CO530,6)","v":""}]
[{"$nulls":13},{"$f":"RIGHT(Reference!CO531,6)","v":""}]
[{"$nulls":13},{"$f":"RIGHT(Reference!CO532,6)","v":""}]
[{"$nulls":13},{"$f":"RIGHT(Reference!CO533,6)","v":""}]
[{"$nulls":13},{"$f":"RIGHT(Reference!CO534,6)","v":""}]
[{"$nulls":13},{"$f":"RIGHT(Reference!CO535,6)","v":""}]
[{"$nulls":13},{"$f":"RIGHT(Reference!CO536,6)","v":""}]
[{"$nulls":13},{"$f":"RIGHT(Reference!CO537,6)","v":""}]
[{"$nulls":13},{"$f":"RIGHT(Reference!CO538,6)","v":""}]
[{"$nulls":13},{"$f":"RIGHT(Reference!CO539,6)","v":""}]
[{"$nulls":13},{"$f":"RIGHT(Reference!CO540,6)","v":""}]
[{"$nulls":13},{"$f":"RIGHT(Reference!CO541,6)","v":""}]
[{"$nulls":13},{"$f":"RIGHT(Reference!CO542,6)","v":""}]
[{"$nulls":13},{"$f":"RIGHT(Reference!CO543,6)","v":""}]
[{"$nulls":13},{"$f":"RIGHT(Reference!CO544,6)","v":""}]
[{"$nulls":13},{"$f":"RIGHT(Reference!CO545,6)","v":""}]
[{"$nulls":13},{"$f":"RIGHT(Reference!CO546,6)","v":""}]
[{"$nulls":13},{"$f":"RIGHT(Reference!CO547,6)","v":""}]
[{"$nulls":13},{"$f":"RIGHT(Reference!CO548,6)","v":""}]
[{"$nulls":13},{"$f":"RIGHT(Reference!CO549,6)","v":""}]
[{"$nulls":13},{"$f":"RIGHT(Reference!CO550,6)","v":""}]
[{"$nulls":13},{"$f":"RIGHT(Reference!CO551,6)","v":""}]
[{"$nulls":13},{"$f":"RIGHT(Reference!CO552,6)","v":""}]
[{"$nulls":13},{"$f":"RIGHT(Reference!CO553,6)","v":""}]
[{"$nulls":13},{"$f":"RIGHT(Reference!CO554,6)","v":""}]
[{"$nulls":13},{"$f":"RIGHT(Reference!CO555,6)","v":""}]
[{"$nulls":13},{"$f":"RIGHT(Reference!CO556,6)","v":""}]
[{"$nulls":13},{"$f":"RIGHT(Reference!CO557,6)","v":""}]
[{"$nulls":13},{"$f":"RIGHT(Reference!CO558,6)","v":""}]
[{"$nulls":13},{"$f":"RIGHT(Reference!CO559,6)","v":""}]
[{"$nulls":13},{"$f":"RIGHT(Reference!CO560,6)","v":""}]
[{"$nulls":13},{"$f":"RIGHT(Reference!CO561,6)","v":""}]
[{"$nulls":13},{"$f":"RIGHT(Reference!CO562,6)","v":""}]
[{"$nulls":13},{"$f":"RIGHT(Reference!CO563,6)","v":""}]
[{"$nulls":13},{"$f":"RIGHT(Reference!CO564,6)","v":""}]
[{"$nulls":13},{"$f":"RIGHT(Reference!CO565,6)","v":""}]
[{"$nulls":13},{"$f":"RIGHT(Reference!CO566,6)","v":""}]
[{"$nulls":13},{"$f":"RIGHT(Reference!CO567,6)","v":""}]
[{"$nulls":13},{"$f":"RIGHT(Reference!CO568,6)","v":""}]
[{"$nulls":13},{"$f":"RIGHT(Reference!CO569,6)","v":""}]
[{"$nulls":13},{"$f":"RIGHT(Reference!CO570,6)","v":""}]
[{"$nulls":13},{"$f":"RIGHT(Reference!CO571,6)","v":""}]
[{"$nulls":13},{"$f":"RIGHT(Reference!CO572,6)","v":""}]
[{"$nulls":13},{"$f":"RIGHT(Reference!CO573,6)","v":""}]
[{"$nulls":13},{"$f":"RIGHT(Reference!CO574,6)","v":""}]
[{"$nulls":13},{"$f":"RIGHT(Reference!CO575,6)","v":""}]
[{"$nulls":13},{"$f":"RIGHT(Reference!CO576,6)","v":""}]
[{"$nulls":13},{"$f":"RIGHT(Reference!CO577,6)","v":""}]
[{"$nulls":13},{"$f":"RIGHT(Reference!CO578,6)","v":""}]
[{"$nulls":13},{"$f":"RIGHT(Reference!CO579,6)","v":""}]
[{"$nulls":13},{"$f":"RIGHT(Reference!CO580,6)","v":""}]
[{"$nulls":13},{"$f":"RIGHT(Reference!CO581,6)","v":""}]
[{"$nulls":13},{"$f":"RIGHT(Reference!CO582,6)","v":""}]
[{"$nulls":13},{"$f":"RIGHT(Reference!CO583,6)","v":""}]
[{"$nulls":13},{"$f":"RIGHT(Reference!CO584,6)","v":""}]
[{"$nulls":13},{"$f":"RIGHT(Reference!CO585,6)","v":""}]
[{"$nulls":13},{"$f":"RIGHT(Reference!CO586,6)","v":""}]
[{"$nulls":13},{"$f":"RIGHT(Reference!CO587,6)","v":""}]
[{"$nulls":13},{"$f":"RIGHT(Reference!CO588,6)","v":""}]
[{"$nulls":13},{"$f":"RIGHT(Reference!CO589,6)","v":""}]
[{"$nulls":13},{"$f":"RIGHT(Reference!CO590,6)","v":""}]
[{"$nulls":13},{"$f":"RIGHT(Reference!CO591,6)","v":""}]
[{"$nulls":13},{"$f":"RIGHT(Reference!CO592,6)","v":""}]
[{"$nulls":13},{"$f":"RIGHT(Reference!CO593,6)","v":""}]
[{"$nulls":13},{"$f":"RIGHT(Reference!CO594,6)","v":""}]
[{"$nulls":13},{"$f":"RIGHT(Reference!CO595,6)","v":""}]
[{"$nulls":13},{"$f":"RIGHT(Reference!CO596,6)","v":""}]
[{"$nulls":13},{"$f":"RIGHT(Reference!CO597,6)","v":""}]
[{"$nulls":13},{"$f":"RIGHT(Reference!CO598,6)","v":""}]
[{"$nulls":13},{"$f":"RIGHT(Reference!CO599,6)","v":""}]
[{"$nulls":13},{"$f":"RIGHT(Reference!CO600,6)","v":""}]
[{"$nulls":13},{"$f":"RIGHT(Reference!CO601,6)","v":""}]
[{"$nulls":13},{"$f":"RIGHT(Reference!CO602,6)","v":""}]
[{"$nulls":13},{"$f":"RIGHT(Reference!CO603,6)","v":""}]
[{"$nulls":13},{"$f":"RIGHT(Reference!CO604,6)","v":""}]
[{"$nulls":13},{"$f":"RIGHT(Reference!CO605,6)","v":""}]
[{"$nulls":13},{"$f":"RIGHT(Reference!CO606,6)","v":""}]
[{"$nulls":13},{"$f":"RIGHT(Reference!CO607,6)","v":""}]
[{"$nulls":13},{"$f":"RIGHT(Reference!CO608,6)","v":""}]
[{"$nulls":13},{"$f":"RIGHT(Reference!CO609,6)","v":""}]
[{"$nulls":13},{"$f":"RIGHT(Reference!CO610,6)","v":""}]
[{"$nulls":13},{"$f":"RIGHT(Reference!CO611,6)","v":""}]
[{"$nulls":13},{"$f":"RIGHT(Reference!CO612,6)","v":""}]
[{"$nulls":13},{"$f":"RIGHT(Reference!CO613,6)","v":""}]
[{"$nulls":13},{"$f":"RIGHT(Reference!CO614,6)","v":""}]
[{"$nulls":13},{"$f":"RIGHT(Reference!CO615,6)","v":""}]
[{"$nulls":13},{"$f":"RIGHT(Reference!CO616,6)","v":""}]
[{"$nulls":13},{"$f":"RIGHT(Reference!CO617,6)","v":""}]
[{"$nulls":13},{"$f":"RIGHT(Reference!CO618,6)","v":""}]
[{"$nulls":13},{"$f":"RIGHT(Reference!CO619,6)","v":""}]
[{"$nulls":13},{"$f":"RIGHT(Reference!CO620,6)","v":""}]
[{"$nulls":13},{"$f":"RIGHT(Reference!CO621,6)","v":""}]
[{"$nulls":13},{"$f":"RIGHT(Reference!CO622,6)","v":""}]
[{"$nulls":13},{"$f":"RIGHT(Reference!CO623,6)","v":""}]
[{"$nulls":13},{"$f":"RIGHT(Reference!CO624,6)","v":""}]
[{"$nulls":13},{"$f":"RIGHT(Reference!CO625,6)","v":""}]
[{"$nulls":13},{"$f":"RIGHT(Reference!CO626,6)","v":""}]
[{"$nulls":13},{"$f":"RIGHT(Reference!CO627,6)","v":""}]
[{"$nulls":13},{"$f":"RIGHT(Reference!CO628,6)","v":""}]
[{"$nulls":13},{"$f":"RIGHT(Reference!CO629,6)","v":""}]
[{"$nulls":13},{"$f":"RIGHT(Reference!CO630,6)","v":""}]
[{"$nulls":13},{"$f":"RIGHT(Reference!CO631,6)","v":""}]
[{"$nulls":13},{"$f":"RIGHT(Reference!CO632,6)","v":""}]
[{"$nulls":13},{"$f":"RIGHT(Reference!CO633,6)","v":""}]
[{"$nulls":13},{"$f":"RIGHT(Reference!CO634,6)","v":""}]
[{"$nulls":13},{"$f":"RIGHT(Reference!CO635,6)","v":""}]
[{"$nulls":13},{"$f":"RIGHT(Reference!CO636,6)","v":""}]
[{"$nulls":13},{"$f":"RIGHT(Reference!CO637,6)","v":""}]
[{"$nulls":13},{"$f":"RIGHT(Reference!CO638,6)","v":""}]
[{"$nulls":13},{"$f":"RIGHT(Reference!CO639,6)","v":""}]
[{"$nulls":13},{"$f":"RIGHT(Reference!CO640,6)","v":""}]
[{"$nulls":13},{"$f":"RIGHT(Reference!CO641,6)","v":""}]
[{"$nulls":13},{"$f":"RIGHT(Reference!CO642,6)","v":""}]
[{"$nulls":13},{"$f":"RIGHT(Reference!CO643,6)","v":""}]
[{"$nulls":13},{"$f":"RIGHT(Reference!CO644,6)","v":""}]
[{"$nulls":13},{"$f":"RIGHT(Reference!CO645,6)","v":""}]
[{"$nulls":13},{"$f":"RIGHT(Reference!CO646,6)","v":""}]
[{"$nulls":13},{"$f":"RIGHT(Reference!CO647,6)","v":""}]
[{"$nulls":13},{"$f":"RIGHT(Reference!CO648,6)","v":""}]
[{"$nulls":13},{"$f":"RIGHT(Reference!CO649,6)","v":""}]
[{"$nulls":13},{"$f":"RIGHT(Reference!CO650,6)","v":""}]
[{"$nulls":13},{"$f":"RIGHT(Reference!CO651,6)","v":""}]
[{"$nulls":13},{"$f":"RIGHT(Reference!CO652,6)","v":""}]
[{"$nulls":13},{"$f":"RIGHT(Reference!CO653,6)","v":""}]
[{"$nulls":13},{"$f":"RIGHT(Reference!CO654,6)","v":""}]
[{"$nulls":13},{"$f":"RIGHT(Reference!CO655,6)","v":""}]
[{"$nulls":13},{"$f":"RIGHT(Reference!CO656,6)","v":""}]
[{"$nulls":13},{"$f":"RIGHT(Reference!CO657,6)","v":""}]
[{"$nulls":13},{"$f":"RIGHT(Reference!CO658,6)","v":""}]
[{"$nulls":13},{"$f":"RIGHT(Reference!CO659,6)","v":""}]
[{"$nulls":13},{"$f":"RIGHT(Reference!CO660,6)","v":""}]
[{"$nulls":13},{"$f":"RIGHT(Reference!CO661,6)","v":""}]
[{"$nulls":13},{"$f":"RIGHT(Reference!CO662,6)","v":""}]
[{"$nulls":13},{"$f":"RIGHT(Reference!CO663,6)","v":""}]
[{"$nulls":13},{"$f":"RIGHT(Reference!CO664,6)","v":""}]
[{"$nulls":13},{"$f":"RIGHT(Reference!CO665,6)","v":""}]
[{"$nulls":13},{"$f":"RIGHT(Reference!CO666,6)","v":""}]
[{"$nulls":13},{"$f":"RIGHT(Reference!CO667,6)","v":""}]
[{"$nulls":13},{"$f":"RIGHT(Reference!CO668,6)","v":""}]
[{"$nulls":13},{"$f":"RIGHT(Reference!CO669,6)","v":""}]
[{"$nulls":13},{"$f":"RIGHT(Reference!CO670,6)","v":""}]
[{"$nulls":13},{"$f":"RIGHT(Reference!CO671,6)","v":""}]
[{"$nulls":13},{"$f":"RIGHT(Reference!CO672,6)","v":""}]
[{"$nulls":13},{"$f":"RIGHT(Reference!CO673,6)","v":""}]
[{"$nulls":13},{"$f":"RIGHT(Reference!CO674,6)","v":""}]
[{"$nulls":13},{"$f":"RIGHT(Reference!CO675,6)","v":""}]
[{"$nulls":13},{"$f":"RIGHT(Reference!CO676,6)","v":""}]
[{"$nulls":13},{"$f":"RIGHT(Reference!CO677,6)","v":""}]
[{"$nulls":13},{"$f":"RIGHT(Reference!CO678,6)","v":""}]
[{"$nulls":13},{"$f":"RIGHT(Reference!CO679,6)","v":""}]
[{"$nulls":13},{"$f":"RIGHT(Reference!CO680,6)","v":""}]
[{"$nulls":13},{"$f":"RIGHT(Reference!CO681,6)","v":""}]
[{"$nulls":13},{"$f":"RIGHT(Reference!CO682,6)","v":""}]
[{"$nulls":13},{"$f":"RIGHT(Reference!CO683,6)","v":""}]
[{"$nulls":13},{"$f":"RIGHT(Reference!CO684,6)","v":""}]
[{"$nulls":13},{"$f":"RIGHT(Reference!CO685,6)","v":""}]
[{"$nulls":13},{"$f":"RIGHT(Reference!CO686,6)","v":""}]
[{"$nulls":13},{"$f":"RIGHT(Reference!CO687,6)","v":""}]
[{"$nulls":13},{"$f":"RIGHT(Reference!CO688,6)","v":""}]
[{"$nulls":13},{"$f":"RIGHT(Reference!CO689,6)","v":""}]
[{"$nulls":13},{"$f":"RIGHT(Reference!CO690,6)","v":""}]
[{"$nulls":13},{"$f":"RIGHT(Reference!CO691,6)","v":""}]
[{"$nulls":13},{"$f":"RIGHT(Reference!CO692,6)","v":""}]
[{"$nulls":13},{"$f":"RIGHT(Reference!CO693,6)","v":""}]
[{"$nulls":13},{"$f":"RIGHT(Reference!CO694,6)","v":""}]
[{"$nulls":13},{"$f":"RIGHT(Reference!CO695,6)","v":""}]
[{"$nulls":13},{"$f":"RIGHT(Reference!CO696,6)","v":""}]
[{"$nulls":13},{"$f":"RIGHT(Reference!CO697,6)","v":""}]
[{"$nulls":13},{"$f":"RIGHT(Reference!CO698,6)","v":""}]
[{"$nulls":13},{"$f":"RIGHT(Reference!CO699,6)","v":""}]
[{"$nulls":13},{"$f":"RIGHT(Reference!CO700,6)","v":""}]
[{"$nulls":13},{"$f":"RIGHT(Reference!CO701,6)","v":""}]
[{"$nulls":13},{"$f":"RIGHT(Reference!CO702,6)","v":""}]
[{"$nulls":13},{"$f":"RIGHT(Reference!CO703,6)","v":""}]
[{"$nulls":13},{"$f":"RIGHT(Reference!CO704,6)","v":""}]
[{"$nulls":13},{"$f":"RIGHT(Reference!CO705,6)","v":""}]
[{"$nulls":13},{"$f":"RIGHT(Reference!CO706,6)","v":""}]
[{"$nulls":13},{"$f":"RIGHT(Reference!CO707,6)","v":""}]
[{"$nulls":13},{"$f":"RIGHT(Reference!CO708,6)","v":""}]
[{"$nulls":13},{"$f":"RIGHT(Reference!CO709,6)","v":""}]
[{"$nulls":13},{"$f":"RIGHT(Reference!CO710,6)","v":""}]
[{"$nulls":13},{"$f":"RIGHT(Reference!CO711,6)","v":""}]
[{"$nulls":13},{"$f":"RIGHT(Reference!CO712,6)","v":""}]
[{"$nulls":13},{"$f":"RIGHT(Reference!CO713,6)","v":""}]
[{"$nulls":13},{"$f":"RIGHT(Reference!CO714,6)","v":""}]
[{"$nulls":13},{"$f":"RIGHT(Reference!CO715,6)","v":""}]
[{"$nulls":13},{"$f":"RIGHT(Reference!CO716,6)","v":""}]
[{"$nulls":13},{"$f":"RIGHT(Reference!CO717,6)","v":""}]
[{"$nulls":13},{"$f":"RIGHT(Reference!CO718,6)","v":""}]
[{"$nulls":13},{"$f":"RIGHT(Reference!CO719,6)","v":""}]
[{"$nulls":13},{"$f":"RIGHT(Reference!CO720,6)","v":""}]
[{"$nulls":13},{"$f":"RIGHT(Reference!CO721,6)","v":""}]
[{"$nulls":13},{"$f":"RIGHT(Reference!CO722,6)","v":""}]
[{"$nulls":13},{"$f":"RIGHT(Reference!CO723,6)","v":""}]
[{"$nulls":13},{"$f":"RIGHT(Reference!CO724,6)","v":""}]
[{"$nulls":13},{"$f":"RIGHT(Reference!CO725,6)","v":""}]
[{"$nulls":13},{"$f":"RIGHT(Reference!CO726,6)","v":""}]
[{"$nulls":13},{"$f":"RIGHT(Reference!CO727,6)","v":""}]
[{"$nulls":13},{"$f":"RIGHT(Reference!CO728,6)","v":""}]
[{"$nulls":13},{"$f":"RIGHT(Reference!CO729,6)","v":""}]
[{"$nulls":13},{"$f":"RIGHT(Reference!CO730,6)","v":""}]
[{"$nulls":13},{"$f":"RIGHT(Reference!CO731,6)","v":""}]
[{"$nulls":13},{"$f":"RIGHT(Reference!CO732,6)","v":""}]
[{"$nulls":13},{"$f":"RIGHT(Reference!CO733,6)","v":""}]
[{"$nulls":13},{"$f":"RIGHT(Reference!CO734,6)","v":""}]
[{"$nulls":13},{"$f":"RIGHT(Reference!CO735,6)","v":""}]
[{"$nulls":13},{"$f":"RIGHT(Reference!CO736,6)","v":""}]
[{"$nulls":13},{"$f":"RIGHT(Reference!CO737,6)","v":""}]
[{"$nulls":13},{"$f":"RIGHT(Reference!CO738,6)","v":""}]
[{"$nulls":13},{"$f":"RIGHT(Reference!CO739,6)","v":""}]
[{"$nulls":13},{"$f":"RIGHT(Reference!CO740,6)","v":""}]
[{"$nulls":13},{"$f":"RIGHT(Reference!CO741,6)","v":""}]
[{"$nulls":13},{"$f":"RIGHT(Reference!CO742,6)","v":""}]
[{"$nulls":13},{"$f":"RIGHT(Reference!CO743,6)","v":""}]
[{"$nulls":13},{"$f":"RIGHT(Reference!CO744,6)","v":""}]
[{"$nulls":13},{"$f":"RIGHT(Reference!CO745,6)","v":""}]
[{"$nulls":13},{"$f":"RIGHT(Reference!CO746,6)","v":""}]
[{"$nulls":13},{"$f":"RIGHT(Reference!CO747,6)","v":""}]
[{"$nulls":13},{"$f":"RIGHT(Reference!CO748,6)","v":""}]
[{"$nulls":13},{"$f":"RIGHT(Reference!CO749,6)","v":""}]
[{"$nulls":13},{"$f":"RIGHT(Reference!CO750,6)","v":""}]
[{"$nulls":13},{"$f":"RIGHT(Reference!CO751,6)","v":""}]
[{"$nulls":13},{"$f":"RIGHT(Reference!CO752,6)","v":""}]
[{"$nulls":13},{"$f":"RIGHT(Reference!CO753,6)","v":""}]
[{"$nulls":13},{"$f":"RIGHT(Reference!CO754,6)","v":""}]
[{"$nulls":13},{"$f":"RIGHT(Reference!CO755,6)","v":""}]
[{"$nulls":13},{"$f":"RIGHT(Reference!CO756,6)","v":""}]
[{"$nulls":13},{"$f":"RIGHT(Reference!CO757,6)","v":""}]
[{"$nulls":13},{"$f":"RIGHT(Reference!CO758,6)","v":""}]
[{"$nulls":13},{"$f":"RIGHT(Reference!CO759,6)","v":""}]
[{"$nulls":13},{"$f":"RIGHT(Reference!CO760,6)","v":""}]
[{"$nulls":13},{"$f":"RIGHT(Reference!CO761,6)","v":""}]
[{"$nulls":13},{"$f":"RIGHT(Reference!CO762,6)","v":""}]
[{"$nulls":13},{"$f":"RIGHT(Reference!CO763,6)","v":""}]
[{"$nulls":13},{"$f":"RIGHT(Reference!CO764,6)","v":""}]
[{"$nulls":13},{"$f":"RIGHT(Reference!CO765,6)","v":""}]
[{"$nulls":13},{"$f":"RIGHT(Reference!CO766,6)","v":""}]
[{"$nulls":13},{"$f":"RIGHT(Reference!CO767,6)","v":""}]
[{"$nulls":13},{"$f":"RIGHT(Reference!CO768,6)","v":""}]
[{"$nulls":13},{"$f":"RIGHT(Reference!CO769,6)","v":""}]
[{"$nulls":13},{"$f":"RIGHT(Reference!CO770,6)","v":""}]
[{"$nulls":13},{"$f":"RIGHT(Reference!CO771,6)","v":""}]
[{"$nulls":13},{"$f":"RIGHT(Reference!CO772,6)","v":""}]
[{"$nulls":13},{"$f":"RIGHT(Reference!CO773,6)","v":""}]
[{"$nulls":13},{"$f":"RIGHT(Reference!CO774,6)","v":""}]
[{"$nulls":13},{"$f":"RIGHT(Reference!CO775,6)","v":""}]
[{"$nulls":13},{"$f":"RIGHT(Reference!CO776,6)","v":""}]
[{"$nulls":13},{"$f":"RIGHT(Reference!CO777,6)","v":""}]
[{"$nulls":13},{"$f":"RIGHT(Reference!CO778,6)","v":""}]
[{"$nulls":13},{"$f":"RIGHT(Reference!CO779,6)","v":""}]
[{"$nulls":13},{"$f":"RIGHT(Reference!CO780,6)","v":""}]
[{"$nulls":13},{"$f":"RIGHT(Reference!CO781,6)","v":""}]
[{"$nulls":13},{"$f":"RIGHT(Reference!CO782,6)","v":""}]
[{"$nulls":13},{"$f":"RIGHT(Reference!CO783,6)","v":""}]
[{"$nulls":13},{"$f":"RIGHT(Reference!CO784,6)","v":""}]
[{"$nulls":13},{"$f":"RIGHT(Reference!CO785,6)","v":""}]
[{"$nulls":13},{"$f":"RIGHT(Reference!CO786,6)","v":""}]
[{"$nulls":13},{"$f":"RIGHT(Reference!CO787,6)","v":""}]
[{"$nulls":13},{"$f":"RIGHT(Reference!CO788,6)","v":""}]
[{"$nulls":13},{"$f":"RIGHT(Reference!CO789,6)","v":""}]
[{"$nulls":13},{"$f":"RIGHT(Reference!CO790,6)","v":""}]
[{"$nulls":13},{"$f":"RIGHT(Reference!CO791,6)","v":""}]
[{"$nulls":13},{"$f":"RIGHT(Reference!CO792,6)","v":""}]
[{"$nulls":13},{"$f":"RIGHT(Reference!CO793,6)","v":""}]
[{"$nulls":13},{"$f":"RIGHT(Reference!CO794,6)","v":""}]
[{"$nulls":13},{"$f":"RIGHT(Reference!CO795,6)","v":""}]
[{"$nulls":13},{"$f":"RIGHT(Reference!CO796,6)","v":""}]
[{"$nulls":13},{"$f":"RIGHT(Reference!CO797,6)","v":""}]
[{"$nulls":13},{"$f":"RIGHT(Reference!CO798,6)","v":""}]
[{"$nulls":13},{"$f":"RIGHT(Reference!CO799,6)","v":""}]
[{"$nulls":13},{"$f":"RIGHT(Reference!CO800,6)","v":""}]
[{"$nulls":13},{"$f":"RIGHT(Reference!CO801,6)","v":""}]
[{"$nulls":13},{"$f":"RIGHT(Reference!CO802,6)","v":""}]
[{"$nulls":13},{"$f":"RIGHT(Reference!CO803,6)","v":""}]
[{"$nulls":13},{"$f":"RIGHT(Reference!CO804,6)","v":""}]
[{"$nulls":13},{"$f":"RIGHT(Reference!CO805,6)","v":""}]
[{"$nulls":13},{"$f":"RIGHT(Reference!CO806,6)","v":""}]
[{"$nulls":13},{"$f":"RIGHT(Reference!CO807,6)","v":""}]
[{"$nulls":13},{"$f":"RIGHT(Reference!CO808,6)","v":""}]
[{"$nulls":13},{"$f":"RIGHT(Reference!CO809,6)","v":""}]
[{"$nulls":13},{"$f":"RIGHT(Reference!CO810,6)","v":""}]
[{"$nulls":13},{"$f":"RIGHT(Reference!CO811,6)","v":""}]
[{"$nulls":13},{"$f":"RIGHT(Reference!CO812,6)","v":""}]
[{"$nulls":13},{"$f":"RIGHT(Reference!CO813,6)","v":""}]
[{"$nulls":13},{"$f":"RIGHT(Reference!CO814,6)","v":""}]
[{"$nulls":13},{"$f":"RIGHT(Reference!CO815,6)","v":""}]
[{"$nulls":13},{"$f":"RIGHT(Reference!CO816,6)","v":""}]
[{"$nulls":13},{"$f":"RIGHT(Reference!CO817,6)","v":""}]
[{"$nulls":13},{"$f":"RIGHT(Reference!CO818,6)","v":""}]
[{"$nulls":13},{"$f":"RIGHT(Reference!CO819,6)","v":""}]
[{"$nulls":13},{"$f":"RIGHT(Reference!CO820,6)","v":""}]
[{"$nulls":13},{"$f":"RIGHT(Reference!CO821,6)","v":""}]
[{"$nulls":13},{"$f":"RIGHT(Reference!CO822,6)","v":""}]
[{"$nulls":13},{"$f":"RIGHT(Reference!CO823,6)","v":""}]
[{"$nulls":13},{"$f":"RIGHT(Reference!CO824,6)","v":""}]
[{"$nulls":13},{"$f":"RIGHT(Reference!CO825,6)","v":""}]
[{"$nulls":13},{"$f":"RIGHT(Reference!CO826,6)","v":""}]
[{"$nulls":13},{"$f":"RIGHT(Reference!CO827,6)","v":""}]
[{"$nulls":13},{"$f":"RIGHT(Reference!CO828,6)","v":""}]
[{"$nulls":13},{"$f":"RIGHT(Reference!CO829,6)","v":""}]
[{"$nulls":13},{"$f":"RIGHT(Reference!CO830,6)","v":""}]
[{"$nulls":13},{"$f":"RIGHT(Reference!CO831,6)","v":""}]
[{"$nulls":13},{"$f":"RIGHT(Reference!CO832,6)","v":""}]
[{"$nulls":13},{"$f":"RIGHT(Reference!CO833,6)","v":""}]
[{"$nulls":13},{"$f":"RIGHT(Reference!CO834,6)","v":""}]
[{"$nulls":13},{"$f":"RIGHT(Reference!CO835,6)","v":""}]
[{"$nulls":13},{"$f":"RIGHT(Reference!CO836,6)","v":""}]
[{"$nulls":13},{"$f":"RIGHT(Reference!CO837,6)","v":""}]
[{"$nulls":13},{"$f":"RIGHT(Reference!CO838,6)","v":""}]
[{"$nulls":13},{"$f":"RIGHT(Reference!CO839,6)","v":""}]
[{"$nulls":13},{"$f":"RIGHT(Reference!CO840,6)","v":""}]
[{"$nulls":13},{"$f":"RIGHT(Reference!CO841,6)","v":""}]
[{"$nulls":13},{"$f":"RIGHT(Reference!CO842,6)","v":""}]
[{"$nulls":13},{"$f":"RIGHT(Reference!CO843,6)","v":""}]
[{"$nulls":13},{"$f":"RIGHT(Reference!CO844,6)","v":""}]
[{"$nulls":13},{"$f":"RIGHT(Reference!CO845,6)","v":""}]
[{"$nulls":13},{"$f":"RIGHT(Reference!CO846,6)","v":""}]
[{"$nulls":13},{"$f":"RIGHT(Reference!CO847,6)","v":""}]
[{"$nulls":13},{"$f":"RIGHT(Reference!CO848,6)","v":""}]
[{"$nulls":13},{"$f":"RIGHT(Reference!CO849,6)","v":""}]
[{"$nulls":13},{"$f":"RIGHT(Reference!CO850,6)","v":""}]
[{"$nulls":13},{"$f":"RIGHT(Reference!CO851,6)","v":""}]
[{"$nulls":13},{"$f":"RIGHT(Reference!CO852,6)","v":""}]
[{"$nulls":13},{"$f":"RIGHT(Reference!CO853,6)","v":""}]
[{"$nulls":13},{"$f":"RIGHT(Reference!CO854,6)","v":""}]
[{"$nulls":13},{"$f":"RIGHT(Reference!CO855,6)","v":""}]
[{"$nulls":13},{"$f":"RIGHT(Reference!CO856,6)","v":""}]
[{"$nulls":13},{"$f":"RIGHT(Reference!CO857,6)","v":""}]
[{"$nulls":13},{"$f":"RIGHT(Reference!CO858,6)","v":""}]
[{"$nulls":13},{"$f":"RIGHT(Reference!CO859,6)","v":""}]
[{"$nulls":13},{"$f":"RIGHT(Reference!CO860,6)","v":""}]
[{"$nulls":13},{"$f":"RIGHT(Reference!CO861,6)","v":""}]
[{"$nulls":13},{"$f":"RIGHT(Reference!CO862,6)","v":""}]
[{"$nulls":13},{"$f":"RIGHT(Reference!CO863,6)","v":""}]
[{"$nulls":13},{"$f":"RIGHT(Reference!CO864,6)","v":""}]
[{"$nulls":13},{"$f":"RIGHT(Reference!CO865,6)","v":""}]
[{"$nulls":13},{"$f":"RIGHT(Reference!CO866,6)","v":""}]
[{"$nulls":13},{"$f":"RIGHT(Reference!CO867,6)","v":""}]
[{"$nulls":13},{"$f":"RIGHT(Reference!CO868,6)","v":""}]
[{"$nulls":13},{"$f":"RIGHT(Reference!CO869,6)","v":""}]
[{"$nulls":13},{"$f":"RIGHT(Reference!CO870,6)","v":""}]
[{"$nulls":13},{"$f":"RIGHT(Reference!CO871,6)","v":""}]
[{"$nulls":13},{"$f":"RIGHT(Reference!CO872,6)","v":""}]
[{"$nulls":13},{"$f":"RIGHT(Reference!CO873,6)","v":""}]
[{"$nulls":13},{"$f":"RIGHT(Reference!CO874,6)","v":""}]
[{"$nulls":13},{"$f":"RIGHT(Reference!CO875,6)","v":""}]
[{"$nulls":13},{"$f":"RIGHT(Reference!CO876,6)","v":""}]
[{"$nulls":13},{"$f":"RIGHT(Reference!CO877,6)","v":""}]
[{"$nulls":13},{"$f":"RIGHT(Reference!CO878,6)","v":""}]
[{"$nulls":13},{"$f":"RIGHT(Reference!CO879,6)","v":""}]
[{"$nulls":13},{"$f":"RIGHT(Reference!CO880,6)","v":""}]
[{"$nulls":13},{"$f":"RIGHT(Reference!CO881,6)","v":""}]
[{"$nulls":13},{"$f":"RIGHT(Reference!CO882,6)","v":""}]
[{"$nulls":13},{"$f":"RIGHT(Reference!CO883,6)","v":""}]
[{"$nulls":13},{"$f":"RIGHT(Reference!CO884,6)","v":""}]
[{"$nulls":13},{"$f":"RIGHT(Reference!CO885,6)","v":""}]
[{"$nulls":13},{"$f":"RIGHT(Reference!CO886,6)","v":""}]
[{"$nulls":13},{"$f":"RIGHT(Reference!CO887,6)","v":""}]
[{"$nulls":13},{"$f":"RIGHT(Reference!CO888,6)","v":""}]
[{"$nulls":13},{"$f":"RIGHT(Reference!CO889,6)","v":""}]
[{"$nulls":13},{"$f":"RIGHT(Reference!CO890,6)","v":""}]
[{"$nulls":13},{"$f":"RIGHT(Reference!CO891,6)","v":""}]
[{"$nulls":13},{"$f":"RIGHT(Reference!CO892,6)","v":""}]
[{"$nulls":13},{"$f":"RIGHT(Reference!CO893,6)","v":""}]
[{"$nulls":13},{"$f":"RIGHT(Reference!CO894,6)","v":""}]
[{"$nulls":13},{"$f":"RIGHT(Reference!CO895,6)","v":""}]
[{"$nulls":13},{"$f":"RIGHT(Reference!CO896,6)","v":""}]
[{"$nulls":13},{"$f":"RIGHT(Reference!CO897,6)","v":""}]
[{"$nulls":13},{"$f":"RIGHT(Reference!CO898,6)","v":""}]
[{"$nulls":13},{"$f":"RIGHT(Reference!CO899,6)","v":""}]
[{"$nulls":13},{"$f":"RIGHT(Reference!CO900,6)","v":""}]
[{"$nulls":13},{"$f":"RIGHT(Reference!CO901,6)","v":""}]
[{"$nulls":13},{"$f":"RIGHT(Reference!CO902,6)","v":""}]
[{"$nulls":13},{"$f":"RIGHT(Reference!CO903,6)","v":""}]
[{"$nulls":13},{"$f":"RIGHT(Reference!CO904,6)","v":""}]
[{"$nulls":13},{"$f":"RIGHT(Reference!CO905,6)","v":""}]
[{"$nulls":13},{"$f":"RIGHT(Reference!CO906,6)","v":""}]
[{"$nulls":13},{"$f":"RIGHT(Reference!CO907,6)","v":""}]
[{"$nulls":13},{"$f":"RIGHT(Reference!CO908,6)","v":""}]
[{"$nulls":13},{"$f":"RIGHT(Reference!CO909,6)","v":""}]
[{"$nulls":13},{"$f":"RIGHT(Reference!CO910,6)","v":""}]
[{"$nulls":13},{"$f":"RIGHT(Reference!CO911,6)","v":""}]
[{"$nulls":13},{"$f":"RIGHT(Reference!CO912,6)","v":""}]
[{"$nulls":13},{"$f":"RIGHT(Reference!CO913,6)","v":""}]
[{"$nulls":13},{"$f":"RIGHT(Reference!CO914,6)","v":""}]
[{"$nulls":13},{"$f":"RIGHT(Reference!CO915,6)","v":""}]
[{"$nulls":13},{"$f":"RIGHT(Reference!CO916,6)","v":""}]
[{"$nulls":13},{"$f":"RIGHT(Reference!CO917,6)","v":""}]
[{"$nulls":13},{"$f":"RIGHT(Reference!CO918,6)","v":""}]
[{"$nulls":13},{"$f":"RIGHT(Reference!CO919,6)","v":""}]
[{"$nulls":13},{"$f":"RIGHT(Reference!CO920,6)","v":""}]
[{"$nulls":13},{"$f":"RIGHT(Reference!CO921,6)","v":""}]
[{"$nulls":13},{"$f":"RIGHT(Reference!CO922,6)","v":""}]
[{"$nulls":13},{"$f":"RIGHT(Reference!CO923,6)","v":""}]
[{"$nulls":13},{"$f":"RIGHT(Reference!CO924,6)","v":""}]
[{"$nulls":13},{"$f":"RIGHT(Reference!CO925,6)","v":""}]
[{"$nulls":13},{"$f":"RIGHT(Reference!CO926,6)","v":""}]
[{"$nulls":13},{"$f":"RIGHT(Reference!CO927,6)","v":""}]
[{"$nulls":13},{"$f":"RIGHT(Reference!CO928,6)","v":""}]
[{"$nulls":13},{"$f":"RIGHT(Reference!CO929,6)","v":""}]
[{"$nulls":13},{"$f":"RIGHT(Reference!CO930,6)","v":""}]
[{"$nulls":13},{"$f":"RIGHT(Reference!CO931,6)","v":""}]
[{"$nulls":13},{"$f":"RIGHT(Reference!CO932,6)","v":""}]
[{"$nulls":13},{"$f":"RIGHT(Reference!CO933,6)","v":""}]
[{"$nulls":13},{"$f":"RIGHT(Reference!CO934,6)","v":""}]
[{"$nulls":13},{"$f":"RIGHT(Reference!CO935,6)","v":""}]
[{"$nulls":13},{"$f":"RIGHT(Reference!CO936,6)","v":""}]
[{"$nulls":13},{"$f":"RIGHT(Reference!CO937,6)","v":""}]
[{"$nulls":13},{"$f":"RIGHT(Reference!CO938,6)","v":""}]
[{"$nulls":13},{"$f":"RIGHT(Reference!CO939,6)","v":""}]
[{"$nulls":13},{"$f":"RIGHT(Reference!CO940,6)","v":""}]
[{"$nulls":13},{"$f":"RIGHT(Reference!CO941,6)","v":""}]
[{"$nulls":13},{"$f":"RIGHT(Reference!CO942,6)","v":""}]
[{"$nulls":13},{"$f":"RIGHT(Reference!CO943,6)","v":""}]
[{"$nulls":13},{"$f":"RIGHT(Reference!CO944,6)","v":""}]
[{"$nulls":13},{"$f":"RIGHT(Reference!CO945,6)","v":""}]
[{"$nulls":13},{"$f":"RIGHT(Reference!CO946,6)","v":""}]
[{"$nulls":13},{"$f":"RIGHT(Reference!CO947,6)","v":""}]
[{"$nulls":13},{"$f":"RIGHT(Reference!CO948,6)","v":""}]
[{"$nulls":13},{"$f":"RIGHT(Reference!CO949,6)","v":""}]
[{"$nulls":13},{"$f":"RIGHT(Reference!CO950,6)","v":""}]
[{"$nulls":13},{"$f":"RIGHT(Reference!CO951,6)","v":""}]
[{"$nulls":13},{"$f":"RIGHT(Reference!CO952,6)","v":""}]
[{"$nulls":13},{"$f":"RIGHT(Reference!CO953,6)","v":""}]
[{"$nulls":13},{"$f":"RIGHT(Reference!CO954,6)","v":""}]
[{"$nulls":13},{"$f":"RIGHT(Reference!CO955,6)","v":""}]
[{"$nulls":13},{"$f":"RIGHT(Reference!CO956,6)","v":""}]
[{"$nulls":13},{"$f":"RIGHT(Reference!CO957,6)","v":""}]
[{"$nulls":13},{"$f":"RIGHT(Reference!CO958,6)","v":""}]
[{"$nulls":13},{"$f":"RIGHT(Reference!CO959,6)","v":""}]
[{"$nulls":13},{"$f":"RIGHT(Reference!CO960,6)","v":""}]
[{"$nulls":13},{"$f":"RIGHT(Reference!CO961,6)","v":""}]
[{"$nulls":13},{"$f":"RIGHT(Reference!CO962,6)","v":""}]
[{"$nulls":13},{"$f":"RIGHT(Reference!CO963,6)","v":""}]
[{"$nulls":13},{"$f":"RIGHT(Reference!CO964,6)","v":""}]
[{"$nulls":13},{"$f":"RIGHT(Reference!CO965,6)","v":""}]
[{"$nulls":13},{"$f":"RIGHT(Reference!CO966,6)","v":""}]
[{"$nulls":13},{"$f":"RIGHT(Reference!CO967,6)","v":""}]
[{"$nulls":13},{"$f":"RIGHT(Reference!CO968,6)","v":""}]
[{"$nulls":13},{"$f":"RIGHT(Reference!CO969,6)","v":""}]
[{"$nulls":13},{"$f":"RIGHT(Reference!CO970,6)","v":""}]
[{"$nulls":13},{"$f":"RIGHT(Reference!CO971,6)","v":""}]
[{"$nulls":13},{"$f":"RIGHT(Reference!CO972,6)","v":""}]
[{"$nulls":13},{"$f":"RIGHT(Reference!CO973,6)","v":""}]
[{"$nulls":13},{"$f":"RIGHT(Reference!CO974,6)","v":""}]
[{"$nulls":13},{"$f":"RIGHT(Reference!CO975,6)","v":""}]
[{"$nulls":13},{"$f":"RIGHT(Reference!CO976,6)","v":""}]
[{"$nulls":13},{"$f":"RIGHT(Reference!CO977,6)","v":""}]
[{"$nulls":13},{"$f":"RIGHT(Reference!CO978,6)","v":""}]
[{"$nulls":13},{"$f":"RIGHT(Reference!CO979,6)","v":""}]
[{"$nulls":13},{"$f":"RIGHT(Reference!CO980,6)","v":""}]
[{"$nulls":13},{"$f":"RIGHT(Reference!CO981,6)","v":""}]
[{"$nulls":13},{"$f":"RIGHT(Reference!CO982,6)","v":""}]
[{"$nulls":13},{"$f":"RIGHT(Reference!CO983,6)","v":""}]
[{"$nulls":13},{"$f":"RIGHT(Reference!CO984,6)","v":""}]
[{"$nulls":13},{"$f":"RIGHT(Reference!CO985,6)","v":""}]
[{"$nulls":13},{"$f":"RIGHT(Reference!CO986,6)","v":""}]
[{"$nulls":13},{"$f":"RIGHT(Reference!CO987,6)","v":""}]
[{"$nulls":13},{"$f":"RIGHT(Reference!CO988,6)","v":""}]
[{"$nulls":13},{"$f":"RIGHT(Reference!CO989,6)","v":""}]
[{"$nulls":13},{"$f":"RIGHT(Reference!CO990,6)","v":""}]
[{"$nulls":13},{"$f":"RIGHT(Reference!CO991,6)","v":""}]
[{"$nulls":13},{"$f":"RIGHT(Reference!CO992,6)","v":""}]
[{"$nulls":13},{"$f":"RIGHT(Reference!CO993,6)","v":""}]
[{"$nulls":13},{"$f":"RIGHT(Reference!CO994,6)","v":""}]
[{"$nulls":13},{"$f":"RIGHT(Reference!CO995,6)","v":""}]
[{"$nulls":13},{"$f":"RIGHT(Reference!CO996,6)","v":""}]
[{"$nulls":13},{"$f":"RIGHT(Reference!CO997,6)","v":""}]
[{"$nulls":13},{"$f":"RIGHT(Reference!CO998,6)","v":""}]
[{"$nulls":13},{"$f":"RIGHT(Reference!CO999,6)","v":""}]

{"sheet":"Constants","index":9,"n_rows":41,"n_cols":21,"rows_kept":41,"cut":false,"hidden":false,"merged":[]}
["This tab should not be modified. Contains constants and descriptions that drive rest of spreadsheet"]
[]
[0.04,"Tolerance on Total TDV between Reference and Candidate software"]
["No","TotalSum"]
[]
["Pass","Pass"]
["Fail","Fail"]
["Yes","Yes"]
["No","No"]
[]
["TestArray"]
["Test","Description","Climate","Prototype","R01","R02","R03","R04","R05","R06","R07","R08","R09","R10","R11","R12","R13","R14","R15","R16"]
["U01","Standard Design","All Zones","S2100ft2","Zone 01","Zone 02","Zone 03","Zone 04","Zone 05","Zone 06","Zone 07","Zone 08","Zone 09","Zone 10","Zone 11","Zone 12","Zone 13","Zone 14","Zone 15","Zone 16","Standard = Proposed for this test"]
["U02","Standard Design","All Zones","S2700ft2",{"$f":"E13","v":"Zone 01"},{"$f":"F13","v":"Zone 02"},"Zone 03","Zone 04","Zone 05","Zone 06","Zone 07","Zone 08","Zone 09","Zone 10","Zone 11","Zone 12","Zone 13","Zone 14","Zone 15","Zone 16","Standard = Proposed for this test"]
["U03","Standard Design","All Zones","S6960ft2",{"$f":"E14","v":"Zone 01"},{"$f":"F14","v":"Zone 02"},"Zone 03","Zone 04","Zone 05","Zone 06","Zone 07","Zone 08","Zone 09","Zone 10","Zone 11","Zone 12","Zone 13","Zone 14","Zone 15","Zone 16","Standard = Proposed for this test"]
["U04","Proposed Design","All Zones","P2100ft2",{"$f":"E15","v":"Zone 01"},{"$f":"F15","v":"Zone 02"},"Zone 03","Zone 04","Zone 05","Zone 06","Zone 07","Zone 08","Zone 09","Zone 10","Zone 11","Zone 12","Zone 13","Zone 14","Zone 15","Zone 16","Standard = T01 Standard for this test"]
["U05","Proposed Design","All Zones","P2700ft2",{"$f":"E16","v":"Zone 01"},"Zone 02","Zone 03","Zone 04","Zone 05","Zone 06","Zone 07","Zone 08","Zone 09","Zone 10","Zone 11","Zone 12","Zone 13","Zone 14","Zone 15","Zone 16","Standard = T02 Standard for this test"]
["U06","Proposed Design","All Zones","P6960ft2",{"$f":"E17","v":"Zone 01"},"Zone 02","Zone 03","Zone 04","Zone 05","Zone 06","Zone 07","Zone 08","Zone 09","Zone 10","Zone 11","Zone 12","Zone 13","Zone 14","Zone 15","Zone 16","Standard = T03 Standard for this test"]
["U07","Common Measures","Zone 12","P2100ft2","Package","Fenestration U 0.40/S 0.40","Wall R13/Roof Deck Above R6","Ceiling R49 /Roof Deck Below R0/Radiant Barrier","Furnace AFUE 92","Air Conditioner SEER 16/EER 14","No Cool Vent","Ducts 2% Leakage","Insulation Construction Quality Improved","Air Leakage ACH50 2.0",{"$nulls":6},"Standard = T01 Standard for this test"]
["U08","Water Heating","Zone 12","P2100ft2","Package","Parallel Piping","Small Tankless EF 0.80/Input 195000/0 gal","Large Tankless RE 0.76/Input 300000/0 gal","Large Storage RE 0.77/Input 100000/75gal/Stby 0.01","Large Storage RE 0.77/Input 100000/75gal/Stby 0.03","Electric Resistance EF 0.92/Input 4500","Heat Pump EF 2.4/Input 4500","2 Water Heaters using Multiplier","2 Water Heaters Using 2 entries",{"$nulls":6},"Standard = T01 Standard for this test"]
["U09","Multiple Orientation","Zone 12","S2100ft2/P2100ft2","Single Standard Front 45","East Standard","South Standard","West Standard","North Standard","Single Proposed front 45","East Proposed","South Proposed","West Proposed","North Proposed",{"$nulls":6},"Standard = T01 Standard for this test"]
["U10","Multi Family Water Heating","Zone 12","P6960ft2","8 Storage","8 Storage 2 Systems","8 LgStor ","2 LgStor Central Solar","2 LgStor Central Solar Recirc","2 LgStor Central Recirc","2 SmInstantant Central Solar","2 SmInstantant Central Solar Recirc","1 Indirect Central Solar","1 Indirect Central Solar Recirc",{"$nulls":6},"Standard = Varies for this test"]
["U11","Source Energy","Zone 12","P2100ft2","Package","Package No Natural Gas","Electric DHW","Electric DHW no Natural Gas","Heatpump DHW","Heatpump DHW no Natural Gas","Heatpump HVAC","Heatpump HVAC no Natural Gas","Heatpump HVAC & DHW ","Heatpump HVAC & DHW no Natural Gas",{"$nulls":6},"Standard = Varies for this test"]
["U12","E+A+A Base & Windows","Zone 12","P1665ft2","E 1440ft2 as New Construction","E 1440ft2 as Addition/Alteration","EA 1665ft2","EAA Ceiling R38 Verified","EAA Ceiling R38 Verified Wind U0.41/S0.36","EAA Ceiling R38 Verified Wind U0.41/S0.36 Verified","EAA Ceiling R38 Verified Wind U0.40/S0.35","EAA Ceiling R38 Verified Wind U0.40/S0.35 Verified","EAA Ceiling R38 Verified Wind U0.39/S0.34","EAA Ceiling R38 Verified Wind U0.39/S0.34 Verified",{"$nulls":6},"Standard = Varies for this test"]
["U13","E+A+A Walls & HVAC","Zone 12","P1665ft2","EAA Ceiling R38 Verified Wall R11","EAA Ceiling R38 Verified Wall R11 Verified","EAA Ceiling R38 Verified Wall R13","EAA Ceiling R38 Verified Wall R13 Verified","EAA Ceiling R38 Verified HVAC Worse","EAA Ceiling R38 Verified HVAC Worse Verified","EAA Ceiling R38 Verified HVAC Equal ","EAA Ceiling R38 Verified HVAC Equal Verified","EAA Ceiling R38 Verified HVAC Better","EAA Ceiling R38 Verified HVAC Better Verified",{"$nulls":6},"Standard = Varies for this test"]
[]
["PrototypeArray",{"$nulls":7},"Notes"]
["S21","T01",{"$nulls":6},"T08R05 was intended to have standby losses. Not implemented at time of testing"]
["P21","T04",{"$nulls":6},"Need no ducts"]
["S27","T02",{"$nulls":6},"Need to add no natural gas to site test"]
["P27","T05",{"$nulls":6},"Need to add reporting tests"]
["S69","T03"]
["P69","T06"]
[]
["SoftwareTypeArray"]
["Reference","Requires review of standard design tests"]
["Candidate","Does not require review of standard design tests"]
[]
["ConstructionTypeArray"]
["Both","Both New and EAA"]
["New","New construction only"]

{"sheet":"EAA","index":10,"n_rows":32,"n_cols":8,"rows_kept":32,"cut":false,"hidden":false,"merged":[]}
["EAA Budgets"]
[]
["For alterations there are 2 possible standard design values - the exsting feature or the alteration standard from Table 150.2-A"]
["Which standard applies depends on the measure and if the existing feature is verified."]
[]
["To test the alterations, runs have been constructed for 3 proposed design - worse, equal or better than the alteration standard"]
[]
["So in the TDS, there are up to 2 x 3 = 6 runs to test EAA results."]
[]
[]
[null,null,null,"Proposed",null,"Standard"]
[null,null,null,"Budget",null,"Budget"]
[null,null,null,"Magnitude"]
[]
["Worse",null,null,"High  ",null,"alteration standard"]
["Worse with existing verified",null,null,"High  ",null,"alteration standard",null,"(open to some interpretation based on Table 150.2-A and ACM Reference language)"]
["Equal",null,null,"Medium",null,"alteration standard"]
["Equal with existing verified",null,null,"Medium",null,"existing feature"]
["Better",null,null,"Low",null,"alteration standard"]
["Better with existing verfied",null,null,"Low",null,"existing feature"]
[]
[]
["Example pattern of results:"]
["alteration standard =",null,100]
["existing standard =",null,150]
[]
["Worse",null,null,200,null,{"$f":"C$24","v":100}]
["Worse with existing verified",null,null,200,null,{"$f":"C$24","v":100}]
["Equal",null,null,175,null,{"$f":"C$24","v":100}]
["Equal with existing verified",null,null,175,null,{"$f":"C25","v":150}]
["Better",null,null,150,null,{"$f":"C$24","v":100}]
["Better with existing verfied",null,null,150,null,{"$f":"C25","v":150}]